{"text_format":"1","workbook":"xlsx","n_sheets":37,"sheets":["CONFIGURATION","Currency Table","Submission","Company Information","Content","Index","Import","Export","Attachments","FileStorage","Declaration","Information Sheet","Financial Condition","SAR & Sanc. (All)","Form 1SFS GB","Form 1SFS LT","Form 2SFS GB","Form 2SFS LT","Form 8SFS","Schedule II","Inv Recon (Original)","Schedule V","Schedule V(a)","Schedule V(e)","Schedule V(m)","Schedule XVIII","Operational Risk","Summary","Fixed Income Investments","Equity Investments","Credit Risk","Company Specific Parameters","Crosscheck - SFS","Crosscheck-Model","Crosscheck - Op Risk","prt_res","HiddenFormulas"],"not_rendered":{"charts":0,"images":3,"macros":1,"external_links":0,"defined_names":114,"comments":10,"pivot_tables":0},"unopened":[],"bounds":{"document_bytes":16777216,"sheet_cells":100000,"rows_first":2000,"rows_last":500,"rows_between":2000,"halvings":0,"cell_chars":16384,"cell_head_chars":4096},"cells_cut":0,"cells_raw":0,"read":"whole","date_system":"1900"}

{"sheet":"CONFIGURATION","index":0,"n_rows":22,"n_cols":4,"rows_kept":22,"cut":false,"hidden":true,"merged":[]}
["ENTITY_ID",{"$f":"'Company Information'!$F$9","v":0}]
["ENTITY_NAME",{"$f":"'Company Information'!C7","v":"Enter Company Name"}]
["FILING_TYPE",{"$f":"\"BSCR\" & B11","v":"BSCR4"}]
["FILING_YEAR",{"$f":"YEAR('Company Information'!C3)","v":2019}]
["CONTACT_PERSON_NAME",{"$f":"'Company Information'!C17&\" \"&'Company Information'!F17","v":" "}]
["CONTACT_PERSON_EMAIL",{"$f":"'Company Information'!C31","v":0}]
["CONTACT_PERSON_PHONE",{"$f":"IF('Company Information'!E29=\"\",'Company Information'!C29,'Company Information'!C29&\" Extension:\"&'Company Information'!E29)","v":0}]
["OPTION"]
["COMMENT",{"$f":"IF(Submission!B14=\"\",\"\",Submission!B14)","v":""}]
["CURRENCY_CODE",{"$f":"VLOOKUP(#REF!,'Currency Table'!A:B,2,FALSE)","v":{"$error":"#REF!"}}]
["CLASS",{"$f":"IF('Company Information'!F11=\"Class 3A\",\"3A\",IF('Company Information'!F11=\"Class 3B\",\"3B\",\"4\"))","v":"4"}]
["DECIMALS",{"$f":"IF(C12=\"Units\",1,IF(C12=\"Thousand Units\",1000,\"\"))","v":1000},"Thousand Units",{"$f":"IF(CONFIGURATION!$B$12=\"\",\"\",IF(CONFIGURATION!$B$12>1,\" ('\"&MID(CONFIGURATION!$B$12,2,LEN(CONFIGURATION!$B$12))&\"s)\",\"\"))","v":" ('000s)"}]
["FILINGWEBSERVICE","https://xbrl.bma.bm:450/ExternalWebPH3-1/filing.ashx",null,"https://xbrl.bma.bm:450/ExternalWebPH3-1/filing.ashx"]
["VALIDATIONWEBSERVICE","https://xbrl.bma.bm:450/ExternalWebPH3-1/validator.ashx",null,"https://xbrl.bma.bm:450/ExternalWebPH3-1/validator.ashx"]
["FILINGCOUNTERWEBSERVICE","https://xbrl.bma.bm:450/ExternalWebPH3-1/FilingCounter.ashx",null,"https://xbrl.bma.bm:450/ExternalWebPH3-1/FilingCounter.ashx"]
["DUMMYWEBSERVICE","https://xbrl.bma.bm:450/ExternalWebPH3-1/dummy.ashx",null,"https://xbrl.bma.bm:450/ExternalWebPH3-1/dummy.ashx"]
["XBRLCONVERSIONWEBSERVICE","https://xbrl.bma.bm:450/ExternalWebPH3-1/XBRLConv.ashx",null,"https://xbrl.bma.bm:450/ExternalWebPH3-1/XBRLConv.ashx"]
["PREPOPULATEWEBSERVICE","https://xbrl.bma.bm:450/ExternalWebPH3-1/GetEntityDataByFilingYear.ashx"]
["PREYEARSTARTDATE",{"$f":"#REF!","v":{"$error":"#REF!"}}]
["PREYEARENDDATE",{"$f":"#REF!","v":{"$error":"#REF!"}}]
["SAVEDDATAPOPULATEWEBSERVICE"]
["FORMVERSION","2019 Year-end Model"]

{"sheet":"Currency Table","index":1,"n_rows":170,"n_cols":4,"rows_kept":170,"cut":false,"hidden":true,"merged":[]}
["United States Dollars","USD",null,"Units"]
["Euro","EUR",null,"Thousand Units"]
["Afghanistan Afghanis","AFN"]
["Albania Leke","ALL"]
["Armenia Drams","AMD"]
["Netherlands Antilles Guilders","ANG"]
["Angola Kwanza","AOA"]
["Argentina Pesos","ARS"]
["Australia Dollars","AUD"]
["Aruba Guilders","AWG"]
["Azerbaijan New Manats","AZN"]
["Bosnia and Herzegovina Convertible Marka","BAM"]
["Barbados Dollars","BBD"]
["Bangladesh Taka","BDT"]
["Bulgaria Leva","BGN"]
["Bahrain Dinars","BHD"]
["Burundi Francs","BIF"]
["Bermuda Dollars","BMD"]
["Brunei Dollars","BND"]
["Bolivia Bolivianos","BOB"]
["Brazil Reais","BRL"]
["Bahamas Dollars","BSD"]
["Bhutan Ngultrum","BTN"]
["Botswana Pulas","BWP"]
["Belarus Rubles","BYR"]
["Belize Dollars","BZD"]
["Canada Dollars","CAD"]
["Congo/Kinshasa Francs","CDF"]
["Switzerland Francs","CHF"]
["Chile Pesos","CLP"]
["China Yuan Renminbi","CNY"]
["Colombia Pesos","COP"]
["Costa Rica Colones","CRC"]
["Cuba Convertible Pesos","CUC"]
["Cuba Pesos","CUP"]
["Cape Verde Escudos","CVE"]
["Czech Republic Koruny","CZK"]
["Djibouti Francs","DJF"]
["Denmark Kroner","DKK"]
["Dominican Republic Pesos","DOP"]
["Algeria Dinars","DZD"]
["Estonia Krooni","EEK"]
["Egypt Pounds","EGP"]
["Eritrea Nakfa","ERN"]
["Ethiopia Birr","ETB"]
["Fiji Dollars","FJD"]
["Falkland Islands Pounds","FKP"]
["United Kingdom Pounds","GBP"]
["Georgia Lari","GEL"]
["Guernsey Pounds","GGP"]
["Ghana Cedis","GHS"]
["Gibraltar Pounds","GIP"]
["Gambia Dalasi","GMD"]
["Guinea Francs","GNF"]
["Guatemala Quetzales","GTQ"]
["Guyana Dollars","GYD"]
["Hong Kong Dollars","HKD"]
["Honduras Lempiras","HNL"]
["Croatia Kuna","HRK"]
["Haiti Gourdes","HTG"]
["Hungary Forint","HUF"]
["Indonesia Rupiahs","IDR"]
["Israel New Shekels","ILS"]
["Isle of Man Pounds","IMP"]
["India Rupees","INR"]
["Iraq Dinars","IQD"]
["Iran Rials","IRR"]
["Iceland Kronur","ISK"]
["Jersey Pounds","JEP"]
["Jamaica Dollars","JMD"]
["Jordan Dinars","JOD"]
["Japan Yen","JPY"]
["Kenya Shillings","KES"]
["Kyrgyzstan Soms","KGS"]
["Cambodia Riels","KHR"]
["Comoros Francs","KMF"]
["North Korea Won","KPW"]
["South Korea Won","KRW"]
["Kuwait Dinars","KWD"]
["Cayman Islands Dollars","KYD"]
["Kazakhstan Tenge","KZT"]
["Laos Kips","LAK"]
["Lebanon Pounds","LBP"]
["Sri Lanka Rupees","LKR"]
["Liberia Dollars","LRD"]
["Lesotho Maloti","LSL"]
["Lithuania Litai","LTL"]
["Latvia Lati","LVL"]
["Libya Dinars","LYD"]
["Morocco Dirhams","MAD"]
["Moldova Lei","MDL"]
["Madagascar Ariary","MGA"]
["Macedonia Denars","MKD"]
["Myanmar Kyats","MMK"]
["Mongolia Tugriks","MNT"]
["Macau Patacas","MOP"]
["Mauritania Ouguiyas","MRO"]
["Mauritius Rupees","MUR"]
["Maldives Rufiyaa","MVR"]
["Malawi Kwachas","MWK"]
["Mexico Pesos","MXN"]
["Malaysia Ringgits","MYR"]
["Mozambique Meticais","MZN"]
["Namibia Dollars","NAD"]
["Nigeria Nairas","NGN"]
["Nicaragua Cordobas","NIO"]
["Norway Kroner","NOK"]
["Nepal Rupees","NPR"]
["New Zealand Dollars","NZD"]
["Oman Rials","OMR"]
["Panama Balboas","PAB"]
["Peru Nuevos Soles","PEN"]
["Papua New Guinea Kina","PGK"]
["Philippines Pesos","PHP"]
["Pakistan Rupees","PKR"]
["Poland Zlotych","PLN"]
["Paraguay Guarani","PYG"]
["Qatar Riyals","QAR"]
["Romania New Lei","RON"]
["Serbia Dinars","RSD"]
["Russia Rubles","RUB"]
["Rwanda Francs","RWF"]
["Saudi Arabia Riyals","SAR"]
["Solomon Islands Dollars","SBD"]
["Seychelles Rupees","SCR"]
["Sudan Pounds","SDG"]
["Sweden Kronor","SEK"]
["Singapore Dollars","SGD"]
["Saint Helena Pounds","SHP"]
["Slovakia Koruny","SKK"]
["Sierra Leone Leones","SLL"]
["Somalia Shillings","SOS"]
["Seborga Luigini","SPL"]
["Suriname Dollars","SRD"]
["São Tome and Principe Dobras","STD"]
["El Salvador Colones","SVC"]
["Syria Pounds","SYP"]
["Swaziland Emalangeni","SZL"]
["Thailand Baht","THB"]
["Tajikistan Somoni","TJS"]
["Turkmenistan Manats","TMM"]
["Tunisia Dinars","TND"]
["Tonga Pa'anga","TOP"]
["Turkey New Lira","TRY"]
["Trinidad and Tobago Dollars","TTD"]
["Tuvalu Dollars","TVD"]
["Taiwan New Dollars","TWD"]
["Tanzania Shillings","TZS"]
["Ukraine Hryvnia","UAH"]
["Uganda Shillings","UGX"]
["Uruguay Pesos","UYU"]
["Uzbekistan Sums","UZS"]
["Venezuela Bolivares","VEB"]
["Venezuela Bolivares Fuertes","VEF"]
["Vietnam Dong","VND"]
["Vanuatu Vatu","VUV"]
["Samoa Tala","WST"]
["Communauté Financière Africaine Francs BEAC","XAF"]
["Silver Ounces","XAG"]
["Gold Ounces","XAU"]
["East Caribbean Dollars","XCD"]
["International Monetary Fund Special Drawing Rights","XDR"]
["Communauté Financière Africaine Francs BCEAO","XOF"]
["Palladium Ounces","XPD"]
["Comptoirs Français du Pacifique Francs","XPF"]
["Platinum Ounces","XPT"]
["Yemen Rials","YER"]
["South Africa Rand","ZAR"]
["Zambia Kwacha","ZMK"]
["Zimbabwe Dollars","ZWD"]

{"sheet":"Submission","index":2,"n_rows":34,"n_cols":6,"rows_kept":34,"cut":false,"hidden":false,"merged":[[1,1,1,2],[35,1,35,2],[31,1,31,2],[4,1,4,2],[2,1,2,2],[13,1,13,2]]}
[]
[null,"BSCR Model for Collateralized Insurers"]
[null,"IMPORTANT: Completion of this submission requires an internet connection. \n\nQuestions and comments can be directed to: riskanalytics@bma.bm\n",null,null,"brrt_FormVersion"]
[]
[null,"Submission Process:"]
[null,{"$f":"IF(CONFIGURATION!$C$12=\"Units\",\"Units\",\"Thousands\")","v":"Thousands"},"Select Unit: Prior to inputting BSCR form, select units which the monetary values are reported in."]
[null,null,"Get last saved data: Prefill form with last saved data from unfinished submission."]
[null,null,"Prepopulate previous data: Prefill form with previously submitted data."]
[null,null,"Input BSCR data"]
[null," ","Validate data: Prior to submitting to BMA validation of the data is required. To complete this step click the \"VALIDATE RETURN\" button. Users must acknowledge all failed validations and provide comments in the 'Comments' box below. Once the validation is complete click the location link to go to the error location."]
[null,null,"Save Data: Data can be saved prior to submission. Click the \"SAVE\" button to save the unfinished submisison. "]
[null,null,"Submit Data: Once data has been completed, please submit for review. To complete this step click the \"SUBMIT\" button. If data is submitted more than twice, the latest data will be accepted. You will be required to select a reason for re-submissions. The time to submit will vary depending on the speed of the internet connection. A white status bar will appear when the data is transmitting. Please wait for the submission acknowledgement and record your submission number for later reference.\n\nIf you receive Error #403 or #12029 during this step please create a rule on your firewall telling the document to use port 450. This may require IT assistance. We encourage you to test the submit functionality in advance, particularly if this is your first time submitting electronically. You may contact riskanalytics@bma.bm to coordinate testing."]
[null,"Comments:"]
[null,null,null,null,"brrt_FilingComments",{"$f":"XBRLMap(B14,E14,'Company Information'!L1,'Company Information'!L2,CONFIGURATION!$B$10,\"BMA\",CONFIGURATION!$B$1,\"bscr\")","v":"Mapped"}]
[null,"Validation results:"]
[null,"MSM requirement met",{"$f":"Summary!G33","v":"NO"}]
[null,"ECR requirment met",{"$f":"Summary!N124","v":{"$error":"#REF!"}}]
[null,"MSM Eligible Capital requirement met",{"$f":"Summary!E136","v":{"$error":"#REF!"}}]
[null,"ECR Eligible Capital requirement met",{"$f":"Summary!G136","v":{"$error":"#REF!"}}]
[null,"Liquidity test met",{"$f":"Summary!O33","v":"YES"}]
[null,"Capital Reduction requirement met",{"$f":"Summary!O45","v":"NO"}]
[null,"C&S Reduction requirement met",{"$f":"Summary!G45","v":"YES"}]
[null,"CISSA document attached",{"$f":"IF(Attachments!#REF!=\"<Attach file>\",\"Outstanding\",\"File Attached\")","v":{"$error":"#REF!"}}]
[null,"FCR document attached",{"$f":"IF(Attachments!F15=\"<Attach file>\",\"Outstanding\",\"File Attached\")","v":"Outstanding"}]
[null,"DOC document attached",{"$f":"IF(Attachments!F25=\"<Attach file>\",\"Outstanding\",\"File Attached\")","v":"Outstanding"}]
[null,"Blank Schedules",{"$f":"Content!J3","v":13}]
[null,"Acknowledged",{"$f":"Content!K3","v":0}]
[null,"Failed Validation Checks",{"$f":"Content!L3","v":0}]
[null,"Acknowledged",{"$f":"Content!M3","v":0}]
[]
[null,"Comments from BMA:"]
[null,null,null,null,"brrt_FilingCommentsBMA",{"$f":"XBRLMap(B32,E32,'Company Information'!L1,'Company Information'!L2,CONFIGURATION!$B$10,\"BMA\",CONFIGURATION!$B$1,\"bscr\")","v":"Mapped"}]
[]
[null,"Validation results:"]

{"sheet":"Company Information","index":3,"n_rows":42,"n_cols":19,"rows_kept":42,"cut":false,"hidden":false,"merged":[[6,2,6,5],[20,2,20,5],[0,0,0,1],[16,5,16,6],[2,5,2,6]]}
["COMPANY INFORMATION PAGE",null,null,null,null,null,{"$f":"HYPERLINK(\"#'Index'!A1\",\"Return to Index\")","v":"Return to Index"},null,null,null,null,{"$f":"IF(C3=\"\",\"\",TEXT(DATE(YEAR(C3+1)-1,MONTH(C3+1),DAY(C3+1)),\"mm/dd/yyyy\"))","v":"01/01/2019"}]
[null,null,null,null,null,null,null,null,null,null,"",{"$f":"IF(C3=\"\",\"\",TEXT(C3,\"mm/dd/yyyy\"))","v":"12/31/2019"}]
[null,"For the Year Ending ","2019-12-31",{"$f":"IF(C3=\"\",\"\",TEXT(C3,\"yyyy-mm-dd\"))","v":"2019-12-31"},null,"Collateralized Insurers' Model",null,null,"Class 3A Model",null,"brrt_ReportForTheYearEnding",{"$f":"IF(D3=\"\",\"\",XBRLMap(D3,$K3,$L$1,$L$2,CONFIGURATION!$B$10,\"BMA\",CONFIGURATION!$B$1,\"bscr\"))","v":"Mapped"},null,null,null,null,null,null,"bma_ReportForTheYearEnding"]
[null,null,null,null,null,null,null,null,null,null,"",null,null,null,null,null,null,null,""]
[null,"COMPANY INFORMATION",null,null,null,null,null,null,null,null,"",null,null,"Class 4/3B Model",null,null,null,null,"bma_CompanyInformationAbstract"]
[null,null,null,null,null,null,null,null,null,null,"",null,null,null,null,null,null,null,""]
[null,"Company Name","Enter Company Name",null,null,null,null,null,null,null,"brrt_OrganizationName",{"$f":"XBRLMap(C7,$K7,$L$1,$L$2,CONFIGURATION!$B$10,\"BMA\",CONFIGURATION!$B$1,\"bscr\")","v":"Mapped"},null,null,null,null,null,null,"bma_CompanyName"]
[null,null,null,null,null,null,null,null,null,null,"",null,null,null,null,null,null,null,""]
[null,"Date Incorporated/Organized",null,null,"Registration No.",null,null,null,null,null,"brrt_DateIncorporatedOrOrganized",{"$f":"IF(C9=\"\",\"\",XBRLMap(C9,$K9,$L$1,$L$2,CONFIGURATION!$B$10,\"BMA\",CONFIGURATION!$B$1,\"bscr\"))","v":""},null,null,null,null,null,null,"bma_DateIncorporatedOrganized"]
[null,null,null,null,null,null,null,null,null,null,"",null,null,null,null,null,null,null,""]
[null,"Date Commenced Business",null,null,"Class of Business","Collateralized Insurers",null,null,null,null,"brrt_DateCommencedBusiness",{"$f":"IF(C11=\"\",\"\",XBRLMap(C11,$K11,$L$1,$L$2,CONFIGURATION!$B$10,\"BMA\",CONFIGURATION!$B$1,\"bscr\"))","v":""},null,null,null,null,null,null,"bma_DateCommencedBusiness"]
[null,null,null,null,null,null,null,null,null,null,"brrt_RegistrationNo",{"$f":"XBRLMap(F7,$K12,$L$1,$L$2,CONFIGURATION!$B$10,\"BMA\",CONFIGURATION!$B$1,\"bscr\")","v":"Mapped"},null,null,null,null,null,null,""]
[null,"General or Long-Term Business Collateralized Insurer","Select from drop-down"]
[null,null,null,null,null,null,null,null,null,null,"brrt_RegistrationNo",{"$f":"XBRLMap(F9,$K14,$L$1,$L$2,CONFIGURATION!$B$10,\"BMA\",CONFIGURATION!$B$1,\"bscr\")","v":"Mapped"},null,null,null,null,null,null,""]
[null,"CONTACT PERSON FOR RISK BASED CAPITAL",null,null,null,null,null,null,null,null,"",null,null,null,null,null,null,null,"bma_ContactPersonForRiskBasedCapitalAbstract"]
[null,null,null,null,null,null,null,null,null,null,"",null,null,null,null,null,null,null,""]
[null,"First Name",null,null,"Last Name",null,null,null,null,null,"brrt_ContactPersonFirstName",{"$f":"XBRLMap(C17,$K17,$L$1,$L$2,CONFIGURATION!$B$10,\"BMA\",CONFIGURATION!$B$1,\"bscr\")","v":"Mapped"},null,null,null,null,null,null,"bma_ContactPersonForRiskBasedCapitalFirstName"]
[null,null,null,null,null,null,null,null,null,null,"brrt_ContactPersonLastName",{"$f":"XBRLMap(F17,$K18,$L$1,$L$2,CONFIGURATION!$B$10,\"BMA\",CONFIGURATION!$B$1,\"bscr\")","v":"Mapped"},null,null,null,null,null,null,"bma_ContactPersonForRiskBasedCapitalLastName"]
[null,"CONTACT PERSON INFORMATION",null,null,null,null,null,null,null,null,"",null,null,null,null,null,null,null,"bma_ContactPersonInformationAbstract"]
[null,null,null,null,null,null,null,null,null,null,"",null,null,null,null,null,null,null,""]
[null,"Street and Number of P.O. Box",null,null,null,null,null,null,null,null,"brrt_ContactPersonInformationStreetAndNumberOfPOBox",{"$f":"XBRLMap(C21,$K21,$L$1,$L$2,CONFIGURATION!$B$10,\"BMA\",CONFIGURATION!$B$1,\"bscr\")","v":"Mapped"},null,null,null,null,null,null,"bma_StreetAndNumberOfPOBox"]
[null,null,null,null,null,null,null,null,null,null,"",null,null,null,null,null,null,null,""]
[null,"City",null,null,null,null,null,null,null,null,"brrt_ContactPersonInformationCity",{"$f":"XBRLMap(C23,$K23,$L$1,$L$2,CONFIGURATION!$B$10,\"BMA\",CONFIGURATION!$B$1,\"bscr\")","v":"Mapped"},null,null,null,null,null,null,"bma_City"]
[null,null,null,null,null,null,null,null,null,null,"",null,null,null,null,null,null,null,""]
[null,"Country",null,null,null,null,null,null,null,null,"brrt_ContactPersonInformationCountry",{"$f":"XBRLMap(C25,$K25,$L$1,$L$2,CONFIGURATION!$B$10,\"BMA\",CONFIGURATION!$B$1,\"bscr\")","v":"Mapped"},null,null,null,null,null,null,"bma_Country"]
[null,null,null,null,null,null,null,null,null,null,"",null,null,null,null,null,null,null,""]
[null,"Postal Code",null,null,null,null,null,null,null,null,"brrt_ContactPersonInformationPostalCode",{"$f":"XBRLMap(C27,$K27,$L$1,$L$2,CONFIGURATION!$B$10,\"BMA\",CONFIGURATION!$B$1,\"bscr\")","v":"Mapped"},null,null,null,null,null,null,"bma_PostalCode"]
[null,null,null,null,null,null,null,null,null,null,"",null,null,null,null,null,null,null,""]
[null,"Phone Number",null,"Extension",null,null,null,null,null,null,"brrt_ContactPersonInformationPhoneNumber",{"$f":"XBRLMap(C29,$K29,$L$1,$L$2,CONFIGURATION!$B$10,\"BMA\",CONFIGURATION!$B$1,\"bscr\")","v":"Mapped"},null,null,null,null,null,null,"bma_PhoneNumber"]
[null,null,null,null,null,null,null,null,null,null,"brrt_ContactPersonInformationExtension",{"$f":"XBRLMap(E29,$K30,$L$1,$L$2,CONFIGURATION!$B$10,\"BMA\",CONFIGURATION!$B$1,\"bscr\")","v":"Mapped"},null,null,null,null,null,null,"bma_PhoneNumberExtension"]
[null,"Email",null,null,null,null,null,null,null,null,"brrt_ContactPersonInformationEmail",{"$f":"XBRLMap(C31,$K31,$L$1,$L$2,CONFIGURATION!$B$10,\"BMA\",CONFIGURATION!$B$1,\"bscr\")","v":"Mapped"},null,null,null,null,null,null,"bma_Email"]
[null,null,null,null,null,null,null,null,null,null,"",null,null,null,null,null,null,null,""]
[null,"Date Prepared",null,null,null,null,null,null,null,null,"brrt_ContactPersonInformationDatePrepared",{"$f":"IF(C33=\"\",\"\",XBRLMap(C33,$K33,$L$1,$L$2,CONFIGURATION!$B$10,\"BMA\",CONFIGURATION!$B$1,\"bscr\"))","v":""},null,null,null,null,null,null,"bma_DatePrepared"]
[null,null,null,null,null,null,null,null,null,null,""]
[]
[]
[]
[]
[null,null,null,null,null,null,null,null,null,null,""]
[null,null,null,null,"Class 4"]
[null,null,null,null,"Class 3B"]
[null,null,null,null,"Class 3A"]

{"sheet":"Content","index":4,"n_rows":254,"n_cols":20,"rows_kept":254,"cut":false,"hidden":true,"merged":[[0,5,0,6],[250,1,250,2],[240,1,240,2],[241,1,241,2],[242,1,242,2],[243,1,243,2],[246,1,246,2],[222,1,222,2],[230,1,230,2],[234,1,234,2],[238,1,238,2],[239,1,239,2],[227,1,227,2],[216,1,216,2],[217,1,217,2],[218,1,218,2],[219,1,219,2],[210,1,210,2],[212,1,212,2],[213,1,213,2],[214,1,214,2],[215,1,215,2],[205,1,205,2],[206,1,206,2],[207,1,207,2],[208,1,208,2],[200,1,200,2],[201,1,201,2],[202,1,202,2],[203,1,203,2],[204,1,204,2],[181,1,181,2],[189,1,189,2],[191,1,191,2],[194,1,194,2],[197,1,197,2],[162,1,162,2],[172,1,172,2],[174,1,174,2],[176,1,176,2],[179,1,179,2],[133,1,133,2],[139,1,139,2],[147,1,147,2],[156,1,156,2],[159,1,159,2],[121,1,121,2],[123,1,123,2],[125,1,125,2],[127,1,127,2],[129,1,129,2],[55,2,56,2],[66,2,67,2],[87,3,87,4],[113,1,113,3],[117,1,117,2],[119,1,119,2],[99,1,99,2],[96,3,96,4],[104,1,104,2],[89,3,89,4],[58,2,59,2],[60,2,61,2],[68,2,69,2],[62,1,62,3],[65,1,65,2],[70,1,70,3],[73,1,73,2],[86,1,86,2],[88,3,88,4],[4,0,4,2],[27,2,28,2],[29,2,30,2],[39,2,40,2],[18,2,19,2],[22,2,23,2],[20,2,21,2],[34,2,35,2],[7,1,7,2],[8,1,8,2],[9,1,9,2],[10,1,10,2],[11,1,11,2],[12,1,12,2],[14,1,14,2],[33,1,33,2],[38,1,38,2],[17,1,17,2],[24,1,24,2],[25,1,25,2],[26,1,26,2],[131,1,131,2],[136,1,136,2],[142,1,142,2],[93,3,93,4],[94,3,94,4],[95,3,95,4],[100,3,100,4],[103,3,103,4],[43,1,43,2],[44,1,44,2],[54,1,54,2],[57,1,57,2],[63,1,63,2],[77,2,78,2],[90,3,90,4],[91,3,91,4],[92,3,92,4],[45,1,45,2],[48,1,48,2],[51,1,51,2],[52,1,52,2],[53,1,53,2],[71,1,71,2],[72,1,72,3]]}
["CONTENTS OF THE BSCR MODEL",null,null,null,null,{"$f":"HYPERLINK(\"#'Index'!A1\",\"Return to Index\")","v":"Return to Index"},null,null,null,"Blank","Acknowledge",false,"Acknowledge",null,null,null,null,null,null,{"$f":"IF(C3=\"\",\"\",TEXT(DATE(YEAR(C3+1)-1,MONTH(C3+1),DAY(C3+1)),\"mm/dd/yyyy\"))","v":"01/01/2019"}]
[{"$f":"'Company Information'!C7","v":"Enter Company Name"},null,null,null,null,null,null,null,null,null,null,""]
["As At:",null,{"$f":"'Company Information'!C3","v":"2019-12-31"},null,null,null,null,null,null,{"$f":"COUNTIF(J19:J253,J1)","v":13},{"$f":"COUNTIF(K19:K253,\"Yes\")","v":0},{"$f":"COUNTIF(L19:L253,\"False.\")","v":0},{"$f":"COUNTIF(M19:M253,\"Yes\")","v":0}]
[{"$f":"HYPERLINK(\"#'Submission'!B14\",\"If Confirm Message Check Box is Selected, include comments in Submission Tab Cell B14\")","v":"If Confirm Message Check Box is Selected, include comments in Submission Tab Cell B14"}]
["Text in Column C Have Been Hyperlinked for Ease"]
[null,null,"Section","True / False","Difference $","Difference %","Message"]
[null,"Company Information / Reference Schedules"]
[1,{"$f":"HYPERLINK(\"#'Submission'!A1\",\"Submission Tab\")","v":"Submission Tab"}]
[{"$f":"A8+1","v":2},{"$f":"HYPERLINK(\"#'Index'!A1\",\"Index\")","v":"Index"}]
[3,{"$f":"HYPERLINK(\"#'Attachments'!A1\",\"Attachments\")","v":"Attachments"}]
[4,{"$f":"HYPERLINK(\"#'Company Information'!A1\",\"Company Information\")","v":"Company Information"}]
[5,{"$f":"HYPERLINK(\"#'Declaration'!A1\",\"Declaration\")","v":"Declaration"}]
[6,{"$f":"HYPERLINK(\"#'Information Sheet'!A1\",\"Information Sheet\")","v":"Information Sheet"}]
[7,{"$f":"HYPERLINK(\"#'SAR & Sanc. (All)'!A1\",\"SARS and Sanctions for All Insurers\")","v":"SARS and Sanctions for All Insurers"}]
[8,{"$f":"HYPERLINK(\"#'Zones'!A1\",\"Zones\")","v":"Zones"}]
[]
[null,"Statutory Forms & Economic Balance Sheet"]
[{"$f":"A15+1","v":9},{"$f":"HYPERLINK(\"#'Form 1SFS'!A1\",\"Form 1SFS - Statutory Balance Sheet\")","v":"Form 1SFS - Statutory Balance Sheet"}]
[null,"i)",{"$f":"HYPERLINK(\"#'Form 1SFS'!A1\",\"Unconsolidated Assets equals Total General Business Insurance Reserves & Other Liabilities and Statutory Capital & Surplus\")","v":"Unconsolidated Assets equals Total General Business Insurance Reserves & Other Liabilities and Statutory Capital & Surplus"},{"$f":"IF('Company Information'!$B$2=\"Unconsolidated BSCR Model\",\"N/A\",IF(+'Form 1SFS GB'!E100=0,\"Form 1SFS Unconsolidated is Blank\",'Form 1SFS GB'!E202))","v":"Form 1SFS Unconsolidated is Blank"},{"$f":"+'Form 1SFS GB'!E204","v":0},{"$f":"IF('Form 1SFS GB'!E100=0,0,('Form 1SFS GB'!E204)/'Form 1SFS GB'!E100)","v":0},null,null,null,{"$f":"IF(D19=\"Form 1SFS Unconsolidated is Blank\",\"Blank\",\"\")","v":"Blank"},{"$f":"IF(J19=\"Blank\",IF(I19=TRUE,\"Yes\",\"\"),\"\")","v":""},{"$f":"IF(D19=\"False\",\"False.\",\"\")","v":""},{"$f":"IF(L19=\"\",\"\",IF(I19=TRUE,\"Yes\",\"\"))","v":""}]
[]
[null,"ii)",{"$f":"HYPERLINK(\"#'Form 1SFS'!A1\",\"Consolidated Assets equals Total General Business Insurance Reserves & Other Liabilities and Statutory Capital & Surplus\")","v":"Consolidated Assets equals Total General Business Insurance Reserves & Other Liabilities and Statutory Capital & Surplus"},{"$f":"IF('Company Information'!$B$2=\"Unconsolidated BSCR Model\",\"N/A\",IF(+'Form 1SFS GB'!I100=0,\"Form 1SFS Consolidated is Blank\",'Form 1SFS GB'!I202))","v":"Form 1SFS Consolidated is Blank"},{"$f":"+'Form 1SFS LT'!E204","v":0},{"$f":"IF('Form 1SFS LT'!E100=0,0,('Form 1SFS LT'!E204)/'Form 1SFS LT'!E100)","v":0},null,null,false,{"$f":"IF(D21=\"Form 1SFS Consolidated is Blank\",\"Blank\",\"\")","v":"Blank"},{"$f":"IF(J21=\"Blank\",IF(I21=TRUE,\"Yes\",\"\"),\"\")","v":""},{"$f":"IF(D21=\"False\",\"False.\",\"\")","v":""},{"$f":"IF(L21=\"\",\"\",IF(I21=TRUE,\"Yes\",\"\"))","v":""}]
[]
[null,"iii)",{"$f":"HYPERLINK(\"#'Form 1SFS'!B237:O265\",\"Reconcilation of Gross Loss and Loss Expense Provision at End of Year equals Statutory Balance Sheet Total\")","v":"Reconcilation of Gross Loss and Loss Expense Provision at End of Year equals Statutory Balance Sheet Total"},{"$f":"IF('Company Information'!$B$2=\"Unconsolidated BSCR Model\",\"N/A\",IF(+'Form 1SFS GB'!I295=0,\"Reconciliation is Blank\",'Form 1SFS GB'!I297))","v":"Reconciliation is Blank"},{"$f":"+'Form 1SFS GB'!I299","v":0},{"$f":"IF(+'Form 1SFS GB'!E117=0,0,('Form 1SFS GB'!I299)/+'Form 1SFS GB'!E117)","v":0},null,null,false,{"$f":"IF(D23=\"Reconciliation is Blank\",\"Blank\",\"\")","v":"Blank"},{"$f":"IF(J23=\"Blank\",IF(I23=TRUE,\"Yes\",\"\"),\"\")","v":""},{"$f":"IF(D23=\"False\",\"False.\",\"\")","v":""},{"$f":"IF(L23=\"\",\"\",IF(I23=TRUE,\"Yes\",\"\"))","v":""}]
[]
[{"$f":"A18+1","v":10},{"$f":"HYPERLINK(\"#'Form 2SFS'!A1\",\"Form 2SFS - Statutory Statement of Income\")","v":"Form 2SFS - Statutory Statement of Income"}]
[{"$f":"A25+1","v":11},{"$f":"HYPERLINK(\"#'Form 8SFS'!A1\",\"Form 8SFS - Statutory Statement of Capital and Surplus\")","v":"Form 8SFS - Statutory Statement of Capital and Surplus"}]
[{"$f":"A26+1","v":12},{"$f":"HYPERLINK(\"#'Form 1EBS'!A1\",\"Form 1EBS - Economic Balance Sheet\")","v":"Form 1EBS - Economic Balance Sheet"}]
[null,"i)",{"$f":"HYPERLINK(\"#'Form 1EBS'!A1\",\"Assets equals Total General Business Insurance Reserves & Other Liabilities and Statutory Capital & Surplus\")","v":"Assets equals Total General Business Insurance Reserves & Other Liabilities and Statutory Capital & Surplus"},{"$f":"IF(+#REF!=0,\"Form 1EBS is Blank\",#REF!)","v":{"$error":"#REF!"}},{"$f":"#REF!","v":{"$error":"#REF!"}},{"$f":"IF(+#REF!=0,0,(#REF!/+#REF!))","v":{"$error":"#REF!"}},null,null,false,{"$f":"IF(D28=\"Form 1EBS is Blank\",\"Blank\",\"\")","v":{"$error":"#REF!"}},{"$f":"IF(J28=\"Blank\",IF(I28=TRUE,\"Yes\",\"\"),\"\")","v":{"$error":"#REF!"}},{"$f":"IF(D28=\"False\",\"False.\",\"\")","v":{"$error":"#REF!"}},{"$f":"IF(L28=\"\",\"\",IF(I28=TRUE,\"Yes\",\"\"))","v":{"$error":"#REF!"}}]
[]
[null,"ii)",{"$f":"HYPERLINK(\"#'Form 1EBS'!B222:H237\",\"Reconcilation of Gross Loss and Loss Expense Provision at End of Year equals Statutory Balance Sheet Total\")","v":"Reconcilation of Gross Loss and Loss Expense Provision at End of Year equals Statutory Balance Sheet Total"},{"$f":"IF(+#REF!=0,\"Reconciliation is Blank\",#REF!)","v":{"$error":"#REF!"}},{"$f":"#REF!","v":{"$error":"#REF!"}},{"$f":"IF(+#REF!=0,0,IF(#REF!=0,0,(#REF!)/+#REF!))","v":{"$error":"#REF!"}},null,null,null,{"$f":"IF(OR(D30=\"False\",D30=\"Reconciliation is Blank\"),\"Blank\",\"\")","v":{"$error":"#REF!"}},{"$f":"IF(J30=\"Blank\",IF(I30=TRUE,\"Yes\",\"\"),\"\")","v":{"$error":"#REF!"}},{"$f":"IF(D30=\"False\",\"False.\",\"\")","v":{"$error":"#REF!"}},{"$f":"IF(L30=\"\",\"\",IF(I30=TRUE,\"Yes\",\"\"))","v":{"$error":"#REF!"}}]
[]
[]
[null,"BSCR Capital Schedules"]
[{"$f":"A27+1","v":13},{"$f":"HYPERLINK(\"#'Schedule II'!A1\",\"Schedule II - Schedule of Fixed Income & Equity Investments By BSCR Rating\")","v":"Schedule II - Schedule of Fixed Income & Equity Investments By BSCR Rating"}]
[null,"i)",{"$f":"HYPERLINK(\"#'Schedule II'!A1\",\"Quoted & Unquoted Bond Debentures as reported on Schedule II equals Form 1SFS\")","v":"Quoted & Unquoted Bond Debentures as reported on Schedule II equals Form 1SFS"},{"$f":"IF((('Form 1SFS GB'!E18+'Form 1SFS LT'!E18+'Form 1SFS GB'!E31+'Form 1SFS LT'!E31))=0,\"N/A\",IF(#REF!=0,\"Schedule is Blank\",#REF!))","v":"N/A"},{"$f":"+#REF!","v":{"$error":"#REF!"}},{"$f":"IF(('Form 1SFS GB'!E18+'Form 1SFS GB'!E31)=0,0,#REF!/('Form 1SFS GB'!E18+'Form 1SFS GB'!E31))","v":0},null,null,null,{"$f":"IF(D35=\"Schedule is Blank\",\"Blank\",\"\")","v":""},{"$f":"IF(J35=\"Blank\",IF(I35=TRUE,\"Yes\",\"\"),\"\")","v":""},{"$f":"IF(D35=\"False\",\"False.\",\"\")","v":""},{"$f":"IF(L35=\"\",\"\",IF(I35=TRUE,\"Yes\",\"\"))","v":""}]
[]
[null,"ii)",{"$f":"HYPERLINK(\"#'Schedule II'!A32\",\"Quoted & Unquoted Equities as reported on Schedule II equals Form 1SFS\")","v":"Quoted & Unquoted Equities as reported on Schedule II equals Form 1SFS"},{"$f":"IF((('Form 1SFS GB'!E23+'Form 1SFS LT'!E23+'Form 1SFS GB'!E36+'Form 1SFS LT'!E36))=0,\"N/A\",IF(#REF!=0,\"Schedule is Blank\",#REF!))","v":"N/A"},{"$f":"+#REF!","v":{"$error":"#REF!"}},{"$f":"IF(('Form 1SFS GB'!E23+'Form 1SFS GB'!E36)=0,0,(#REF!)/('Form 1SFS GB'!E23+'Form 1SFS GB'!E36))","v":0},null,null,null,{"$f":"IF(D37=\"Schedule is Blank\",\"Blank\",\"\")","v":""},{"$f":"IF(J37=\"Blank\",IF(I37=TRUE,\"Yes\",\"\"),\"\")","v":""},{"$f":"IF(D37=\"False\",\"False.\",\"\")","v":""},{"$f":"IF(L37=\"\",\"\",IF(I37=TRUE,\"Yes\",\"\"))","v":""}]
[null,"iii)",{"$f":"HYPERLINK(\"#'Schedule II'!A55\",\"Mortgage Loans as reported on Schedule II equals Form 1SFS\")","v":"Mortgage Loans as reported on Schedule II equals Form 1SFS"},{"$f":"IF('Form 1SFS GB'!E53=0,\"N/A\",IF(#REF!=0,\"Schedule is Blank\",#REF!))","v":"N/A"},{"$f":"#REF!","v":{"$error":"#REF!"}},{"$f":"IF('Form 1SFS GB'!E53=0,0,(#REF!)/'Form 1SFS GB'!E53)","v":0},null,null,null,{"$f":"IF(D38=\"Schedule is Blank\",\"Blank\",\"\")","v":""},"",{"$f":"IF(D38=\"False\",\"False.\",\"\")","v":""},""]
[{"$f":"A34+1","v":14},{"$f":"HYPERLINK(\"#'Schedule II (EBS)'!A1\",\"Schedule II (EBS)- Schedule of Fixed Income & Equity Investments By BSCR Rating\")","v":"Schedule II (EBS)- Schedule of Fixed Income & Equity Investments By BSCR Rating"}]
[null,"i)",{"$f":"HYPERLINK(\"#'Schedule II (EBS)'!A1\",\"Quoted & Unquoted Bond Debentures as reported on Schedule II (EBS) equals Form 1EBS\")","v":"Quoted & Unquoted Bond Debentures as reported on Schedule II (EBS) equals Form 1EBS"},{"$f":"IF((#REF!+#REF!)=0,\"N/A\",IF('Schedule II'!T23=0,\"Schedule is Blank\",'Schedule II'!T25))","v":{"$error":"#REF!"}},{"$f":"+'Schedule II'!#REF!","v":{"$error":"#REF!"}},{"$f":"IF((#REF!+#REF!)=0,0,'Schedule II'!#REF!/(#REF!+#REF!))","v":{"$error":"#REF!"}},null,null,null,{"$f":"IF(D40=\"Schedule is Blank\",\"Blank\",\"\")","v":{"$error":"#REF!"}},{"$f":"IF(J40=\"Blank\",IF(I40=TRUE,\"Yes\",\"\"),\"\")","v":{"$error":"#REF!"}},{"$f":"IF(D40=\"False\",\"False.\",\"\")","v":{"$error":"#REF!"}},{"$f":"IF(L40=\"\",\"\",IF(I40=TRUE,\"Yes\",\"\"))","v":{"$error":"#REF!"}}]
[]
[null,"ii)",{"$f":"HYPERLINK(\"#'Schedule II (EBS)'!A32\",\"Quoted & Unquoted Equities as reported on Schedule II (EBS) equals Form 1EBS\")","v":"Quoted & Unquoted Equities as reported on Schedule II (EBS) equals Form 1EBS"},{"$f":"IF((#REF!+#REF!)=0,\"N/A\",IF('Schedule II'!#REF!=0,\"Schedule is Blank\",'Schedule II'!#REF!))","v":{"$error":"#REF!"}},{"$f":"+'Schedule II'!#REF!","v":{"$error":"#REF!"}},{"$f":"IF((#REF!+#REF!)=0,0,('Schedule II'!#REF!)/(#REF!+#REF!))","v":{"$error":"#REF!"}},null,null,null,{"$f":"IF(D42=\"Schedule is Blank\",\"Blank\",\"\")","v":{"$error":"#REF!"}},{"$f":"IF(J42=\"Blank\",IF(I42=TRUE,\"Yes\",\"\"),\"\")","v":{"$error":"#REF!"}},{"$f":"IF(D42=\"False\",\"False.\",\"\")","v":{"$error":"#REF!"}},{"$f":"IF(L42=\"\",\"\",IF(I42=TRUE,\"Yes\",\"\"))","v":{"$error":"#REF!"}}]
[null,"iii)",{"$f":"HYPERLINK(\"#'Schedule II (EBS)'!A55\",\"Mortgage Loans as reported on Schedule II (EBS) equals Form 1EBS\")","v":"Mortgage Loans as reported on Schedule II (EBS) equals Form 1EBS"},{"$f":"IF(#REF!=0,\"N/A\",IF('Schedule II'!#REF!=0,\"Schedule is Blank\",'Schedule II'!#REF!))","v":{"$error":"#REF!"}},{"$f":"'Schedule II'!#REF!","v":{"$error":"#REF!"}},{"$f":"IF(#REF!=0,0,('Schedule II'!#REF!)/#REF!)","v":{"$error":"#REF!"}},null,null,null,{"$f":"IF(D43=\"Schedule is Blank\",\"Blank\",\"\")","v":{"$error":"#REF!"}},{"$error":"#REF!"},{"$f":"IF(D43=\"False\",\"False.\",\"\")","v":{"$error":"#REF!"}},{"$error":"#REF!"}]
[{"$f":"A39+1","v":15},{"$f":"HYPERLINK(\"#'Schedule IIA'!A1\",\"Schedule IIA - Schedule of Funds Held By Ceding Reinsurers in Segregated Accounts\")","v":"Schedule IIA - Schedule of Funds Held By Ceding Reinsurers in Segregated Accounts"}]
[{"$f":"A44+1","v":16},{"$f":"HYPERLINK(\"#'Schedule IIA (EBS)'!A1\",\"Schedule IIA (EBS) - Schedule of Funds Held By Ceding Reinsurers in Segregated Accounts\")","v":"Schedule IIA (EBS) - Schedule of Funds Held By Ceding Reinsurers in Segregated Accounts"}]
[{"$f":"A45+1","v":17},{"$f":"HYPERLINK(\"#'Schedule IIB (EBS)'!A1\",\"Schedule IIB (EBS)- Schedule of Fixed Income & Equity Investments By BSCR Rating\")","v":"Schedule IIB (EBS)- Schedule of Fixed Income & Equity Investments By BSCR Rating"}]
[null,"Interest rate-sensitive investments",null,{"$f":"IF(#REF!=0,\"N/A\",IF(#REF!=0,\"Schedule is Blank\",#REF!))","v":{"$error":"#REF!"}},{"$f":"#REF!","v":{"$error":"#REF!"}},{"$f":"IF(#REF!=0,0,(#REF!)/#REF!)","v":{"$error":"#REF!"}},null,null,null,{"$f":"IF(D47=\"Schedule is Blank\",\"Blank\",\"\")","v":{"$error":"#REF!"}},{"$f":"IF(J47=\"Blank\",IF(I47=TRUE,\"Yes\",\"\"),\"\")","v":{"$error":"#REF!"}},{"$f":"IF(D47=\"False\",\"False.\",\"\")","v":{"$error":"#REF!"}},{"$f":"IF(L47=\"\",\"\",IF(I47=TRUE,\"Yes\",\"\"))","v":{"$error":"#REF!"}}]
[null,"Investments sensitive to equity prices",null,{"$f":"IF(#REF!=0,\"N/A\",IF(#REF!=0,\"Schedule is Blank\",#REF!))","v":{"$error":"#REF!"}},{"$f":"#REF!","v":{"$error":"#REF!"}},{"$f":"IF(#REF!=0,0,(#REF!)/#REF!)","v":{"$error":"#REF!"}},null,null,null,{"$f":"IF(D48=\"Schedule is Blank\",\"Blank\",\"\")","v":{"$error":"#REF!"}},{"$f":"IF(J48=\"Blank\",IF(I48=TRUE,\"Yes\",\"\"),\"\")","v":{"$error":"#REF!"}},{"$f":"IF(D48=\"False\",\"False.\",\"\")","v":{"$error":"#REF!"}},{"$f":"IF(L48=\"\",\"\",IF(I48=TRUE,\"Yes\",\"\"))","v":{"$error":"#REF!"}}]
[{"$f":"A46+1","v":18},{"$f":"HYPERLINK(\"#'Schedule IIC (EBS)'!A1\",\"Schedule IIC (EBS) - Schedule of Funds Held By Ceding Reinsurers in Segregated Accounts\")","v":"Schedule IIC (EBS) - Schedule of Funds Held By Ceding Reinsurers in Segregated Accounts"}]
[null,"Interest rate-sensitive investments",null,{"$f":"IF(#REF!=0,\"N/A\",IF(#REF!=0,\"Schedule is Blank\",#REF!))","v":{"$error":"#REF!"}},{"$f":"#REF!","v":{"$error":"#REF!"}},{"$f":"IF(#REF!=0,0,(#REF!)/#REF!)","v":{"$error":"#REF!"}},null,null,null,{"$f":"IF(D50=\"Schedule is Blank\",\"Blank\",\"\")","v":{"$error":"#REF!"}},{"$f":"IF(J50=\"Blank\",IF(I50=TRUE,\"Yes\",\"\"),\"\")","v":{"$error":"#REF!"}},{"$f":"IF(D50=\"False\",\"False.\",\"\")","v":{"$error":"#REF!"}},{"$f":"IF(L50=\"\",\"\",IF(I50=TRUE,\"Yes\",\"\"))","v":{"$error":"#REF!"}}]
[null,"Investments sensitive to equity prices",null,{"$f":"IF(#REF!=0,\"N/A\",IF(#REF!=0,\"Schedule is Blank\",#REF!))","v":{"$error":"#REF!"}},{"$f":"#REF!","v":{"$error":"#REF!"}},{"$f":"IF(#REF!=0,0,(#REF!)/#REF!)","v":{"$error":"#REF!"}},null,null,null,{"$error":"#REF!"},{"$error":"#REF!"},{"$error":"#REF!"},{"$error":"#REF!"}]
[{"$f":"A49+1","v":19},{"$f":"HYPERLINK(\"#'Schedule IID (EBS)'!A1\",\"Schedule IID (EBS) - Schedule of Segregated Accounts\")","v":"Schedule IID (EBS) - Schedule of Segregated Accounts"},null,{"$f":"IF((#REF!)=0,\"N/A\",IF(#REF!=0,\"Schedule is Blank\",#REF!))","v":{"$error":"#REF!"}},{"$f":"#REF!","v":{"$error":"#REF!"}},{"$f":"IF(#REF!=0,0,(#REF!)/#REF!)","v":{"$error":"#REF!"}},null,null,null,{"$error":"#REF!"},{"$error":"#REF!"},{"$error":"#REF!"},{"$error":"#REF!"}]
[{"$f":"A52+1","v":20},{"$f":"HYPERLINK(\"#'Schedule IIE (EBS)'!A1\",\"Schedule IIE (EBS) - Schedule of Deposit Assets & Liabilities\")","v":"Schedule IIE (EBS) - Schedule of Deposit Assets & Liabilities"},null,{"$f":"IF(#REF!=0,\"N/A\",IF(#REF!=0,\"Schedule is Blank\",#REF!))","v":{"$error":"#REF!"}},{"$f":"#REF!","v":{"$error":"#REF!"}},{"$f":"IF(#REF!=0,0,(#REF!)/#REF!)","v":{"$error":"#REF!"}},null,null,null,{"$error":"#REF!"},{"$error":"#REF!"},{"$error":"#REF!"},{"$error":"#REF!"}]
[{"$f":"A53+1","v":21},{"$f":"HYPERLINK(\"#'Schedule IIF (EBS)'!A1\",\"Schedule IIF (EBS) - Schedule of Sundry Assets\")","v":"Schedule IIF (EBS) - Schedule of Sundry Assets"},null,{"$f":"IF((#REF!+#REF!+#REF!)=0,\"N/A\",IF(#REF!=0,\"Schedule is Blank\",#REF!))","v":{"$error":"#REF!"}},{"$f":"#REF!","v":{"$error":"#REF!"}},{"$f":"IF(#REF!=0,0,(#REF!)/#REF!)","v":{"$error":"#REF!"}},null,null,null,{"$error":"#REF!"},{"$error":"#REF!"},{"$error":"#REF!"},{"$error":"#REF!"}]
[{"$f":"A45+1","v":17},{"$f":"HYPERLINK(\"#'Schedule III'!A1\",\"Schedule III - Schedule of Net Loss and Loss Expense Provisions By Line of Business\")","v":"Schedule III - Schedule of Net Loss and Loss Expense Provisions By Line of Business"}]
[null,"i)",{"$f":"HYPERLINK(\"#'Schedule III'!A1\",\"Net Loss & Loss Expense Provision as reported on Schedule III equals Form 1SFS\")","v":"Net Loss & Loss Expense Provision as reported on Schedule III equals Form 1SFS"},{"$f":"IF('Form 1SFS GB'!E124=0,\"N/A\",IF(#REF!=0,\"Schedule is Blank\",#REF!))","v":"N/A"},{"$f":"#REF!","v":{"$error":"#REF!"}},{"$f":"IF('Form 1SFS GB'!E124=0,0,(#REF!)/'Form 1SFS GB'!E124)","v":0},null,null,false,{"$f":"IF(D56=\"Schedule is Blank\",\"Blank\",\"\")","v":""},{"$f":"IF(J56=\"Blank\",IF(I56=TRUE,\"Yes\",\"\"),\"\")","v":""},{"$f":"IF(D56=\"False\",\"False.\",\"\")","v":""},{"$f":"IF(L56=\"\",\"\",IF(I56=TRUE,\"Yes\",\"\"))","v":""}]
[]
[{"$f":"A55+1","v":18},{"$f":"HYPERLINK(\"#'Schedule III (EBS)'!A1\",\"Schedule III (EBS) - Schedule of Net Loss and Loss Expense Provisions By Line of Business\")","v":"Schedule III (EBS) - Schedule of Net Loss and Loss Expense Provisions By Line of Business"}]
[null,"i)",{"$f":"HYPERLINK(\"#'Schedule III (EBS)'!A1\",\"Net Loss & Loss Expense Provision as reported on Schedule III (EBS) equals Form 1EBS\")","v":"Net Loss & Loss Expense Provision as reported on Schedule III (EBS) equals Form 1EBS"},{"$f":"IF(#REF!=0,\"N/A\",IF(#REF!=0,\"Schedule is Blank\",#REF!))","v":{"$error":"#REF!"}},{"$f":"#REF!","v":{"$error":"#REF!"}},{"$f":"IF(#REF!=0,0,(#REF!)/#REF!)","v":{"$error":"#REF!"}},null,null,null,{"$f":"IF(D59=\"Schedule is Blank\",\"Blank\",\"\")","v":{"$error":"#REF!"}},{"$f":"IF(J59=\"Blank\",IF(I59=TRUE,\"Yes\",\"\"),\"\")","v":{"$error":"#REF!"}},{"$f":"IF(D59=\"False\",\"False.\",\"\")","v":{"$error":"#REF!"}},{"$f":"IF(L59=\"\",\"\",IF(I59=TRUE,\"Yes\",\"\"))","v":{"$error":"#REF!"}}]
[]
[null,"ii)",{"$f":"HYPERLINK(\"#'Schedule IIIA (EBS)'!A1\",\"Insurer has taken advantage of Net Loss & Loss Expense Provision Geographic Diversification\")","v":"Insurer has taken advantage of Net Loss & Loss Expense Provision Geographic Diversification"},{"$f":"IF(#REF!=0,\"No\",\"Yes\")","v":{"$error":"#REF!"}}]
[]
[{"$f":"A58+1","v":19},{"$f":"HYPERLINK(\"#'Schedule IIIA (EBS)'!A1\",\"Schedule IIIA (EBS) - Schedule of Geographic Diversification of Net Loss and Loss Expense Provisions\")","v":"Schedule IIIA (EBS) - Schedule of Geographic Diversification of Net Loss and Loss Expense Provisions"}]
[{"$f":"A63+1","v":20},{"$f":"HYPERLINK(\"#'Schedule IV'!A1\",\"Schedule IV - Schedule of Premiums Written By Line of Business\")","v":"Schedule IV - Schedule of Premiums Written By Line of Business"}]
[null,"i)",{"$f":"HYPERLINK(\"#'Schedule IV'!A1\",\"Net Premium Written as reported on Schedule IV equals Form 2SFS\")","v":"Net Premium Written as reported on Schedule IV equals Form 2SFS"},{"$f":"IF('Company Information'!$B$2=\"Unconsolidated BSCR Model\",\"N/A\",IF('Form 2SFS GB'!E19=0,\"N/A\",IF(#REF!=0,\"Schedule is Blank\",#REF!)))","v":"N/A"},{"$f":"+#REF!","v":{"$error":"#REF!"}},{"$f":"IF('Form 2SFS GB'!E19=0,0,(#REF!)/'Form 2SFS GB'!E19)","v":0},null,null,false,{"$f":"IF(OR(D65=\"False\",D65=\"Schedule is Blank\"),\"Blank\",\"\")","v":""},{"$f":"IF(J65=\"Blank\",IF(I65=TRUE,\"Yes\",\"\"),\"\")","v":""},{"$f":"IF(D65=\"False\",\"False.\",\"\")","v":""},{"$f":"IF(L65=\"\",\"\",IF(I65=TRUE,\"Yes\",\"\"))","v":""}]
[{"$f":"A64+1","v":21},{"$f":"HYPERLINK(\"#'Schedule IVA (EBS)'!A1\",\"Schedule IVA (EBS) - Schedule of Premiums Written By Line of Business\")","v":"Schedule IVA (EBS) - Schedule of Premiums Written By Line of Business"}]
[null,"i)",{"$f":"HYPERLINK(\"#'Schedule IVA (EBS)'!A1\",\"Net Premium Written as reported on Schedule IVA (EBS) equals Consolidated Form 2SFS\")","v":"Net Premium Written as reported on Schedule IVA (EBS) equals Consolidated Form 2SFS"},{"$f":"IF('Form 2SFS GB'!I19=0,\"N/A\",IF(#REF!=0,\"Schedule is Blank\",#REF!))","v":"N/A"},{"$f":"+#REF!","v":{"$error":"#REF!"}},{"$f":"IF('Form 2SFS GB'!I19=0,0,(#REF!)/'Form 2SFS GB'!I19)","v":0},null,null,false,{"$f":"IF(D67=\"Schedule is Blank\",\"Blank\",\"\")","v":""},{"$f":"IF(J67=\"Blank\",IF(I67=TRUE,\"Yes\",\"\"),\"\")","v":""},{"$f":"IF(D67=\"False\",\"False.\",\"\")","v":""},{"$f":"IF(L67=\"\",\"\",IF(I67=TRUE,\"Yes\",\"\"))","v":""}]
[]
[null,"ii)",{"$f":"HYPERLINK(\"#'Schedule IVC (EBS)'!A1\",\"Insurer has taken advantage of Net Premium Written Geographic Diversification\")","v":"Insurer has taken advantage of Net Premium Written Geographic Diversification"},{"$f":"IF(#REF!=0,\"No\",\"Yes\")","v":{"$error":"#REF!"}}]
[]
[{"$f":"A66+1","v":22},{"$f":"HYPERLINK(\"#'Schedule IVC (EBS)'!A1\",\"Schedule IVC (EBS) - Schedule of Geographic Diversification of Premiums Written\")","v":"Schedule IVC (EBS) - Schedule of Geographic Diversification of Premiums Written"}]
[{"$f":"A71+1","v":23},{"$f":"HYPERLINK(\"#'Schedule IVD'!A1\",\"Schedule IVD - Exposure Measure By Line of Business\")","v":"Schedule IVD - Exposure Measure By Line of Business"},null,{"$f":"IF('Form 2SFS GB'!I19=0,\"N/A\",IF((#REF!+#REF!+#REF!)=0,\"Schedule is Blank\",\"True\"))","v":"N/A"},null,null,null,null,false,{"$f":"IF(D72=\"Schedule is Blank\",\"Blank\",\"\")","v":""},{"$f":"IF(J72=\"Blank\",IF(I72=TRUE,\"Yes\",\"\"),\"\")","v":""},{"$f":"IF(D72=\"False\",\"False.\",\"\")","v":""},{"$f":"IF(L72=\"\",\"\",IF(I72=TRUE,\"Yes\",\"\"))","v":""}]
[{"$f":"A72+1","v":24},{"$f":"HYPERLINK(\"#'Schedule IVE (EBS)'!A1\",\"Schedule IVE (EBS) - Schedule of Geographic Diversification of Exposure Measure\")","v":"Schedule IVE (EBS) - Schedule of Geographic Diversification of Exposure Measure"}]
[{"$f":"A73+1","v":25},{"$f":"HYPERLINK(\"#'Schedule V'!A1\",\"Schedule V - Schedule of Risk Management\")","v":"Schedule V - Schedule of Risk Management"}]
[null,"i)",{"$f":"HYPERLINK(\"#'Schedule V'!H10\",\"Effective Duration of Assets\")","v":"Effective Duration of Assets"},{"$f":"IF('Schedule V'!H23=0,\"Asset Duration is not Reported\",\"True\")","v":{"$error":"#REF!"}},null,null,null,null,null,{"$f":"IF(D75=\"Asset Duration is not Reported\",\"Blank\",\"\")","v":{"$error":"#REF!"}},{"$f":"IF(J75=\"Blank\",IF(I75=TRUE,\"Yes\",\"\"),\"\")","v":{"$error":"#REF!"}}]
[null,"ii)",{"$f":"HYPERLINK(\"#'Schedule V'!H12\",\"Effective Duration of Liabilities\")","v":"Effective Duration of Liabilities"},{"$f":"IF('Schedule V'!H25=0,\"Liability Duration is not Reported\",\"True\")","v":{"$error":"#REF!"}},null,null,null,null,null,{"$f":"IF(D76=\"Liability Duration is not Reported\",\"Blank\",\"\")","v":{"$error":"#REF!"}},{"$error":"#REF!"}]
[null,"iii)",{"$f":"HYPERLINK(\"#'Schedule V'!H16\",\"Gross Probable Maximum Loss\")","v":"Gross Probable Maximum Loss"},{"$f":"IF('Schedule V'!H29=0,\"Gross PML is not Reported\",\"True\")","v":"Gross PML is not Reported"}]
[null,"iv)",{"$f":"HYPERLINK(\"#'Schedule X(a)'!F11\",\"Gross Probable Maximum Loss to Catastrophe Risk Return 100 Year Aggregate\")","v":"Gross Probable Maximum Loss to Catastrophe Risk Return 100 Year Aggregate"},{"$f":"IF('Schedule V'!H29=0,\"Gross PML is not Reported\",IF(#REF!=0,\"Schedule X(a) is Blank\",IF(ROUND('Schedule V'!H29-(IF(CONFIGURATION!$C$12=\"Units\",1000000*#REF!,1000*#REF!)),0)=0,\"True\",\"False\")))","v":"Gross PML is not Reported"},{"$f":"(IF(CONFIGURATION!$C$12=\"Units\",#REF!*1000000,#REF!*1000))-'Schedule V'!H29","v":{"$error":"#REF!"}},{"$f":"IF(#REF!=0,0,((IF(CONFIGURATION!$C$12=\"Units\",#REF!*1000000,#REF!*1000))-'Schedule V'!H29)/(IF(CONFIGURATION!$C$12=\"Units\",#REF!*1000000,#REF!*1000)))","v":{"$error":"#REF!"}}]
[]
[null,"v)",{"$f":"HYPERLINK(\"#'Schedule V'!H18\",\"Net Probable Maximum Loss\")","v":"Net Probable Maximum Loss"},{"$f":"IF('Schedule V'!H31=0,\"Net PML is not Reported\",\"True\")","v":"Net PML is not Reported"}]
[null,"vi)",{"$f":"HYPERLINK(\"#'Schedule X(a)'!H11\",\"Net Probable Maximum Loss to Catastrophe Risk Return 100 Year Aggregate\")","v":"Net Probable Maximum Loss to Catastrophe Risk Return 100 Year Aggregate"},{"$f":"IF('Schedule V'!H31=0,\"Net PML is not Reported\",IF(#REF!=0,\"Schedule X(a) is Blank\",IF(ROUND(((IF(CONFIGURATION!$C$12=\"Units\",#REF!*1000000,#REF!*1000))-'Schedule V'!H31),0)=0,\"True\",\"False\")))","v":"Net PML is not Reported"},{"$f":"(IF(CONFIGURATION!$C$12=\"Units\",#REF!*1000000,#REF!*1000))-'Schedule V'!H31","v":{"$error":"#REF!"}},{"$f":"IF(#REF!=0,0,(IF(CONFIGURATION!$C$12=\"Units\",#REF!*1000000,#REF!*1000)-'Schedule V'!H31)/(IF(CONFIGURATION!$C$12=\"Units\",#REF!*1000000,#REF!*1000)))","v":{"$error":"#REF!"}}]
[null,"vii)",{"$f":"HYPERLINK(\"#'Schedule V'!H20\",\"Average Annual Loss\")","v":"Average Annual Loss"},{"$f":"IF('Schedule V'!H33=0,\"Avg Annual Loss is not Reported\",\"True\")","v":"Avg Annual Loss is not Reported"}]
[null,"viii)",{"$f":"HYPERLINK(\"#'Schedule X(a)'!J17\",\"Average Annual Loss (Sch X(a)) Net is greater than Sch V\")","v":"Average Annual Loss (Sch X(a)) Net is greater than Sch V"},{"$f":"IF('Schedule V'!H33=0,\"Average Annual Loss is not Reported\",IF(#REF!=0,\"Schedule X(a) is Blank\",IF(((#REF!*1000)>'Schedule V'!H33),\"True\",\"False\")))","v":"Average Annual Loss is not Reported"}]
[null,"ix)",{"$f":"HYPERLINK(\"#'Schedule V'!H22\",\"Actual attritional Losses and Large Claims Losses - Relevant Year\")","v":"Actual attritional Losses and Large Claims Losses - Relevant Year"},{"$f":"IF('Schedule V'!H35=0,\"Attritional Loss is not Reported\",\"True\")","v":"Attritional Loss is not Reported"}]
[null,"x)",{"$f":"HYPERLINK(\"#'Schedule V'!H25:H29\",\"Property Catastrophe Recoverables\")","v":"Property Catastrophe Recoverables"},{"$f":"IF('Schedule V'!H42=0,\"Property Cat Rec. is not Reported\",\"True\")","v":"Property Cat Rec. is not Reported"}]
[null,"xi)",{"$f":"HYPERLINK(\"#'Schedule V'!H34:H38\",\"Summary of Projected Performance\")","v":"Summary of Projected Performance"},{"$f":"IF(COUNTIF('Schedule V'!H47:H49,0)>0,\"Projected Performance is not Reported\",\"True\")","v":"Projected Performance is not Reported"},null,null,null,null,null,{"$f":"IF(D86=\"Projected Performance is not Reported\",\"Blank\",\"\")","v":"Blank"},{"$f":"IF(J86=\"Blank\",IF(I86=TRUE,\"Yes\",\"\"),\"\")","v":""}]
[{"$f":"A74+1","v":26},{"$f":"HYPERLINK(\"#'Schedule V(a)'!A1\",\"Schedule V(a) Schedule of Risk Management - Governance and Group Structure\")","v":"Schedule V(a) Schedule of Risk Management - Governance and Group Structure"}]
[null,"i)",{"$f":"HYPERLINK(\"#'Schedule V(a)'!E11\",\"Directors - Country of Residence\")","v":"Directors - Country of Residence"},{"$f":"IF('Schedule V(a)'!F12=0,\"Directors- Country of Residence is not Reported\",\"True\")","v":"Directors- Country of Residence is not Reported"},null,null,null,null,false,{"$f":"IF(D88=\"Directors- Country of Residence is not Reported\",\"Blank\",\"\")","v":"Blank"},{"$f":"IF(J88=\"Blank\",IF(I88=TRUE,\"Yes\",\"\"),\"\")","v":""}]
[null,"ii)",{"$f":"HYPERLINK(\"#'Schedule V(a)'!H11\",\"Directors - Status\")","v":"Directors - Status"},{"$f":"IF('Schedule V(a)'!H12=0,\"Directors- Status is not Reported\",\"True\")","v":"True"},null,null,null,null,false,{"$f":"IF(D89=\"Directors- Status is not Reported\",\"Blank\",\"\")","v":""},""]
[null,"iii)",{"$f":"HYPERLINK(\"#'Schedule V(a)'!E36\",\"Chief & Senior Executives - Residence\")","v":"Chief & Senior Executives - Residence"},{"$f":"IF('Schedule V(a)'!F37=0,\"Chief & Senior Executives - Country of Residence is not Reported\",\"True\")","v":"Chief & Senior Executives - Country of Residence is not Reported"},null,null,null,null,false,{"$f":"IF(D90=\"Chief & Senior Executives - Country of Residence is not Reported\",\"Blank\",\"\")","v":"Blank"},""]
[null,"iv)",{"$f":"HYPERLINK(\"#'Schedule V(a)'!H36\",\"Chief & Senior Executives - Employee Arrangement\")","v":"Chief & Senior Executives - Employee Arrangement"},{"$f":"IF('Schedule V(a)'!H37=0,\"Chief & Senior Executives - Employee Arrangement is not Reported\",\"True\")","v":"True"},null,null,null,null,false,{"$f":"IF(D91=\"Chief & Senior Executives - Employee Arrangement is not Reported\",\"Blank\",\"\")","v":""},""]
[null,"v)",{"$f":"HYPERLINK(\"#'Schedule V(a)'!I36\",\"Chief & Senior Executives - Description of Responsibilities\")","v":"Chief & Senior Executives - Description of Responsibilities"},{"$f":"IF('Schedule V(a)'!I37=0,\"Chief & Senior Executives - Description of Responsibilities is not Reported\",\"True\")","v":"True"},null,null,null,null,false,{"$f":"IF(D92=\"Chief & Senior Executives - Description of Responsibilities is not Reported\",\"Blank\",\"\")","v":""},""]
[null,"vi)",{"$f":"HYPERLINK(\"#'Schedule V(a)'!C60:G65\",\"Jurisdiction of Activities\")","v":"Jurisdiction of Activities"},{"$f":"IF(COUNTIF('Schedule V(a)'!E65:E68,0)=0,\"True\",\"Jurisdiction of Activities is not Reported\")","v":"True"},null,null,null,null,null,{"$f":"IF(D93=\"Jurisdiction of Activities is not Reported\",\"Blank\",\"\")","v":""},""]
[null,"vii)",{"$f":"HYPERLINK(\"#'Schedule V(a)'!C67:G74\",\"Jurisdiction of Operations\")","v":"Jurisdiction of Operations"},{"$f":"IF(COUNTIF('Schedule V(a)'!E72:E77,0)=0,\"True\",\"Jurisdiction of Operations is not Reported\")","v":"True"},null,null,null,null,null,{"$f":"IF(D94=\"Jurisdiction of Operations is not Reported\",\"Blank\",\"\")","v":""},""]
[null,"viii)",{"$f":"HYPERLINK(\"#'Schedule V(a)'!h67:h74\",\"Services Outsourced\")","v":"Services Outsourced"},{"$f":"IF(COUNTIF('Schedule V(a)'!H72:H77,0)=0,\"True\",\"Services Outsourced is not Reported\")","v":"True"},null,null,null,null,false,{"$f":"IF(D95=\"Services Outsourced is not Reported\",\"Blank\",\"\")","v":""},""]
[null,"ix)",{"$f":"HYPERLINK(\"#'Schedule V(a)'!G76\",\"Number of Employees in Bermuda\")","v":"Number of Employees in Bermuda"},{"$f":"IF('Schedule V(a)'!G98=0,\"Numbers of Employees in Bermuda is not Reported\",\"True\")","v":"Numbers of Employees in Bermuda is not Reported"},null,null,null,null,false,{"$f":"IF(D96=\"Numbers of Employees in Bermuda is not Reported\",\"Blank\",\"\")","v":"Blank"},""]
[null,"x)",{"$f":"HYPERLINK(\"#'Schedule V(a)'!G92:G94\",\"Group Financial Position\")","v":"Group Financial Position"},{"$f":"IF(COUNTIF('Schedule V(a)'!G123:G125,0)=0,\"True\",\"Group Financial Position is not Reported\")","v":"Group Financial Position is not Reported"},null,null,null,null,null,{"$f":"IF(D97=\"Group Financial Position is not Reported\",\"Blank\",\"\")","v":"Blank"},""]
[null,"xi)",{"$f":"HYPERLINK(\"#'Schedule V(a)'!C99:G107\",\"Largest Balance Sheet Values\")","v":"Largest Balance Sheet Values"},{"$f":"IF(COUNTIF('Schedule V(a)'!C130:G138,0)=45,\"Largest Values is not Reported\",\"True\")","v":"True"},null,null,null,null,null,{"$f":"IF(D98=\"Largest Values is not Reported\",\"Blank\",\"\")","v":""},""]
[null,"xii)",{"$f":"HYPERLINK(\"#'Schedule V(a)'!C111\",\"Subsequent Events\")","v":"Subsequent Events"},{"$f":"IF('Schedule V(a)'!C142=0,\"Subsequent Events is not Reported\",\"True\")","v":"Subsequent Events is not Reported"},null,null,null,null,false,{"$f":"IF(D99=\"Subsequent Events is not Reported\",\"Blank\",\"\")","v":"Blank"},""]
[{"$f":"A87+1","v":27},{"$f":"HYPERLINK(\"#'Schedule V(c)'!A1\",\"Schedule V(c) Schedule of Risk Management - Intra-Group Exposures\")","v":"Schedule V(c) Schedule of Risk Management - Intra-Group Exposures"}]
[null,"i)",{"$f":"HYPERLINK(\"#'Schedule V(c)'!E9\",\"Intra-Group Transactions\")","v":"Intra-Group Transactions"},{"$f":"IF(#REF!=0,\"Intra-Group Transactions is not Reported\",\"True\")","v":{"$error":"#REF!"}},null,null,null,null,false,{"$f":"IF(D101=\"Intra-Group Transactions is not Reported\",\"Blank\",\"\")","v":{"$error":"#REF!"}},{"$f":"IF(J101=\"Blank\",IF(I101=TRUE,\"Yes\",\"\"),\"\")","v":{"$error":"#REF!"}}]
[null,"ii)",{"$f":"HYPERLINK(\"#'Schedule V(c)'!E43\",\"Intra-Group Reinsurance & Retrocession\")","v":"Intra-Group Reinsurance & Retrocession"},{"$f":"IF(#REF!=0,\"Intra-Group R/I is not Reported\",\"True\")","v":{"$error":"#REF!"}},null,null,null,null,null,{"$f":"IF(D102=\"Intra-Group R/I is not Reported\",\"Blank\",\"\")","v":{"$error":"#REF!"}},{"$error":"#REF!"}]
[null,"iii)",{"$f":"HYPERLINK(\"#'Schedule V(c)'!J74\",\"Proportion of Internal Reinsurance\")","v":"Proportion of Internal Reinsurance"},{"$f":"IF(#REF!=0,\"Proportion R/I is not Reported\",\"True\")","v":{"$error":"#REF!"}},null,null,null,null,null,{"$f":"IF(D103=\"Proportion R/I is not Reported\",\"Blank\",\"\")","v":{"$error":"#REF!"}},{"$error":"#REF!"}]
[null,"iv)",{"$f":"HYPERLINK(\"#'Schedule V(c)'!E79\",\"10 Largest Counterparty Exposures\")","v":"10 Largest Counterparty Exposures"},{"$f":"IF(#REF!=0,\"Counterparty Exposure is not Completed\",\"True\")","v":{"$error":"#REF!"}},null,null,null,null,null,{"$f":"IF(D104=\"Counterparty Exposure is not Completed\",\"Blank\",\"\")","v":{"$error":"#REF!"}},{"$error":"#REF!"}]
[{"$f":"A100+1","v":28},{"$f":"HYPERLINK(\"#'Schedule V(e)'!A1\",\"Schedule V(e) Schedule of Risk Management - Stress & Scenario Tests\")","v":"Schedule V(e) Schedule of Risk Management - Stress & Scenario Tests"}]
[null,"i)",{"$f":"HYPERLINK(\"#'Schedule V(e)'!F13:G18\",\"Financial Market Scenarios\")","v":"Financial Market Scenarios"},{"$f":"IF('Schedule V(e)'!I8=\"\",IF(COUNTIF('Schedule V(e)'!F12:G19,0)>0,\"Financial Market Scenario is not Reported\",\"True\"),\"True\")","v":"Financial Market Scenario is not Reported"},null,null,null,null,null,{"$f":"IF(D106=\"Financial Market Scenario is not Reported\",\"Blank\",\"\")","v":"Blank"},{"$f":"IF(J106=\"Blank\",IF(I106=TRUE,\"Yes\",\"\"),\"\")","v":""}]
[null,"ii)",{"$f":"HYPERLINK(\"#'Schedule V(e)'!I34:J52\",\"Underwriting Loss Scenarios Completed\")","v":"Underwriting Loss Scenarios Completed"},{"$f":"IF('Company Information'!F11=\"Class 3A\",\"N/A\",IF(COUNTIF('Schedule V(e)'!H51:H69,0)=19,\"Underwriting Loss Scenarios is not Reported\",\"True\"))","v":"Underwriting Loss Scenarios is not Reported"},null,null,null,null,null,{"$f":"IF(D107=\"Underwriting Loss Scenarios is not Reported\",\"Blank\",\"\")","v":"Blank"},""]
[null,"iii)",{"$f":"HYPERLINK(\"#'Schedule V(e)'!G34:G52\",\"Underwriting Loss Scenarios - Gross Loss Negative Surplus\")","v":"Underwriting Loss Scenarios - Gross Loss Negative Surplus"},{"$f":"IF('Company Information'!F11=\"Class 3A\",\"N/A\",'Schedule V(e)'!S70)","v":"True"},null,null,null,null,null,null,null,{"$f":"IF(D108=\"False\",\"False.\",\"\")","v":""},{"$f":"IF(L108=\"\",\"\",IF(I108=TRUE,\"Yes\",\"\"))","v":""}]
[null,"iv)",{"$f":"HYPERLINK(\"#'Schedule V(e)'!k34:k52\",\"Underwriting Loss Scenarios - Net Loss Negative Surplus\")","v":"Underwriting Loss Scenarios - Net Loss Negative Surplus"},{"$f":"IF('Company Information'!F11=\"Class 3A\",\"N/A\",'Schedule V(e)'!T70)","v":"True"},null,null,null,null,null,null,null,{"$f":"IF(D109=\"False\",\"False.\",\"\")","v":""},""]
[null,"v)",{"$f":"HYPERLINK(\"#'Schedule V(e)'!D28:N46\",\"Underwriting Loss Scenarios - Gross Loss Less than Net Loss Impact\")","v":"Underwriting Loss Scenarios - Gross Loss Less than Net Loss Impact"},{"$f":"IF('Company Information'!F11=\"Class 3A\",\"N/A\",'Schedule V(e)'!U70)","v":"True"},null,null,null,null,null,null,null,"",""]
[null,"vi)",{"$f":"HYPERLINK(\"#'Schedule V(e)'!J62:K64\",\"Other Underwriting Loss Scenarios\")","v":"Other Underwriting Loss Scenarios"},{"$f":"IF('Schedule V(e)'!I8=\"\",IF(COUNTIF('Schedule V(e)'!K79:K81,0)=0,\"True\",\"Other Underwriting Loss Scenarios is not Reported\"),\"True\")","v":"Other Underwriting Loss Scenarios is not Reported"},null,null,null,null,null,null,null,"",""]
[null,"vii)",{"$f":"HYPERLINK(\"#'Schedule V(e)'!A100:J116\",\"Series of Loss Simulations or R/I Specific Worst Case Scenario\")","v":"Series of Loss Simulations or R/I Specific Worst Case Scenario"},{"$f":"IF('Company Information'!F11=\"Class 3A\",(IF(COUNTIF('Schedule V(e)'!D199:E200,0)>2,\"Loss Simulations is not Reported\",\"True\")),IF((COUNTIF('Schedule V(e)'!D186:E187,0)+COUNTIF('Schedule V(e)'!D199:E200,0))>2,\"Loss Simulations is not Reported\",\"True\"))","v":"Loss Simulations is not Reported"},null,null,null,null,false,{"$f":"IF(D112=\"Loss Simulations is not Reported\",\"Blank\",\"\")","v":"Blank"},{"$f":"IF(J112=\"Blank\",IF(I112=TRUE,\"Yes\",\"\"),\"\")","v":""}]
[null,"viii)",{"$f":"HYPERLINK(\"#'Schedule V(e)'!D121:M127\",\"Terrorism to a 2-tonne bomb\")","v":"Terrorism to a 2-tonne bomb"},{"$f":"IF('Company Information'!F11=\"Class 3A\",\"N/A\",IF(COUNTIF('Schedule V(e)'!D218:M224,0)=70,\"Terrorism is not Reported\",\"True\"))","v":"Terrorism is not Reported"},null,null,null,null,null,{"$f":"IF(D113=\"Terrorism is not Reported\",\"Blank\",\"\")","v":"Blank"},""]
[{"$f":"A105+1","v":29},{"$f":"HYPERLINK(\"#'Schedule V(g)'!A1\",\"Schedule V(g) Schedule of Risk Management - Reconciliation from Form 1SFS to Form 1EBS\")","v":"Schedule V(g) Schedule of Risk Management - Reconciliation from Form 1SFS to Form 1EBS"}]
[null,"i)",{"$f":"HYPERLINK(\"#'Schedule V(g)'!A1\",\"SFS Assets equals Form 1EBS\")","v":"SFS Assets equals Form 1EBS"},{"$f":"IF(#REF!=0,\"Schedule is Blank\",#REF!)","v":{"$error":"#REF!"}},{"$f":"#REF!","v":{"$error":"#REF!"}},{"$f":"IF(#REF!=0,0,#REF!/#REF!)","v":{"$error":"#REF!"}},null,null,null,{"$f":"IF(OR(D115=\"False\",D115=\"Schedule is Blank\"),\"Blank\",\"\")","v":{"$error":"#REF!"}},{"$f":"IF(J115=\"Blank\",IF(I115=TRUE,\"Yes\",\"\"),\"\")","v":{"$error":"#REF!"}},{"$f":"IF(D115=\"False\",\"False.\",\"\")","v":{"$error":"#REF!"}},{"$f":"IF(L115=\"\",\"\",IF(I115=TRUE,\"Yes\",\"\"))","v":{"$error":"#REF!"}}]
[null,"ii)",{"$f":"HYPERLINK(\"#'Schedule V(g)'!A1\",\"SFS Liabilities equals Form 1EBS\")","v":"SFS Liabilities equals Form 1EBS"},{"$f":"IF(#REF!=0,\"Schedule is Blank\",#REF!)","v":{"$error":"#REF!"}},{"$f":"#REF!","v":{"$error":"#REF!"}},{"$f":"IF(#REF!=0,0,#REF!/#REF!)","v":{"$error":"#REF!"}},null,null,null,{"$f":"IF(OR(D116=\"False\",D116=\"Schedule is Blank\"),\"Blank\",\"\")","v":{"$error":"#REF!"}},{"$error":"#REF!"},{"$f":"IF(D116=\"False\",\"False.\",\"\")","v":{"$error":"#REF!"}},{"$error":"#REF!"}]
[null,"iii)",{"$f":"HYPERLINK(\"#'Schedule V(g)'!A1\",\"SFS Capital & Surplus equals Form 1EBS\")","v":"SFS Capital & Surplus equals Form 1EBS"},{"$f":"IF(#REF!=0,\"Schedule is Blank\",#REF!)","v":{"$error":"#REF!"}},{"$f":"#REF!","v":{"$error":"#REF!"}},{"$f":"IF(#REF!=0,0,#REF!/#REF!)","v":{"$error":"#REF!"}},null,null,null,{"$f":"IF(OR(D117=\"False\",D117=\"Schedule is Blank\"),\"Blank\",\"\")","v":{"$error":"#REF!"}},{"$error":"#REF!"},{"$f":"IF(D117=\"False\",\"False.\",\"\")","v":{"$error":"#REF!"}},{"$error":"#REF!"}]
[{"$f":"A114+1","v":30},{"$f":"HYPERLINK(\"#'Schedule V(k)'!A1\",\"Schedule V(k) Schedule of Risk Management - Details of Deposit Assets and Liabilities\")","v":"Schedule V(k) Schedule of Risk Management - Details of Deposit Assets and Liabilities"}]
[null,"i)",{"$f":"HYPERLINK(\"#'Schedule V(k)'!A1\",\"Details of Deposit Assets and Liabilities\")","v":"Details of Deposit Assets and Liabilities"},{"$f":"IF(('Form 1SFS GB'!E86+'Form 1SFS LT'!E86+'Form 1SFS GB'!I86)=0,\"N/A\",IF(#REF!=0,\"Schedule is Blank\",\"True\"))","v":"N/A"},null,null,null,null,false,{"$f":"IF(D119=\"Schedule is Blank\",\"Blank\",\"\")","v":""},{"$f":"IF(J119=\"Blank\",IF(I119=TRUE,\"Yes\",\"\"),\"\")","v":""}]
[{"$f":"A118+1","v":31},{"$f":"HYPERLINK(\"#'Schedule V(l)'!A1\",\"Schedule V(l) Schedule of Risk Management - Schedule of Segregated Accounts\")","v":"Schedule V(l) Schedule of Risk Management - Schedule of Segregated Accounts"}]
[null,"i)",{"$f":"HYPERLINK(\"#'Schedule V(l)'!A1\",\"Schedule of Segregated Accounts\")","v":"Schedule of Segregated Accounts"},{"$f":"IF(('Form 1SFS GB'!E85+'Form 1SFS GB'!I85+'Form 1SFS GB'!I83+'Form 1SFS GB'!I84)=0,\"N/A\",IF(#REF!=0,\"Schedule is Blank\",\"True\"))","v":"N/A"},null,null,null,null,false,{"$f":"IF(D121=\"Schedule is Blank\",\"Blank\",\"\")","v":""},{"$f":"IF(J121=\"Blank\",IF(I121=TRUE,\"Yes\",\"\"),\"\")","v":""}]
[{"$f":"A120+1","v":32},{"$f":"HYPERLINK(\"#'Schedule VI'!A1\",\"Schedule VI - Schedule of Fixed Income Securities\")","v":"Schedule VI - Schedule of Fixed Income Securities"}]
[null,"i)",{"$f":"HYPERLINK(\"#'Schedule VI'!A1\",\"Fixed Income Securities equals Form 1SFS\")","v":"Fixed Income Securities equals Form 1SFS"},{"$f":"IF(('Form 1SFS GB'!E18+'Form 1SFS GB'!E31)=0,\"N/A\",IF(#REF!=0,\"Schedule is Blank\",#REF!))","v":"N/A"},{"$f":"#REF!","v":{"$error":"#REF!"}},{"$f":"IF(('Form 1SFS GB'!E18+'Form 1SFS GB'!E31)=0,0,(#REF!)/('Form 1SFS GB'!E18+'Form 1SFS GB'!E31))","v":0},null,null,null,{"$f":"IF(D123=\"Schedule is Blank\",\"Blank\",\"\")","v":""},{"$f":"IF(J123=\"Blank\",IF(I123=TRUE,\"Yes\",\"\"),\"\")","v":""},{"$f":"IF(D123=\"False\",\"False.\",\"\")","v":""},{"$f":"IF(L123=\"\",\"\",IF(I123=TRUE,\"Yes\",\"\"))","v":""}]
[{"$f":"A122+1","v":33},{"$f":"HYPERLINK(\"#'Schedule VI (EBS)'!A1\",\"Schedule VI (EBS) - Schedule of Fixed Income Securities\")","v":"Schedule VI (EBS) - Schedule of Fixed Income Securities"}]
[null,"i)",{"$f":"HYPERLINK(\"#'Schedule VI (EBS)'!A1\",\"Fixed Income Securities equals Form 1EBS\")","v":"Fixed Income Securities equals Form 1EBS"},{"$f":"IF((#REF!+#REF!)=0,\"N/A\",IF(#REF!=0,\"Schedule is Blank\",#REF!))","v":{"$error":"#REF!"}},{"$f":"#REF!","v":{"$error":"#REF!"}},{"$f":"IF((#REF!+#REF!)=0,0,(#REF!)/(#REF!+#REF!))","v":{"$error":"#REF!"}},null,null,null,{"$f":"IF(D125=\"Schedule is Blank\",\"Blank\",\"\")","v":{"$error":"#REF!"}},{"$f":"IF(J125=\"Blank\",IF(I125=TRUE,\"Yes\",\"\"),\"\")","v":{"$error":"#REF!"}},{"$f":"IF(D125=\"False\",\"False.\",\"\")","v":{"$error":"#REF!"}},{"$f":"IF(L125=\"\",\"\",IF(I125=TRUE,\"Yes\",\"\"))","v":{"$error":"#REF!"}}]
[{"$f":"A124+1","v":34},{"$f":"HYPERLINK(\"#'Schedule XVIII'!A1\",\"Schedule XVIII Schedule of Risk Management - Particulars of Reinsurance Balances\")","v":"Schedule XVIII Schedule of Risk Management - Particulars of Reinsurance Balances"}]
[null,"i)",{"$f":"HYPERLINK(\"#'Schedule XVIII'!A1\",\"R/I Balances as reported on Schedules XVIII & II equals Form 1SFS\")","v":"R/I Balances as reported on Schedules XVIII & II equals Form 1SFS"},{"$f":"IF('Company Information'!$B$2=\"Unconsolidated BSCR Model\",\"N/A\",IF('Schedule XVIII'!G74=0,\"N/A\",IF('Schedule XVIII'!G55=0,\"Schedule is Blank\",'Schedule XVIII'!#REF!)))","v":{"$error":"#REF!"}},{"$f":"'Schedule XVIII'!#REF!","v":{"$error":"#REF!"}},{"$f":"IF('Schedule XVIII'!G74=0,0,('Schedule XVIII'!#REF!)/'Schedule XVIII'!G74)","v":{"$error":"#REF!"}},null,null,null,{"$f":"IF(D127=\"Schedule is Blank\",\"Blank\",\"\")","v":{"$error":"#REF!"}},{"$f":"IF(J127=\"Blank\",IF(I127=TRUE,\"Yes\",\"\"),\"\")","v":{"$error":"#REF!"}},{"$f":"IF(D127=\"False\",\"False.\",\"\")","v":{"$error":"#REF!"}},{"$f":"IF(L127=\"\",\"\",IF(I127=TRUE,\"Yes\",\"\"))","v":{"$error":"#REF!"}}]
[{"$f":"A126+1","v":35},{"$f":"HYPERLINK(\"#'Schedule XVIII (EBS)'!A1\",\"Schedule XVIII (EBS) Schedule of Risk Management - Particulars of Reinsurance Balances\")","v":"Schedule XVIII (EBS) Schedule of Risk Management - Particulars of Reinsurance Balances"}]
[null,"i)",{"$f":"HYPERLINK(\"#'Schedule XVIII (EBS)'!A1\",\"R/I Balances as reported on Schs XVIII(d) (EBS) & II (EBS) equals Form 1EBS\")","v":"R/I Balances as reported on Schs XVIII(d) (EBS) & II (EBS) equals Form 1EBS"},{"$f":"IF(#REF!=0,\"N/A\",IF(#REF!=0,\"Schedule is Blank\",#REF!))","v":{"$error":"#REF!"}},{"$f":"#REF!","v":{"$error":"#REF!"}},{"$f":"IF(#REF!=0,0,(#REF!)/#REF!)","v":{"$error":"#REF!"}},null,null,false,{"$f":"IF(D129=\"Schedule is Blank\",\"Blank\",\"\")","v":{"$error":"#REF!"}},{"$f":"IF(J129=\"Blank\",IF(I129=TRUE,\"Yes\",\"\"),\"\")","v":{"$error":"#REF!"}},{"$f":"IF(D129=\"False\",\"False.\",\"\")","v":{"$error":"#REF!"}},{"$f":"IF(L129=\"\",\"\",IF(I129=TRUE,\"Yes\",\"\"))","v":{"$error":"#REF!"}}]
[{"$f":"A128+1","v":36},{"$f":"HYPERLINK(\"#'Schedule XIX'!A1\",\"Schedule XIX Particulars of Cash and Cash Equivalents\")","v":"Schedule XIX Particulars of Cash and Cash Equivalents"}]
[null,"i)",{"$f":"HYPERLINK(\"#'Schedule XIX'!A1\",\"Particulars of Cash and Cash Equivalents equals Form 1EBS\")","v":"Particulars of Cash and Cash Equivalents equals Form 1EBS"},{"$f":"IF(#REF!=0,\"Schedule is Blank\",#REF!)","v":{"$error":"#REF!"}},{"$f":"#REF!","v":{"$error":"#REF!"}},{"$f":"IF(#REF!=0,0,(#REF!)/#REF!)","v":{"$error":"#REF!"}},null,null,false,{"$f":"IF(D131=\"Schedule is Blank\",\"Blank\",\"\")","v":{"$error":"#REF!"}},{"$f":"IF(J131=\"Blank\",IF(I131=TRUE,\"Yes\",\"\"),\"\")","v":{"$error":"#REF!"}},{"$f":"IF(D131=\"False\",\"False.\",\"\")","v":{"$error":"#REF!"}},{"$f":"IF(L131=\"\",\"\",IF(I131=TRUE,\"Yes\",\"\"))","v":{"$error":"#REF!"}}]
[{"$f":"A130+1","v":37},{"$f":"HYPERLINK(\"#'Schedule XIXA'!A1\",\"Schedule XIXA Particulars of Cash and Cash Equivalents\")","v":"Schedule XIXA Particulars of Cash and Cash Equivalents"}]
[null,"i)",{"$f":"HYPERLINK(\"#'Schedule XIXA'!A1\",\"Particulars of Cash and Cash Equivalents equals Form 1EBS\")","v":"Particulars of Cash and Cash Equivalents equals Form 1EBS"},{"$f":"IF(#REF!=0,\"Schedule is Blank\",#REF!)","v":{"$error":"#REF!"}},{"$f":"#REF!","v":{"$error":"#REF!"}},{"$f":"IF(#REF!=0,0,(#REF!)/#REF!)","v":{"$error":"#REF!"}},null,null,null,{"$f":"IF(D133=\"Schedule is Blank\",\"Blank\",\"\")","v":{"$error":"#REF!"}},{"$f":"IF(J133=\"Blank\",IF(I133=TRUE,\"Yes\",\"\"),\"\")","v":{"$error":"#REF!"}},{"$f":"IF(D133=\"False\",\"False.\",\"\")","v":{"$error":"#REF!"}},{"$f":"IF(L133=\"\",\"\",IF(I133=TRUE,\"Yes\",\"\"))","v":{"$error":"#REF!"}}]
[{"$f":"A132+1","v":38},{"$f":"HYPERLINK(\"#'Schedule XX'!A1\",\"Schedule XX Schedule of Currency Risk\")","v":"Schedule XX Schedule of Currency Risk"}]
[null,"i)",{"$f":"HYPERLINK(\"#'Schedule XX'!A1\",\"Currency Test of Minimum of 95% Has Been Met\")","v":"Currency Test of Minimum of 95% Has Been Met"},{"$f":"IF(+#REF!=0,\"Schedule is Blank\",#REF!)","v":{"$error":"#REF!"}},{"$f":"+#REF!-#REF!","v":{"$error":"#REF!"}},{"$f":"IF(+#REF!=0,0,(#REF!-#REF!)/+#REF!)","v":{"$error":"#REF!"}},null,null,false,{"$f":"IF(D135=\"Schedule is Blank\",\"Blank\",\"\")","v":{"$error":"#REF!"}},{"$f":"IF(J135=\"Blank\",IF(I135=TRUE,\"Yes\",\"\"),\"\")","v":{"$error":"#REF!"}},{"$f":"IF(D135=\"False\",\"False.\",\"\")","v":{"$error":"#REF!"}},{"$f":"IF(L135=\"\",\"\",IF(I135=TRUE,\"Yes\",\"\"))","v":{"$error":"#REF!"}}]
[null,"ii)",{"$f":"HYPERLINK(\"#'Schedule XX'!T36\",\"Liabilities and ECR Charge has been completed\")","v":"Liabilities and ECR Charge has been completed"},{"$f":"IF(COUNTIF(#REF!,0)>0,\"Schedule is not Complete\",\"True\")","v":{"$error":"#REF!"}},null,null,null,null,null,{"$f":"IF(D136=\"Schedule is not complete\",\"Blank\",\"\")","v":{"$error":"#REF!"}},{"$error":"#REF!"}]
[{"$f":"A134+1","v":39},{"$f":"HYPERLINK(\"#'Schedule XXA'!A1\",\"Schedule XXA Schedule of Currency Risk\")","v":"Schedule XXA Schedule of Currency Risk"}]
[null,"i)",{"$f":"HYPERLINK(\"#'Schedule XXA'!A1\",\"Currency Test of Minimum of 95% Has Been Met\")","v":"Currency Test of Minimum of 95% Has Been Met"},{"$f":"IF(#REF!=0,\"Schedule is Blank\",#REF!)","v":{"$error":"#REF!"}},{"$f":"#REF!-#REF!-#REF!-#REF!-#REF!-#REF!","v":{"$error":"#REF!"}},{"$f":"IF(#REF!=0,0,(#REF!-#REF!-#REF!-#REF!-#REF!-#REF!)/#REF!)","v":{"$error":"#REF!"}},null,null,null,{"$f":"IF(D138=\"Schedule is Blank\",\"Blank\",\"\")","v":{"$error":"#REF!"}},{"$f":"IF(J138=\"Blank\",IF(I138=TRUE,\"Yes\",\"\"),\"\")","v":{"$error":"#REF!"}},{"$f":"IF(D138=\"False\",\"False.\",\"\")","v":{"$error":"#REF!"}},{"$f":"IF(L138=\"\",\"\",IF(I138=TRUE,\"Yes\",\"\"))","v":{"$error":"#REF!"}}]
[null,"ii)",{"$f":"HYPERLINK(\"#'Schedule XXA'!P45\",\"Liabilities and ECR Charge has been completed\")","v":"Liabilities and ECR Charge has been completed"},{"$f":"IF(COUNTIF(#REF!,0)>0,\"Schedule is not Complete\",\"True\")","v":{"$error":"#REF!"}},null,null,null,null,null,{"$f":"IF(D139=\"Schedule is not complete\",\"Blank\",\"\")","v":{"$error":"#REF!"}},{"$error":"#REF!"}]
[{"$f":"A137+1","v":40},{"$f":"HYPERLINK(\"#'Schedule XXI'!A1\",\"Schedule XXI Schedule of Concentration Risk\")","v":"Schedule XXI Schedule of Concentration Risk"}]
[null,"i)",{"$f":"HYPERLINK(\"#'Schedule XXI'!A1\",\"Particulars of Concentration Risk\")","v":"Particulars of Concentration Risk"},{"$f":"IF(#REF!=0,\"Schedule is Blank\",\"True\")","v":{"$error":"#REF!"}},null,null,null,null,false,{"$f":"IF(D141=\"Schedule is Blank\",\"Blank\",\"\")","v":{"$error":"#REF!"}},{"$f":"IF(J141=\"Blank\",IF(I141=TRUE,\"Yes\",\"\"),\"\")","v":{"$error":"#REF!"}},{"$f":"IF(D141=\"False\",\"False.\",\"\")","v":{"$error":"#REF!"}},{"$f":"IF(L141=\"\",\"\",IF(I141=TRUE,\"Yes\",\"\"))","v":{"$error":"#REF!"}}]
[null,"ii)",{"$f":"HYPERLINK(\"#'Schedule XXI'!A1\",\"Particulars of Concentration Risk - Bond Type and BSCR Rating Complete\")","v":"Particulars of Concentration Risk - Bond Type and BSCR Rating Complete"},{"$f":"IF(#REF!=0,\"Schedule is Blank\",IF(ROUND(#REF!-#REF!,0)=0,\"True\",\"Schedule is not Complete\"))","v":{"$error":"#REF!"}},{"$f":"#REF!-#REF!","v":{"$error":"#REF!"}},{"$f":"IF(#REF!=0,0,(#REF!-#REF!)/#REF!)","v":{"$error":"#REF!"}},null,null,null,{"$f":"IF(D142=\"Schedule is Blank\",\"Blank\",\"\")","v":{"$error":"#REF!"}},{"$error":"#REF!"}]
[{"$f":"A140+1","v":41},{"$f":"HYPERLINK(\"#'Schedule XXIA'!A1\",\"Schedule XXIA Schedule of Concentration Risk\")","v":"Schedule XXIA Schedule of Concentration Risk"}]
[null,"i)",{"$f":"HYPERLINK(\"#'Schedule XXIA'!A1\",\"Particulars of Concentration Risk\")","v":"Particulars of Concentration Risk"},{"$f":"IF(#REF!=0,\"Schedule is Blank\",\"True\")","v":{"$error":"#REF!"}},null,null,null,null,null,{"$f":"IF(D144=\"Schedule is Blank\",\"Blank\",\"\")","v":{"$error":"#REF!"}},{"$f":"IF(J144=\"Blank\",IF(I144=TRUE,\"Yes\",\"\"),\"\")","v":{"$error":"#REF!"}},{"$f":"IF(D144=\"False\",\"False.\",\"\")","v":{"$error":"#REF!"}},{"$f":"IF(L144=\"\",\"\",IF(I144=TRUE,\"Yes\",\"\"))","v":{"$error":"#REF!"}}]
[null,"ii)",{"$f":"HYPERLINK(\"#'Schedule XXIA'!A1\",\"Particulars of Concentration Risk - Bond Type and BSCR Rating Complete\")","v":"Particulars of Concentration Risk - Bond Type and BSCR Rating Complete"},{"$f":"IF(#REF!=0,\"Schedule is Blank\",IF(ROUND(#REF!-#REF!,0)=0,\"True\",\"Schedule is not Complete\"))","v":{"$error":"#REF!"}},{"$f":"#REF!-#REF!","v":{"$error":"#REF!"}},{"$f":"IF(#REF!=0,0,(#REF!-#REF!)/#REF!)","v":{"$error":"#REF!"}},null,null,null,{"$f":"IF(D145=\"Schedule is Blank\",\"Blank\",\"\")","v":{"$error":"#REF!"}},{"$error":"#REF!"}]
[]
[null,"CISSA Schedules"]
[{"$f":"A143+1","v":42},{"$f":"HYPERLINK(\"#'Schedule IX(a)'!A1\",\"Schedule IX(a) - CISSA Capital Summary\")","v":"Schedule IX(a) - CISSA Capital Summary"}]
[null,"i)",{"$f":"HYPERLINK(\"#'Schedule IX(a)'!A1\",\"CISSA Capital Summary\")","v":"CISSA Capital Summary"},{"$f":"IF(#REF!=0,\"CISSA Capital Summary is Blank\",\"True\")","v":{"$error":"#REF!"}},null,null,null,null,null,{"$f":"IF(D149=\"CISSA Capital Summary is Blank\",\"Blank\",\"\")","v":{"$error":"#REF!"}},{"$f":"IF(J149=\"Blank\",IF(I149=TRUE,\"Yes\",\"\"),\"\")","v":{"$error":"#REF!"}}]
[null,"ii)",{"$f":"HYPERLINK(\"#'Schedule IX(a)'!B41:C47\",\"Insurer's Reason for Maintaining CISSA Capital Amount\")","v":"Insurer's Reason for Maintaining CISSA Capital Amount"},{"$f":"IF(COUNTIF(#REF!,\"Select\")=7,\"CISSA Section is Blank\",\"True\")","v":{"$error":"#REF!"}},null,null,null,null,null,{"$f":"IF(D150=\"CISSA Section is Blank\",\"Blank\",\"\")","v":{"$error":"#REF!"}},{"$error":"#REF!"}]
[null,"iii)",{"$f":"HYPERLINK(\"#'Schedule IX(a)'!B51:C57\",\"Insurer's Method of Aggregating CISSA Capital\")","v":"Insurer's Method of Aggregating CISSA Capital"},{"$f":"IF(COUNTIF(#REF!,\"Select\")=7,\"CISSA Section is Blank\",\"True\")","v":{"$error":"#REF!"}},null,null,null,null,false,{"$f":"IF(D151=\"CISSA Section is Blank\",\"Blank\",\"\")","v":{"$error":"#REF!"}},{"$error":"#REF!"}]
[null,"iv)",{"$f":"HYPERLINK(\"#'Schedule IX(a)'!B61:C69\",\"Insurer's Contingency Plan\")","v":"Insurer's Contingency Plan"},{"$f":"IF(COUNTIF(#REF!,\"Select\")=9,\"CISSA Section is Blank\",\"True\")","v":{"$error":"#REF!"}},null,null,null,null,null,{"$f":"IF(D152=\"CISSA Section is Blank\",\"Blank\",\"\")","v":{"$error":"#REF!"}},{"$error":"#REF!"}]
[null,"v)",{"$f":"HYPERLINK(\"#'Schedule IX(a)'!B71:G74\",\"Insurer's Confirmation of Contractual Commits under Stressed Situations\")","v":"Insurer's Confirmation of Contractual Commits under Stressed Situations"},{"$f":"IF(#REF!=\"Select\",\"CISSA Section is Blank\",\"True\")","v":{"$error":"#REF!"}},null,null,null,null,null,{"$f":"IF(D153=\"CISSA Section is Blank\",\"Blank\",\"\")","v":{"$error":"#REF!"}},{"$error":"#REF!"}]
[null,"vi)",{"$f":"HYPERLINK(\"#'Schedule IX(a)'!B76:G78\",\"Insurer's Confirmation of Issurance of Downstream of Debt\")","v":"Insurer's Confirmation of Issurance of Downstream of Debt"},{"$f":"IF(#REF!=\"Select\",\"CISSA Section is Blank\",\"True\")","v":{"$error":"#REF!"}},null,null,null,null,null,{"$error":"#REF!"},{"$error":"#REF!"}]
[null,"vii)",{"$f":"HYPERLINK(\"#'Schedule IX(a)'!B80:G82\",\"Insurer's Confirmation of Receipt of Downstream of Debt\")","v":"Insurer's Confirmation of Receipt of Downstream of Debt"},{"$f":"IF(#REF!=\"Select\",\"CISSA Section is Blank\",\"True\")","v":{"$error":"#REF!"}},null,null,null,null,null,{"$error":"#REF!"},{"$error":"#REF!"}]
[null,"viii)",{"$f":"HYPERLINK(\"#'Schedule IX(a)'!B84:G90\",\"Insurer's Confirmation of Transferrability of Assets\")","v":"Insurer's Confirmation of Transferrability of Assets"},{"$f":"IF(#REF!=\"Select\",\"CISSA Section is Blank\",\"True\")","v":{"$error":"#REF!"}},null,null,null,null,null,{"$error":"#REF!"},{"$error":"#REF!"}]
[{"$f":"A148+1","v":43},{"$f":"HYPERLINK(\"#'Schedule IX(b)'!A1\",\"Schedule IX(b) - CISSA General Questions\")","v":"Schedule IX(b) - CISSA General Questions"}]
[null,"i)",{"$f":"HYPERLINK(\"#'Schedule IX(b)'!B8:F28\",\"CISSA Integration\")","v":"CISSA Integration"},{"$f":"IF(#REF!=\"Select\",\"CISSA Section is Blank\",\"True\")","v":{"$error":"#REF!"}},null,null,null,null,null,{"$f":"IF(D158=\"CISSA Section is Blank\",\"Blank\",\"\")","v":{"$error":"#REF!"}},{"$f":"IF(J158=\"Blank\",IF(I158=TRUE,\"Yes\",\"\"),\"\")","v":{"$error":"#REF!"}}]
[null,"ii)",{"$f":"HYPERLINK(\"#'Schedule IX(b)'!B60:F70\",\"CISSA General Questions\")","v":"CISSA General Questions"},{"$f":"IF(COUNTIF(#REF!,\"Select\")>=2,\"CISSA Section is Blank\",\"True\")","v":{"$error":"#REF!"}},null,null,null,null,null,{"$error":"#REF!"},{"$error":"#REF!"}]
[{"$f":"A157+1","v":44},{"$f":"HYPERLINK(\"#'Schedule IX(c)'!A1\",\"Schedule IX(c) - CISSA Assessment of Material Risks\")","v":"Schedule IX(c) - CISSA Assessment of Material Risks"}]
[]
[null,"Catastrophe Risk Schedules"]
[{"$f":"A160+1","v":45},{"$f":"HYPERLINK(\"#'Schedule X(a)'!A1\",\"Schedule X(a) Catastrophe Risk Return - EP Curve Total\")","v":"Schedule X(a) Catastrophe Risk Return - EP Curve Total"}]
[null,"i)",{"$f":"HYPERLINK(\"#'Schedule X(a)'!D10:H14\",\"Total Exceedance Probability Details\")","v":"Total Exceedance Probability Details"},{"$f":"IF(COUNTIF(#REF!,0)>0,\"Section is Blank/Field Omitted\",\"True\")","v":{"$error":"#REF!"}},null,null,null,null,null,{"$f":"IF(D164=\"Section is Blank/Field Omitted\",\"Blank\",\"\")","v":{"$error":"#REF!"}},{"$f":"IF(J164=\"Blank\",IF(I164=TRUE,\"Yes\",\"\"),\"\")","v":{"$error":"#REF!"}}]
[null,null,null,"Gross Occur","Gross Agg","Net Occ.","Net Agg."]
[null,null,"50 Loss Return Period Reported in Millions",{"$f":"IF(SUM(#REF!)=0,0,IF(Submission!$B$6=\"Units\",(#REF!*1000000)/'Form 1SFS GB'!$I$198,(#REF!*1000)/'Form 1SFS GB'!$I$198))","v":{"$error":"#REF!"}},{"$f":"IF(SUM(#REF!)=0,0,IF(Submission!$B$6=\"Units\",(#REF!*1000000)/'Form 1SFS GB'!$I$198,(#REF!*1000)/'Form 1SFS GB'!$I$198))","v":{"$error":"#REF!"}},{"$f":"IF(SUM(#REF!)=0,0,IF(Submission!$B$6=\"Units\",(#REF!*1000000)/'Form 1SFS GB'!$I$198,(#REF!*1000)/'Form 1SFS GB'!$I$198))","v":{"$error":"#REF!"}},{"$f":"IF(SUM(#REF!)=0,0,IF(Submission!$B$6=\"Units\",(#REF!*1000000)/'Form 1SFS GB'!$I$198,(#REF!*1000)/'Form 1SFS GB'!$I$198))","v":{"$error":"#REF!"}}]
[null,null,"100 Loss Return Period Reported in Millions",{"$f":"IF(SUM(#REF!)=0,0,IF(Submission!$B$6=\"Units\",(#REF!*1000000)/'Form 1SFS GB'!$I$198,(#REF!*1000)/'Form 1SFS GB'!$I$198))","v":{"$error":"#REF!"}},{"$f":"IF(SUM(#REF!)=0,0,IF(Submission!$B$6=\"Units\",(#REF!*1000000)/'Form 1SFS GB'!$I$198,(#REF!*1000)/'Form 1SFS GB'!$I$198))","v":{"$error":"#REF!"}},{"$f":"IF(SUM(#REF!)=0,0,IF(Submission!$B$6=\"Units\",(#REF!*1000000)/'Form 1SFS GB'!$I$198,(#REF!*1000)/'Form 1SFS GB'!$I$198))","v":{"$error":"#REF!"}},{"$f":"IF(SUM(#REF!)=0,0,IF(Submission!$B$6=\"Units\",(#REF!*1000000)/'Form 1SFS GB'!$I$198,(#REF!*1000)/'Form 1SFS GB'!$I$198))","v":{"$error":"#REF!"}}]
[null,null,"250 Loss Return Period Reported in Millions",{"$f":"IF(SUM(#REF!)=0,0,IF(Submission!$B$6=\"Units\",(#REF!*1000000)/'Form 1SFS GB'!$I$198,(#REF!*1000)/'Form 1SFS GB'!$I$198))","v":{"$error":"#REF!"}},{"$f":"IF(SUM(#REF!)=0,0,IF(Submission!$B$6=\"Units\",(#REF!*1000000)/'Form 1SFS GB'!$I$198,(#REF!*1000)/'Form 1SFS GB'!$I$198))","v":{"$error":"#REF!"}},{"$f":"IF(SUM(#REF!)=0,0,IF(Submission!$B$6=\"Units\",(#REF!*1000000)/'Form 1SFS GB'!$I$198,(#REF!*1000)/'Form 1SFS GB'!$I$198))","v":{"$error":"#REF!"}},{"$f":"IF(SUM(#REF!)=0,0,IF(Submission!$B$6=\"Units\",(#REF!*1000000)/'Form 1SFS GB'!$I$198,(#REF!*1000)/'Form 1SFS GB'!$I$198))","v":{"$error":"#REF!"}}]
[null,null,"500 Loss Return Period Reported in Millions",{"$f":"IF(SUM(#REF!)=0,0,IF(Submission!$B$6=\"Units\",(#REF!*1000000)/'Form 1SFS GB'!$I$198,(#REF!*1000)/'Form 1SFS GB'!$I$198))","v":{"$error":"#REF!"}},{"$f":"IF(SUM(#REF!)=0,0,IF(Submission!$B$6=\"Units\",(#REF!*1000000)/'Form 1SFS GB'!$I$198,(#REF!*1000)/'Form 1SFS GB'!$I$198))","v":{"$error":"#REF!"}},{"$f":"IF(SUM(#REF!)=0,0,IF(Submission!$B$6=\"Units\",(#REF!*1000000)/'Form 1SFS GB'!$I$198,(#REF!*1000)/'Form 1SFS GB'!$I$198))","v":{"$error":"#REF!"}},{"$f":"IF(SUM(#REF!)=0,0,IF(Submission!$B$6=\"Units\",(#REF!*1000000)/'Form 1SFS GB'!$I$198,(#REF!*1000)/'Form 1SFS GB'!$I$198))","v":{"$error":"#REF!"}}]
[null,null,"1,000 Loss Return Period Reported in Millions"]
[null,null,"If ratios are highlighted in yellow, confirm if the figures are correctly reported in millions"]
[]
[{"$f":"A163+1","v":46},{"$f":"HYPERLINK(\"#'Schedule X(b)'!A1\",\"Schedule X(b) Catastrophe Risk Return - EP Curve Insurance\")","v":"Schedule X(b) Catastrophe Risk Return - EP Curve Insurance"}]
[null,"i)",{"$f":"HYPERLINK(\"#'Schedule X(b)'!D12:H16\",\"Insurance Exceedance Probability Details\")","v":"Insurance Exceedance Probability Details"},{"$f":"IF(COUNTIF(#REF!,0)=20,\"Section is Blank/Field Omitted\",\"True\")","v":{"$error":"#REF!"}},null,null,null,null,null,{"$f":"IF(D174=\"Section is Blank/Field Omitted\",\"Blank\",\"\")","v":{"$error":"#REF!"}},{"$f":"IF(J174=\"Blank\",IF(I174=TRUE,\"Yes\",\"\"),\"\")","v":{"$error":"#REF!"}}]
[{"$f":"A173+1","v":47},{"$f":"HYPERLINK(\"#'Schedule X(c)'!A1\",\"Schedule X(c) Catastrophe Risk Return - EP Curve Region Perils\")","v":"Schedule X(c) Catastrophe Risk Return - EP Curve Region Perils"}]
[null,"i)",{"$f":"HYPERLINK(\"#'Schedule X(c)'!A1\",\"Region Peril Exceedance Probability Details\")","v":"Region Peril Exceedance Probability Details"},{"$f":"IF((COUNTIF(#REF!,0)+COUNTIF(#REF!,0)+COUNTIF(#REF!,0)+COUNTIF(#REF!,0)+COUNTIF(#REF!,0))>0,\"Section is Blank/Field Omitted\",\"True\")","v":{"$error":"#REF!"}},null,null,null,null,null,{"$f":"IF(D176=\"Section is Blank/Field Omitted\",\"Blank\",\"\")","v":{"$error":"#REF!"}},{"$f":"IF(J176=\"Blank\",IF(I176=TRUE,\"Yes\",\"\"),\"\")","v":{"$error":"#REF!"}}]
[{"$f":"A175+1","v":48},{"$f":"HYPERLINK(\"#'Schedule X(d)'!A1\",\"Schedule X(d) Catastrophe Risk Return - Region Perils Exposure to Zones and Lines of Business\")","v":"Schedule X(d) Catastrophe Risk Return - Region Perils Exposure to Zones and Lines of Business"}]
[null,"i)",{"$f":"HYPERLINK(\"#'Schedule X(d)'!B10:H22\",\"Region Peril Zone Exposures\")","v":"Region Peril Zone Exposures"},{"$f":"IF((COUNTIF(#REF!,0))=78,\"Section is Blank/Field Omitted\",\"True\")","v":{"$error":"#REF!"}},null,null,null,null,null,{"$f":"IF(D178=\"Section is Blank/Field Omitted\",\"Blank\",\"\")","v":{"$error":"#REF!"}},{"$f":"IF(J178=\"Blank\",IF(I178=TRUE,\"Yes\",\"\"),\"\")","v":{"$error":"#REF!"}}]
[null,"ii)",{"$f":"HYPERLINK(\"#'Schedule X(d)'!B25:H49\",\"Region Peril Lines of Business Exposures\")","v":"Region Peril Lines of Business Exposures"},{"$f":"IF((COUNTIF(#REF!,0))=144,\"Section is Blank/Field Omitted\",\"True\")","v":{"$error":"#REF!"}},null,null,null,null,null,{"$f":"IF(D179=\"Section is Blank/Field Omitted\",\"Blank\",\"\")","v":{"$error":"#REF!"}},{"$error":"#REF!"}]
[{"$f":"A177+1","v":49},{"$f":"HYPERLINK(\"#'Schedule X(e)'!A1\",\"Schedule X(e) Catastrophe Risk Return - Accumulations Overview\")","v":"Schedule X(e) Catastrophe Risk Return - Accumulations Overview"}]
[null,"i)",{"$f":"HYPERLINK(\"#'Schedule X(e)'!A1\",\"Accumulations Overview Questions\")","v":"Accumulations Overview Questions"},{"$f":"IF((COUNTIF(#REF!,0)+COUNTIF(#REF!,0)+COUNTIF(#REF!,0)+COUNTIF(#REF!,0)+COUNTIF(#REF!,0)+COUNTIF(#REF!,0)+COUNTIF(#REF!,0)+COUNTIF(#REF!,0)+COUNTIF(#REF!,0)+COUNTIF(#REF!,0))>0,\"Section is Blank/Field Omitted\",\"True\")","v":{"$error":"#REF!"}},null,null,null,null,null,{"$f":"IF(D181=\"Section is Blank/Field Omitted\",\"Blank\",\"\")","v":{"$error":"#REF!"}},{"$f":"IF(J181=\"Blank\",IF(I181=TRUE,\"Yes\",\"\"),\"\")","v":{"$error":"#REF!"}}]
[{"$f":"A180+1","v":50},{"$f":"HYPERLINK(\"#'Schedule X(f)'!A1\",\"Schedule X(f) Catastrophe Risk Return - Data Analysis\")","v":"Schedule X(f) Catastrophe Risk Return - Data Analysis"}]
[null,"i)",{"$f":"HYPERLINK(\"#'Schedule X(f)'!L13\",\"X(f) Total Gross Limits to X(a) Gross Limits Exposed\")","v":"X(f) Total Gross Limits to X(a) Gross Limits Exposed"},{"$f":"IF(#REF!=0,\"Schedule is Blank\",IF(ROUND((#REF!-SUM(#REF!)),0)=0,\"True\",\"False\"))","v":{"$error":"#REF!"}},{"$f":"(#REF!-SUM(#REF!))","v":{"$error":"#REF!"}},{"$f":"IF(SUM(#REF!)=0,0,(#REF!-SUM(#REF!))/SUM(#REF!))","v":{"$error":"#REF!"}},null,null,null,{"$f":"IF(D183=\"Schedule is Blank\",\"Blank\",\"\")","v":{"$error":"#REF!"}},{"$f":"IF(J183=\"Blank\",IF(I183=TRUE,\"Yes\",\"\"),\"\")","v":{"$error":"#REF!"}},{"$f":"IF(D183=\"False\",\"False.\",\"\")","v":{"$error":"#REF!"}},{"$f":"IF(L183=\"\",\"\",IF(I183=TRUE,\"Yes\",\"\"))","v":{"$error":"#REF!"}}]
[null,"ii)",{"$f":"HYPERLINK(\"#'Schedule X(f)'!M13\",\"X(f) Total Net Limits to X(a) Net Limits Exposed\")","v":"X(f) Total Net Limits to X(a) Net Limits Exposed"},{"$f":"IF(#REF!=0,\"Schedule is Blank\",IF(ROUND((#REF!-SUM(#REF!)),0)=0,\"True\",\"False\"))","v":{"$error":"#REF!"}},{"$f":"(#REF!-SUM(#REF!))","v":{"$error":"#REF!"}},{"$f":"IF(SUM(#REF!)=0,0,(#REF!-SUM(#REF!))/SUM(#REF!))","v":{"$error":"#REF!"}},null,null,null,{"$f":"IF(D184=\"Schedule is Blank\",\"Blank\",\"\")","v":{"$error":"#REF!"}},{"$error":"#REF!"}]
[null,"iii)",{"$f":"HYPERLINK(\"#'Schedule X(f)'!C6:M13\",\"All Contracts Written\")","v":"All Contracts Written"},{"$f":"IF(OR(#REF!=0,#REF!=0,#REF!=0),\"Schedule is Blank\",\"True\")","v":{"$error":"#REF!"}},null,null,null,null,null,{"$error":"#REF!"},{"$error":"#REF!"}]
[null,"iv)",{"$f":"HYPERLINK(\"#'Schedule X(f)'!C15:M22\",\"Contracts that May Be Modeled to Contracts that are Modelable\")","v":"Contracts that May Be Modeled to Contracts that are Modelable"},{"$f":"IF(#REF!=0,\"True\",IF(#REF!=0,\"Section is Blank\",IF(ROUND(#REF!,0)=ROUND(#REF!,0),\"True\",\"May Be Modeled not Reconciled\")))","v":{"$error":"#REF!"}},{"$f":"#REF!-#REF!","v":{"$error":"#REF!"}},{"$f":"IF(#REF!=0,0,(#REF!-#REF!)/#REF!)","v":{"$error":"#REF!"}},null,null,null,{"$f":"IF(D186=\"Section is Blank\",\"Blank\",\"\")","v":{"$error":"#REF!"}},{"$error":"#REF!"}]
[null,"v)",{"$f":"HYPERLINK(\"#'Schedule X(f)'!C24:M34\",\"Contracts Modeled to Contracts that May Be Modeled\")","v":"Contracts Modeled to Contracts that May Be Modeled"},{"$f":"IF(#REF!=0,\"True\",IF(#REF!=0,\"Section is Blank\",IF(ROUND(#REF!,0)=ROUND(#REF!,0),\"True\",\"Modeled not Reconciled\")))","v":{"$error":"#REF!"}},{"$f":"#REF!-#REF!","v":{"$error":"#REF!"}},{"$f":"IF(#REF!=0,0,(#REF!-#REF!)/#REF!)","v":{"$error":"#REF!"}},null,null,null,{"$f":"IF(D187=\"Section is Blank\",\"Blank\",\"\")","v":{"$error":"#REF!"}},{"$error":"#REF!"}]
[null,"vi)",{"$f":"HYPERLINK(\"#'Schedule X(f)'!C39:M47\",\"Contracts Not Modeled to Contracts that May Be Modeled\")","v":"Contracts Not Modeled to Contracts that May Be Modeled"},{"$f":"IF(#REF!=0,\"True\",IF(#REF!=0,\"Section is Blank\",IF(ROUND(#REF!,0)=ROUND(#REF!,0),\"True\",\"Not Modeled not Reconciled\")))","v":{"$error":"#REF!"}},{"$f":"#REF!-#REF!","v":{"$error":"#REF!"}},{"$f":"IF(#REF!=0,0,(#REF!-#REF!)/#REF!)","v":{"$error":"#REF!"}},null,null,null,{"$error":"#REF!"},{"$error":"#REF!"}]
[null,"vii)",{"$f":"HYPERLINK(\"#'Schedule X(f)'!C56:M65\",\"Contracts Not Able to Model to Contracts that are Not Modelable\")","v":"Contracts Not Able to Model to Contracts that are Not Modelable"},{"$f":"IF(#REF!=0,\"True\",IF(#REF!=0,\"Section is Blank\",IF(ROUND(#REF!,0)=ROUND(#REF!,0),\"True\",\"Unable to Model not Reconciled\")))","v":{"$error":"#REF!"}},{"$f":"#REF!-#REF!","v":{"$error":"#REF!"}},{"$f":"IF(#REF!=0,0,(#REF!-#REF!)/#REF!)","v":{"$error":"#REF!"}},null,null,null,{"$error":"#REF!"},{"$error":"#REF!"}]
[{"$f":"A182+1","v":51},{"$f":"HYPERLINK(\"#'Schedule X(g)'!A1\",\"Schedule X(g) Catastrophe Risk Return - Reinsurance Disclosures\")","v":"Schedule X(g) Catastrophe Risk Return - Reinsurance Disclosures"}]
[null,"i)",{"$f":"HYPERLINK(\"#'Schedule X(g)'!A1\",\"Catastrophe Risk Reinsurance Disclosures\")","v":"Catastrophe Risk Reinsurance Disclosures"},{"$f":"IF((COUNTIF(#REF!,0))=54,\"Schedule is Blank\",\"True\")","v":{"$error":"#REF!"}},null,null,null,null,null,{"$f":"IF(D191=\"Schedule is Blank\",\"Blank\",\"\")","v":{"$error":"#REF!"}},{"$f":"IF(J191=\"Blank\",IF(I191=TRUE,\"Yes\",\"\"),\"\")","v":{"$error":"#REF!"}}]
[{"$f":"A190+1","v":52},{"$f":"HYPERLINK(\"#'Schedule X(h)'!A1\",\"Schedule X(h) Catastrophe Risk Return - Insurance Terrorism Exposure\")","v":"Schedule X(h) Catastrophe Risk Return - Insurance Terrorism Exposure"}]
[null,"i)",{"$f":"HYPERLINK(\"#'Schedule X(h)'!A6:K19\",\"Insurance Terrorism Exposure to Conventional Terrorism\")","v":"Insurance Terrorism Exposure to Conventional Terrorism"},{"$f":"IF((COUNTIF(#REF!,0))=60,\"Schedule is Blank\",\"True\")","v":{"$error":"#REF!"}},null,null,null,null,null,{"$f":"IF(D193=\"Schedule is Blank\",\"Blank\",\"\")","v":{"$error":"#REF!"}},{"$f":"IF(J193=\"Blank\",IF(I193=TRUE,\"Yes\",\"\"),\"\")","v":{"$error":"#REF!"}}]
[null,"ii)",{"$f":"HYPERLINK(\"#'Schedule X(h)'!A22:K35\",\"Insurance Terrorism Exposure to NBCR Terrorism\")","v":"Insurance Terrorism Exposure to NBCR Terrorism"},{"$f":"IF((COUNTIF(#REF!,0))=60,\"Schedule is Blank\",\"True\")","v":{"$error":"#REF!"}},null,null,null,null,null,{"$f":"IF(D194=\"Schedule is Blank\",\"Blank\",\"\")","v":{"$error":"#REF!"}},{"$error":"#REF!"}]
[{"$f":"A192+1","v":53},{"$f":"HYPERLINK(\"#'Schedule X(i)'!A1\",\"Schedule X(i) Catastrophe Risk Return - Reinsurance Terrorism Exposure\")","v":"Schedule X(i) Catastrophe Risk Return - Reinsurance Terrorism Exposure"}]
[null,"i)",{"$f":"HYPERLINK(\"#'Schedule X(i)'!A7:K18\",\"Reinsurance Terrorism Exposure to Conventional Terrorism\")","v":"Reinsurance Terrorism Exposure to Conventional Terrorism"},{"$f":"IF((COUNTIF(#REF!,0))=60,\"Schedule is Blank\",\"True\")","v":{"$error":"#REF!"}},null,null,null,null,null,{"$f":"IF(D196=\"Schedule is Blank\",\"Blank\",\"\")","v":{"$error":"#REF!"}},{"$f":"IF(J196=\"Blank\",IF(I196=TRUE,\"Yes\",\"\"),\"\")","v":{"$error":"#REF!"}}]
[null,"ii)",{"$f":"HYPERLINK(\"#'Schedule X(h)'!A21:K32\",\"Reinsurance Terrorism Exposure to NBCR Terrorism\")","v":"Reinsurance Terrorism Exposure to NBCR Terrorism"},{"$f":"IF((COUNTIF(#REF!,0))=60,\"Schedule is Blank\",\"True\")","v":{"$error":"#REF!"}},null,null,null,null,false,{"$f":"IF(D197=\"Schedule is Blank\",\"Blank\",\"\")","v":{"$error":"#REF!"}},{"$error":"#REF!"}]
[{"$f":"A195+1","v":54},{"$f":"HYPERLINK(\"#'Schedule X(j)'!A1\",\"Schedule X(j) Catastrophe Risk Return - Assumed Exchange Rates\")","v":"Schedule X(j) Catastrophe Risk Return - Assumed Exchange Rates"}]
[]
[null,"Loss Triangles/Loss Reserve Reconciliation (Class 4 and 3B Insurers Only)"]
[{"$f":"A198+1","v":55},{"$f":"HYPERLINK(\"#'Schedule XI(a)'!A1\",\"Schedule XI(a) Schedule of Loss Triangles - Summary\")","v":"Schedule XI(a) Schedule of Loss Triangles - Summary"}]
[{"$f":"A201+1","v":56},{"$f":"HYPERLINK(\"#'Sch XI(a)(i)'!A1\",\"Schedule XI(a)(i) Schedule of Loss Triangles - Property Castarophe\")","v":"Schedule XI(a)(i) Schedule of Loss Triangles - Property Castarophe"}]
[57,{"$f":"HYPERLINK(\"#'Sch XI(a)(ii)'!A1\",\"Schedule XI(a)(ii) Schedule of Loss Triangles - Property\")","v":"Schedule XI(a)(ii) Schedule of Loss Triangles - Property"}]
[58,{"$f":"HYPERLINK(\"#'Sch XI(a)(iii)'!A1\",\"Schedule XI(a)(iii) Schedule of Loss Triangles - Property Non-Proportional\")","v":"Schedule XI(a)(iii) Schedule of Loss Triangles - Property Non-Proportional"}]
[59,{"$f":"HYPERLINK(\"#'Sch XI(a)(iv)'!A1\",\"Schedule XI(a)(iv) Schedule of Loss Triangles - Casualty\")","v":"Schedule XI(a)(iv) Schedule of Loss Triangles - Casualty"}]
[60,{"$f":"HYPERLINK(\"#'Sch XI(a)(v)'!A1\",\"Schedule XI(a)(v) Schedule of Loss Triangles - Casualty Non-Proportional\")","v":"Schedule XI(a)(v) Schedule of Loss Triangles - Casualty Non-Proportional"}]
[61,{"$f":"HYPERLINK(\"#'Sch XI(a)(vi)'!A1\",\"Schedule XI(a)(vi) Schedule of Loss Triangles - Financial Lines\")","v":"Schedule XI(a)(vi) Schedule of Loss Triangles - Financial Lines"}]
[62,{"$f":"HYPERLINK(\"#'Sch XI(a)(vii)'!A1\",\"Schedule XI(a)(vii) Schedule of Loss Triangles - Other Specialty Lines\")","v":"Schedule XI(a)(vii) Schedule of Loss Triangles - Other Specialty Lines"}]
[63,{"$f":"HYPERLINK(\"#'Sch XI(a)(viii)'!A1\",\"Schedule XI(a)(viii) Schedule of Loss Triangles - Structured/Finite Lines\")","v":"Schedule XI(a)(viii) Schedule of Loss Triangles - Structured/Finite Lines"}]
[]
[{"$f":"A209+1","v":64},{"$f":"HYPERLINK(\"#'Schedule XI(b) (EBS)'!A1\",\"Schedule XI(b) Schedule of Reconciliation - Summary\")","v":"Schedule XI(b) Schedule of Reconciliation - Summary"}]
[null,"i)",{"$f":"HYPERLINK(\"#'Schedule XI(b) (EBS)'!A1\",\"Schedule of Loss Reserve Reconciliation (EBS)\")","v":"Schedule of Loss Reserve Reconciliation (EBS)"},{"$f":"IF('Company Information'!F11=\"Class 3A\",\"N/A\",IF(#REF!=0,\"Schedule is Blank\",#REF!))","v":{"$error":"#REF!"}},{"$f":"#REF!-#REF!","v":{"$error":"#REF!"}},{"$f":"IF(#REF!=0,0,(#REF!-#REF!)/#REF!)","v":{"$error":"#REF!"}},null,null,null,{"$f":"IF(D212=\"Schedule is Blank\",\"Blank\",\"\")","v":{"$error":"#REF!"}},{"$f":"IF(J212=\"Blank\",IF(I212=TRUE,\"Yes\",\"\"),\"\")","v":{"$error":"#REF!"}},{"$f":"IF(D212=\"False\",\"False.\",\"\")","v":{"$error":"#REF!"}},{"$f":"IF(L212=\"\",\"\",IF(I212=TRUE,\"Yes\",\"\"))","v":{"$error":"#REF!"}}]
[{"$f":"A211+1","v":65},{"$f":"HYPERLINK(\"#'Sch XI(b)(i) (EBS)'!A1\",\"Schedule XI(b)(i) Schedule of Reserve Reconciliation - Property Castarophe\")","v":"Schedule XI(b)(i) Schedule of Reserve Reconciliation - Property Castarophe"}]
[{"$f":"A213+1","v":66},{"$f":"HYPERLINK(\"#'Sch XI(b)(ii) (EBS)'!A1\",\"Schedule XI(b)(ii) Schedule of Reserve Reconciliation - Property\")","v":"Schedule XI(b)(ii) Schedule of Reserve Reconciliation - Property"}]
[67,{"$f":"HYPERLINK(\"#'Sch XI(b)(iii) (EBS)'!A1\",\"Schedule XI(b)(iii) Schedule of Reserve Reconciliation - Property Non-Proportional\")","v":"Schedule XI(b)(iii) Schedule of Reserve Reconciliation - Property Non-Proportional"}]
[68,{"$f":"HYPERLINK(\"#'Sch XI(b)(iv) (EBS)'!A1\",\"Schedule XI(b)(iv) Schedule of Reserve Reconciliation - Casualty\")","v":"Schedule XI(b)(iv) Schedule of Reserve Reconciliation - Casualty"}]
[69,{"$f":"HYPERLINK(\"#'Sch XI(b)(v) (EBS)'!A1\",\"Schedule XI(b)(v) Schedule of Reserve Reconciliation - Casualty Non-Proportional\")","v":"Schedule XI(b)(v) Schedule of Reserve Reconciliation - Casualty Non-Proportional"}]
[70,{"$f":"HYPERLINK(\"#'Sch XI(b)(vi) (EBS)'!A1\",\"Schedule XI(b)(vi) Schedule of Reserve Reconciliation - Financial Lines\")","v":"Schedule XI(b)(vi) Schedule of Reserve Reconciliation - Financial Lines"}]
[71,{"$f":"HYPERLINK(\"#'Sch XI(b)(vii) (EBS)'!A1\",\"Schedule XI(b)(vii) Schedule of Reserve Reconciliation - Other Specialty Lines\")","v":"Schedule XI(b)(vii) Schedule of Reserve Reconciliation - Other Specialty Lines"}]
[72,{"$f":"HYPERLINK(\"#'Sch XI(b)(viii) (EBS)'!A1\",\"Schedule XI(b)(viii) Schedule of Reserve Reconciliation - Structured/Finite Lines\")","v":"Schedule XI(b)(viii) Schedule of Reserve Reconciliation - Structured/Finite Lines"}]
[]
[null,"Eligible Capital"]
[{"$f":"A220+1","v":73},{"$f":"HYPERLINK(\"#'Schedule XII(a)'!A1\",\"Schedule XII(a) - Schedule of Eligible Capital\")","v":"Schedule XII(a) - Schedule of Eligible Capital"}]
[null,"i)",{"$f":"HYPERLINK(\"#'Schedule XII(a)'!G26:G30\",\"Policyholder Obligations equals Form 1EBS\")","v":"Policyholder Obligations equals Form 1EBS"},{"$f":"IF(#REF!=0,\"N/A\",IF(#REF!=0,\"Schedule Not Completed\",IF(ROUND(#REF!=0,0),\"True\",\"False\")))","v":{"$error":"#REF!"}},{"$f":"#REF!-(#REF!+#REF!)","v":{"$error":"#REF!"}},{"$f":"IF(#REF!=0,0,(#REF!-(#REF!+#REF!))/(#REF!+#REF!))","v":{"$error":"#REF!"}},null,null,null,{"$f":"IF(D224=\"Schedule Not Completed\",\"Blank\",\"\")","v":{"$error":"#REF!"}},{"$f":"IF(J224=\"Blank\",IF(I224=TRUE,\"Yes\",\"\"),\"\")","v":{"$error":"#REF!"}}]
[]
[null,"ii)",{"$f":"HYPERLINK(\"#'Schedule XII(a) (EBS)'!H26:H30\",\"Encumbered Assets equals Form 1EBS\")","v":"Encumbered Assets equals Form 1EBS"},{"$f":"IF(#REF!=0,\"N/A\",IF(#REF!=0,\"Schedule Not Completed\",IF(#REF!=#REF!,\"True\",\"False\")))","v":{"$error":"#REF!"}},{"$f":"#REF!-#REF!","v":{"$error":"#REF!"}},{"$f":"IF(#REF!=0,0,(#REF!-#REF!)/#REF!)","v":{"$error":"#REF!"}},null,null,null,{"$f":"IF(D226=\"Schedule Not Completed\",\"Blank\",\"\")","v":{"$error":"#REF!"}},{"$f":"IF(J226=\"Blank\",IF(I226=TRUE,\"Yes\",\"\"),\"\")","v":{"$error":"#REF!"}}]
[null,"iii)",{"$f":"HYPERLINK(\"#'Schedule XII(a)'!J79:J81\",\"Eligible Capital equals Economic Available Capital & Surplus\")","v":"Eligible Capital equals Economic Available Capital & Surplus"},{"$f":"IF(#REF!=0,\"N/A\",#REF!)","v":{"$error":"#REF!"}},{"$f":"#REF!","v":{"$error":"#REF!"}},{"$f":"IF(#REF!=0,0,(#REF!/#REF!))","v":{"$error":"#REF!"}},null,null,null,{"$f":"IF(D227=\"N/A\",\"Blank\",\"\")","v":{"$error":"#REF!"}},{"$f":"IF(J227=\"Blank\",IF(I227=TRUE,\"Yes\",\"\"),\"\")","v":{"$error":"#REF!"}},{"$f":"IF(D227=\"False\",\"False.\",\"\")","v":{"$error":"#REF!"}},{"$f":"IF(L227=\"\",\"\",IF(I227=TRUE,\"Yes\",\"\"))","v":{"$error":"#REF!"}}]
[{"$f":"A223+1","v":74},{"$f":"HYPERLINK(\"#'Schedule XII(b)'!A1\",\"Schedule XII(b) - Schedule of Eligible Capital - Additional Details\")","v":"Schedule XII(b) - Schedule of Eligible Capital - Additional Details"}]
[]
[null,"Schedule XVI - Schedule of Regulated Non-Insurance Financial Operating Entities"]
[{"$f":"A223+1","v":74},{"$f":"HYPERLINK(\"#'Schedule XVI'!A1\",\"Schedule XVI - Schedule of Regulated Non-Insurance Financial Operating Entities\")","v":"Schedule XVI - Schedule of Regulated Non-Insurance Financial Operating Entities"}]
[null,"i)",{"$f":"HYPERLINK(\"#'Schedule XVI'!A1\",\"Schedule of Regulated Non-Insurance Financial Operating Entities\")","v":"Schedule of Regulated Non-Insurance Financial Operating Entities"},{"$f":"IF(#REF!=0,\"Schedule is Blank\",\"True\")","v":{"$error":"#REF!"}},null,null,null,null,null,{"$f":"IF(D232=\"Schedule is Blank\",\"Blank\",\"\")","v":{"$error":"#REF!"}},{"$f":"IF(J232=\"Blank\",IF(I232=TRUE,\"Yes\",\"\"),\"\")","v":{"$error":"#REF!"}}]
[]
[null,"Schedule XVII - Schedule of Solvency"]
[{"$f":"A231+1","v":75},{"$f":"HYPERLINK(\"#'Schedule XVII'!A1\",\"Schedule XVII - Schedule of Solvency\")","v":"Schedule XVII - Schedule of Solvency"}]
[null,"i)",{"$f":"HYPERLINK(\"#'Schedule XVII'!A1\",\"Schedule of Solvency\")","v":"Schedule of Solvency"},{"$f":"IF(#REF!=0,\"Schedule is Blank\",\"True\")","v":{"$error":"#REF!"}},null,null,null,null,false,{"$f":"IF(D236=\"Schedule is Blank\",\"Blank\",\"\")","v":{"$error":"#REF!"}},{"$f":"IF(J236=\"Blank\",IF(I236=TRUE,\"Yes\",\"\"),\"\")","v":{"$error":"#REF!"}}]
[]
[null,"Commercial Insurers Risk Assessment (CIRA)"]
[{"$f":"A235+1","v":76},{"$f":"HYPERLINK(\"#'Corp Gov'!A1\",\"Corporate Goverance\")","v":"Corporate Goverance"},null,{"$f":"IF(#REF!=0,\"Schedule is Blank\",\"True\")","v":{"$error":"#REF!"}},null,null,null,null,null,{"$f":"IF(D239=\"Schedule is Blank\",\"Blank\",\"\")","v":{"$error":"#REF!"}},{"$f":"IF(J239=\"Blank\",IF(I239=TRUE,\"Yes\",\"\"),\"\")","v":{"$error":"#REF!"}}]
[{"$f":"A239+1","v":77},{"$f":"HYPERLINK(\"#'Risk Man'!A1\",\"Risk Management\")","v":"Risk Management"},null,{"$f":"IF(#REF!=0,\"Schedule is Blank\",\"True\")","v":{"$error":"#REF!"}},null,null,null,null,null,{"$f":"IF(D240=\"Schedule is Blank\",\"Blank\",\"\")","v":{"$error":"#REF!"}},{"$error":"#REF!"}]
[{"$f":"A240+1","v":78},{"$f":"HYPERLINK(\"#'Identification'!A1\",\"Identification (Class 4 & 3B Insurers Only)\")","v":"Identification (Class 4 & 3B Insurers Only)"},null,{"$f":"IF('Company Information'!$F$11=\"Class 3A\",\"N/A\",IF(#REF!=0,\"Schedule is Blank\",\"True\"))","v":{"$error":"#REF!"}},null,null,null,null,null,{"$error":"#REF!"},{"$error":"#REF!"}]
[{"$f":"A241+1","v":79},{"$f":"HYPERLINK(\"#'Measurement'!A1\",\"Measurement (Class 4 & 3B Insurers Only)\")","v":"Measurement (Class 4 & 3B Insurers Only)"},null,{"$f":"IF('Company Information'!$F$11=\"Class 3A\",\"N/A\",IF(#REF!=0,\"Schedule is Blank\",\"True\"))","v":{"$error":"#REF!"}},null,null,null,null,null,{"$error":"#REF!"},{"$error":"#REF!"}]
[{"$f":"A242+1","v":80},{"$f":"HYPERLINK(\"#'Response'!A1\",\"Response (Class 4 & 3B Insurers Only)\")","v":"Response (Class 4 & 3B Insurers Only)"},null,{"$f":"IF('Company Information'!$F$11=\"Class 3A\",\"N/A\",IF(#REF!=0,\"Schedule is Blank\",\"True\"))","v":{"$error":"#REF!"}},null,null,null,null,null,{"$error":"#REF!"},{"$error":"#REF!"}]
[{"$f":"A243+1","v":81},{"$f":"HYPERLINK(\"#'Monitoring & Reporting'!A1\",\"Monitoring & Reporting (Class 4 & 3B Insurers Only)\")","v":"Monitoring & Reporting (Class 4 & 3B Insurers Only)"},null,{"$f":"IF('Company Information'!$F$11=\"Class 3A\",\"N/A\",IF(#REF!=0,\"Schedule is Blank\",\"True\"))","v":{"$error":"#REF!"}},null,null,null,null,null,{"$error":"#REF!"},{"$error":"#REF!"}]
[]
[null,"Summary"]
[{"$f":"A244+1","v":82},{"$f":"HYPERLINK(\"#'Summary'!A1\",\"Summary Tab\")","v":"Summary Tab"}]
[null,"i)",{"$f":"HYPERLINK(\"#'Summary'!B60:F60\",\"ECR Ratio Met\")","v":"ECR Ratio Met"},{"$f":"IF(Summary!N87=0,\"EBS is Blank\",IF(Summary!N120>100%,\"ECR Ratio of \"&ROUND(Summary!N120,2)*100&\"% Met\",\"ECR of \"&ROUND(Summary!N120,2)*100&\"% is not Met\"))","v":{"$error":"#REF!"}}]
[]
[null,"Company Specific Parameters"]
[{"$f":"A247+1","v":83},{"$f":"HYPERLINK(\"#'Company Specific Parameters'!A1\",\"Company Specific Parameters\")","v":"Company Specific Parameters"}]
[null,"i)",{"$f":"HYPERLINK(\"#'Company Specific Parameters'!A1\",\"Capital Charge has been amended\")","v":"Capital Charge has been amended"},{"$f":"IF(Summary!N83=0,\"No\",\"Adjustment made to a BSCR Capital Charge\")","v":"No"},{"$f":"Summary!G83","v":0},{"$f":"IF(Summary!G83=0,0,(Summary!G83-Summary!G71)/Summary!G71)","v":0}]
[]
[null,null,null,null,null,null,null,null,null,null,null,""]

{"sheet":"Index","index":5,"n_rows":23,"n_cols":40,"rows_kept":23,"cut":false,"hidden":false,"merged":[[22,32,23,37],[13,2,14,7],[13,9,14,14],[13,16,14,21],[4,25,5,30],[13,25,14,30],[22,2,23,7],[22,9,23,14],[22,16,23,21],[16,2,17,7],[22,25,23,30],[10,32,11,37],[4,2,5,7],[10,2,11,7],[10,9,11,14],[4,9,5,14],[10,39,11,44],[13,39,14,44],[4,16,5,21],[4,32,5,37],[13,32,14,37],[10,25,11,30],[10,16,11,21]]}
[null,"INDEX"]
[null,{"$f":"'Company Information'!C7","v":"Enter Company Name"}]
[null,"CLICK BUTTON TO NAVIGATE"]
[]
[null,null,{"$f":"HYPERLINK(\"#'Submission'!A1\",\"Submission\")","v":"Submission"},null,null,null,null,null,null,{"$f":"HYPERLINK(\"#'Company Information'!A1\",\"Company Information\")","v":"Company Information"},null,null,null,null,null,null,{"$f":"HYPERLINK(\"#'Attachments'!A1\",\"Attachments\")","v":"Attachments"},null,null,null,null,null,null,null,null,{"$f":"HYPERLINK(\"#'Declaration'!A1\",\"Declaration Sheet\")","v":"Declaration Sheet"},null,null,null,null,null,null,{"$f":"HYPERLINK(\"#'SAR & Sanc. (All)'!A1\",\"SAR & Sanctions (All insurers)\")","v":"SAR & Sanctions (All insurers)"}]
[]
[]
[]
[null,"STATUTORY AND BSCR SCHEDULES"]
[]
[null,null,{"$f":"HYPERLINK(\"#'Information Sheet'!A1\",\"Information Sheet\")","v":"Information Sheet"},null,null,null,null,null,null,{"$f":"HYPERLINK(\"#'Form 1SFS GB'!A1\",\"Form 1SFS \nGB Balance Sheet\")","v":"Form 1SFS \nGB Balance Sheet"},null,null,null,null,null,null,{"$f":"HYPERLINK(\"#'Form 1SFS LT'!A1\",\"Form 1SFS \nLT Balance Sheet\")","v":"Form 1SFS \nLT Balance Sheet"},null,null,null,null,null,null,null,null,{"$f":"HYPERLINK(\"#'Form 2SFS GB'!A1\",\"Form 2SFS \nGB Income Stmt\")","v":"Form 2SFS \nGB Income Stmt"},null,null,null,null,null,null,{"$f":"HYPERLINK(\"#'Form 2SFS LT'!A1\",\"Form 2SFS \nLT Income Stmt\")","v":"Form 2SFS \nLT Income Stmt"},null,null,null,null,null,null,{"$f":"HYPERLINK(\"#'Form 8SFS'!A1\",\"Form 8SFS \nCapital & Surplus\")","v":"Form 8SFS \nCapital & Surplus"}]
[]
[]
[null,null,{"$f":"HYPERLINK(\"#'Schedule II'!A1\",\"Sch II     Investments\")","v":"Sch II     Investments"},null,null,null,null,null,null,{"$f":"HYPERLINK(\"#'SCHEDULE V'!A1\",\"Sch V \nRisk Mgmt\")","v":"Sch V \nRisk Mgmt"},null,null,null,null,null,null,{"$f":"HYPERLINK(\"#'SCHEDULE V(a)'!A1\",\"Sch V(a) Governance\")","v":"Sch V(a) Governance"},null,null,null,null,null,null,null,null,{"$f":"HYPERLINK(\"#'SCHEDULE V(e)'!A1\",\"Sch V(e) \nStress Scenario\")","v":"Sch V(e) \nStress Scenario"},null,null,null,null,null,null,{"$f":"HYPERLINK(\"#'SCHEDULE V(m)'!A1\",\"Sch V(m) \nAlt. Capital\")","v":"Sch V(m) \nAlt. Capital"},null,null,null,null,null,null,{"$f":"HYPERLINK(\"#'SCHEDULE XVIII'!A1\",\"Sch XVIII \nCeded Reins\")","v":"Sch XVIII \nCeded Reins"}]
[]
[]
[null,null,{"$f":"HYPERLINK(\"#'Operational Risk'!A1\",\"Operational Risk Charge\")","v":"Operational Risk Charge"}]
[]
[]
[]
[null,"BSCR"]
[]
[null,null,{"$f":"HYPERLINK(\"#'Summary'!A1\",\"Summary\")","v":"Summary"},null,null,null,null,null,null,{"$f":"HYPERLINK(\"#'Fixed Income Investments'!A1\",\"Fixed Income Investments\")","v":"Fixed Income Investments"},null,null,null,null,null,null,{"$f":"HYPERLINK(\"#'Equity Investments'!A1\",\"Equity Investments\")","v":"Equity Investments"},null,null,null,null,null,null,null,null,{"$f":"HYPERLINK(\"#'Credit Risk'!A1\",\"Credit Risk\")","v":"Credit Risk"},null,null,null,null,null,null,{"$f":"HYPERLINK(\"#'Company Specific Parameters'!A1\",\"Company Specific Parameters\")","v":"Company Specific Parameters"}]

{"sheet":"Import","index":6,"n_rows":2789,"n_cols":32,"rows_kept":2789,"cut":false,"hidden":false,"merged":[[0,29,0,31],[1,4,1,6],[1,8,1,10],[1,15,1,17],[1,19,1,21],[0,4,0,10],[0,15,0,21]]}
[null,null,null,null,"GENERAL BUSINESS - (for 1SFS + 2SFS only)",null,null,null,null,null,null,null,null,null,null,"LONG-TERM BUSINESS - (for 1SFS + 2SFS only)",null,null,null,null,null,null,null,null,null,null,null,null,null,"EBS"]
[null,null,null,null,"General Account",null,null,null,"Combined",null,null,null,null,null,null,"General Account",null,null,null,"Combined"]
["Sheet Name","Sheet Short Description","Field Code","Field Description",{"$f":"YEAR('Company Information'!$C$3)","v":2019},null,{"$f":"E3-1","v":2018},null,{"$f":"YEAR('Company Information'!$C$3)","v":2019},null,{"$f":"I3-1","v":2018},null,null,null,null,{"$f":"YEAR('Company Information'!$C$3)","v":2019},null,{"$f":"P3-1","v":2018},null,{"$f":"YEAR('Company Information'!$C$3)","v":2019},null,{"$f":"T3-1","v":2018},null,null,null,null,null,null,null,{"$f":"YEAR('Company Information'!$C$3)","v":2019},null,{"$f":"AD3-1","v":2018}]
["Summary",null,null,"Comments",0]
[]
["Declaration",null,null,"Authorised Signing Authority 1",0]
["Declaration",null,null,"Date","00:00:00"]
["Declaration",null,null,"Authorised Signing Authority 2",0]
["Declaration",null,null,"Date","00:00:00"]
["Declaration",null,null,"Authorised Signing Authority 3",0]
["Declaration",null,null,"Date","00:00:00"]
[]
["Info Sheet",null,null,"(d) Statements Held at Registered Office","Select Yes/No"]
["Info Sheet",null,null,"(e) Filing Period - Period Start Date","00:00:00"]
["Info Sheet",null,null,"(g) Figures Translated at:",1]
["Info Sheet",null,null,"(h) Ultimate Parent",0]
["Info Sheet",null,null,"(i) Insurer's Parent Company",0]
["Info Sheet",null,null,"(j) Industry Sector of Insurer's Parent","Select from Drop-Down"]
["Info Sheet",null,null,"(k) Insurer's Ownership Structure","Select from Drop-Down"]
["Info Sheet",null,null,"(l) Insurer's Company Structure","Select from Drop-Down"]
["Info Sheet",null,null,"(l).1 Confirm if Company writes LT Insurance","Select Yes/No"]
["Info Sheet",null,null,"(l).2 LT Insurance written during the period","Select Yes/No"]
["Info Sheet",null,null,"(l).3 Subsidiares wrote Long-Term insurance","Select Yes/No"]
["Info Sheet",null,null,"(l).4 Subsidiares wrote LT Ins. Outside of BDA","Select Yes/No"]
["Info Sheet",null,null,"(l).5 Subsidiares Ins. Outside of BDA jurisdiction 1",0]
["Info Sheet",null,null,"(l).5 Subsidiares Ins. Outside of BDA jurisdiction 2",0]
["Info Sheet",null,null,"(l).5 Subsidiares Ins. Outside of BDA jurisdiction 3",0]
["Info Sheet",null,null,"(m)(i) Is the Insurer a Member of Ins. Group?","Select Yes/No"]
["Info Sheet",null,null,"(m)(ii) Are there Segregated Accounts?","Select Yes/No"]
["Info Sheet",null,null,"(m)(iii) Is the Insurer in Run-Off?","Select Yes/No"]
["Info Sheet",null,null,"(m)(iv) Statements have a Qualified Opinion?","Select Yes/No"]
["Info Sheet",null,null,"(m)(iv) Details of Qualified Opinion",0]
["Info Sheet",null,null,"(m)(v) Minimum Solvency Margin Met","Select Yes/No"]
["Info Sheet",null,null,"(m)(vi) Liquidity Ratio Met","Select Yes/No"]
["Info Sheet",null,null,"(n)(1) Certificate of Registration Date",""]
["Info Sheet",null,null,"(n)(2) # of Conditions",0]
["Info Sheet",null,null,"Effective Start Date of Condition - 1","00:00:00"]
["Info Sheet",null,null,"Effective Start Date of Condition - 2","00:00:00"]
["Info Sheet",null,null,"Effective Start Date of Condition - 3","00:00:00"]
["Info Sheet",null,null,"Effective Start Date of Condition - 4","00:00:00"]
["Info Sheet",null,null,"Effective Start Date of Condition - 5","00:00:00"]
["Info Sheet",null,null,"Effective Start Date of Condition - 6","00:00:00"]
["Info Sheet",null,null,"Effective Start Date of Condition - 7","00:00:00"]
["Info Sheet",null,null,"Effective Start Date of Condition - 8","00:00:00"]
["Info Sheet",null,null,"Effective Start Date of Condition - 9","00:00:00"]
["Info Sheet",null,null,"Effective Start Date of Condition - 10","00:00:00"]
["Info Sheet",null,null,"Effective End Date of Condition - 1","00:00:00"]
["Info Sheet",null,null,"Effective End Date of Condition - 2","00:00:00"]
["Info Sheet",null,null,"Effective End Date of Condition - 3","00:00:00"]
["Info Sheet",null,null,"Effective End Date of Condition - 4","00:00:00"]
["Info Sheet",null,null,"Effective End Date of Condition - 5","00:00:00"]
["Info Sheet",null,null,"Effective End Date of Condition - 6","00:00:00"]
["Info Sheet",null,null,"Effective End Date of Condition - 7","00:00:00"]
["Info Sheet",null,null,"Effective End Date of Condition - 8","00:00:00"]
["Info Sheet",null,null,"Effective End Date of Condition - 9","00:00:00"]
["Info Sheet",null,null,"Effective End Date of Condition - 10","00:00:00"]
["Info Sheet",null,null,"Description of Condition - 1",0]
["Info Sheet",null,null,"Description of Condition - 2",0]
["Info Sheet",null,null,"Description of Condition - 3",0]
["Info Sheet",null,null,"Description of Condition - 4",0]
["Info Sheet",null,null,"Description of Condition - 5",0]
["Info Sheet",null,null,"Description of Condition - 6",0]
["Info Sheet",null,null,"Description of Condition - 7",0]
["Info Sheet",null,null,"Description of Condition - 8",0]
["Info Sheet",null,null,"Description of Condition - 9",0]
["Info Sheet",null,null,"Description of Condition - 10",0]
["Info Sheet",null,null,"Insurer Complied with All Conditions?","Select Yes/No"]
["Info Sheet",null,null,"(p) # of Directions",0]
["Info Sheet",null,null,"Effective Start Date of Direction - 1","00:00:00"]
["Info Sheet",null,null,"Effective Start Date of Direction - 2","00:00:00"]
["Info Sheet",null,null,"Effective Start Date of Direction - 3","00:00:00"]
["Info Sheet",null,null,"Effective Start Date of Direction - 4","00:00:00"]
["Info Sheet",null,null,"Effective Start Date of Direction - 5","00:00:00"]
["Info Sheet",null,null,"Effective Start Date of Direction - 6","00:00:00"]
["Info Sheet",null,null,"Effective Start Date of Direction - 7","00:00:00"]
["Info Sheet",null,null,"Effective Start Date of Direction - 8","00:00:00"]
["Info Sheet",null,null,"Effective Start Date of Direction - 9","00:00:00"]
["Info Sheet",null,null,"Effective Start Date of Direction - 10","00:00:00"]
["Info Sheet",null,null,"Effective End Date of Direction - 1","00:00:00"]
["Info Sheet",null,null,"Effective End Date of Direction - 2","00:00:00"]
["Info Sheet",null,null,"Effective End Date of Direction - 3","00:00:00"]
["Info Sheet",null,null,"Effective End Date of Direction - 4","00:00:00"]
["Info Sheet",null,null,"Effective End Date of Direction - 5","00:00:00"]
["Info Sheet",null,null,"Effective End Date of Direction - 6","00:00:00"]
["Info Sheet",null,null,"Effective End Date of Direction - 7","00:00:00"]
["Info Sheet",null,null,"Effective End Date of Direction - 8","00:00:00"]
["Info Sheet",null,null,"Effective End Date of Direction - 9","00:00:00"]
["Info Sheet",null,null,"Effective End Date of Direction - 10","00:00:00"]
["Info Sheet",null,null,"Description of Direction - 1",0]
["Info Sheet",null,null,"Description of Direction - 2",0]
["Info Sheet",null,null,"Description of Direction - 3",0]
["Info Sheet",null,null,"Description of Direction - 4",0]
["Info Sheet",null,null,"Description of Direction - 5",0]
["Info Sheet",null,null,"Description of Direction - 6",0]
["Info Sheet",null,null,"Description of Direction - 7",0]
["Info Sheet",null,null,"Description of Direction - 8",0]
["Info Sheet",null,null,"Description of Direction - 9",0]
["Info Sheet",null,null,"Description of Direction - 10",0]
["Info Sheet",null,null,"(q) Confirm If Any Negative Responses?","Select Yes/No"]
["Info Sheet",null,null,"Details of Negative Responses",0]
[]
[null,null,null,"Balance Sheet"]
["Form 1SFS/1EBS","Balance Sheet GEN/CON/EBS","1SFS1","Cash and Cash Equivalents",0,null,0,null,0,null,0,null,null,null,null,0,null,0,null,0,null,0,null,null,null,null,null,null,null,0,null,0]
["Form 1SFS/1EBS","Balance Sheet GEN/CON/EBS","1SFS2ai","Quoted - Bonds - Held to Maturity",0,null,0,null,0,null,0,null,null,null,null,0,null,0,null,0,null,0]
["Form 1SFS/1EBS","Balance Sheet GEN/CON/EBS","1SFS2aii","Quoted - Bonds - Other",0,null,0,null,0,null,0,null,null,null,null,0,null,0,null,0,null,0]
["Form 1SFS/1EBS","Balance Sheet GEN/CON/EBS","1EBS2b","Quoted - Bonds - Total",null,null,null,null,null,null,null,null,null,null,null,null,null,null,null,null,null,null,null,null,null,null,null,null,null,0,null,0]
["Form 1SFS/1EBS","Balance Sheet GEN/CON/EBS","1SFS2ci","Quoted - Equities - Common Stocks",0,null,0,null,0,null,0,null,null,null,null,0,null,0,null,0,null,0,null,null,null,null,null,null,null,0,null,0]
["Form 1SFS/1EBS","Balance Sheet GEN/CON/EBS","1SFS2cii","Quoted - Equities - Preferred Stocks",0,null,0,null,0,null,0,null,null,null,null,0,null,0,null,0,null,0,null,null,null,null,null,null,null,0,null,0]
["Form 1SFS/1EBS","Balance Sheet GEN/CON/EBS","1SFS2ciii","Quoted - Equities - Mutual Funds",0,null,0,null,0,null,0,null,null,null,null,0,null,0,null,0,null,0,null,null,null,null,null,null,null,0,null,0]
["Form 1SFS/1EBS","Balance Sheet GEN/CON/EBS","1SFS2e","Quoted - Other Investments",0,null,0,null,0,null,0,null,null,null,null,0,null,0,null,0,null,0,null,null,null,null,null,null,null,0,null,0]
["Form 1SFS/1EBS","Balance Sheet GEN/CON/EBS","1SFS3ai","Unquoted - Bonds - Held to Maturity",0,null,0,null,0,null,0,null,null,null,null,0,null,0,null,0,null,0]
["Form 1SFS/1EBS","Balance Sheet GEN/CON/EBS","1SFS3aii","Unquoted - Bonds - Other",0,null,0,null,0,null,0,null,null,null,null,0,null,0,null,0,null,0]
["Form 1SFS/1EBS","Balance Sheet GEN/CON/EBS","1EBS3b","Unquoted - Bonds - Total",null,null,null,null,null,null,null,null,null,null,null,null,null,null,null,null,null,null,null,null,null,null,null,null,null,0,null,0]
["Form 1SFS/1EBS","Balance Sheet GEN/CON/EBS","1SFS3ci","Unquoted - Equities - Common Stocks",0,null,0,null,0,null,0,null,null,null,null,0,null,0,null,0,null,0,null,null,null,null,null,null,null,0,null,0]
["Form 1SFS/1EBS","Balance Sheet GEN/CON/EBS","1SFS3cii","Unquoted - Equities - Preferred Stocks",0,null,0,null,0,null,0,null,null,null,null,0,null,0,null,0,null,0,null,null,null,null,null,null,null,0,null,0]
["Form 1SFS/1EBS","Balance Sheet GEN/CON/EBS","1SFS3ciii","Unquoted - Equities - Mutual Funds",0,null,0,null,0,null,0,null,null,null,null,0,null,0,null,0,null,0,null,null,null,null,null,null,null,0,null,0]
["Form 1SFS/1EBS","Balance Sheet GEN/CON/EBS","1SFS3e","Unquoted - Other Investments",0,null,0,null,0,null,0,null,null,null,null,0,null,0,null,0,null,0,null,null,null,null,null,null,null,0,null,0]
["Form 1SFS/1EBS","Balance Sheet GEN/CON/EBS","1SFS4a","Inv. In Affiliates - Unregulated Ancillary",0,null,0,null,0,null,0,null,null,null,null,0,null,0,null,0,null,0,null,null,null,null,null,null,null,0,null,0]
["Form 1SFS/1EBS","Balance Sheet GEN/CON/EBS","1SFS4b","Inv. In Affiliates - Unregulated Non-Fin. Oper.",0,null,0,null,0,null,0,null,null,null,null,0,null,0,null,0,null,0,null,null,null,null,null,null,null,0,null,0]
["Form 1SFS/1EBS","Balance Sheet GEN/CON/EBS","1SFS4c","Inv. In Affiliates - Unregulated Fin. Operating",0,null,0,null,0,null,0,null,null,null,null,0,null,0,null,0,null,0,null,null,null,null,null,null,null,0,null,0]
["Form 1SFS/1EBS","Balance Sheet GEN/CON/EBS","1SFS4d","Inv. In Affiliates - Regulated Non-Insurance",0,null,0,null,0,null,0,null,null,null,null,0,null,0,null,0,null,0,null,null,null,null,null,null,null,0,null,0]
["Form 1SFS/1EBS","Balance Sheet GEN/CON/EBS","1SFS4e","Inv. In Affiliates - Regulated Insurance",0,null,0,null,0,null,0,null,null,null,null,0,null,0,null,0,null,0,null,null,null,null,null,null,null,0,null,0]
["Form 1SFS/1EBS","Balance Sheet GEN/CON/EBS","1SFS4g","Advances To Affiliates",0,null,0,null,0,null,0,null,null,null,null,0,null,0,null,0,null,0,null,null,null,null,null,null,null,0,null,0]
["Form 1SFS/1EBS","Balance Sheet GEN/CON/EBS","1SFS5a","Inv. In Mortg. Loans on Real Estate - 1st Lien",0,null,0,null,0,null,0,null,null,null,null,0,null,0,null,0,null,0,null,null,null,null,null,null,null,0,null,0]
["Form 1SFS/1EBS","Balance Sheet GEN/CON/EBS","1SFS5b","Inv. In Mortg. Loans on Real Estate - Other",0,null,0,null,0,null,0,null,null,null,null,0,null,0,null,0,null,0,null,null,null,null,null,null,null,0,null,0]
["Form 1SFS/1EBS","Balance Sheet GEN/CON/EBS","1SFS6","Policy Loans",null,null,null,null,0,null,0,null,null,null,null,0,null,0,null,0,null,0]
["Form 1SFS/1EBS","Balance Sheet GEN/CON/EBS","1SFS7a","Real Estate - Occupied by Company",0,null,0,null,0,null,0,null,null,null,null,0,null,0,null,0,null,0,null,null,null,null,null,null,null,0,null,0]
["Form 1SFS/1EBS","Balance Sheet GEN/CON/EBS","1SFS7b","Real Estate - Other",0,null,0,null,0,null,0,null,null,null,null,0,null,0,null,0,null,0,null,null,null,null,null,null,null,0,null,0]
["Form 1SFS/1EBS","Balance Sheet GEN/CON/EBS","1SFS8","Collateral Loans",0,null,0,null,0,null,0,null,null,null,null,0,null,0,null,0,null,0,null,null,null,null,null,null,null,0,null,0]
["Form 1SFS/1EBS","Balance Sheet GEN/CON/EBS","1SFS9","Investment Income Due and Accrued",0,null,0,null,0,null,0,null,null,null,null,0,null,0,null,0,null,0,null,null,null,null,null,null,null,0,null,0]
["Form 1SFS/1EBS","Balance Sheet GEN/CON/EBS","1SFS10a","Accounts & Premium Rec. - In Collection",0,null,0,null,0,null,0,null,null,null,null,0,null,0,null,0,null,0,null,null,null,null,null,null,null,0,null,0]
["Form 1SFS/1EBS","Balance Sheet GEN/CON/EBS","1SFS10b","Accounts & Premium Rec. - Not Yet Due ",0,null,0,null,0,null,0,null,null,null,null,0,null,0,null,0,null,0]
["Form 1SFS/1EBS","Balance Sheet GEN/CON/EBS","1SFS10c","Accounts & Premium Rec. - Retro. Contracts",0,null,0,null,0,null,0,null,null,null,null,0,null,0,null,0,null,0,null,null,null,null,null,null,null,0,null,0]
["Form 1SFS/1EBS","Balance Sheet GEN/CON/EBS","1SFS11a","R/I Balances Receivable - Foreign Affiliates",0,null,0,null,0,null,0,null,null,null,null,0,null,0,null,0,null,0,null,null,null,null,null,null,null,0,null,0]
["Form 1SFS/1EBS","Balance Sheet GEN/CON/EBS","1SFS11b","R/I Balances Receivable - Domestic Affiliates",0,null,0,null,0,null,0,null,null,null,null,0,null,0,null,0,null,0,null,null,null,null,null,null,null,0,null,0]
["Form 1SFS/1EBS","Balance Sheet GEN/CON/EBS","1SFS11c","R/I Balances Receivable - Pools & Assoc.",0,null,0,null,0,null,0,null,null,null,null,0,null,0,null,0,null,0,null,null,null,null,null,null,null,0,null,0]
["Form 1SFS/1EBS","Balance Sheet GEN/CON/EBS","1SFS11d","R/I Balances Receivable - All Other",0,null,0,null,0,null,0,null,null,null,null,0,null,0,null,0,null,0,null,null,null,null,null,null,null,0,null,0]
["Form 1SFS/1EBS","Balance Sheet GEN/CON/EBS","1EBS12a","Funds Held by Ceding Companies - Affiliates",null,null,null,null,null,null,null,null,null,null,null,null,null,null,null,null,null,null,null,null,null,null,null,null,null,0,null,0]
["Form 1SFS/1EBS","Balance Sheet GEN/CON/EBS","1EBS12b","Funds Held by Ceding Companies - Non-Aff.",null,null,null,null,null,null,null,null,null,null,null,null,null,null,null,null,null,null,null,null,null,null,null,null,null,0,null,0]
["Form 1SFS/1EBS","Balance Sheet GEN/CON/EBS","1SFS12","Funds Held by Ceding Companies ",0,null,0,null,0,null,0,null,null,null,null,0,null,0,null,0,null,0]
["Form 1SFS/1EBS","Balance Sheet GEN/CON/EBS","1SFS13a","Sundry Assets - Derivatives",0,null,0,null,0,null,0,null,null,null,null,0,null,0,null,0,null,0,null,null,null,null,null,null,null,0,null,0]
["Form 1SFS/1EBS","Balance Sheet GEN/CON/EBS","1SFS13b","Sundry Assets - SAC - LT- Variable Annuities",null,null,null,null,0,null,0,null,null,null,null,0,null,0,null,0,null,0]
["Form 1SFS/1EBS","Balance Sheet GEN/CON/EBS","1SFS13c","Sundry Assets - SAC - LT- Others",null,null,null,null,0,null,0,null,null,null,null,0,null,0,null,0,null,0]
["Form 1SFS/1EBS","Balance Sheet GEN/CON/EBS","1SFS13d","Sundry Assets - SAC - General Business",0,null,0,null,0,null,0,null,null,null,null,null,null,null,null,0,null,0,null,null,null,null,null,null,null,0,null,0]
["Form 1SFS/1EBS","Balance Sheet GEN/CON/EBS","1SFS13e","Sundry Assets - Deposit Assets",0,null,0,null,0,null,0,null,null,null,null,0,null,0,null,0,null,0,null,null,null,null,null,null,null,0,null,0]
["Form 1SFS/1EBS","Balance Sheet GEN/CON/EBS","1SFS13f","Sundry Assets - Deferred Acquisition Costs",0,null,0,null,0,null,0,null,null,null,null,0,null,0,null,0,null,0]
["Form 1SFS/1EBS","Balance Sheet GEN/CON/EBS","1SFS13g","Sundry Assets - Net Rec. for Investments",0,null,0,null,0,null,0,null,null,null,null,0,null,0,null,0,null,0,null,null,null,null,null,null,null,0,null,0]
["Form 1SFS/1EBS","Balance Sheet GEN/CON/EBS","1EBS13g","Sundry Assets - Intangible Assets",null,null,null,null,null,null,null,null,null,null,null,null,null,null,null,null,null,null,null,null,null,null,null,null,null,0,null,0]
["Form 1SFS/1EBS","Balance Sheet GEN/CON/EBS","1EBS13h","Sundry Assets - Deferred Tax Assets",null,null,null,null,null,null,null,null,null,null,null,null,null,null,null,null,null,null,null,null,null,null,null,null,null,0,null,0]
["Form 1SFS/1EBS","Balance Sheet GEN/CON/EBS","1EBS13i","Sundry Assets - Pension Benefit Surplus",null,null,null,null,null,null,null,null,null,null,null,null,null,null,null,null,null,null,null,null,null,null,null,null,null,0,null,0]
["Form 1SFS/1EBS","Balance Sheet GEN/CON/EBS","1SFS13h","Sundry Assets - Other 1",0,null,0,null,0,null,0,null,null,null,null,0,null,0,null,0,null,0,null,null,null,null,null,null,null,0,null,0]
["Form 1SFS/1EBS","Balance Sheet GEN/CON/EBS","1SFS13i","Sundry Assets - Other 2",0,null,0,null,0,null,0,null,null,null,null,0,null,0,null,0,null,0]
["Form 1SFS/1EBS","Balance Sheet GEN/CON/EBS","1SFS13j","Sundry Assets - Other 3",0,null,0,null,0,null,0,null,null,null,null,0,null,0,null,0,null,0]
["Form 1SFS/1EBS","Balance Sheet GEN/CON/EBS","1SFS14a","Letters of Credit",0,null,0,null,0,null,0,null,null,null,null,0,null,0,null,0,null,0,null,null,null,null,null,null,null,0,null,0]
["Form 1SFS/1EBS","Balance Sheet GEN/CON/EBS","1SFS14b","Guarantees",0,null,0,null,0,null,0,null,null,null,null,0,null,0,null,0,null,0,null,null,null,null,null,null,null,0,null,0]
["Form 1SFS/1EBS","Balance Sheet GEN/CON/EBS","1SFS14c","Other Instruments",0,null,0,null,0,null,0,null,null,null,null,0,null,0,null,0,null,0,null,null,null,null,null,null,null,0,null,0]
["Form 1SFS/1EBS","Balance Sheet GEN/CON/EBS","1SFS15","Total Assets",0,null,0,null,null,null,null,null,null,null,null,0,null,0,null,0,null,0]
["Form 1SFS/1EBS","Balance Sheet GEN/CON/EBS","1SFS16a","Unearned Premium Reserve - Gross",0,null,0,null,0,null,0,null,null,null,null,null,null,null,null,null,null,null,null,null,null,null,null,null,null,0,null,0]
["Form 1SFS/1EBS","Balance Sheet GEN/CON/EBS","1SFS16bi","UPR - Ceded - Foreign Affiliates",0,null,0,null,0,null,0,null,null,null,null,null,null,null,null,null,null,null,null,null,null,null,null,null,null,0,null,0]
["Form 1SFS/1EBS","Balance Sheet GEN/CON/EBS","1SFS16bii","UPR - Ceded - Domestic Affiliates",0,null,0,null,0,null,0,null,null,null,null,null,null,null,null,null,null,null,null,null,null,null,null,null,null,0,null,0]
["Form 1SFS/1EBS","Balance Sheet GEN/CON/EBS","1SFS16biii","UPR - Ceded - Pools & Assoc.",0,null,0,null,0,null,0,null,null,null,null,null,null,null,null,null,null,null,null,null,null,null,null,null,null,0,null,0]
["Form 1SFS/1EBS","Balance Sheet GEN/CON/EBS","1SFS16biv","UPR - Ceded - All Other",0,null,0,null,0,null,0,null,null,null,null,null,null,null,null,null,null,null,null,null,null,null,null,null,null,0,null,0]
["Form 1SFS/1EBS","Balance Sheet GEN/CON/EBS","1SFS17a","Loss Provision - Gross",0,null,0,null,0,null,0,null,null,null,null,null,null,null,null,null,null,null,null,null,null,null,null,null,null,0,null,0]
["Form 1SFS/1EBS","Balance Sheet GEN/CON/EBS","1SFS17bi","R/I Recoverable - Foreign Affiliates",0,null,0,null,0,null,0,null,null,null,null,null,null,null,null,null,null,null,null,null,null,null,null,null,null,0,null,0]
["Form 1SFS/1EBS","Balance Sheet GEN/CON/EBS","1SFS17bii","R/I Recoverable - Domestic Affiliates",0,null,0,null,0,null,0,null,null,null,null,null,null,null,null,null,null,null,null,null,null,null,null,null,null,0,null,0]
["Form 1SFS/1EBS","Balance Sheet GEN/CON/EBS","1SFS17biii","R/I Recoverable - Pools & Assoc.",0,null,0,null,0,null,0,null,null,null,null,null,null,null,null,null,null,null,null,null,null,null,null,null,null,0,null,0]
["Form 1SFS/1EBS","Balance Sheet GEN/CON/EBS","1SFS17biv","R/I Recoverable - All Other",0,null,0,null,0,null,0,null,null,null,null,null,null,null,null,null,null,null,null,null,null,null,null,null,null,0,null,0]
["Form 1SFS/1EBS","Balance Sheet GEN/CON/EBS","1SFS18","Risk Margin",0,null,0,null,0,null,0,null,null,null,null,null,null,null,null,null,null,null,null,null,null,null,null,null,null,0,null,0]
["Form 1SFS/1EBS","Balance Sheet GEN/CON/EBS","1SFS20","Net - Reserves for Reported Claims",null,null,null,null,0,null,0,null,null,null,null,0,null,0,null,0,null,0]
["Form 1SFS/1EBS","Balance Sheet GEN/CON/EBS","1SFS21","Net - Reserves for Unreported Claims",null,null,null,null,0,null,0,null,null,null,null,0,null,0,null,0,null,0]
["Form 1SFS/1EBS","Balance Sheet GEN/CON/EBS","1SFS22","Net - Policy Reserves - Life",null,null,null,null,0,null,0,null,null,null,null,0,null,0,null,0,null,0]
["Form 1SFS/1EBS","Balance Sheet GEN/CON/EBS","1SFS23","Net - Policy Reserves - Accident & Health",null,null,null,null,0,null,0,null,null,null,null,0,null,0,null,0,null,0]
["Form 1SFS/1EBS","Balance Sheet GEN/CON/EBS","1SFS24","Net - Policyholder's Funds on Deposit",null,null,null,null,0,null,0,null,null,null,null,0,null,0,null,0,null,0]
["Form 1SFS/1EBS","Balance Sheet GEN/CON/EBS","1SFS25","Net - Liability for Future Policyholder Dividends",null,null,null,null,0,null,0,null,null,null,null,0,null,0,null,0,null,0]
["Form 1SFS/1EBS","Balance Sheet GEN/CON/EBS","1SFS26","Net - Other LT Insurance Reserves",null,null,null,null,0,null,0,null,null,null,null,0,null,0,null,0,null,0]
["Form 1SFS/1EBS","Balance Sheet GEN/CON/EBS","1SFS27bi","R/I Recoverable - Foreign Affiliates",null,null,null,null,0,null,0,null,null,null,null,0,null,0,null,0,null,0]
["Form 1SFS/1EBS","Balance Sheet GEN/CON/EBS","1SFS27bii","R/I Recoverable - Domestic Affiliates",null,null,null,null,0,null,0,null,null,null,null,0,null,0,null,0,null,0]
["Form 1SFS/1EBS","Balance Sheet GEN/CON/EBS","1SFS27biii","R/I Recoverable - Pools & Assoc.",null,null,null,null,0,null,0,null,null,null,null,0,null,0,null,0,null,0]
["Form 1SFS/1EBS","Balance Sheet GEN/CON/EBS","1SFS27biv","R/I Recoverable - All Other",null,null,null,null,0,null,0,null,null,null,null,0,null,0,null,0,null,0]
["Form 1SFS/1EBS","Balance Sheet GEN/CON/EBS","1EBS27A","Risk Margin"]
["Form 1SFS/1EBS","Balance Sheet GEN/CON/EBS","1EBS27Ba","Gross Provision - Tech. Prov. Calc. on Whole"]
["Form 1SFS/1EBS","Balance Sheet GEN/CON/EBS","1EBS27Bbi","R/I Recoverable - Foreign Affiliates"]
["Form 1SFS/1EBS","Balance Sheet GEN/CON/EBS","1EBS27Bbii","R/I Recoverable - Domestic Affiliates"]
["Form 1SFS/1EBS","Balance Sheet GEN/CON/EBS","1EBS27Bbiii","R/I Recoverable - Pools & Assoc."]
["Form 1SFS/1EBS","Balance Sheet GEN/CON/EBS","1EBS27Bbiv","R/I Recoverable - All Other"]
["Form 1SFS/1EBS","Balance Sheet GEN/CON/EBS","1EBS27C","Total Long-Term Tech Provisions"]
["Form 1SFS/1EBS","Balance Sheet GEN/CON/EBS","1SFS28","Insurance & R/I Balances Payable",0,null,0,null,0,null,0,null,null,null,null,0,null,0,null,0,null,0,null,null,null,null,null,null,null,0,null,0]
["Form 1SFS/1EBS","Balance Sheet GEN/CON/EBS","1SFS29","Commissions, Expenses and Taxes Payable",0,null,0,null,0,null,0,null,null,null,null,0,null,0,null,0,null,0,null,null,null,null,null,null,null,0,null,0]
["Form 1SFS/1EBS","Balance Sheet GEN/CON/EBS","1SFS30","Loans and Notes Payable",0,null,0,null,0,null,0,null,null,null,null,0,null,0,null,0,null,0,null,null,null,null,null,null,null,0,null,0]
["Form 1SFS/1EBS","Balance Sheet GEN/CON/EBS","1SFS31a","Income Taxes Payable",0,null,0,null,0,null,0,null,null,null,null,0,null,0,null,0,null,0,null,null,null,null,null,null,null,0,null,0]
["Form 1SFS/1EBS","Balance Sheet GEN/CON/EBS","1SFS31b","Deferred Taxes Payable",0,null,0,null,0,null,0,null,null,null,null,0,null,0,null,0,null,0,null,null,null,null,null,null,null,0,null,0]
["Form 1SFS/1EBS","Balance Sheet GEN/CON/EBS","1SFS32","Amounts Due to Affiliates",0,null,0,null,0,null,0,null,null,null,null,0,null,0,null,0,null,0,null,null,null,null,null,null,null,0,null,0]
["Form 1SFS/1EBS","Balance Sheet GEN/CON/EBS","1SFS33","Accounts Payable and Accrued Liabilities",0,null,0,null,0,null,0,null,null,null,null,0,null,0,null,0,null,0,null,null,null,null,null,null,null,0,null,0]
["Form 1SFS/1EBS","Balance Sheet GEN/CON/EBS","1EBS34a","Funds Held under R/I Contracts - Affiliates",null,null,null,null,null,null,null,null,null,null,null,null,null,null,null,null,null,null,null,null,null,null,null,null,null,0,null,0]
["Form 1SFS/1EBS","Balance Sheet GEN/CON/EBS","1EBS34b","Funds Held under R/I Contracts - Non-Aff.",null,null,null,null,null,null,null,null,null,null,null,null,null,null,null,null,null,null,null,null,null,null,null,null,null,0,null,0]
["Form 1SFS/1EBS","Balance Sheet GEN/CON/EBS","1SFS34","Funds Held under R/I Contracts",0,null,0,null,0,null,0,null,null,null,null,0,null,0,null,0,null,0]
["Form 1SFS/1EBS","Balance Sheet GEN/CON/EBS","1SFS35","Dividends Payable",0,null,0,null,0,null,0,null,null,null,null,0,null,0,null,0,null,0,null,null,null,null,null,null,null,0,null,0]
["Form 1SFS/1EBS","Balance Sheet GEN/CON/EBS","1SFS36a","Sundry Liabilities - Derivative Instruments",0,null,0,null,0,null,0,null,null,null,null,0,null,0,null,0,null,0,null,null,null,null,null,null,null,0,null,0]
["Form 1SFS/1EBS","Balance Sheet GEN/CON/EBS","1EBS36b","Sundry Liabilities - Der. Instr. - Non-Hedge Purp.",null,null,null,null,null,null,null,null,null,null,null,null,null,null,null,null,null,null,null,null,null,null,null,null,null,0,null,0]
["Form 1SFS/1EBS","Balance Sheet GEN/CON/EBS","1SFS36b","Sundry Liabilities - Seg. Accounts - GB",0,null,0,null,0,null,0,null,null,null,null,0,null,0,null,0,null,0,null,null,null,null,null,null,null,0,null,0]
["Form 1SFS/1EBS","Balance Sheet GEN/CON/EBS","1SFS36c","Sundry Liabilities - Deposit Liabilities",0,null,0,null,0,null,0,null,null,null,null,0,null,0,null,0,null,0,null,null,null,null,null,null,null,0,null,0]
["Form 1SFS/1EBS","Balance Sheet GEN/CON/EBS","1EBS36g","Sundry Liabilities - Pension Benefit Oblig.",null,null,null,null,null,null,null,null,null,null,null,null,null,null,null,null,null,null,null,null,null,null,null,null,null,0,null,0]
["Form 1SFS/1EBS","Balance Sheet GEN/CON/EBS","1SFS36d","Sundry Liabilities - Investments Purchased",0,null,0,null,0,null,0,null,null,null,null,0,null,0,null,0,null,0,null,null,null,null,null,null,null,0,null,0]
["Form 1SFS/1EBS","Balance Sheet GEN/CON/EBS","1SFS36e","Sundry Liabilities - Other 1",0,null,0,null,0,null,0,null,null,null,null,0,null,0,null,0,null,0,null,null,null,null,null,null,null,0,null,0]
["Form 1SFS/1EBS","Balance Sheet GEN/CON/EBS","1SFS36f","Sundry Liabilities - Other 2",0,null,0,null,0,null,0,null,null,null,null,0,null,0,null,0,null,0]
["Form 1SFS/1EBS","Balance Sheet GEN/CON/EBS","1SFS36g","Sundry Liabilities - Other 3",0,null,0,null,0,null,0,null,null,null,null,0,null,0,null,0,null,0]
["Form 1SFS/1EBS","Balance Sheet GEN/CON/EBS","1SFS37a","Letters of Credit",0,null,0,null,0,null,0,null,null,null,null,0,null,0,null,0,null,0,null,null,null,null,null,null,null,0,null,0]
["Form 1SFS/1EBS","Balance Sheet GEN/CON/EBS","1SFS37b","Guarantees",0,null,0,null,0,null,0,null,null,null,null,0,null,0,null,0,null,0,null,null,null,null,null,null,null,0,null,0]
["Form 1SFS/1EBS","Balance Sheet GEN/CON/EBS","1SFS37c","Other Instruments",0,null,0,null,0,null,0,null,null,null,null,0,null,0,null,0,null,0,null,null,null,null,null,null,null,0,null,0]
["Form 1SFS/1EBS","Balance Sheet GEN/CON/EBS","1EBS40","Economic Capital & Surplus",null,null,null,null,null,null,null,null,null,null,null,null,null,null,null,null,null,null,null,null,null,null,null,null,null,0,null,0]
[]
["Form 1SFS","Notes","Form 1SFS","Other Types Notes Details","Input Text",null,null,null,null,null,null,null,null,null,null,"Input Text"]
["Form 1SFS","Notes","Form 1SFS","Other Contingent Sources Details","Input Text",null,null,null,null,null,null,null,null,null,null,"Input Text"]
["Form 1SFS","Notes","Form 1SFS","Collateral - Cash and cash equivalents",0,null,0,null,null,null,null,null,null,null,null,0,null,0]
["Form 1SFS","Notes","Form 1SFS","Collateral - Total quoted Investments",0,null,0,null,null,null,null,null,null,null,null,0,null,0]
["Form 1SFS","Notes","Form 1SFS","Collateral - Total unquoted investments",0,null,0,null,null,null,null,null,null,null,null,0,null,0]
["Form 1SFS","Notes","Form 1SFS","Collateral - Funds held by ceding (re)insurers",0,null,0,null,null,null,null,null,null,null,null,0,null,0]
["Form 1SFS","Notes","Form 1SFS","Collateral - Other asset types (specify)",0,null,0,null,null,null,null,null,null,null,null,0,null,0]
["Form 1SFS","Notes","Form 1SFS","Collateral - Total collateral held on balance sheet",0,null,0,null,null,null,null,null,null,null,null,0,null,0]
["Form 1SFS","Notes","Form 1SFS","Collateral - Outwards reinsurance exposure",0,null,0,null,null,null,null,null,null,null,null,0,null,0]
["Form 1SFS","Notes","Form 1SFS","Collateral - Letters of credit",0,null,0,null,null,null,null,null,null,null,null,0,null,0]
["Form 1SFS","Notes","Form 1SFS","Collateral - Other contingent sources of collateral",0,null,0,null,null,null,null,null,null,null,null,0,null,0]
["Form 1SFS","Notes","Form 1SFS","Collateral - Total contingent collateral",0,null,0,null,null,null,null,null,null,null,null,0,null,0]
["Form 1SFS","Notes","Form 1SFS","Collateral - Total Collateral Held for the Benefit of Ceding (Re)Insurers",0,null,0,null,null,null,null,null,null,null,null,0,null,0]
["Form 1SFS","Notes","Form 1SFS","Line 10 - Collaterized Balances",0,null,0,null,null,null,null,null,null,null,null,null,null,null,null,null,null,null,null,null,null,null,null,null,null,0,null,0]
["Form 1SFS","Notes","Form 1SFS","Line 11(e) - Collaterized Balances",0,null,0,null,null,null,null,null,null,null,null,null,null,null,null,null,null,null,null,null,null,null,null,null,null,0,null,0]
["Form 1SFS","Notes","Form 1SFS","Line 17cii - Collat. in Favor of Insurer",0,null,0,null,null,null,null,null,null,null,null,null,null,null,null,null,null,null,null,null,null,null,null,null,null,0,null,0]
["Form 1SFS","Notes","Form 1SFS","Line 13 - Sundry Assets",0,null,0,null,null,null,null,null,null,null,null,null,null,null,null,null,null,null,null,null,null,null,null,null,null,0,null,0]
["Form 1SFS","Notes","Form 1SFS","Line 15 - Policy. Oblig. - Cash",0,null,0,null,null,null,null,null,null,null,null,null,null,null,null,null,null,null,null,null,null,null,null,null,null,0,null,0]
["Form 1SFS","Notes","Form 1SFS","Line 15 - Policy. Oblig. - Quoted. Inv.",0,null,0,null,null,null,null,null,null,null,null,null,null,null,null,null,null,null,null,null,null,null,null,null,null,0,null,0]
["Form 1SFS","Notes","Form 1SFS","Line 15 - Policy. Oblig. - Unquoted. Inv.",0,null,0,null,null,null,null,null,null,null,null,null,null,null,null,null,null,null,null,null,null,null,null,null,null,0,null,0]
["Form 1SFS","Notes","Form 1SFS","Line 15 - Policy. Oblig. - Funds Held",0,null,0,null,null,null,null,null,null,null,null,null,null,null,null,null,null,null,null,null,null,null,null,null,null,0,null,0]
["Form 1SFS","Notes","Form 1SFS","Line 15 - Policy. Oblig. - Other Assets",0,null,0,null,null,null,null,null,null,null,null,null,null,null,null,null,null,null,null,null,null,null,null,null,null,0,null,0]
["Form 1SFS","Notes","Form 1SFS","Line 15 - Policy. Oblig. - Total",0,null,0,null,null,null,null,null,null,null,null,null,null,null,null,null,null,null,null,null,null,null,null,null,null,0,null,0]
["Form 1SFS","Notes","Form 1SFS","Line 15 - Other - Cash",0,null,0,null,null,null,null,null,null,null,null,null,null,null,null,null,null,null,null,null,null,null,null,null,null,0,null,0]
["Form 1SFS","Notes","Form 1SFS","Line 15 - Other - Quoted. Inv.",0,null,0,null,null,null,null,null,null,null,null,null,null,null,null,null,null,null,null,null,null,null,null,null,null,0,null,0]
["Form 1SFS","Notes","Form 1SFS","Line 15 - Other - Unquoted. Inv.",0,null,0,null,null,null,null,null,null,null,null,null,null,null,null,null,null,null,null,null,null,null,null,null,null,0,null,0]
["Form 1SFS","Notes","Form 1SFS","Line 15 - Other - Other Assets",0,null,0,null,null,null,null,null,null,null,null,null,null,null,null,null,null,null,null,null,null,null,null,null,null,0,null,0]
["Form 1SFS","Notes","Form 1SFS","Line 15 - Other - Total",0,null,0,null,null,null,null,null,null,null,null,null,null,null,null,null,null,null,null,null,null,null,null,null,null,0,null,0]
["Form 1SFS","Notes","Form 1SFS","Line 36 - Sundry Liabilities",0,null,0,null,null,null,null,null,null,null,null,null,null,null,null,null,null,null,null,null,null,null,null,null,null,0,null,0]
["Form 1SFS","Notes","Form 1SFS","Line 37 - LOC's & Guarantees",0,null,0,null,null,null,null,null,null,null,null,null,null,null,null,null,null,null,null,null,null,null,null,null,null,0,null,0]
["Form 1SFS","Notes","Form 1SFS","Line 17 - Prior year note disclosure",0]
["Form 1SFS","Notes","Form 1SFS","Gross Provision - Beg. Of Year",0,null,0]
["Form 1SFS","Notes","Form 1SFS","R/I Recoverable - Beg. Of Year",0,null,0]
["Form 1SFS","Notes","Form 1SFS","Net Provision - Beg. Of Year",0,null,0]
["Form 1SFS","Notes","Form 1SFS","Acquisition / Sale of loss reserves (net):",0,null,0]
["Form 1SFS","Notes","Form 1SFS","Net Losses Incurred - Current Year",0,null,0]
["Form 1SFS","Notes","Form 1SFS","Net Losses Incurred - Prior Years",0,null,0]
["Form 1SFS","Notes","Form 1SFS","Net Losses Incurred - Total",0,null,0]
["Form 1SFS","Notes","Form 1SFS","Losses Paid - Current Year",0,null,0]
["Form 1SFS","Notes","Form 1SFS","Losses Paid - Prior Years",0,null,0]
["Form 1SFS","Notes","Form 1SFS","Losses Paid - Total",0,null,0]
["Form 1SFS","Notes","Form 1SFS","Foreign Exchange and Other",0,null,0]
["Form 1SFS","Notes","Form 1SFS","Net Provision - End Of Year",0,null,0]
["Form 1SFS","Notes","Form 1SFS","R/I Recoverable - End Of Year",0,null,0]
["Form 1SFS","Notes","Form 1SFS","Gross Provision - End Of Year",0,null,0]
["Form 1SFS","Notes","Form 1SFS","Insurance - Gross - Open Balance",0,null,0]
["Form 1SFS","Notes","Form 1SFS","Insurance - Gross - Terminations",0,null,0]
["Form 1SFS","Notes","Form 1SFS","Insurance - Gross - New Business",0,null,0]
["Form 1SFS","Notes","Form 1SFS","Insurance - Gross - Chg.In Force",0,null,0]
["Form 1SFS","Notes","Form 1SFS","Insurance - Gross - Mgmt Actions",0,null,0]
["Form 1SFS","Notes","Form 1SFS","Insurance - Gross - FX",0,null,0]
["Form 1SFS","Notes","Form 1SFS","Insurance - Gross - Closing Balance",0,null,0]
["Form 1SFS","Notes","Form 1SFS","Insurance - R/I - Open Balance",0,null,0]
["Form 1SFS","Notes","Form 1SFS","Insurance - R/I - Terminations",0,null,0]
["Form 1SFS","Notes","Form 1SFS","Insurance - R/I - New Business",0,null,0]
["Form 1SFS","Notes","Form 1SFS","Insurance - R/I - Chg.In Force",0,null,0]
["Form 1SFS","Notes","Form 1SFS","Insurance - R/I - Mgmt Actions",0,null,0]
["Form 1SFS","Notes","Form 1SFS","Insurance - R/I - FX",0,null,0]
["Form 1SFS","Notes","Form 1SFS","Insurance - R/I - Closing Balance",0,null,0]
["Form 1SFS","Notes","Form 1SFS","Insurance - Net - Open Balance",0,null,0]
["Form 1SFS","Notes","Form 1SFS","Insurance - Net - Terminations",0,null,0]
["Form 1SFS","Notes","Form 1SFS","Insurance - Net - New Business",0,null,0]
["Form 1SFS","Notes","Form 1SFS","Insurance - Net - Chg.In Force",0,null,0]
["Form 1SFS","Notes","Form 1SFS","Insurance - Net - Mgmt Actions",0,null,0]
["Form 1SFS","Notes","Form 1SFS","Insurance - Net - FX",0,null,0]
["Form 1SFS","Notes","Form 1SFS","Insurance - Net - Closing Balance",0,null,0]
["Form 1SFS","Notes","Form 1SFS","Invmnt - Gross - Open Balance",0,null,0]
["Form 1SFS","Notes","Form 1SFS","Invmnt - Gross - Terminations",0,null,0]
["Form 1SFS","Notes","Form 1SFS","Invmnt - Gross - New Business",0,null,0]
["Form 1SFS","Notes","Form 1SFS","Invmnt - Gross - Chg.In Force",0,null,0]
["Form 1SFS","Notes","Form 1SFS","Invmnt - Gross - Mgmt Actions",0,null,0]
["Form 1SFS","Notes","Form 1SFS","Invmnt - Gross - FX",0,null,0]
["Form 1SFS","Notes","Form 1SFS","Invmnt - Gross - Closing Balance",0,null,0]
["Form 1SFS","Notes","Form 1SFS","Invmnt - R/I - Open Balance",0,null,0]
["Form 1SFS","Notes","Form 1SFS","Invmnt - R/I - Terminations",0,null,0]
["Form 1SFS","Notes","Form 1SFS","Invmnt - R/I - New Business",0,null,0]
["Form 1SFS","Notes","Form 1SFS","Invmnt - R/I - Chg.In Force",0,null,0]
["Form 1SFS","Notes","Form 1SFS","Invmnt - R/I - Mgmt Actions",0,null,0]
["Form 1SFS","Notes","Form 1SFS","Invmnt - R/I - FX",0,null,0]
["Form 1SFS","Notes","Form 1SFS","Invmnt - R/I - Closing Balance",0,null,0]
["Form 1SFS","Notes","Form 1SFS","Invmnt - Net - Open Balance",0,null,0]
["Form 1SFS","Notes","Form 1SFS","Invmnt - Net - Terminations",0,null,0]
["Form 1SFS","Notes","Form 1SFS","Invmnt - Net - New Business",0,null,0]
["Form 1SFS","Notes","Form 1SFS","Invmnt - Net - Chg.In Force",0,null,0]
["Form 1SFS","Notes","Form 1SFS","Invmnt - Net - Mgmt Actions",0,null,0]
["Form 1SFS","Notes","Form 1SFS","Invmnt - Net - FX",0,null,0]
["Form 1SFS","Notes","Form 1SFS","Invmnt - Net - Closing Balance",0,null,0]
[]
["1EBS","Notes","1EBS","Line 36(i) - Any Other Liabilities",null,null,null,null,null,null,null,null,null,null,null,null,null,null,null,null,null,null,null,null,null,null,null,null,null,0,null,0]
["1EBS","Notes","1EBS","Line 36(f) - Details of Deposit Liab.",null,null,null,null,null,null,null,null,null,null,null,null,null,null,null,null,null,null,null,null,null,null,null,null,null,0,null,0]
["1EBS","Notes","1EBS","Line 40 - Recon. 1SFS 40 to EBS 40",null,null,null,null,null,null,null,null,null,null,null,null,null,null,null,null,null,null,null,null,null,null,null,null,null,0,null,0]
["1EBS","Notes","1EBS","Line 16c - Adj. Counterparty Default",null,null,null,null,null,null,null,null,null,null,null,null,null,null,null,null,null,null,null,null,null,null,null,null,null,0,null,0]
["1EBS","Notes","1EBS","Line 17ci - Adj. Counterparty Default",null,null,null,null,null,null,null,null,null,null,null,null,null,null,null,null,null,null,null,null,null,null,null,null,null,0,null,0]
["1EBS","Notes","1EBS","Line 16di - BBNI Premium",null,null,null,null,null,null,null,null,null,null,null,null,null,null,null,null,null,null,null,null,null,null,null,null,null,0,null,0]
["1EBS","Notes","1EBS","Line 16dii - BBNI Best Est. Prem",null,null,null,null,null,null,null,null,null,null,null,null,null,null,null,null,null,null,null,null,null,null,null,null,null,0,null,0]
["1EBS","Notes","1EBS","Line 17di - Loss Provision Discount",null,null,null,null,null,null,null,null,null,null,null,null,null,null,null,null,null,null,null,null,null,null,null,null,null,0,null,0]
["1EBS","Notes","1EBS","Line 17dii - Scenario Based Approach",null,null,null,null,null,null,null,null,null,null,null,null,null,null,null,null,null,null,null,null,null,null,null,null,null,0,null,0]
["1EBS","Notes","1EBS","Best Estimate Provision - Beg. Of Year",null,null,null,null,null,null,null,null,null,null,null,null,null,null,null,null,null,null,null,null,null,null,null,null,null,0,null,0]
["1EBS","Notes","1EBS","Unwind of Discount",null,null,null,null,null,null,null,null,null,null,null,null,null,null,null,null,null,null,null,null,null,null,null,null,null,0,null,0]
["1EBS","Notes","1EBS","Net Loss Paid - Prior Years",null,null,null,null,null,null,null,null,null,null,null,null,null,null,null,null,null,null,null,null,null,null,null,null,null,0,null,0]
["1EBS","Notes","1EBS","Net Losses Incurred - Prior Years",null,null,null,null,null,null,null,null,null,null,null,null,null,null,null,null,null,null,null,null,null,null,null,null,null,0,null,0]
["1EBS","Notes","1EBS","Best Estimate Provision - From PY",null,null,null,null,null,null,null,null,null,null,null,null,null,null,null,null,null,null,null,null,null,null,null,null,null,0,null,0]
["1EBS","Notes","1EBS","Net Losses Incurred - Current Year",null,null,null,null,null,null,null,null,null,null,null,null,null,null,null,null,null,null,null,null,null,null,null,null,null,0,null,0]
["1EBS","Notes","1EBS","Net Loss Paid - Current Year",null,null,null,null,null,null,null,null,null,null,null,null,null,null,null,null,null,null,null,null,null,null,null,null,null,0,null,0]
["1EBS","Notes","1EBS","Foreign Exchange and Other",null,null,null,null,null,null,null,null,null,null,null,null,null,null,null,null,null,null,null,null,null,null,null,null,null,0,null,0]
["1EBS","Notes","1EBS","Best Estimate Provision - From CY",null,null,null,null,null,null,null,null,null,null,null,null,null,null,null,null,null,null,null,null,null,null,null,null,null,0,null,0]
["1EBS","Notes","1EBS","Impact of Change in Discount Curve",null,null,null,null,null,null,null,null,null,null,null,null,null,null,null,null,null,null,null,null,null,null,null,null,null,0,null,0]
["1EBS","Notes","1EBS","Best Estimate Provision - End Of Year",null,null,null,null,null,null,null,null,null,null,null,null,null,null,null,null,null,null,null,null,null,null,null,null,null,0,null,0]
[]
[null,null,null,"Income Statement"]
["Form 2SFS","Income Stmt Uncon GEN / CON","2SFS1a","Gross Premium Written - Direct",0,null,0,null,0,null,0,null,null,null,null,null,null,null,null,0,null,0]
["Form 2SFS","Income Stmt Uncon GEN / CON","2SFS1b","Gross Premium Written - Assumed",0,null,0,null,0,null,0,null,null,null,null,null,null,null,null,0,null,0]
["Form 2SFS","Income Stmt Uncon GEN / CON","2SFS2","R/I Premiums Ceded",0,null,0,null,0,null,0,null,null,null,null,null,null,null,null,0,null,0]
["Form 2SFS","Income Stmt Uncon GEN / CON","2SFS4","Change in Unearned Premiums",0,null,0,null,0,null,0,null,null,null,null,null,null,null,null,0,null,0]
["Form 2SFS","Income Stmt Uncon GEN / CON","2SFS6","Other Insurance Income",0,null,0,null,0,null,0,null,null,null,null,null,null,null,null,0,null,0]
["Form 2SFS","Income Stmt Uncon GEN / CON","2SFS8","Net Losses Incurred",0,null,0,null,0,null,0,null,null,null,null,null,null,null,null,0,null,0]
["Form 2SFS","Income Stmt Uncon GEN / CON","2SFS9","Commissions & Brokerage",0,null,0,null,0,null,0,null,null,null,null,null,null,null,null,0,null,0]
["Form 2SFS","Income Stmt Uncon GEN / CON","2SFS12a","Gross Premium Written - Direct",null,null,null,null,0,null,0,null,null,null,null,0,null,0,null,0,null,0]
["Form 2SFS","Income Stmt Uncon GEN / CON","2SFS12b","Gross Premium Written - Assumed",null,null,null,null,0,null,0,null,null,null,null,0,null,0,null,0,null,0]
["Form 2SFS","Income Stmt Uncon GEN / CON","2SFS13","R/I Premiums Ceded",null,null,null,null,0,null,0,null,null,null,null,0,null,0,null,0,null,0]
["Form 2SFS","Income Stmt Uncon GEN / CON","2SFS14a","NPW - Life",null,null,null,null,0,null,0,null,null,null,null,0,null,0,null,0,null,0]
["Form 2SFS","Income Stmt Uncon GEN / CON","2SFS14b","NPW - Annuities",null,null,null,null,0,null,0,null,null,null,null,0,null,0,null,0,null,0]
["Form 2SFS","Income Stmt Uncon GEN / CON","2SFS14c","NPW - Accident & Health",null,null,null,null,0,null,0,null,null,null,null,0,null,0,null,0,null,0]
["Form 2SFS","Income Stmt Uncon GEN / CON","2SFS15","Other Insurance Income",null,null,null,null,0,null,0,null,null,null,null,0,null,0,null,0,null,0]
["Form 2SFS","Income Stmt Uncon GEN / CON","2SFS17","Claims - Life",null,null,null,null,0,null,0,null,null,null,null,0,null,0,null,0,null,0]
["Form 2SFS","Income Stmt Uncon GEN / CON","2SFS18","Policyholders' Dividends",null,null,null,null,0,null,0,null,null,null,null,0,null,0,null,0,null,0]
["Form 2SFS","Income Stmt Uncon GEN / CON","2SFS19","Surrenders",null,null,null,null,0,null,0,null,null,null,null,0,null,0,null,0,null,0]
["Form 2SFS","Income Stmt Uncon GEN / CON","2SFS20","Maturities",null,null,null,null,0,null,0,null,null,null,null,0,null,0,null,0,null,0]
["Form 2SFS","Income Stmt Uncon GEN / CON","2SFS21","Annuities",null,null,null,null,0,null,0,null,null,null,null,0,null,0,null,0,null,0]
["Form 2SFS","Income Stmt Uncon GEN / CON","2SFS22","Accident & Health Benefits",null,null,null,null,0,null,0,null,null,null,null,0,null,0,null,0,null,0]
["Form 2SFS","Income Stmt Uncon GEN / CON","2SFS23","Commissions",null,null,null,null,0,null,0,null,null,null,null,0,null,0,null,0,null,0]
["Form 2SFS","Income Stmt Uncon GEN / CON","2SFS24","Other",null,null,null,null,0,null,0,null,null,null,null,0,null,0,null,0,null,0]
["Form 2SFS","Income Stmt Uncon GEN / CON","2SFS26a","Change in Policy Reserves - Life",null,null,null,null,0,null,0,null,null,null,null,0,null,0,null,0,null,0]
["Form 2SFS","Income Stmt Uncon GEN / CON","2SFS26b","Change in Policy Reserves - Annuities",null,null,null,null,0,null,0,null,null,null,null,0,null,0,null,0,null,0]
["Form 2SFS","Income Stmt Uncon GEN / CON","2SFS26c","Change in Policy Reserves - Accid. & Health",null,null,null,null,0,null,0,null,null,null,null,0,null,0,null,0,null,0]
["Form 2SFS","Income Stmt Uncon GEN / CON","2SFS30a","Operating Expense - G&A",0,null,0,null,0,null,0,null,null,null,null,0,null,0,null,0,null,0]
["Form 2SFS","Income Stmt Uncon GEN / CON","2SFS30b","Operating Expense - Personnel Costs",0,null,0,null,0,null,0,null,null,null,null,0,null,0,null,0,null,0]
["Form 2SFS","Income Stmt Uncon GEN / CON","2SFS30c","Operating Expense - Other",0,null,0,null,0,null,0,null,null,null,null,0,null,0,null,0,null,0]
["Form 2SFS","Income Stmt Uncon GEN / CON","2SFS31","Investment Income",0,null,0,null,0,null,0,null,null,null,null,0,null,0,null,0,null,0]
["Form 2SFS","Income Stmt Uncon GEN / CON","2SFS32","Other Income",0,null,0,null,0,null,0,null,null,null,null,0,null,0,null,0,null,0]
["Form 2SFS","Income Stmt Uncon GEN / CON","2SFS34a","Income Tax - Current",0,null,0,null,0,null,0,null,null,null,null,0,null,0,null,0,null,0]
["Form 2SFS","Income Stmt Uncon GEN / CON","2SFS34b","Income Tax - Deferred",0,null,0,null,0,null,0,null,null,null,null,0,null,0,null,0,null,0]
["Form 2SFS","Income Stmt Uncon GEN / CON","2SFS36","Realized Gains/Losses",0,null,0,null,0,null,0,null,null,null,null,0,null,0,null,0,null,0]
["Form 2SFS","Income Stmt Uncon GEN / CON","2SFS37","Interest Charges",0,null,0,null,0,null,0,null,null,null,null,0,null,0,null,0,null,0]
[]
[null,null,null,"Statement of Capital & Surplus"]
["Form 8SFS","Stmt of C&S Uncon GEN / CON","8SFS1ai","Capital Stock",0,null,0,null,null,null,null,null,null,null,null,0,null,0]
["Form 8SFS","Stmt of C&S Uncon GEN / CON",null,"Common Stock",null,null,null,null,0,null,0]
["Form 8SFS","Stmt of C&S Uncon GEN / CON","8SFS1aii","Preferred Shares",null,null,null,null,0,null,0]
["Form 8SFS","Stmt of C&S Uncon GEN / CON","8SFS1aiii","Treasury Shares",null,null,null,null,0,null,0]
["Form 8SFS","Stmt of C&S Uncon GEN / CON","8SFS1b","Contributed Surplus",0,null,0,null,0,null,0,null,null,null,null,0,null,0]
["Form 8SFS","Stmt of C&S Uncon GEN / CON","8SFS1ci","Other Fixed Capital - Hybrid Instruments",0,null,0,null,0,null,0,null,null,null,null,0,null,0]
["Form 8SFS","Stmt of C&S Uncon GEN / CON","8SFS1cii","Other Fixed Capital - Guarantees & Others",0,null,0,null,0,null,0,null,null,null,null,0,null,0]
["Form 8SFS","Stmt of C&S Uncon GEN / CON","8SFS2a","Statutory Surplus - Beginning of Year",0,null,0,null,0,null,0,null,null,null,null,0,null,0]
["Form 8SFS","Stmt of C&S Uncon GEN / CON","8SFS2c","Dividends",0,null,0,null,0,null,0,null,null,null,null,0,null,0]
["Form 8SFS","Stmt of C&S Uncon GEN / CON","8SFS2d","Unrealized Change in Investments",0,null,0,null,0,null,0,null,null,null,null,0,null,0]
["Form 8SFS","Stmt of C&S Uncon GEN / CON","8SFS2e","Change in Non-Admitted Assets",0,null,0,null,0,null,0,null,null,null,null,0,null,0]
["Form 8SFS","Stmt of C&S Uncon GEN / CON","8SFS2f","Change in Real Estate",0,null,0,null,0,null,0,null,null,null,null,0,null,0]
["Form 8SFS","Stmt of C&S Uncon GEN / CON","8SFS2g","Change in Other Statutory Capital",0,null,0,null,0,null,0,null,null,null,null,0,null,0]
["Form 8SFS","Stmt of C&S Uncon GEN / CON","8SFS3","Minority Interest",0,null,0,null,0,null,0,null,null,null,null,0,null,0]
["Form 8SFS","Stmt of C&S Uncon GEN / CON","Note 1","Assets Backing Collateral in Capital & Surplus",null,null,null,null,0,null,0]
["Form 8SFS","Stmt of C&S Uncon GEN / CON","Note 2","Capital Supporting Operational Risk",null,null,null,null,0,null,0]
["Form 8SFS","Stmt of C&S Uncon GEN / CON","Note 3","Capital Supporting Market Risk",0,null,0,null,0,null,0,null,null,null,null,0,null,0]
["Form 8SFS","Stmt of C&S Uncon GEN / CON","Note 4","Capital Supporting Credit Risk",0,null,0,null,0,null,0,null,null,null,null,0,null,0]
[]
[null,null,null,"BSCR Schedules "]
["Sch II","Investments",null,"Corp. Bonds - BSCR Rate 0",0,null,0,null,0,null,0,null,null,null,null,null,null,null,null,null,null,null,null,null,null,null,null,null,null,0,null,0]
["Sch II","Investments",null,"Corp. Bonds - BSCR Rate 1",0,null,0,null,0,null,0,null,null,null,null,null,null,null,null,null,null,null,null,null,null,null,null,null,null,0,null,0]
["Sch II","Investments",null,"Corp. Bonds - BSCR Rate 2",0,null,0,null,0,null,0,null,null,null,null,null,null,null,null,null,null,null,null,null,null,null,null,null,null,0,null,0]
["Sch II","Investments",null,"Corp. Bonds - BSCR Rate 3",0,null,0,null,0,null,0,null,null,null,null,null,null,null,null,null,null,null,null,null,null,null,null,null,null,0,null,0]
["Sch II","Investments",null,"Corp. Bonds - BSCR Rate 4",0,null,0,null,0,null,0,null,null,null,null,null,null,null,null,null,null,null,null,null,null,null,null,null,null,0,null,0]
["Sch II","Investments",null,"Corp. Bonds - BSCR Rate 5",0,null,0,null,0,null,0,null,null,null,null,null,null,null,null,null,null,null,null,null,null,null,null,null,null,0,null,0]
["Sch II","Investments",null,"Corp. Bonds - BSCR Rate 6",0,null,0,null,0,null,0,null,null,null,null,null,null,null,null,null,null,null,null,null,null,null,null,null,null,0,null,0]
["Sch II","Investments",null,"Corp. Bonds - BSCR Rate 7",0,null,0,null,0,null,0,null,null,null,null,null,null,null,null,null,null,null,null,null,null,null,null,null,null,0,null,0]
["Sch II","Investments",null,"Corp. Bonds - BSCR Rate 8",0,null,0,null,0,null,0,null,null,null,null,null,null,null,null,null,null,null,null,null,null,null,null,null,null,0,null,0]
["Sch II","Investments",null,"Residential MBS - BSCR Rate 1",0,null,0,null,0,null,0,null,null,null,null,null,null,null,null,null,null,null,null,null,null,null,null,null,null,0,null,0]
["Sch II","Investments",null,"Residential MBS - BSCR Rate 2",0,null,0,null,0,null,0,null,null,null,null,null,null,null,null,null,null,null,null,null,null,null,null,null,null,0,null,0]
["Sch II","Investments",null,"Residential MBS - BSCR Rate 3",0,null,0,null,0,null,0,null,null,null,null,null,null,null,null,null,null,null,null,null,null,null,null,null,null,0,null,0]
["Sch II","Investments",null,"Residential MBS - BSCR Rate 4",0,null,0,null,0,null,0,null,null,null,null,null,null,null,null,null,null,null,null,null,null,null,null,null,null,0,null,0]
["Sch II","Investments",null,"Residential MBS - BSCR Rate 5",0,null,0,null,0,null,0,null,null,null,null,null,null,null,null,null,null,null,null,null,null,null,null,null,null,0,null,0]
["Sch II","Investments",null,"Residential MBS - BSCR Rate 6",0,null,0,null,0,null,0,null,null,null,null,null,null,null,null,null,null,null,null,null,null,null,null,null,null,0,null,0]
["Sch II","Investments",null,"Residential MBS - BSCR Rate 7",0,null,0,null,0,null,0,null,null,null,null,null,null,null,null,null,null,null,null,null,null,null,null,null,null,0,null,0]
["Sch II","Investments",null,"Residential MBS - BSCR Rate 8",0,null,0,null,0,null,0,null,null,null,null,null,null,null,null,null,null,null,null,null,null,null,null,null,null,0,null,0]
["Sch II","Investments",null,"Commercial MBS - BSCR Rate 1",0,null,0,null,0,null,0,null,null,null,null,null,null,null,null,null,null,null,null,null,null,null,null,null,null,0,null,0]
["Sch II","Investments",null,"Commercial MBS - BSCR Rate 2",0,null,0,null,0,null,0,null,null,null,null,null,null,null,null,null,null,null,null,null,null,null,null,null,null,0,null,0]
["Sch II","Investments",null,"Commercial MBS - BSCR Rate 3",0,null,0,null,0,null,0,null,null,null,null,null,null,null,null,null,null,null,null,null,null,null,null,null,null,0,null,0]
["Sch II","Investments",null,"Commercial MBS - BSCR Rate 4",0,null,0,null,0,null,0,null,null,null,null,null,null,null,null,null,null,null,null,null,null,null,null,null,null,0,null,0]
["Sch II","Investments",null,"Commercial MBS - BSCR Rate 5",0,null,0,null,0,null,0,null,null,null,null,null,null,null,null,null,null,null,null,null,null,null,null,null,null,0,null,0]
["Sch II","Investments",null,"Commercial MBS - BSCR Rate 6",0,null,0,null,0,null,0,null,null,null,null,null,null,null,null,null,null,null,null,null,null,null,null,null,null,0,null,0]
["Sch II","Investments",null,"Commercial MBS - BSCR Rate 7",0,null,0,null,0,null,0,null,null,null,null,null,null,null,null,null,null,null,null,null,null,null,null,null,null,0,null,0]
["Sch II","Investments",null,"Commercial MBS - BSCR Rate 8",0,null,0,null,0,null,0,null,null,null,null,null,null,null,null,null,null,null,null,null,null,null,null,null,null,0,null,0]
["Sch II","Investments",null,"Bonds Mutual Fund - BSCR Rate 0",0,null,0,null,0,null,0,null,null,null,null,null,null,null,null,null,null,null,null,null,null,null,null,null,null,0,null,0]
["Sch II","Investments",null,"Bonds Mutual Fund - BSCR Rate 1",0,null,0,null,0,null,0,null,null,null,null,null,null,null,null,null,null,null,null,null,null,null,null,null,null,0,null,0]
["Sch II","Investments",null,"Bonds Mutual Fund - BSCR Rate 2",0,null,0,null,0,null,0,null,null,null,null,null,null,null,null,null,null,null,null,null,null,null,null,null,null,0,null,0]
["Sch II","Investments",null,"Bonds Mutual Fund - BSCR Rate 3",0,null,0,null,0,null,0,null,null,null,null,null,null,null,null,null,null,null,null,null,null,null,null,null,null,0,null,0]
["Sch II","Investments",null,"Bonds Mutual Fund - BSCR Rate 4",0,null,0,null,0,null,0,null,null,null,null,null,null,null,null,null,null,null,null,null,null,null,null,null,null,0,null,0]
["Sch II","Investments",null,"Bonds Mutual Fund - BSCR Rate 5",0,null,0,null,0,null,0,null,null,null,null,null,null,null,null,null,null,null,null,null,null,null,null,null,null,0,null,0]
["Sch II","Investments",null,"Bonds Mutual Fund - BSCR Rate 6",0,null,0,null,0,null,0,null,null,null,null,null,null,null,null,null,null,null,null,null,null,null,null,null,null,0,null,0]
["Sch II","Investments",null,"Bonds Mutual Fund - BSCR Rate 7",0,null,0,null,0,null,0,null,null,null,null,null,null,null,null,null,null,null,null,null,null,null,null,null,null,0,null,0]
["Sch II","Investments",null,"Bonds Mutual Fund - BSCR Rate 8",0,null,0,null,0,null,0,null,null,null,null,null,null,null,null,null,null,null,null,null,null,null,null,null,null,0,null,0]
["Sch II","Investments",null,"Mortgage Loans - Insured",0,null,0,null,0,null,0]
["Sch II","Investments",null,"Mortgage Loans - Other Commercial",0,null,0,null,0,null,0]
["Sch II","Investments",null,"Mortgage Loans - Other Residential",0,null,0,null,0,null,0]
["Sch II","Investments",null,"Mortgage Loans - Not Good Stand.",0,null,0,null,0,null,0]
["Sch II","Investments",null,"Other Loans",0,null,0,null,0,null,0]
["Sch II","Investments",null,"Strategic Holdings - Listed",0,null,0,null,0,null,0]
["Sch II","Investments",null,"Duration Based",0,null,0,null,0,null,0]
["Sch II","Investments",null,"Listed Equity Securities in Developed Markets",0,null,0,null,0,null,0]
["Sch II","Investments",null,"Preferred Stocks, BSCR Rating 1",0,null,0,null,0,null,0]
["Sch II","Investments",null,"Preferred Stocks, BSCR Rating 2",0,null,0,null,0,null,0]
["Sch II","Investments",null,"Preferred Stocks, BSCR Rating 3",0,null,0,null,0,null,0]
["Sch II","Investments",null,"Preferred Stocks, BSCR Rating 4",0,null,0,null,0,null,0]
["Sch II","Investments",null,"Preferred Stocks, BSCR Rating 5",0,null,0,null,0,null,0]
["Sch II","Investments",null,"Preferred Stocks, BSCR Rating 6",0,null,0,null,0,null,0]
["Sch II","Investments",null,"Preferred Stocks, BSCR Rating 7",0,null,0,null,0,null,0]
["Sch II","Investments",null,"Preferred Stocks, BSCR Rating 8",0,null,0,null,0,null,0]
["Sch II","Investments",null,"Equity Derivatives on Type 1 Equities",0,null,0,null,0,null,0]
["Sch II","Investments",null,"Strategic Holdings - Unlisted",0,null,0,null,0,null,0]
["Sch II","Investments",null,"Other Equities",0,null,0,null,0,null,0]
["Sch II","Investments",null,"Letters of Credit",0,null,0,null,0,null,0]
["Sch II","Investments",null,"Intangible assets",0,null,0,null,0,null,0]
["Sch II","Investments",null,"Pension Benefit Surplus",0,null,0,null,0,null,0]
["Sch II","Investments",null,"Equity Derivatives on Type 2 Equities",0,null,0,null,0,null,0]
["Sch II","Investments",null,"Infrastructure",0,null,0,null,0,null,0]
["Sch II","Investments",null,"Derivatives on Infrastructure",0,null,0,null,0,null,0]
["Sch II","Investments",null,"Equity Real Estate 1",0,null,0,null,0,null,0]
["Sch II","Investments",null,"Equity Real Estate 2",0,null,0,null,0,null,0]
["Sch II","Investments",null,"Other Investments - Bonds and Debentures",0,null,0]
["Sch II","Investments",null,"Other Investments - Equity Holdings",0,null,0]
["Sch II","Investments",null,"NAIC Resid. MBS - Orig. Class 1",0,null,null,null,0,null,null,null,null,null,null,null,null,null,null,null,null,null,null,null,null,null,null,null,null,0]
["Sch II","Investments",null,"NAIC Resid. MBS - Orig. Class 2",0,null,null,null,0,null,null,null,null,null,null,null,null,null,null,null,null,null,null,null,null,null,null,null,null,0]
["Sch II","Investments",null,"NAIC Resid. MBS - Orig. Class 3",0,null,null,null,0,null,null,null,null,null,null,null,null,null,null,null,null,null,null,null,null,null,null,null,null,0]
["Sch II","Investments",null,"NAIC Resid. MBS - Orig. Class 4",0,null,null,null,0,null,null,null,null,null,null,null,null,null,null,null,null,null,null,null,null,null,null,null,null,0]
["Sch II","Investments",null,"NAIC Resid. MBS - Orig. Class 5",0,null,null,null,0,null,null,null,null,null,null,null,null,null,null,null,null,null,null,null,null,null,null,null,null,0]
["Sch II","Investments",null,"NAIC Resid. MBS - Orig. Class 6",0,null,null,null,0,null,null,null,null,null,null,null,null,null,null,null,null,null,null,null,null,null,null,null,null,0]
["Sch II","Investments",null,"NAIC Resid. MBS - Orig. Total",0,null,null,null,0,null,null,null,null,null,null,null,null,null,null,null,null,null,null,null,null,null,null,null,null,0]
["Sch II","Investments",null,"NAIC Resid. MBS - Rev. Class 1",0,null,null,null,0,null,null,null,null,null,null,null,null,null,null,null,null,null,null,null,null,null,null,null,null,0]
["Sch II","Investments",null,"NAIC Resid. MBS - Rev. Class 2",0,null,null,null,0,null,null,null,null,null,null,null,null,null,null,null,null,null,null,null,null,null,null,null,null,0]
["Sch II","Investments",null,"NAIC Resid. MBS - Rev. Class 3",0,null,null,null,0,null,null,null,null,null,null,null,null,null,null,null,null,null,null,null,null,null,null,null,null,0]
["Sch II","Investments",null,"NAIC Resid. MBS - Rev. Class 4",0,null,null,null,0,null,null,null,null,null,null,null,null,null,null,null,null,null,null,null,null,null,null,null,null,0]
["Sch II","Investments",null,"NAIC Resid. MBS - Rev. Class 5",0,null,null,null,0,null,null,null,null,null,null,null,null,null,null,null,null,null,null,null,null,null,null,null,null,0]
["Sch II","Investments",null,"NAIC Resid. MBS - Rev. Class 6",0,null,null,null,0,null,null,null,null,null,null,null,null,null,null,null,null,null,null,null,null,null,null,null,null,0]
["Sch II","Investments",null,"NAIC Resid. MBS - Rev. Total",0,null,null,null,0,null,null,null,null,null,null,null,null,null,null,null,null,null,null,null,null,null,null,null,null,0]
["Sch II","Investments",null,"NAIC Comm. MBS - Orig. Class 1",0,null,null,null,0,null,null,null,null,null,null,null,null,null,null,null,null,null,null,null,null,null,null,null,null,0]
["Sch II","Investments",null,"NAIC Comm. MBS - Orig. Class 2",0,null,null,null,0,null,null,null,null,null,null,null,null,null,null,null,null,null,null,null,null,null,null,null,null,0]
["Sch II","Investments",null,"NAIC Comm. MBS - Orig. Class 3",0,null,null,null,0,null,null,null,null,null,null,null,null,null,null,null,null,null,null,null,null,null,null,null,null,0]
["Sch II","Investments",null,"NAIC Comm. MBS - Orig. Class 4",0,null,null,null,0,null,null,null,null,null,null,null,null,null,null,null,null,null,null,null,null,null,null,null,null,0]
["Sch II","Investments",null,"NAIC Comm. MBS - Orig. Class 5",0,null,null,null,0,null,null,null,null,null,null,null,null,null,null,null,null,null,null,null,null,null,null,null,null,0]
["Sch II","Investments",null,"NAIC Comm. MBS - Orig. Class 6",0,null,null,null,0,null,null,null,null,null,null,null,null,null,null,null,null,null,null,null,null,null,null,null,null,0]
["Sch II","Investments",null,"NAIC Comm. MBS - Orig. Total",0,null,null,null,0,null,null,null,null,null,null,null,null,null,null,null,null,null,null,null,null,null,null,null,null,0]
["Sch II","Investments",null,"NAIC Comm. MBS - Rev. Class 1",0,null,null,null,0,null,null,null,null,null,null,null,null,null,null,null,null,null,null,null,null,null,null,null,null,0]
["Sch II","Investments",null,"NAIC Comm. MBS - Rev. Class 2",0,null,null,null,0,null,null,null,null,null,null,null,null,null,null,null,null,null,null,null,null,null,null,null,null,0]
["Sch II","Investments",null,"NAIC Comm. MBS - Rev. Class 3",0,null,null,null,0,null,null,null,null,null,null,null,null,null,null,null,null,null,null,null,null,null,null,null,null,0]
["Sch II","Investments",null,"NAIC Comm. MBS - Rev. Class 4",0,null,null,null,0,null,null,null,null,null,null,null,null,null,null,null,null,null,null,null,null,null,null,null,null,0]
["Sch II","Investments",null,"NAIC Comm. MBS - Rev. Class 5",0,null,null,null,0,null,null,null,null,null,null,null,null,null,null,null,null,null,null,null,null,null,null,null,null,0]
["Sch II","Investments",null,"NAIC Comm. MBS - Rev. Class 6",0,null,null,null,0,null,null,null,null,null,null,null,null,null,null,null,null,null,null,null,null,null,null,null,null,0]
["Sch II","Investments",null,"NAIC Comm. MBS - Rev. Total",0,null,null,null,0,null,null,null,null,null,null,null,null,null,null,null,null,null,null,null,null,null,null,null,null,0]
[]
["Sch Va","Governance",null,"# of Directors",0]
["Sch Va","Governance",null,"Director Name - 1",0]
["Sch Va","Governance",null,"Director Name - 2",0]
["Sch Va","Governance",null,"Director Name - 3",0]
["Sch Va","Governance",null,"Director Name - 4",0]
["Sch Va","Governance",null,"Director Name - 5",0]
["Sch Va","Governance",null,"Director Name - 6",0]
["Sch Va","Governance",null,"Director Name - 7",0]
["Sch Va","Governance",null,"Director Name - 8",0]
["Sch Va","Governance",null,"Director Name - 9",0]
["Sch Va","Governance",null,"Director Name - 10",0]
["Sch Va","Governance",null,"Director Name - 11",0]
["Sch Va","Governance",null,"Director Name - 12",0]
["Sch Va","Governance",null,"Director Name - 13",0]
["Sch Va","Governance",null,"Director Name - 14",0]
["Sch Va","Governance",null,"Director Name - 15",0]
["Sch Va","Governance",null,"Director Name - 16",0]
["Sch Va","Governance",null,"Director Name - 17",0]
["Sch Va","Governance",null,"Director Name - 18",0]
["Sch Va","Governance",null,"Director Name - 19",0]
["Sch Va","Governance",null,"Director Name - 20",0]
["Sch Va","Governance",null,"Director Date of Appointment - 1","00:00:00"]
["Sch Va","Governance",null,"Director Date of Appointment - 2","00:00:00"]
["Sch Va","Governance",null,"Director Date of Appointment - 3","00:00:00"]
["Sch Va","Governance",null,"Director Date of Appointment - 4","00:00:00"]
["Sch Va","Governance",null,"Director Date of Appointment - 5","00:00:00"]
["Sch Va","Governance",null,"Director Date of Appointment - 6","00:00:00"]
["Sch Va","Governance",null,"Director Date of Appointment - 7","00:00:00"]
["Sch Va","Governance",null,"Director Date of Appointment - 8","00:00:00"]
["Sch Va","Governance",null,"Director Date of Appointment - 9","00:00:00"]
["Sch Va","Governance",null,"Director Date of Appointment - 10","00:00:00"]
["Sch Va","Governance",null,"Director Date of Appointment - 11","00:00:00"]
["Sch Va","Governance",null,"Director Date of Appointment - 12","00:00:00"]
["Sch Va","Governance",null,"Director Date of Appointment - 13","00:00:00"]
["Sch Va","Governance",null,"Director Date of Appointment - 14","00:00:00"]
["Sch Va","Governance",null,"Director Date of Appointment - 15","00:00:00"]
["Sch Va","Governance",null,"Director Date of Appointment - 16","00:00:00"]
["Sch Va","Governance",null,"Director Date of Appointment - 17","00:00:00"]
["Sch Va","Governance",null,"Director Date of Appointment - 18","00:00:00"]
["Sch Va","Governance",null,"Director Date of Appointment - 19","00:00:00"]
["Sch Va","Governance",null,"Director Date of Appointment - 20","00:00:00"]
["Sch Va","Governance",null,"Director Date of Cease to Act - 1","00:00:00"]
["Sch Va","Governance",null,"Director Date of Cease to Act - 2","00:00:00"]
["Sch Va","Governance",null,"Director Date of Cease to Act - 3","00:00:00"]
["Sch Va","Governance",null,"Director Date of Cease to Act - 4","00:00:00"]
["Sch Va","Governance",null,"Director Date of Cease to Act - 5","00:00:00"]
["Sch Va","Governance",null,"Director Date of Cease to Act - 6","00:00:00"]
["Sch Va","Governance",null,"Director Date of Cease to Act - 7","00:00:00"]
["Sch Va","Governance",null,"Director Date of Cease to Act - 8","00:00:00"]
["Sch Va","Governance",null,"Director Date of Cease to Act - 9","00:00:00"]
["Sch Va","Governance",null,"Director Date of Cease to Act - 10","00:00:00"]
["Sch Va","Governance",null,"Director Date of Cease to Act - 11","00:00:00"]
["Sch Va","Governance",null,"Director Date of Cease to Act - 12","00:00:00"]
["Sch Va","Governance",null,"Director Date of Cease to Act - 13","00:00:00"]
["Sch Va","Governance",null,"Director Date of Cease to Act - 14","00:00:00"]
["Sch Va","Governance",null,"Director Date of Cease to Act - 15","00:00:00"]
["Sch Va","Governance",null,"Director Date of Cease to Act - 16","00:00:00"]
["Sch Va","Governance",null,"Director Date of Cease to Act - 17","00:00:00"]
["Sch Va","Governance",null,"Director Date of Cease to Act - 18","00:00:00"]
["Sch Va","Governance",null,"Director Date of Cease to Act - 19","00:00:00"]
["Sch Va","Governance",null,"Director Date of Cease to Act - 20","00:00:00"]
["Sch Va","Governance",null,"Director Position - 1",0]
["Sch Va","Governance",null,"Director Position - 2",0]
["Sch Va","Governance",null,"Director Position - 3",0]
["Sch Va","Governance",null,"Director Position - 4",0]
["Sch Va","Governance",null,"Director Position - 5",0]
["Sch Va","Governance",null,"Director Position - 6",0]
["Sch Va","Governance",null,"Director Position - 7",0]
["Sch Va","Governance",null,"Director Position - 8",0]
["Sch Va","Governance",null,"Director Position - 9",0]
["Sch Va","Governance",null,"Director Position - 10",0]
["Sch Va","Governance",null,"Director Position - 11",0]
["Sch Va","Governance",null,"Director Position - 12",0]
["Sch Va","Governance",null,"Director Position - 13",0]
["Sch Va","Governance",null,"Director Position - 14",0]
["Sch Va","Governance",null,"Director Position - 15",0]
["Sch Va","Governance",null,"Director Position - 16",0]
["Sch Va","Governance",null,"Director Position - 17",0]
["Sch Va","Governance",null,"Director Position - 18",0]
["Sch Va","Governance",null,"Director Position - 19",0]
["Sch Va","Governance",null,"Director Position - 20",0]
["Sch Va","Governance",null,"Director Residence - 1",0]
["Sch Va","Governance",null,"Director Residence - 2",0]
["Sch Va","Governance",null,"Director Residence - 3",0]
["Sch Va","Governance",null,"Director Residence - 4",0]
["Sch Va","Governance",null,"Director Residence - 5",0]
["Sch Va","Governance",null,"Director Residence - 6",0]
["Sch Va","Governance",null,"Director Residence - 7",0]
["Sch Va","Governance",null,"Director Residence - 8",0]
["Sch Va","Governance",null,"Director Residence - 9",0]
["Sch Va","Governance",null,"Director Residence - 10",0]
["Sch Va","Governance",null,"Director Residence - 11",0]
["Sch Va","Governance",null,"Director Residence - 12",0]
["Sch Va","Governance",null,"Director Residence - 13",0]
["Sch Va","Governance",null,"Director Residence - 14",0]
["Sch Va","Governance",null,"Director Residence - 15",0]
["Sch Va","Governance",null,"Director Residence - 16",0]
["Sch Va","Governance",null,"Director Residence - 17",0]
["Sch Va","Governance",null,"Director Residence - 18",0]
["Sch Va","Governance",null,"Director Residence - 19",0]
["Sch Va","Governance",null,"Director Residence - 20",0]
["Sch Va","Governance",null,"Director Title / Position Held - 1",0]
["Sch Va","Governance",null,"Director Title / Position Held - 2",0]
["Sch Va","Governance",null,"Director Title / Position Held - 3",0]
["Sch Va","Governance",null,"Director Title / Position Held - 4",0]
["Sch Va","Governance",null,"Director Title / Position Held - 5",0]
["Sch Va","Governance",null,"Director Title / Position Held - 6",0]
["Sch Va","Governance",null,"Director Title / Position Held - 7",0]
["Sch Va","Governance",null,"Director Title / Position Held - 8",0]
["Sch Va","Governance",null,"Director Title / Position Held - 9",0]
["Sch Va","Governance",null,"Director Title / Position Held - 10",0]
["Sch Va","Governance",null,"Director Title / Position Held - 11",0]
["Sch Va","Governance",null,"Director Title / Position Held - 12",0]
["Sch Va","Governance",null,"Director Title / Position Held - 13",0]
["Sch Va","Governance",null,"Director Title / Position Held - 14",0]
["Sch Va","Governance",null,"Director Title / Position Held - 15",0]
["Sch Va","Governance",null,"Director Title / Position Held - 16",0]
["Sch Va","Governance",null,"Director Title / Position Held - 17",0]
["Sch Va","Governance",null,"Director Title / Position Held - 18",0]
["Sch Va","Governance",null,"Director Title / Position Held - 19",0]
["Sch Va","Governance",null,"Director Title / Position Held - 20",0]
["Sch Va","Governance",null,"Director Work Experience - 1",0]
["Sch Va","Governance",null,"Director Work Experience - 2",0]
["Sch Va","Governance",null,"Director Work Experience - 3",0]
["Sch Va","Governance",null,"Director Work Experience - 4",0]
["Sch Va","Governance",null,"Director Work Experience - 5",0]
["Sch Va","Governance",null,"Director Work Experience - 6",0]
["Sch Va","Governance",null,"Director Work Experience - 7",0]
["Sch Va","Governance",null,"Director Work Experience - 8",0]
["Sch Va","Governance",null,"Director Work Experience - 9",0]
["Sch Va","Governance",null,"Director Work Experience - 10",0]
["Sch Va","Governance",null,"Director Work Experience - 11",0]
["Sch Va","Governance",null,"Director Work Experience - 12",0]
["Sch Va","Governance",null,"Director Work Experience - 13",0]
["Sch Va","Governance",null,"Director Work Experience - 14",0]
["Sch Va","Governance",null,"Director Work Experience - 15",0]
["Sch Va","Governance",null,"Director Work Experience - 16",0]
["Sch Va","Governance",null,"Director Work Experience - 17",0]
["Sch Va","Governance",null,"Director Work Experience - 18",0]
["Sch Va","Governance",null,"Director Work Experience - 19",0]
["Sch Va","Governance",null,"Director Work Experience - 20",0]
["Sch Va","Governance",null,"Director Status on Board - 1","Select"]
["Sch Va","Governance",null,"Director Status on Board - 2","Select"]
["Sch Va","Governance",null,"Director Status on Board - 3","Select"]
["Sch Va","Governance",null,"Director Status on Board - 4","Select"]
["Sch Va","Governance",null,"Director Status on Board - 5","Select"]
["Sch Va","Governance",null,"Director Status on Board - 6","Select"]
["Sch Va","Governance",null,"Director Status on Board - 7","Select"]
["Sch Va","Governance",null,"Director Status on Board - 8","Select"]
["Sch Va","Governance",null,"Director Status on Board - 9","Select"]
["Sch Va","Governance",null,"Director Status on Board - 10","Select"]
["Sch Va","Governance",null,"Director Status on Board - 11","Select"]
["Sch Va","Governance",null,"Director Status on Board - 12","Select"]
["Sch Va","Governance",null,"Director Status on Board - 13","Select"]
["Sch Va","Governance",null,"Director Status on Board - 14","Select"]
["Sch Va","Governance",null,"Director Status on Board - 15","Select"]
["Sch Va","Governance",null,"Director Status on Board - 16","Select"]
["Sch Va","Governance",null,"Director Status on Board - 17","Select"]
["Sch Va","Governance",null,"Director Status on Board - 18","Select"]
["Sch Va","Governance",null,"Director Status on Board - 19","Select"]
["Sch Va","Governance",null,"Director Status on Board - 20","Select"]
["Sch Va","Governance",null,"# of Executives",0]
["Sch Va","Governance",null,"Executive Name - 1",0]
["Sch Va","Governance",null,"Executive Name - 2",0]
["Sch Va","Governance",null,"Executive Name - 3",0]
["Sch Va","Governance",null,"Executive Name - 4",0]
["Sch Va","Governance",null,"Executive Name - 5",0]
["Sch Va","Governance",null,"Executive Name - 6",0]
["Sch Va","Governance",null,"Executive Name - 7",0]
["Sch Va","Governance",null,"Executive Name - 8",0]
["Sch Va","Governance",null,"Executive Name - 9",0]
["Sch Va","Governance",null,"Executive Name - 10",0]
["Sch Va","Governance",null,"Executive Name - 11",0]
["Sch Va","Governance",null,"Executive Name - 12",0]
["Sch Va","Governance",null,"Executive Name - 13",0]
["Sch Va","Governance",null,"Executive Name - 14",0]
["Sch Va","Governance",null,"Executive Name - 15",0]
["Sch Va","Governance",null,"Executive Name - 16",0]
["Sch Va","Governance",null,"Executive Name - 17",0]
["Sch Va","Governance",null,"Executive Name - 18",0]
["Sch Va","Governance",null,"Executive Name - 19",0]
["Sch Va","Governance",null,"Executive Name - 20",0]
["Sch Va","Governance",null,"Executive Date of Appointment - 1","00:00:00"]
["Sch Va","Governance",null,"Executive Date of Appointment - 2","00:00:00"]
["Sch Va","Governance",null,"Executive Date of Appointment - 3","00:00:00"]
["Sch Va","Governance",null,"Executive Date of Appointment - 4","00:00:00"]
["Sch Va","Governance",null,"Executive Date of Appointment - 5","00:00:00"]
["Sch Va","Governance",null,"Executive Date of Appointment - 6","00:00:00"]
["Sch Va","Governance",null,"Executive Date of Appointment - 7","00:00:00"]
["Sch Va","Governance",null,"Executive Date of Appointment - 8","00:00:00"]
["Sch Va","Governance",null,"Executive Date of Appointment - 9","00:00:00"]
["Sch Va","Governance",null,"Executive Date of Appointment - 10","00:00:00"]
["Sch Va","Governance",null,"Executive Date of Appointment - 11","00:00:00"]
["Sch Va","Governance",null,"Executive Date of Appointment - 12","00:00:00"]
["Sch Va","Governance",null,"Executive Date of Appointment - 13","00:00:00"]
["Sch Va","Governance",null,"Executive Date of Appointment - 14","00:00:00"]
["Sch Va","Governance",null,"Executive Date of Appointment - 15","00:00:00"]
["Sch Va","Governance",null,"Executive Date of Appointment - 16","00:00:00"]
["Sch Va","Governance",null,"Executive Date of Appointment - 17","00:00:00"]
["Sch Va","Governance",null,"Executive Date of Appointment - 18","00:00:00"]
["Sch Va","Governance",null,"Executive Date of Appointment - 19","00:00:00"]
["Sch Va","Governance",null,"Executive Date of Appointment - 20","00:00:00"]
["Sch Va","Governance",null,"Executive Date of Cease to Act - 1","00:00:00"]
["Sch Va","Governance",null,"Executive Date of Cease to Act - 2","00:00:00"]
["Sch Va","Governance",null,"Executive Date of Cease to Act - 3","00:00:00"]
["Sch Va","Governance",null,"Executive Date of Cease to Act - 4","00:00:00"]
["Sch Va","Governance",null,"Executive Date of Cease to Act - 5","00:00:00"]
["Sch Va","Governance",null,"Executive Date of Cease to Act - 6","00:00:00"]
["Sch Va","Governance",null,"Executive Date of Cease to Act - 7","00:00:00"]
["Sch Va","Governance",null,"Executive Date of Cease to Act - 8","00:00:00"]
["Sch Va","Governance",null,"Executive Date of Cease to Act - 9","00:00:00"]
["Sch Va","Governance",null,"Executive Date of Cease to Act - 10","00:00:00"]
["Sch Va","Governance",null,"Executive Date of Cease to Act - 11","00:00:00"]
["Sch Va","Governance",null,"Executive Date of Cease to Act - 12","00:00:00"]
["Sch Va","Governance",null,"Executive Date of Cease to Act - 13","00:00:00"]
["Sch Va","Governance",null,"Executive Date of Cease to Act - 14","00:00:00"]
["Sch Va","Governance",null,"Executive Date of Cease to Act - 15","00:00:00"]
["Sch Va","Governance",null,"Executive Date of Cease to Act - 16","00:00:00"]
["Sch Va","Governance",null,"Executive Date of Cease to Act - 17","00:00:00"]
["Sch Va","Governance",null,"Executive Date of Cease to Act - 18","00:00:00"]
["Sch Va","Governance",null,"Executive Date of Cease to Act - 19","00:00:00"]
["Sch Va","Governance",null,"Executive Date of Cease to Act - 20","00:00:00"]
["Sch Va","Governance",null,"Executive Position - 1",0]
["Sch Va","Governance",null,"Executive Position - 2",0]
["Sch Va","Governance",null,"Executive Position - 3",0]
["Sch Va","Governance",null,"Executive Position - 4",0]
["Sch Va","Governance",null,"Executive Position - 5",0]
["Sch Va","Governance",null,"Executive Position - 6",0]
["Sch Va","Governance",null,"Executive Position - 7",0]
["Sch Va","Governance",null,"Executive Position - 8",0]
["Sch Va","Governance",null,"Executive Position - 9",0]
["Sch Va","Governance",null,"Executive Position - 10",0]
["Sch Va","Governance",null,"Executive Position - 11",0]
["Sch Va","Governance",null,"Executive Position - 12",0]
["Sch Va","Governance",null,"Executive Position - 13",0]
["Sch Va","Governance",null,"Executive Position - 14",0]
["Sch Va","Governance",null,"Executive Position - 15",0]
["Sch Va","Governance",null,"Executive Position - 16",0]
["Sch Va","Governance",null,"Executive Position - 17",0]
["Sch Va","Governance",null,"Executive Position - 18",0]
["Sch Va","Governance",null,"Executive Position - 19",0]
["Sch Va","Governance",null,"Executive Position - 20",0]
["Sch Va","Governance",null,"Executive Residence - 1",0]
["Sch Va","Governance",null,"Executive Residence - 2",0]
["Sch Va","Governance",null,"Executive Residence - 3",0]
["Sch Va","Governance",null,"Executive Residence - 4",0]
["Sch Va","Governance",null,"Executive Residence - 5",0]
["Sch Va","Governance",null,"Executive Residence - 6",0]
["Sch Va","Governance",null,"Executive Residence - 7",0]
["Sch Va","Governance",null,"Executive Residence - 8",0]
["Sch Va","Governance",null,"Executive Residence - 9",0]
["Sch Va","Governance",null,"Executive Residence - 10",0]
["Sch Va","Governance",null,"Executive Residence - 11",0]
["Sch Va","Governance",null,"Executive Residence - 12",0]
["Sch Va","Governance",null,"Executive Residence - 13",0]
["Sch Va","Governance",null,"Executive Residence - 14",0]
["Sch Va","Governance",null,"Executive Residence - 15",0]
["Sch Va","Governance",null,"Executive Residence - 16",0]
["Sch Va","Governance",null,"Executive Residence - 17",0]
["Sch Va","Governance",null,"Executive Residence - 18",0]
["Sch Va","Governance",null,"Executive Residence - 19",0]
["Sch Va","Governance",null,"Executive Residence - 20",0]
["Sch Va","Governance",null,"Director Title / Position Held - 1",0]
["Sch Va","Governance",null,"Director Title / Position Held - 2",0]
["Sch Va","Governance",null,"Director Title / Position Held - 3",0]
["Sch Va","Governance",null,"Director Title / Position Held - 4",0]
["Sch Va","Governance",null,"Director Title / Position Held - 5",0]
["Sch Va","Governance",null,"Director Title / Position Held - 6",0]
["Sch Va","Governance",null,"Director Title / Position Held - 7",0]
["Sch Va","Governance",null,"Director Title / Position Held - 8",0]
["Sch Va","Governance",null,"Director Title / Position Held - 9",0]
["Sch Va","Governance",null,"Director Title / Position Held - 10",0]
["Sch Va","Governance",null,"Director Title / Position Held - 11",0]
["Sch Va","Governance",null,"Director Title / Position Held - 12",0]
["Sch Va","Governance",null,"Director Title / Position Held - 13",0]
["Sch Va","Governance",null,"Director Title / Position Held - 14",0]
["Sch Va","Governance",null,"Director Title / Position Held - 15",0]
["Sch Va","Governance",null,"Director Title / Position Held - 16",0]
["Sch Va","Governance",null,"Director Title / Position Held - 17",0]
["Sch Va","Governance",null,"Director Title / Position Held - 18",0]
["Sch Va","Governance",null,"Director Title / Position Held - 19",0]
["Sch Va","Governance",null,"Director Title / Position Held - 20",0]
["Sch Va","Governance",null,"Executive Work Experience - 1",0]
["Sch Va","Governance",null,"Executive Work Experience - 2",0]
["Sch Va","Governance",null,"Executive Work Experience - 3",0]
["Sch Va","Governance",null,"Executive Work Experience - 4",0]
["Sch Va","Governance",null,"Executive Work Experience - 5",0]
["Sch Va","Governance",null,"Executive Work Experience - 6",0]
["Sch Va","Governance",null,"Executive Work Experience - 7",0]
["Sch Va","Governance",null,"Executive Work Experience - 8",0]
["Sch Va","Governance",null,"Executive Work Experience - 9",0]
["Sch Va","Governance",null,"Executive Work Experience - 10",0]
["Sch Va","Governance",null,"Executive Work Experience - 11",0]
["Sch Va","Governance",null,"Executive Work Experience - 12",0]
["Sch Va","Governance",null,"Executive Work Experience - 13",0]
["Sch Va","Governance",null,"Executive Work Experience - 14",0]
["Sch Va","Governance",null,"Executive Work Experience - 15",0]
["Sch Va","Governance",null,"Executive Work Experience - 16",0]
["Sch Va","Governance",null,"Executive Work Experience - 17",0]
["Sch Va","Governance",null,"Executive Work Experience - 18",0]
["Sch Va","Governance",null,"Executive Work Experience - 19",0]
["Sch Va","Governance",null,"Executive Work Experience - 20",0]
["Sch Va","Governance",null,"Executive Employee Arrangement - 1","Select"]
["Sch Va","Governance",null,"Executive Employee Arrangement - 2","Select"]
["Sch Va","Governance",null,"Executive Employee Arrangement - 3","Select"]
["Sch Va","Governance",null,"Executive Employee Arrangement - 4","Select"]
["Sch Va","Governance",null,"Executive Employee Arrangement - 5","Select"]
["Sch Va","Governance",null,"Executive Employee Arrangement - 6","Select"]
["Sch Va","Governance",null,"Executive Employee Arrangement - 7","Select"]
["Sch Va","Governance",null,"Executive Employee Arrangement - 8","Select"]
["Sch Va","Governance",null,"Executive Employee Arrangement - 9","Select"]
["Sch Va","Governance",null,"Executive Employee Arrangement - 10","Select"]
["Sch Va","Governance",null,"Executive Employee Arrangement - 11","Select"]
["Sch Va","Governance",null,"Executive Employee Arrangement - 12","Select"]
["Sch Va","Governance",null,"Executive Employee Arrangement - 13","Select"]
["Sch Va","Governance",null,"Executive Employee Arrangement - 14","Select"]
["Sch Va","Governance",null,"Executive Employee Arrangement - 15","Select"]
["Sch Va","Governance",null,"Executive Employee Arrangement - 16","Select"]
["Sch Va","Governance",null,"Executive Employee Arrangement - 17","Select"]
["Sch Va","Governance",null,"Executive Employee Arrangement - 18","Select"]
["Sch Va","Governance",null,"Executive Employee Arrangement - 19","Select"]
["Sch Va","Governance",null,"Executive Employee Arrangement - 20","Select"]
["Sch Va","Governance",null,"Executive Responsibilities - 1","Select"]
["Sch Va","Governance",null,"Executive Responsibilities - 2","Select"]
["Sch Va","Governance",null,"Executive Responsibilities - 3","Select"]
["Sch Va","Governance",null,"Executive Responsibilities - 4","Select"]
["Sch Va","Governance",null,"Executive Responsibilities - 5","Select"]
["Sch Va","Governance",null,"Executive Responsibilities - 6","Select"]
["Sch Va","Governance",null,"Executive Responsibilities - 7","Select"]
["Sch Va","Governance",null,"Executive Responsibilities - 8","Select"]
["Sch Va","Governance",null,"Executive Responsibilities - 9","Select"]
["Sch Va","Governance",null,"Executive Responsibilities - 10","Select"]
["Sch Va","Governance",null,"Executive Responsibilities - 11","Select"]
["Sch Va","Governance",null,"Executive Responsibilities - 12","Select"]
["Sch Va","Governance",null,"Executive Responsibilities - 13","Select"]
["Sch Va","Governance",null,"Executive Responsibilities - 14","Select"]
["Sch Va","Governance",null,"Executive Responsibilities - 15","Select"]
["Sch Va","Governance",null,"Executive Responsibilities - 16","Select"]
["Sch Va","Governance",null,"Executive Responsibilities - 17","Select"]
["Sch Va","Governance",null,"Executive Responsibilities - 18","Select"]
["Sch Va","Governance",null,"Executive Responsibilities - 19","Select"]
["Sch Va","Governance",null,"Executive Responsibilities - 20","Select"]
["Sch Va","Governance",null,"Tax Residency outside of Bermuda","Select Yes/No"]
["Sch Va","Governance",null,"If Yes, Tax Residency Jurisdiction","Select"]
["Sch Va","Governance",null,"BOD Activity - Strategic Direction","Select Yes/No"]
["Sch Va","Governance",null,"BOD Activity - Risk Appetite","Select Yes/No"]
["Sch Va","Governance",null,"BOD Activity - LOB Decisions","Select Yes/No"]
["Sch Va","Governance",null,"BOD Activity - Solvency Req.","Select Yes/No"]
["Sch Va","Governance",null,"BOD Location - Strategic Direction",0]
["Sch Va","Governance",null,"BOD Location - Risk Appetite",0]
["Sch Va","Governance",null,"BOD Location - LOB Decisions",0]
["Sch Va","Governance",null,"BOD Location - Solvency Req.",0]
["Sch Va","Governance",null,"U/W - Operation in Bermuda","Select Yes/No"]
["Sch Va","Governance",null,"Risk Mgmt. - Operation in Bermuda","Select Yes/No"]
["Sch Va","Governance",null,"Inv. Strategy - Operation in Bermuda","Select Yes/No"]
["Sch Va","Governance",null,"Actuarial - Operation in Bermuda","Select Yes/No"]
["Sch Va","Governance",null,"Compliance - Operation in Bermuda","Select Yes/No"]
["Sch Va","Governance",null,"Int. Audit - Operation in Bermuda","Select Yes/No"]
["Sch Va","Governance",null,"U/W - Operation Location",0]
["Sch Va","Governance",null,"Risk Mgmt. - Operation Location",0]
["Sch Va","Governance",null,"Inv. Strategy - Operation Location",0]
["Sch Va","Governance",null,"Actuarial - Operation Location",0]
["Sch Va","Governance",null,"Compliance - Operation Location",0]
["Sch Va","Governance",null,"Int. Audit - Operation Location",0]
["Sch Va","Governance",null,"U/W - Outsourced","Select Yes/No"]
["Sch Va","Governance",null,"Risk Mgmt. - Outsourced","Select Yes/No"]
["Sch Va","Governance",null,"Inv. Strategy - Outsourced","Select Yes/No"]
["Sch Va","Governance",null,"Actuarial - Outsourced","Select Yes/No"]
["Sch Va","Governance",null,"Compliance - Outsourced","Select Yes/No"]
["Sch Va","Governance",null,"Int. Audit - Outsourced","Select Yes/No"]
["Sch Va","Governance",null,"U/W - Provider Type","Select"]
["Sch Va","Governance",null,"Risk Mgmt. - Provider Type","Select"]
["Sch Va","Governance",null,"Inv. Strategy - Provider Type","Select"]
["Sch Va","Governance",null,"Actuarial - Provider Type","Select"]
["Sch Va","Governance",null,"Compliance - Provider Type","Select"]
["Sch Va","Governance",null,"Int. Audit - Provider Type","Select"]
["Sch Va","Governance",null,"U/W - Name of Provider",0]
["Sch Va","Governance",null,"Risk Mgmt. - Name of Provider",0]
["Sch Va","Governance",null,"Inv. Strategy - Name of Provider",0]
["Sch Va","Governance",null,"Actuarial - Name of Provider",0]
["Sch Va","Governance",null,"Compliance - Name of Provider",0]
["Sch Va","Governance",null,"Int. Audit - Name of Provider",0]
["Sch Va","Governance",null,"Services Outsourced - Principal Rep.","Select Yes/No"]
["Sch Va","Governance",null,"Services Outsourced - Director/Board Member","Select Yes/No"]
["Sch Va","Governance",null,"Services Outsourced - Senior Officer","Select Yes/No"]
["Sch Va","Governance",null,"Services Outsourced - Accounting","Select Yes/No"]
["Sch Va","Governance",null,"Services Outsourced - Prep. SFR/Prudential","Select Yes/No"]
["Sch Va","Governance",null,"Services Outsourced - Underwriting","Select Yes/No"]
["Sch Va","Governance",null,"Services Outsourced - Claims Handling","Select Yes/No"]
["Sch Va","Governance",null,"Services Outsourced - Risk Mgmt.","Select Yes/No"]
["Sch Va","Governance",null,"Services Outsourced - Investment","Select Yes/No"]
["Sch Va","Governance",null,"Services Outsourced - Treasury","Select Yes/No"]
["Sch Va","Governance",null,"Services Outsourced - Actuarial","Select Yes/No"]
["Sch Va","Governance",null,"Services Outsourced - Internal Audit","Select Yes/No"]
["Sch Va","Governance",null,"Services Outsourced - Compliance","Select Yes/No"]
["Sch Va","Governance",null,"Services Outsourced - AML/ATF/Sanctions","Select Yes/No"]
["Sch Va","Governance",null,"Services Outsourced - Money Laundering Officer","Select Yes/No"]
["Sch Va","Governance",null,"Services Outsourced - Other",0]
["Sch Va","Governance",null,"Services in BDA - Principal Rep.","Select Yes/No"]
["Sch Va","Governance",null,"Services in BDA - Director/Board Member","Select Yes/No"]
["Sch Va","Governance",null,"Services in BDA - Senior Officer","Select Yes/No"]
["Sch Va","Governance",null,"Services in BDA - Accounting","Select Yes/No"]
["Sch Va","Governance",null,"Services in BDA - Prep. SFR/Prudential","Select Yes/No"]
["Sch Va","Governance",null,"Services in BDA - Underwriting","Select Yes/No"]
["Sch Va","Governance",null,"Services in BDA - Claims Handling","Select Yes/No"]
["Sch Va","Governance",null,"Services in BDA - Risk Mgmt.","Select Yes/No"]
["Sch Va","Governance",null,"Services in BDA - Investment","Select Yes/No"]
["Sch Va","Governance",null,"Services in BDA - Treasury","Select Yes/No"]
["Sch Va","Governance",null,"Services in BDA - Actuarial","Select Yes/No"]
["Sch Va","Governance",null,"Services in BDA - Internal Audit","Select Yes/No"]
["Sch Va","Governance",null,"Services in BDA - Compliance","Select Yes/No"]
["Sch Va","Governance",null,"Services in BDA - AML/ATF/Sanctions","Select Yes/No"]
["Sch Va","Governance",null,"Services in BDA - Money Laundering Officer","Select Yes/No"]
["Sch Va","Governance",null,"Employees in BDA",0]
["Sch Va","Governance",null,"Number of Employes in BDA - Senior Executive",0]
["Sch Va","Governance",null,"Number of Employes in BDA - Senior Manager",0]
["Sch Va","Governance",null,"Number of Employes in BDA - Technical Officer",0]
["Sch Va","Governance",null,"Number of Employes in BDA - Admnistrative",0]
["Sch Va","Governance",null,"7a Group BOD-Strat. Decision- Location"]
["Sch Va","Governance",null,"7b Group BOD-Risk Appet.- Location"]
["Sch Va","Governance",null,"7c Group BOD-Corp. Struct.- Location"]
["Sch Va","Governance",null,"7d Group BOD-LOB, Prod. & Mkt.- Location"]
["Sch Va","Governance",null,"7e Group BOD-Assess Solvency- Location"]
["Sch Va","Governance",null,"8. Group BOD - Reside"]
["Sch Va","Governance",null,"9. Group Control Function - Reside"]
["Sch Va","Governance",null,"10a Group's Total Assets"]
["Sch Va","Governance",null,"10b Group's Total Reserves"]
["Sch Va","Governance",null,"10c Group's Total Capital & Surplus"]
["Sch Va","Governance",null,"Name of Insurer - 1"]
["Sch Va","Governance",null,"Name of Insurer - 2"]
["Sch Va","Governance",null,"Name of Insurer - 3"]
["Sch Va","Governance",null,"Name of Insurer - 4"]
["Sch Va","Governance",null,"Name of Insurer - 5"]
["Sch Va","Governance",null,"Name of Insurer - 6"]
["Sch Va","Governance",null,"Name of Insurer - 7"]
["Sch Va","Governance",null,"Name of Insurer - 8"]
["Sch Va","Governance",null,"Name of Insurer - 9"]
["Sch Va","Governance",null,"Insurer Location - 1"]
["Sch Va","Governance",null,"Insurer Location - 2"]
["Sch Va","Governance",null,"Insurer Location - 3"]
["Sch Va","Governance",null,"Insurer Location - 4"]
["Sch Va","Governance",null,"Insurer Location - 5"]
["Sch Va","Governance",null,"Insurer Location - 6"]
["Sch Va","Governance",null,"Insurer Location - 7"]
["Sch Va","Governance",null,"Insurer Location - 8"]
["Sch Va","Governance",null,"Insurer Location - 9"]
["Sch Va","Governance",null,"Insurer Asset - 1"]
["Sch Va","Governance",null,"Insurer Asset - 2",null,null,null,null,null,null,null,null,null,null,null,0]
["Sch Va","Governance",null,"Insurer Asset - 3",null,null,null,null,null,null,null,null,null,null,null,0]
["Sch Va","Governance",null,"Insurer Asset - 4",null,null,null,null,null,null,null,null,null,null,null,0]
["Sch Va","Governance",null,"Insurer Asset - 5",null,null,null,null,null,null,null,null,null,null,null,0]
["Sch Va","Governance",null,"Insurer Asset - 6",null,null,null,null,null,null,null,null,null,null,null,0]
["Sch Va","Governance",null,"Insurer Asset - 7",null,null,null,null,null,null,null,null,null,null,null,0]
["Sch Va","Governance",null,"Insurer Asset - 8",null,null,null,null,null,null,null,null,null,null,null,0]
["Sch Va","Governance",null,"Insurer Asset - 9",null,null,null,null,null,null,null,null,null,null,null,0]
["Sch Va","Governance",null,"Insurer Reserve - 1",null,null,null,null,null,null,null,null,null,null,null,0]
["Sch Va","Governance",null,"Insurer Reserve - 2",null,null,null,null,null,null,null,null,null,null,null,0]
["Sch Va","Governance",null,"Insurer Reserve - 3",null,null,null,null,null,null,null,null,null,null,null,0]
["Sch Va","Governance",null,"Insurer Reserve - 4",null,null,null,null,null,null,null,null,null,null,null,0]
["Sch Va","Governance",null,"Insurer Reserve - 5",null,null,null,null,null,null,null,null,null,null,null,0]
["Sch Va","Governance",null,"Insurer Reserve - 6",null,null,null,null,null,null,null,null,null,null,null,0]
["Sch Va","Governance",null,"Insurer Reserve - 7",null,null,null,null,null,null,null,null,null,null,null,0]
["Sch Va","Governance",null,"Insurer Reserve - 8",null,null,null,null,null,null,null,null,null,null,null,0]
["Sch Va","Governance",null,"Insurer Reserve - 9",null,null,null,null,null,null,null,null,null,null,null,0]
["Sch Va","Governance",null,"Insurer Capital & Surplus - 1",null,null,null,null,null,null,null,null,null,null,null,0]
["Sch Va","Governance",null,"Insurer Capital & Surplus - 2",null,null,null,null,null,null,null,null,null,null,null,0]
["Sch Va","Governance",null,"Insurer Capital & Surplus - 3",null,null,null,null,null,null,null,null,null,null,null,0]
["Sch Va","Governance",null,"Insurer Capital & Surplus - 4",null,null,null,null,null,null,null,null,null,null,null,0]
["Sch Va","Governance",null,"Insurer Capital & Surplus - 5",null,null,null,null,null,null,null,null,null,null,null,0]
["Sch Va","Governance",null,"Insurer Capital & Surplus - 6",null,null,null,null,null,null,null,null,null,null,null,0]
["Sch Va","Governance",null,"Insurer Capital & Surplus - 7",null,null,null,null,null,null,null,null,null,null,null,0]
["Sch Va","Governance",null,"Insurer Capital & Surplus - 8",null,null,null,null,null,null,null,null,null,null,null,0]
["Sch Va","Governance",null,"Insurer Capital & Surplus - 9",null,null,null,null,null,null,null,null,null,null,null,0]
["Sch Va","Governance",null,"12 Subsequent Events",0,null,null,null,null,null,null,null,null,null,null,0]
[]
["Sch Ve","Scenario Tests",null,"R1 Scenario - Assets"]
["Sch Ve","Scenario Tests",null,"R2 Scenario - Assets"]
["Sch Ve","Scenario Tests",null,"R3 Scenario - Assets"]
["Sch Ve","Scenario Tests",null,"R4 Scenario - Assets"]
["Sch Ve","Scenario Tests",null,"R5 Scenario - Assets"]
["Sch Ve","Scenario Tests",null,"R6 Scenario - Assets"]
["Sch Ve","Scenario Tests",null,"R7 Scenario - Assets"]
["Sch Ve","Scenario Tests",null,"R8 Scenario - Assets"]
["Sch Ve","Scenario Tests",null,"R1 Scenario - Liabilities"]
["Sch Ve","Scenario Tests",null,"R2 Scenario - Liabilities"]
["Sch Ve","Scenario Tests",null,"R3 Scenario - Liabilities"]
["Sch Ve","Scenario Tests",null,"R4 Scenario - Liabilities"]
["Sch Ve","Scenario Tests",null,"R5 Scenario - Liabilities"]
["Sch Ve","Scenario Tests",null,"R6 Scenario - Liabilities"]
["Sch Ve","Scenario Tests",null,"R7 Scenario - Liabilities"]
["Sch Ve","Scenario Tests",null,"R8 Scenario - Liabilities"]
["Sch Ve","Scenario Tests",null,"R5 - Greece"]
["Sch Ve","Scenario Tests",null,"R5 - Italy"]
["Sch Ve","Scenario Tests",null,"R5 - Portugal"]
["Sch Ve","Scenario Tests",null,"R5 - Ukraine"]
["Sch Ve","Scenario Tests",null,"R5 - Argentina"]
["Sch Ve","Scenario Tests",null,"R5 - Turkey"]
["Sch Ve","Scenario Tests",null,"Mortgage Loan - Shock 1 Rate"]
["Sch Ve","Scenario Tests",null,"Mortgage Loan - Shock 2 Rate"]
["Sch Ve","Scenario Tests",null,"Mortgage Loan - Shock 1 Assets"]
["Sch Ve","Scenario Tests",null,"Mortgage Loan - Shock 2 Assets"]
["Sch Ve","Scenario Tests",null,"Mortgage Loan - Shock 1 Liabilities"]
["Sch Ve","Scenario Tests",null,"Mortgage Loan - Shock 2 Liabilities"]
["Sch Ve","Scenario Tests",null,"Mortgage Loan - GPW - Related - Insurance - US"]
["Sch Ve","Scenario Tests",null,"Mortgage Loan - GPW - Related - R/I - US",null,null,null,null,null,null,null,null,null,null,null,0]
["Sch Ve","Scenario Tests",null,"Mortgage Loan - GPW - Related - Insurance - Other",null,null,null,null,null,null,null,null,null,null,null,0]
["Sch Ve","Scenario Tests",null,"Mortgage Loan - GPW - Related - R/I - Other",null,null,null,null,null,null,null,null,null,null,null,0]
["Sch Ve","Scenario Tests",null,"Mortgage Loan - GPW - Related - Total",null,null,null,null,null,null,null,null,null,null,null,0]
["Sch Ve","Scenario Tests",null,"Mortgage Loan - GPW - Unrelated - Insurance - US",null,null,null,null,null,null,null,null,null,null,null,0]
["Sch Ve","Scenario Tests",null,"Mortgage Loan - GPW - Unrelated - R/I - US",null,null,null,null,null,null,null,null,null,null,null,0]
["Sch Ve","Scenario Tests",null,"Mortgage Loan - GPW - Unrelated - Insurance - Other",null,null,null,null,null,null,null,null,null,null,null,0]
["Sch Ve","Scenario Tests",null,"Mortgage Loan - GPW - Unrelated - R/I - Other",null,null,null,null,null,null,null,null,null,null,null,0]
["Sch Ve","Scenario Tests",null,"Mortgage Loan - GPW - Unrelated - Total",null,null,null,null,null,null,null,null,null,null,null,0]
["Sch Ve","Scenario Tests",null,"Mortgage Loan - NPW - Related - Insurance - US",null,null,null,null,null,null,null,null,null,null,null,0]
["Sch Ve","Scenario Tests",null,"Mortgage Loan - NPW - Related - R/I - US",null,null,null,null,null,null,null,null,null,null,null,0]
["Sch Ve","Scenario Tests",null,"Mortgage Loan - NPW - Related - Insurance - Other",null,null,null,null,null,null,null,null,null,null,null,0]
["Sch Ve","Scenario Tests",null,"Mortgage Loan - NPW - Related - R/I - Other",null,null,null,null,null,null,null,null,null,null,null,0]
["Sch Ve","Scenario Tests",null,"Mortgage Loan - NPW - Related - Total",null,null,null,null,null,null,null,null,null,null,null,0]
["Sch Ve","Scenario Tests",null,"Mortgage Loan - NPW - Unrelated - Insurance - US",null,null,null,null,null,null,null,null,null,null,null,0]
["Sch Ve","Scenario Tests",null,"Mortgage Loan - NPW - Unrelated - R/I - US",null,null,null,null,null,null,null,null,null,null,null,0]
["Sch Ve","Scenario Tests",null,"Mortgage Loan - NPW - Unrelated - Insurance - Other",null,null,null,null,null,null,null,null,null,null,null,0]
["Sch Ve","Scenario Tests",null,"Mortgage Loan - NPW - Unrelated - R/I - Other",null,null,null,null,null,null,null,null,null,null,null,0]
["Sch Ve","Scenario Tests",null,"Mortgage Loan - NPW - Unrelated - Total",null,null,null,null,null,null,null,null,null,null,null,0]
["Sch Ve","Scenario Tests",null,"Mortgage Loan - Claims - Related - Insurance - US",null,null,null,null,null,null,null,null,null,null,null,0]
["Sch Ve","Scenario Tests",null,"Mortgage Loan - Claims - Related - R/I - US",null,null,null,null,null,null,null,null,null,null,null,0]
["Sch Ve","Scenario Tests",null,"Mortgage Loan - Claims - Related - Insurance - Other",null,null,null,null,null,null,null,null,null,null,null,0]
["Sch Ve","Scenario Tests",null,"Mortgage Loan - Claims - Related - R/I - Other",null,null,null,null,null,null,null,null,null,null,null,"Select"]
["Sch Ve","Scenario Tests",null,"Mortgage Loan - Claims - Related - Total",null,null,null,null,null,null,null,null,null,null,null,"Select"]
["Sch Ve","Scenario Tests",null,"Mortgage Loan - Claims - Unrelated - Insurance - US",null,null,null,null,null,null,null,null,null,null,null,0]
["Sch Ve","Scenario Tests",null,"Mortgage Loan - Claims - Unrelated - R/I - US",null,null,null,null,null,null,null,null,null,null,null,0]
["Sch Ve","Scenario Tests",null,"Mortgage Loan - Claims - Unrelated - Insurance - Other",null,null,null,null,null,null,null,null,null,null,null,0]
["Sch Ve","Scenario Tests",null,"Mortgage Loan - Claims - Unrelated - R/I - Other",null,null,null,null,null,null,null,null,null,null,null,0]
["Sch Ve","Scenario Tests",null,"Mortgage Loan - Claims - Unrelated - Total",null,null,null,null,null,null,null,null,null,null,null,0]
["Sch Ve","Scenario Tests",null,"Mortgage Loan - Reserves - Related - Insurance - US",null,null,null,null,null,null,null,null,null,null,null,0]
["Sch Ve","Scenario Tests",null,"Mortgage Loan - Reserves - Related - R/I - US",null,null,null,null,null,null,null,null,null,null,null,0]
["Sch Ve","Scenario Tests",null,"Mortgage Loan - Reserves - Related - Insurance - Other",null,null,null,null,null,null,null,null,null,null,null,0]
["Sch Ve","Scenario Tests",null,"Mortgage Loan - Reserves - Related - R/I - Other",null,null,null,null,null,null,null,null,null,null,null,0]
["Sch Ve","Scenario Tests",null,"Mortgage Loan - Reserves - Related - Total",null,null,null,null,null,null,null,null,null,null,null,0]
["Sch Ve","Scenario Tests",null,"Mortgage Loan - Reserves - Unrelated - Insurance - US",null,null,null,null,null,null,null,null,null,null,null,0]
["Sch Ve","Scenario Tests",null,"Mortgage Loan - Reserves - Unrelated - R/I - US",null,null,null,null,null,null,null,null,null,null,null,0]
["Sch Ve","Scenario Tests",null,"Mortgage Loan - Reserves - Unrelated - Insurance - Other",null,null,null,null,null,null,null,null,null,null,null,0]
["Sch Ve","Scenario Tests",null,"Mortgage Loan - Reserves - Unrelated - R/I - Other",null,null,null,null,null,null,null,null,null,null,null,0]
["Sch Ve","Scenario Tests",null,"Mortgage Loan - Reserves - Unrelated - Total",null,null,null,null,null,null,null,null,null,null,null,0]
["Sch Ve","Scenario Tests",null,"Mortgage Loan - Insurance in Force",null,null,null,null,null,null,null,null,null,null,null,0]
["Sch Ve","Scenario Tests",null,"Mortgage Loan - Risk in Force",null,null,null,null,null,null,null,null,null,null,null,0]
["Sch Ve","Scenario Tests",null,"Mortgage Loan - Capital Held - Internal",null,null,null,null,null,null,null,null,null,null,null,0]
["Sch Ve","Scenario Tests",null,"Mortgage Loan - Capital Held - External",null,null,null,null,null,null,null,null,null,null,null,0]
["Sch Ve","Scenario Tests",null,"Mortgage Loan - Collateral Posted",null,null,null,null,null,null,null,null,null,null,null,0]
["Sch Ve","Scenario Tests",null,"Mortgage Loan - # of Policies in Force",null,null,null,null,null,null,null,null,null,null,null,0]
["Sch Ve","Scenario Tests",null,"Mortgage Loan - Loss Ratio",null,null,null,null,null,null,null,null,null,null,null,0]
["Sch Ve","Scenario Tests",null,"Mortgage Loan - Combined Ratio",null,null,null,null,null,null,null,null,null,null,null,0]
["Sch Ve","Scenario Tests",null,"Mortgage Loan - Weighted Average LTV",null,null,null,null,null,null,null,null,null,null,null,0]
["Sch Ve","Scenario Tests",null,"Mortgage Loan - Weighted Average FICO Score",null,null,null,null,null,null,null,null,null,null,null,0]
["Sch Ve","Scenario Tests",null,"UW1. Gross Loss ",null,null,null,null,null,null,null,null,null,null,null,0]
["Sch Ve","Scenario Tests",null,"UW2. Gross Loss ",null,null,null,null,null,null,null,null,null,null,null,0]
["Sch Ve","Scenario Tests",null,"UW3. Gross Loss ",null,null,null,null,null,null,null,null,null,null,null,0]
["Sch Ve","Scenario Tests",null,"UW4. Gross Loss ",null,null,null,null,null,null,null,null,null,null,null,0]
["Sch Ve","Scenario Tests",null,"UW5. Gross Loss ",null,null,null,null,null,null,null,null,null,null,null,0]
["Sch Ve","Scenario Tests",null,"UE1. Gross Loss ",null,null,null,null,null,null,null,null,null,null,null,0]
["Sch Ve","Scenario Tests",null,"UE2. Gross Loss ",null,null,null,null,null,null,null,null,null,null,null,0]
["Sch Ve","Scenario Tests",null,"UE3. Gross Loss ",null,null,null,null,null,null,null,null,null,null,null,0]
["Sch Ve","Scenario Tests",null,"IW1. Gross Loss ",null,null,null,null,null,null,null,null,null,null,null,0]
["Sch Ve","Scenario Tests",null,"IW2. Gross Loss ",null,null,null,null,null,null,null,null,null,null,null,0]
["Sch Ve","Scenario Tests",null,"IE1. Gross Loss ",null,null,null,null,null,null,null,null,null,null,null,0]
["Sch Ve","Scenario Tests",null,"A1. Gross Loss ",null,null,null,null,null,null,null,null,null,null,null,0]
["Sch Ve","Scenario Tests",null,"M1. Gross Loss ",null,null,null,null,null,null,null,null,null,null,null,0]
["Sch Ve","Scenario Tests",null,"M2. Gross Loss ",null,null,null,null,null,null,null,null,null,null,null,0]
["Sch Ve","Scenario Tests",null,"N1. Gross Loss ",null,null,null,null,null,null,null,null,null,null,null,0]
["Sch Ve","Scenario Tests",null,"N2. Gross Loss ",null,null,null,null,null,null,null,null,null,null,null,0]
["Sch Ve","Scenario Tests",null,"N3. Gross Loss ",null,null,null,null,null,null,null,null,null,null,null,0]
["Sch Ve","Scenario Tests",null,"N4. Gross Loss ",null,null,null,null,null,null,null,null,null,null,null,0]
["Sch Ve","Scenario Tests",null,"P1. Gross Loss ",null,null,null,null,null,null,null,null,null,null,null,0]
["Sch Ve","Scenario Tests",null,"UW1. Net Loss - After Reinsurance",null,null,null,null,null,null,null,null,null,null,null,0]
["Sch Ve","Scenario Tests",null,"UW2. Net Loss - After Reinsurance",null,null,null,null,null,null,null,null,null,null,null,0]
["Sch Ve","Scenario Tests",null,"UW3. Net Loss - After Reinsurance",null,null,null,null,null,null,null,null,null,null,null,0]
["Sch Ve","Scenario Tests",null,"UW4. Net Loss - After Reinsurance",null,null,null,null,null,null,null,null,null,null,null,0]
["Sch Ve","Scenario Tests",null,"UW5. Net Loss - After Reinsurance",null,null,null,null,null,null,null,null,null,null,null,0]
["Sch Ve","Scenario Tests",null,"UE1. Net Loss - After Reinsurance",null,null,null,null,null,null,null,null,null,null,null,0]
["Sch Ve","Scenario Tests",null,"UE2. Net Loss - After Reinsurance",null,null,null,null,null,null,null,null,null,null,null,0]
["Sch Ve","Scenario Tests",null,"UE3. Net Loss - After Reinsurance",null,null,null,null,null,null,null,null,null,null,null,0]
["Sch Ve","Scenario Tests",null,"IW1. Net Loss - After Reinsurance",null,null,null,null,null,null,null,null,null,null,null,0]
["Sch Ve","Scenario Tests",null,"IW2. Net Loss - After Reinsurance",null,null,null,null,null,null,null,null,null,null,null,0]
["Sch Ve","Scenario Tests",null,"IE1. Net Loss - After Reinsurance",null,null,null,null,null,null,null,null,null,null,null,0]
["Sch Ve","Scenario Tests",null,"A1. Net Loss - After Reinsurance",null,null,null,null,null,null,null,null,null,null,null,0]
["Sch Ve","Scenario Tests",null,"M1. Net Loss - After Reinsurance",null,null,null,null,null,null,null,null,null,null,null,0]
["Sch Ve","Scenario Tests",null,"M2. Net Loss - After Reinsurance",null,null,null,null,null,null,null,null,null,null,null,0]
["Sch Ve","Scenario Tests",null,"N1. Net Loss - After Reinsurance",null,null,null,null,null,null,null,null,null,null,null,0]
["Sch Ve","Scenario Tests",null,"N2. Net Loss - After Reinsurance",null,null,null,null,null,null,null,null,null,null,null,0]
["Sch Ve","Scenario Tests",null,"N3. Net Loss - After Reinsurance",null,null,null,null,null,null,null,null,null,null,null,0]
["Sch Ve","Scenario Tests",null,"N4. Net Loss - After Reinsurance",null,null,null,null,null,null,null,null,null,null,null,0]
["Sch Ve","Scenario Tests",null,"P1. Net Loss - After Reinsurance",null,null,null,null,null,null,null,null,null,null,null,0]
["Sch Ve","Scenario Tests",null,"UW1. Net Loss - Cat Mitigation Tech.",null,null,null,null,null,null,null,null,null,null,null,0]
["Sch Ve","Scenario Tests",null,"UW2. Net Loss - Cat Mitigation Tech.",null,null,null,null,null,null,null,null,null,null,null,0]
["Sch Ve","Scenario Tests",null,"UW3. Net Loss - Cat Mitigation Tech.",null,null,null,null,null,null,null,null,null,null,null,0]
["Sch Ve","Scenario Tests",null,"UW4. Net Loss - Cat Mitigation Tech.",null,null,null,null,null,null,null,null,null,null,null,0]
["Sch Ve","Scenario Tests",null,"UW5. Net Loss - Cat Mitigation Tech.",null,null,null,null,null,null,null,null,null,null,null,0]
["Sch Ve","Scenario Tests",null,"UE1. Net Loss - Cat Mitigation Tech.",null,null,null,null,null,null,null,null,null,null,null,0]
["Sch Ve","Scenario Tests",null,"UE2. Net Loss - Cat Mitigation Tech.",null,null,null,null,null,null,null,null,null,null,null,0]
["Sch Ve","Scenario Tests",null,"UE3. Net Loss - Cat Mitigation Tech.",null,null,null,null,null,null,null,null,null,null,null,0]
["Sch Ve","Scenario Tests",null,"IW1. Net Loss - Cat Mitigation Tech.",null,null,null,null,null,null,null,null,null,null,null,0]
["Sch Ve","Scenario Tests",null,"IW2. Net Loss - Cat Mitigation Tech.",null,null,null,null,null,null,null,null,null,null,null,0]
["Sch Ve","Scenario Tests",null,"IE1. Net Loss - Cat Mitigation Tech.",null,null,null,null,null,null,null,null,null,null,null,0]
["Sch Ve","Scenario Tests",null,"A1. Net Loss - Cat Mitigation Tech.",null,null,null,null,null,null,null,null,null,null,null,0]
["Sch Ve","Scenario Tests",null,"M1. Net Loss - Cat Mitigation Tech.",null,null,null,null,null,null,null,null,null,null,null,0]
["Sch Ve","Scenario Tests",null,"M2. Net Loss - Cat Mitigation Tech.",null,null,null,null,null,null,null,null,null,null,null,0]
["Sch Ve","Scenario Tests",null,"N1. Net Loss - Cat Mitigation Tech.",null,null,null,null,null,null,null,null,null,null,null,0]
["Sch Ve","Scenario Tests",null,"N2. Net Loss - Cat Mitigation Tech.",null,null,null,null,null,null,null,null,null,null,null,0]
["Sch Ve","Scenario Tests",null,"N3. Net Loss - Cat Mitigation Tech.",null,null,null,null,null,null,null,null,null,null,null,0]
["Sch Ve","Scenario Tests",null,"N4. Net Loss - Cat Mitigation Tech.",null,null,null,null,null,null,null,null,null,null,null,0]
["Sch Ve","Scenario Tests",null,"P1. Net Loss - Cat Mitigation Tech.",null,null,null,null,null,null,null,null,null,null,null,0]
["Sch Ve","Scenario Tests",null,"UW1. Return Period 1",null,null,null,null,null,null,null,null,null,null,null,0]
["Sch Ve","Scenario Tests",null,"UW2. Return Period 1",null,null,null,null,null,null,null,null,null,null,null,0]
["Sch Ve","Scenario Tests",null,"UW3. Return Period 1",null,null,null,null,null,null,null,null,null,null,null,0]
["Sch Ve","Scenario Tests",null,"UW4. Return Period 1",null,null,null,null,null,null,null,null,null,null,null,0]
["Sch Ve","Scenario Tests",null,"UW5. Return Period 1",null,null,null,null,null,null,null,null,null,null,null,0]
["Sch Ve","Scenario Tests",null,"UE1. Return Period 1",null,null,null,null,null,null,null,null,null,null,null,0]
["Sch Ve","Scenario Tests",null,"UE2. Return Period 1",null,null,null,null,null,null,null,null,null,null,null,0]
["Sch Ve","Scenario Tests",null,"UE3. Return Period 1",null,null,null,null,null,null,null,null,null,null,null,0]
["Sch Ve","Scenario Tests",null,"IW1. Return Period 1",null,null,null,null,null,null,null,null,null,null,null,0]
["Sch Ve","Scenario Tests",null,"IW2. Return Period 1",null,null,null,null,null,null,null,null,null,null,null,0]
["Sch Ve","Scenario Tests",null,"IE1. Return Period 1",null,null,null,null,null,null,null,null,null,null,null,0]
["Sch Ve","Scenario Tests",null,"A1. Return Period 1",null,null,null,null,null,null,null,null,null,null,null,0]
["Sch Ve","Scenario Tests",null,"M1. Return Period 1",null,null,null,null,null,null,null,null,null,null,null,0]
["Sch Ve","Scenario Tests",null,"M2. Return Period 1",null,null,null,null,null,null,null,null,null,null,null,0]
["Sch Ve","Scenario Tests",null,"N1. Return Period 1",null,null,null,null,null,null,null,null,null,null,null,0]
["Sch Ve","Scenario Tests",null,"N2. Return Period 1",null,null,null,null,null,null,null,null,null,null,null,0]
["Sch Ve","Scenario Tests",null,"N3. Return Period 1",null,null,null,null,null,null,null,null,null,null,null,0]
["Sch Ve","Scenario Tests",null,"N4. Return Period 1",null,null,null,null,null,null,null,null,null,null,null,0]
["Sch Ve","Scenario Tests",null,"UW1. Return Period 2",null,null,null,null,null,null,null,null,null,null,null,0]
["Sch Ve","Scenario Tests",null,"UW2. Return Period 2",null,null,null,null,null,null,null,null,null,null,null,0]
["Sch Ve","Scenario Tests",null,"UW3. Return Period 2",null,null,null,null,null,null,null,null,null,null,null,0]
["Sch Ve","Scenario Tests",null,"UW4. Return Period 2",null,null,null,null,null,null,null,null,null,null,null,0]
["Sch Ve","Scenario Tests",null,"UW5. Return Period 2",null,null,null,null,null,null,null,null,null,null,null,0]
["Sch Ve","Scenario Tests",null,"UE1. Return Period 2",null,null,null,null,null,null,null,null,null,null,null,0]
["Sch Ve","Scenario Tests",null,"UE2. Return Period 2",null,null,null,null,null,null,null,null,null,null,null,0]
["Sch Ve","Scenario Tests",null,"UE3. Return Period 2",null,null,null,null,null,null,null,null,null,null,null,0]
["Sch Ve","Scenario Tests",null,"IW1. Return Period 2",null,null,null,null,null,null,null,null,null,null,null,0]
["Sch Ve","Scenario Tests",null,"IW2. Return Period 2",null,null,null,null,null,null,null,null,null,null,null,0]
["Sch Ve","Scenario Tests",null,"IE1. Return Period 2",null,null,null,null,null,null,null,null,null,null,null,0]
["Sch Ve","Scenario Tests",null,"A1. Return Period 2",null,null,null,null,null,null,null,null,null,null,null,0]
["Sch Ve","Scenario Tests",null,"M1. Return Period 2",null,null,null,null,null,null,null,null,null,null,null,0]
["Sch Ve","Scenario Tests",null,"M2. Return Period 2",null,null,null,null,null,null,null,null,null,null,null,0]
["Sch Ve","Scenario Tests",null,"N1. Return Period 2",null,null,null,null,null,null,null,null,null,null,null,0]
["Sch Ve","Scenario Tests",null,"N2. Return Period 2",null,null,null,null,null,null,null,null,null,null,null,0]
["Sch Ve","Scenario Tests",null,"N3. Return Period 2",null,null,null,null,null,null,null,null,null,null,null,0]
["Sch Ve","Scenario Tests",null,"N4. Return Period 2",null,null,null,null,null,null,null,null,null,null,null,0]
["Sch Ve","Scenario Tests",null,"UW1. Catastrophe Model",null,null,null,null,null,null,null,null,null,null,null,0]
["Sch Ve","Scenario Tests",null,"UW2. Catastrophe Model",null,null,null,null,null,null,null,null,null,null,null,0]
["Sch Ve","Scenario Tests",null,"UW3. Catastrophe Model",null,null,null,null,null,null,null,null,null,null,null,0]
["Sch Ve","Scenario Tests",null,"UW4. Catastrophe Model",null,null,null,null,null,null,null,null,null,null,null,0]
["Sch Ve","Scenario Tests",null,"UW5. Catastrophe Model",null,null,null,null,null,null,null,null,null,null,null,0]
["Sch Ve","Scenario Tests",null,"UE1. Catastrophe Model",null,null,null,null,null,null,null,null,null,null,null,0]
["Sch Ve","Scenario Tests",null,"UE2. Catastrophe Model",null,null,null,null,null,null,null,null,null,null,null,0]
["Sch Ve","Scenario Tests",null,"UE3. Catastrophe Model",null,null,null,null,null,null,null,null,null,null,null,0]
["Sch Ve","Scenario Tests",null,"IW1. Catastrophe Model",null,null,null,null,null,null,null,null,null,null,null,0]
["Sch Ve","Scenario Tests",null,"IW2. Catastrophe Model",null,null,null,null,null,null,null,null,null,null,null,0]
["Sch Ve","Scenario Tests",null,"IE1. Catastrophe Model",null,null,null,null,null,null,null,null,null,null,null,0]
["Sch Ve","Scenario Tests",null,"A1. Catastrophe Model",null,null,null,null,null,null,null,null,null,null,null,0]
["Sch Ve","Scenario Tests",null,"M1. Catastrophe Model",null,null,null,null,null,null,null,null,null,null,null,0]
["Sch Ve","Scenario Tests",null,"M2. Catastrophe Model",null,null,null,null,null,null,null,null,null,null,null,0]
["Sch Ve","Scenario Tests",null,"N1. Catastrophe Model",null,null,null,null,null,null,null,null,null,null,null,0]
["Sch Ve","Scenario Tests",null,"N2. Catastrophe Model",null,null,null,null,null,null,null,null,null,null,null,0]
["Sch Ve","Scenario Tests",null,"N3. Catastrophe Model",null,null,null,null,null,null,null,null,null,null,null,0]
["Sch Ve","Scenario Tests",null,"N4. Catastrophe Model",null,null,null,null,null,null,null,null,null,null,null,0]
["Sch Ve","Scenario Tests",null,"P1. Catastrophe Model",null,null,null,null,null,null,null,null,null,null,null,0]
["Sch Ve","Scenario Tests",null," Other Scenario - Name 1",null,null,null,null,null,null,null,null,null,null,null,0]
["Sch Ve","Scenario Tests",null," Other Scenario - Name 2",null,null,null,null,null,null,null,null,null,null,null,0]
["Sch Ve","Scenario Tests",null," Other Scenario - Name 3",null,null,null,null,null,null,null,null,null,null,null,0]
["Sch Ve","Scenario Tests",null," Other - Gross Loss 1",null,null,null,null,null,null,null,null,null,null,null,0]
["Sch Ve","Scenario Tests",null," Other - Gross Loss 2",null,null,null,null,null,null,null,null,null,null,null,0]
["Sch Ve","Scenario Tests",null," Other - Gross Loss 3",null,null,null,null,null,null,null,null,null,null,null,0]
["Sch Ve","Scenario Tests",null," Other - Net Loss 1 - After Reinsurance",null,null,null,null,null,null,null,null,null,null,null,0]
["Sch Ve","Scenario Tests",null," Other - Net Loss 2 - After Reinsurance",null,null,null,null,null,null,null,null,null,null,null,0]
["Sch Ve","Scenario Tests",null," Other - Net Loss 3 - After Reinsurance",null,null,null,null,null,null,null,null,null,null,null,0]
["Sch Ve","Scenario Tests",null," Other - Net Loss 1 - Cat. Mitigation Tech.",null,null,null,null,null,null,null,null,null,null,null,0]
["Sch Ve","Scenario Tests",null," Other - Net Loss 1 - Cat. Mitigation Tech.",null,null,null,null,null,null,null,null,null,null,null,0]
["Sch Ve","Scenario Tests",null," Other - Net Loss 1 - Cat. Mitigation Tech.",null,null,null,null,null,null,null,null,null,null,null,0]
["Sch Ve","Scenario Tests",null," Other - Return Period 1 -  1",null,null,null,null,null,null,null,null,null,null,null,0]
["Sch Ve","Scenario Tests",null," Other - Return Period 1 -  2",null,null,null,null,null,null,null,null,null,null,null,0]
["Sch Ve","Scenario Tests",null," Other - Return Period 1 -  3",null,null,null,null,null,null,null,null,null,null,null,0]
["Sch Ve","Scenario Tests",null," Other - Return Period 2 -  1",null,null,null,null,null,null,null,null,null,null,null,0]
["Sch Ve","Scenario Tests",null," Other - Return Period 2 -  2",null,null,null,null,null,null,null,null,null,null,null,0]
["Sch Ve","Scenario Tests",null," Other - Return Period 2 -  3",null,null,null,null,null,null,null,null,null,null,null,0]
["Sch Ve","Scenario Tests",null," Other - Catastrophe Model -  1",null,null,null,null,null,null,null,null,null,null,null,0]
["Sch Ve","Scenario Tests",null," Other - Catastrophe Model -  2",null,null,null,null,null,null,null,null,null,null,null,0]
["Sch Ve","Scenario Tests",null," Other - Catastrophe Model -  3",null,null,null,null,null,null,null,null,null,null,null,0]
["Sch Ve","Scenario Tests",null,"Latent Liab - Scen 1 - NPW - Product Liab - Pro - EEA & Switzerland",null,null,null,null,null,null,null,null,null,null,null,0]
["Sch Ve","Scenario Tests",null,"Latent Liab - Scen 1 - NPW - Product Liab - Pro - US/Canada",null,null,null,null,null,null,null,null,null,null,null,0]
["Sch Ve","Scenario Tests",null,"Latent Liab - Scen 1 - NPW - Product Liab - Pro - Japan",null,null,null,null,null,null,null,null,null,null,null,0]
["Sch Ve","Scenario Tests",null,"Latent Liab - Scen 1 - NPW - Product Liab - Pro - China",null,null,null,null,null,null,null,null,null,null,null,0]
["Sch Ve","Scenario Tests",null,"Latent Liab - Scen 1 - NPW - Product Liab - Pro - Other Developed Mkts",null,null,null,null,null,null,null,null,null,null,null,0]
["Sch Ve","Scenario Tests",null,"Latent Liab - Scen 1 - NPW - Product Liab - Pro - Emerging Mkts",null,null,null,null,null,null,null,null,null,null,null,0]
["Sch Ve","Scenario Tests",null,"Latent Liab - Scen 1 - NPW - Product Liab - Non Pro - EEA & Switzerland",null,null,null,null,null,null,null,null,null,null,null,0]
["Sch Ve","Scenario Tests",null,"Latent Liab - Scen 1 - NPW - Product Liab - Non Pro - US/Canada",null,null,null,null,null,null,null,null,null,null,null,0]
["Sch Ve","Scenario Tests",null,"Latent Liab - Scen 1 - NPW - Product Liab - Non Pro - Japan",null,null,null,null,null,null,null,null,null,null,null,0]
["Sch Ve","Scenario Tests",null,"Latent Liab - Scen 1 - NPW - Product Liab - Non Pro - China",null,null,null,null,null,null,null,null,null,null,null,0]
["Sch Ve","Scenario Tests",null,"Latent Liab - Scen 1 - NPW - Product Liab - Non Pro - Other Developed Mkts",null,null,null,null,null,null,null,null,null,null,null,0]
["Sch Ve","Scenario Tests",null,"Latent Liab - Scen 1 - NPW - Product Liab - Non Pro - Emerging Mkts",null,null,null,null,null,null,null,null,null,null,null,0]
["Sch Ve","Scenario Tests",null,"Latent Liab - Scen 1 - NPW - Gen Comm Liab - Pro - EEA & Switzerland",null,null,null,null,null,null,null,null,null,null,null,0]
["Sch Ve","Scenario Tests",null,"Latent Liab - Scen 1 - NPW - Gen Comm Liab - Pro - US/Canada",null,null,null,null,null,null,null,null,null,null,null,0]
["Sch Ve","Scenario Tests",null,"Latent Liab - Scen 1 - NPW - Gen Comm Liab - Pro - Japan",null,null,null,null,null,null,null,null,null,null,null,0]
["Sch Ve","Scenario Tests",null,"Latent Liab - Scen 1 - NPW - Gen Comm Liab - Pro - China",null,null,null,null,null,null,null,null,null,null,null,0]
["Sch Ve","Scenario Tests",null,"Latent Liab - Scen 1 - NPW - Gen Comm Liab - Pro - Other Developed Mkts",null,null,null,null,null,null,null,null,null,null,null,0]
["Sch Ve","Scenario Tests",null,"Latent Liab - Scen 1 - NPW - Gen Comm Liab - Pro - Emerging Mkts",null,null,null,null,null,null,null,null,null,null,null,0]
["Sch Ve","Scenario Tests",null,"Latent Liab - Scen 1 - NPW - Gen Comm Liab - Non Pro - EEA & Switzerland",null,null,null,null,null,null,null,null,null,null,null,0]
["Sch Ve","Scenario Tests",null,"Latent Liab - Scen 1 - NPW - Gen Comm Liab - Non Pro - US/Canada",null,null,null,null,null,null,null,null,null,null,null,0]
["Sch Ve","Scenario Tests",null,"Latent Liab - Scen 1 - NPW - Gen Comm Liab - Non Pro - Japan",null,null,null,null,null,null,null,null,null,null,null,0]
["Sch Ve","Scenario Tests",null,"Latent Liab - Scen 1 - NPW - Gen Comm Liab - Non Pro - China",null,null,null,null,null,null,null,null,null,null,null,0]
["Sch Ve","Scenario Tests",null,"Latent Liab - Scen 1 - NPW - Gen Comm Liab - Non Pro - Other Developed Mkts",null,null,null,null,null,null,null,null,null,null,null,0]
["Sch Ve","Scenario Tests",null,"Latent Liab - Scen 1 - NPW - Gen Comm Liab - Non Pro - Emerging Mkts",null,null,null,null,null,null,null,null,null,null,null,0]
["Sch Ve","Scenario Tests",null,"Latent Liab - Scen 1 - NPW - Empl. Liab/Workers Comp - Pro - EEA & Switzerland",null,null,null,null,null,null,null,null,null,null,null,0]
["Sch Ve","Scenario Tests",null,"Latent Liab - Scen 1 - NPW - Empl. Liab/Workers Comp - Pro - US/Canada",null,null,null,null,null,null,null,null,null,null,null,0]
["Sch Ve","Scenario Tests",null,"Latent Liab - Scen 1 - NPW - Empl. Liab/Workers Comp - Pro - Japan",null,null,null,null,null,null,null,null,null,null,null,0]
["Sch Ve","Scenario Tests",null,"Latent Liab - Scen 1 - NPW - Empl. Liab/Workers Comp - Pro - China",null,null,null,null,null,null,null,null,null,null,null,0]
["Sch Ve","Scenario Tests",null,"Latent Liab - Scen 1 - NPW - Empl. Liab/Workers Comp - Pro - Other Developed Mkts",null,null,null,null,null,null,null,null,null,null,null,0]
["Sch Ve","Scenario Tests",null,"Latent Liab - Scen 1 - NPW - Empl. Liab/Workers Comp - Pro - Emerging Mkts",null,null,null,null,null,null,null,null,null,null,null,0]
["Sch Ve","Scenario Tests",null,"Latent Liab - Scen 1 - NPW - Empl. Liab/Workers Comp - Non Pro - EEA & Switzerland",null,null,null,null,null,null,null,null,null,null,null,0]
["Sch Ve","Scenario Tests",null,"Latent Liab - Scen 1 - NPW - Empl. Liab/Workers Comp - Non Pro - US/Canada",null,null,null,null,null,null,null,null,null,null,null,0]
["Sch Ve","Scenario Tests",null,"Latent Liab - Scen 1 - NPW - Empl. Liab/Workers Comp - Non Pro - Japan",null,null,null,null,null,null,null,null,null,null,null,0]
["Sch Ve","Scenario Tests",null,"Latent Liab - Scen 1 - NPW - Empl. Liab/Workers Comp - Non Pro - China",null,null,null,null,null,null,null,null,null,null,null,0]
["Sch Ve","Scenario Tests",null,"Latent Liab - Scen 1 - NPW - Empl. Liab/Workers Comp - Non Pro - Other Developed Mkts",null,null,null,null,null,null,null,null,null,null,null,0]
["Sch Ve","Scenario Tests",null,"Latent Liab - Scen 1 - NPW - Empl. Liab/Workers Comp - Non Pro - Emerging Mkts",null,null,null,null,null,null,null,null,null,null,null,0]
["Sch Ve","Scenario Tests",null,"Latent Liab - Scen 1 - Prem. Growth - Product Liab - Pro - EEA & Switzerland",null,null,null,null,null,null,null,null,null,null,null,0]
["Sch Ve","Scenario Tests",null,"Latent Liab - Scen 1 - Prem. Growth - Product Liab - Pro - US/Canada",null,null,null,null,null,null,null,null,null,null,null,0]
["Sch Ve","Scenario Tests",null,"Latent Liab - Scen 1 - Prem. Growth - Product Liab - Pro - Japan",null,null,null,null,null,null,null,null,null,null,null,0]
["Sch Ve","Scenario Tests",null,"Latent Liab - Scen 1 - Prem. Growth - Product Liab - Pro - China",null,null,null,null,null,null,null,null,null,null,null,0]
["Sch Ve","Scenario Tests",null,"Latent Liab - Scen 1 - Prem. Growth - Product Liab - Pro - Other Developed Mkts",null,null,null,null,null,null,null,null,null,null,null,0]
["Sch Ve","Scenario Tests",null,"Latent Liab - Scen 1 - Prem. Growth - Product Liab - Pro - Emerging Mkts",null,null,null,null,null,null,null,null,null,null,null,0]
["Sch Ve","Scenario Tests",null,"Latent Liab - Scen 1 - Prem. Growth - Product Liab - Non Pro - EEA & Switzerland",null,null,null,null,null,null,null,null,null,null,null,0]
["Sch Ve","Scenario Tests",null,"Latent Liab - Scen 1 - Prem. Growth - Product Liab - Non Pro - US/Canada",null,null,null,null,null,null,null,null,null,null,null,0]
["Sch Ve","Scenario Tests",null,"Latent Liab - Scen 1 - Prem. Growth - Product Liab - Non Pro - Japan",null,null,null,null,null,null,null,null,null,null,null,0]
["Sch Ve","Scenario Tests",null,"Latent Liab - Scen 1 - Prem. Growth - Product Liab - Non Pro - China",null,null,null,null,null,null,null,null,null,null,null,0]
["Sch Ve","Scenario Tests",null,"Latent Liab - Scen 1 - Prem. Growth - Product Liab - Non Pro - Other Developed Mkts",null,null,null,null,null,null,null,null,null,null,null,0]
["Sch Ve","Scenario Tests",null,"Latent Liab - Scen 1 - Prem. Growth - Product Liab - Non Pro - Emerging Mkts",null,null,null,null,null,null,null,null,null,null,null,0]
["Sch Ve","Scenario Tests",null,"Latent Liab - Scen 1 - Prem. Growth - Gen Comm Liab - Pro - EEA & Switzerland",null,null,null,null,null,null,null,null,null,null,null,0]
["Sch Ve","Scenario Tests",null,"Latent Liab - Scen 1 - Prem. Growth - Gen Comm Liab - Pro - US/Canada",null,null,null,null,null,null,null,null,null,null,null,0]
["Sch Ve","Scenario Tests",null,"Latent Liab - Scen 1 - Prem. Growth - Gen Comm Liab - Pro - Japan",null,null,null,null,null,null,null,null,null,null,null,0]
["Sch Ve","Scenario Tests",null,"Latent Liab - Scen 1 - Prem. Growth - Gen Comm Liab - Pro - China",null,null,null,null,null,null,null,null,null,null,null,0]
["Sch Ve","Scenario Tests",null,"Latent Liab - Scen 1 - Prem. Growth - Gen Comm Liab - Pro - Other Developed Mkts",null,null,null,null,null,null,null,null,null,null,null,0]
["Sch Ve","Scenario Tests",null,"Latent Liab - Scen 1 - Prem. Growth - Gen Comm Liab - Pro - Emerging Mkts",null,null,null,null,null,null,null,null,null,null,null,0]
["Sch Ve","Scenario Tests",null,"Latent Liab - Scen 1 - Prem. Growth - Gen Comm Liab - Non Pro - EEA & Switzerland",null,null,null,null,null,null,null,null,null,null,null,0]
["Sch Ve","Scenario Tests",null,"Latent Liab - Scen 1 - Prem. Growth - Gen Comm Liab - Non Pro - US/Canada",null,null,null,null,null,null,null,null,null,null,null,0]
["Sch Ve","Scenario Tests",null,"Latent Liab - Scen 1 - Prem. Growth - Gen Comm Liab - Non Pro - Japan",null,null,null,null,null,null,null,null,null,null,null,0]
["Sch Ve","Scenario Tests",null,"Latent Liab - Scen 1 - Prem. Growth - Gen Comm Liab - Non Pro - China",null,null,null,null,null,null,null,null,null,null,null,0]
["Sch Ve","Scenario Tests",null,"Latent Liab - Scen 1 - Prem. Growth - Gen Comm Liab - Non Pro - Other Developed Mkts",null,null,null,null,null,null,null,null,null,null,null,0]
["Sch Ve","Scenario Tests",null,"Latent Liab - Scen 1 - Prem. Growth - Gen Comm Liab - Non Pro - Emerging Mkts",null,null,null,null,null,null,null,null,null,null,null,0]
["Sch Ve","Scenario Tests",null,"Latent Liab - Scen 1 - Prem. Growth - Empl. Liab/Workers Comp - Pro - EEA & Switzerland",null,null,null,null,null,null,null,null,null,null,null,0]
["Sch Ve","Scenario Tests",null,"Latent Liab - Scen 1 - Prem. Growth - Empl. Liab/Workers Comp - Pro - US/Canada",null,null,null,null,null,null,null,null,null,null,null,0]
["Sch Ve","Scenario Tests",null,"Latent Liab - Scen 1 - Prem. Growth - Empl. Liab/Workers Comp - Pro - Japan",null,null,null,null,null,null,null,null,null,null,null,0]
["Sch Ve","Scenario Tests",null,"Latent Liab - Scen 1 - Prem. Growth - Empl. Liab/Workers Comp - Pro - China",null,null,null,null,null,null,null,null,null,null,null,0]
["Sch Ve","Scenario Tests",null,"Latent Liab - Scen 1 - Prem. Growth - Empl. Liab/Workers Comp - Pro - Other Developed Mkts",null,null,null,null,null,null,null,null,null,null,null,0]
["Sch Ve","Scenario Tests",null,"Latent Liab - Scen 1 - Prem. Growth - Empl. Liab/Workers Comp - Pro - Emerging Mkts",null,null,null,null,null,null,null,null,null,null,null,0]
["Sch Ve","Scenario Tests",null,"Latent Liab - Scen 1 - Prem. Growth - Empl. Liab/Workers Comp - Non Pro - EEA & Switzerland",null,null,null,null,null,null,null,null,null,null,null,0]
["Sch Ve","Scenario Tests",null,"Latent Liab - Scen 1 - Prem. Growth - Empl. Liab/Workers Comp - Non Pro - US/Canada",null,null,null,null,null,null,null,null,null,null,null,0]
["Sch Ve","Scenario Tests",null,"Latent Liab - Scen 1 - Prem. Growth - Empl. Liab/Workers Comp - Non Pro - Japan",null,null,null,null,null,null,null,null,null,null,null,0]
["Sch Ve","Scenario Tests",null,"Latent Liab - Scen 1 - Prem. Growth - Empl. Liab/Workers Comp - Non Pro - China",null,null,null,null,null,null,null,null,null,null,null,0]
["Sch Ve","Scenario Tests",null,"Latent Liab - Scen 1 - Prem. Growth - Empl. Liab/Workers Comp - Non Pro - Other Developed Mkts",null,null,null,null,null,null,null,null,null,null,null,0]
["Sch Ve","Scenario Tests",null,"Latent Liab - Scen 1 - Prem. Growth - Empl. Liab/Workers Comp - Non Pro - Emerging Mkts",null,null,null,null,null,null,null,null,null,null,null,0]
["Sch Ve","Scenario Tests",null,"Latent Liab - Scen 1 - Yr Growth - Product Liab - Pro - EEA & Switzerland",null,null,null,null,null,null,null,null,null,null,null,0]
["Sch Ve","Scenario Tests",null,"Latent Liab - Scen 1 - Yr Growth - Product Liab - Pro - US/Canada",null,null,null,null,null,null,null,null,null,null,null,0]
["Sch Ve","Scenario Tests",null,"Latent Liab - Scen 1 - Yr Growth - Product Liab - Pro - Japan",null,null,null,null,null,null,null,null,null,null,null,0]
["Sch Ve","Scenario Tests",null,"Latent Liab - Scen 1 - Yr Growth - Product Liab - Pro - China",null,null,null,null,null,null,null,null,null,null,null,0]
["Sch Ve","Scenario Tests",null,"Latent Liab - Scen 1 - Yr Growth - Product Liab - Pro - Other Developed Mkts",null,null,null,null,null,null,null,null,null,null,null,0]
["Sch Ve","Scenario Tests",null,"Latent Liab - Scen 1 - Yr Growth - Product Liab - Pro - Emerging Mkts",null,null,null,null,null,null,null,null,null,null,null,0]
["Sch Ve","Scenario Tests",null,"Latent Liab - Scen 1 - Yr Growth - Product Liab - Non Pro - EEA & Switzerland",null,null,null,null,null,null,null,null,null,null,null,0]
["Sch Ve","Scenario Tests",null,"Latent Liab - Scen 1 - Yr Growth - Product Liab - Non Pro - US/Canada",null,null,null,null,null,null,null,null,null,null,null,0]
["Sch Ve","Scenario Tests",null,"Latent Liab - Scen 1 - Yr Growth - Product Liab - Non Pro - Japan",null,null,null,null,null,null,null,null,null,null,null,0]
["Sch Ve","Scenario Tests",null,"Latent Liab - Scen 1 - Yr Growth - Product Liab - Non Pro - China",null,null,null,null,null,null,null,null,null,null,null,0]
["Sch Ve","Scenario Tests",null,"Latent Liab - Scen 1 - Yr Growth - Product Liab - Non Pro - Other Developed Mkts",null,null,null,null,null,null,null,null,null,null,null,0]
["Sch Ve","Scenario Tests",null,"Latent Liab - Scen 1 - Yr Growth - Product Liab - Non Pro - Emerging Mkts",null,null,null,null,null,null,null,null,null,null,null,0]
["Sch Ve","Scenario Tests",null,"Latent Liab - Scen 1 - Yr Growth - Gen Comm Liab - Pro - EEA & Switzerland",null,null,null,null,null,null,null,null,null,null,null,0]
["Sch Ve","Scenario Tests",null,"Latent Liab - Scen 1 - Yr Growth - Gen Comm Liab - Pro - US/Canada",null,null,null,null,null,null,null,null,null,null,null,0]
["Sch Ve","Scenario Tests",null,"Latent Liab - Scen 1 - Yr Growth - Gen Comm Liab - Pro - Japan",null,null,null,null,null,null,null,null,null,null,null,0]
["Sch Ve","Scenario Tests",null,"Latent Liab - Scen 1 - Yr Growth - Gen Comm Liab - Pro - China",null,null,null,null,null,null,null,null,null,null,null,0]
["Sch Ve","Scenario Tests",null,"Latent Liab - Scen 1 - Yr Growth - Gen Comm Liab - Pro - Other Developed Mkts",null,null,null,null,null,null,null,null,null,null,null,0]
["Sch Ve","Scenario Tests",null,"Latent Liab - Scen 1 - Yr Growth - Gen Comm Liab - Pro - Emerging Mkts",null,null,null,null,null,null,null,null,null,null,null,0]
["Sch Ve","Scenario Tests",null,"Latent Liab - Scen 1 - Yr Growth - Gen Comm Liab - Non Pro - EEA & Switzerland",null,null,null,null,null,null,null,null,null,null,null,0]
["Sch Ve","Scenario Tests",null,"Latent Liab - Scen 1 - Yr Growth - Gen Comm Liab - Non Pro - US/Canada",null,null,null,null,null,null,null,null,null,null,null,0]
["Sch Ve","Scenario Tests",null,"Latent Liab - Scen 1 - Yr Growth - Gen Comm Liab - Non Pro - Japan",null,null,null,null,null,null,null,null,null,null,null,0]
["Sch Ve","Scenario Tests",null,"Latent Liab - Scen 1 - Yr Growth - Gen Comm Liab - Non Pro - China",null,null,null,null,null,null,null,null,null,null,null,0]
["Sch Ve","Scenario Tests",null,"Latent Liab - Scen 1 - Yr Growth - Gen Comm Liab - Non Pro - Other Developed Mkts",null,null,null,null,null,null,null,null,null,null,null,0]
["Sch Ve","Scenario Tests",null,"Latent Liab - Scen 1 - Yr Growth - Gen Comm Liab - Non Pro - Emerging Mkts",null,null,null,null,null,null,null,null,null,null,null,0]
["Sch Ve","Scenario Tests",null,"Latent Liab - Scen 1 - Yr Growth - Empl. Liab/Workers Comp - Pro - EEA & Switzerland",null,null,null,null,null,null,null,null,null,null,null,0]
["Sch Ve","Scenario Tests",null,"Latent Liab - Scen 1 - Yr Growth - Empl. Liab/Workers Comp - Pro - US/Canada",null,null,null,null,null,null,null,null,null,null,null,0]
["Sch Ve","Scenario Tests",null,"Latent Liab - Scen 1 - Yr Growth - Empl. Liab/Workers Comp - Pro - Japan",null,null,null,null,null,null,null,null,null,null,null,0]
["Sch Ve","Scenario Tests",null,"Latent Liab - Scen 1 - Yr Growth - Empl. Liab/Workers Comp - Pro - China",null,null,null,null,null,null,null,null,null,null,null,0]
["Sch Ve","Scenario Tests",null,"Latent Liab - Scen 1 - Yr Growth - Empl. Liab/Workers Comp - Pro - Other Developed Mkts",null,null,null,null,null,null,null,null,null,null,null,0]
["Sch Ve","Scenario Tests",null,"Latent Liab - Scen 1 - Yr Growth - Empl. Liab/Workers Comp - Pro - Emerging Mkts",null,null,null,null,null,null,null,null,null,null,null,0]
["Sch Ve","Scenario Tests",null,"Latent Liab - Scen 1 - Yr Growth - Empl. Liab/Workers Comp - Non Pro - EEA & Switzerland",null,null,null,null,null,null,null,null,null,null,null,0]
["Sch Ve","Scenario Tests",null,"Latent Liab - Scen 1 - Yr Growth - Empl. Liab/Workers Comp - Non Pro - US/Canada",null,null,null,null,null,null,null,null,null,null,null,0]
["Sch Ve","Scenario Tests",null,"Latent Liab - Scen 1 - Yr Growth - Empl. Liab/Workers Comp - Non Pro - Japan",null,null,null,null,null,null,null,null,null,null,null,0]
["Sch Ve","Scenario Tests",null,"Latent Liab - Scen 1 - Yr Growth - Empl. Liab/Workers Comp - Non Pro - China",null,null,null,null,null,null,null,null,null,null,null,0]
["Sch Ve","Scenario Tests",null,"Latent Liab - Scen 1 - Yr Growth - Empl. Liab/Workers Comp - Non Pro - Other Developed Mkts",null,null,null,null,null,null,null,null,null,null,null,0]
["Sch Ve","Scenario Tests",null,"Latent Liab - Scen 1 - Yr Growth - Empl. Liab/Workers Comp - Non Pro - Emerging Mkts",null,null,null,null,null,null,null,null,null,null,null,0]
["Sch Ve","Scenario Tests",null,"Latent Liab - Scen 2 - US Asbestos - Cur Yr - GAAP Reserves",null,null,null,null,null,null,null,null,null,null,null,0]
["Sch Ve","Scenario Tests",null,"Latent Liab - Scen 2 - US Asbestos - Cur Yr - Net Paid",null,null,null,null,null,null,null,null,null,null,null,0]
["Sch Ve","Scenario Tests",null,"Latent Liab - Scen 2 - US Asbestos - Cur Yr - Survival Ratio",null,null,null,null,null,null,null,null,null,null,null,0]
["Sch Ve","Scenario Tests",null,"Latent Liab - Scen 2 - US Asbestos - Cur Yr - loading for future medical advances",null,null,null,null,null,null,null,null,null,null,null,0]
["Sch Ve","Scenario Tests",null,"Latent Liab - Scen 2 - US Asbestos - Cur Yr - Liability Duration",null,null,null,null,null,null,null,null,null,null,null,0]
["Sch Ve","Scenario Tests",null,"Latent Liab - Scen 2 - US Asbestos - Cur Yr - Reserves after Inflation",null,null,null,null,null,null,null,null,null,null,null,0]
["Sch Ve","Scenario Tests",null,"Latent Liab - Scen 2 - US Asbestos - Cur Yr - 1yr emergence factor",null,null,null,null,null,null,null,null,null,null,null,0]
["Sch Ve","Scenario Tests",null,"Latent Liab - Scen 2 - US Asbestos - PY Yr - GAAP Reserves",null,null,null,null,null,null,null,null,null,null,null,0]
["Sch Ve","Scenario Tests",null,"Latent Liab - Scen 2 - US Asbestos - PY Yr - Net Paid",null,null,null,null,null,null,null,null,null,null,null,0]
["Sch Ve","Scenario Tests",null,"Latent Liab - Scen 2 - US Asbestos - PY+1 Yr - GAAP Reserves",null,null,null,null,null,null,null,null,null,null,null,0]
["Sch Ve","Scenario Tests",null,"Latent Liab - Scen 2 - US Asbestos - PY+1 Yr - Net Paid",null,null,null,null,null,null,null,null,null,null,null,0]
["Sch Ve","Scenario Tests",null,"Latent Liab - Scen 2 - US Enviro - Cur Yr - GAAP Reserves",null,null,null,null,null,null,null,null,null,null,null,0]
["Sch Ve","Scenario Tests",null,"Latent Liab - Scen 2 - US Enviro - Cur Yr - Net Paid",null,null,null,null,null,null,null,null,null,null,null,0]
["Sch Ve","Scenario Tests",null,"Latent Liab - Scen 2 - US Enviro - Cur Yr - Survival Ratio",null,null,null,null,null,null,null,null,null,null,null,0]
["Sch Ve","Scenario Tests",null,"Latent Liab - Scen 2 - US Enviro - Cur Yr - Liability Duration",null,null,null,null,null,null,null,null,null,null,null,0]
["Sch Ve","Scenario Tests",null,"Latent Liab - Scen 2 - US Enviro - Cur Yr - Reserves after Inflation",null,null,null,null,null,null,null,null,null,null,null,0]
["Sch Ve","Scenario Tests",null,"Latent Liab - Scen 2 - US Enviro - Cur Yr - 1yr emergence factor",null,null,null,null,null,null,null,null,null,null,null,0]
["Sch Ve","Scenario Tests",null,"Latent Liab - Scen 2 - US Enviro - PY Yr - GAAP Reserves",null,null,null,null,null,null,null,null,null,null,null,0]
["Sch Ve","Scenario Tests",null,"Latent Liab - Scen 2 - US Enviro - PY Yr - Net Paid",null,null,null,null,null,null,null,null,null,null,null,0]
["Sch Ve","Scenario Tests",null,"Latent Liab - Scen 2 - US Enviro - PY+1 Yr - GAAP Reserves",null,null,null,null,null,null,null,null,null,null,null,0]
["Sch Ve","Scenario Tests",null,"Latent Liab - Scen 2 - US Enviro - PY+1 Yr - Net Paid",null,null,null,null,null,null,null,null,null,null,null,0]
["Sch Ve","Scenario Tests",null,"Latent Liab - Scen 2 - UK Asbestos - Cur Yr - GAAP Reserves",null,null,null,null,null,null,null,null,null,null,null,0]
["Sch Ve","Scenario Tests",null,"Latent Liab - Scen 2 - UK Asbestos - Cur Yr - Reserve post claims",null,null,null,null,null,null,null,null,null,null,null,0]
["Sch Ve","Scenario Tests",null,"Latent Liab - Scen 2 - UK Asbestos - Cur Yr - loading for future medical advances",null,null,null,null,null,null,null,null,null,null,null,0]
["Sch Ve","Scenario Tests",null,"Latent Liab - Scen 2 - UK Asbestos - Cur Yr - Liability Duration",null,null,null,null,null,null,null,null,null,null,null,0]
["Sch Ve","Scenario Tests",null,"Latent Liab - Scen 2 - UK Asbestos - Cur Yr - Reserves after Inflation",null,null,null,null,null,null,null,null,null,null,null,0]
["Sch Ve","Scenario Tests",null,"Latent Liab - Scen 2 - UK Asbestos - Cur Yr - 1yr emergence factor",null,null,null,null,null,null,null,null,null,null,null,0]
["Sch Ve","Scenario Tests",null,"Rating Downgrade Details",null,null,null,null,null,null,null,null,null,null,null,0]
["Sch Ve","Scenario Tests",null," Worst Case Scenario - RP 1",null,null,null,null,null,null,null,null,null,null,null,0]
["Sch Ve","Scenario Tests",null," Worst Case Scenario - RP 2",null,null,null,null,null,null,null,null,null,null,null,0]
["Sch Ve","Scenario Tests",null," 2a. Series of Loss - Gross Loss",null,null,null,null,null,null,null,null,null,null,null,0]
["Sch Ve","Scenario Tests",null," 2a. Series of Loss - Net Loss",null,null,null,null,null,null,null,null,null,null,null,0]
["Sch Ve","Scenario Tests",null," 2a. Series of Loss - Risk Measure",null,null,null,null,null,null,null,null,null,null,null,0]
["Sch Ve","Scenario Tests",null," 2a. Series of Loss - Time Horizon",null,null,null,null,null,null,null,null,null,null,null,0]
["Sch Ve","Scenario Tests",null," 2a. Series of Loss - Return Period 1",null,null,null,null,null,null,null,null,null,null,null,0]
["Sch Ve","Scenario Tests",null," 2a. Series of Loss - Return Period 2",null,null,null,null,null,null,null,null,null,null,null,0]
["Sch Ve","Scenario Tests",null," 2a. Series of Loss - Cat. Model",null,null,null,null,null,null,null,null,null,null,null,0]
["Sch Ve","Scenario Tests",null,"2b. Specific Worst Case Scen.- Details",null,null,null,null,null,null,null,null,null,null,null,0]
["Sch Ve","Scenario Tests",null,"2b. Specific WC Scen.- Gross Loss",null,null,null,null,null,null,null,null,null,null,null,0]
["Sch Ve","Scenario Tests",null,"2b. Specific WC Scen.- Net Loss",null,null,null,null,null,null,null,null,null,null,null,0]
["Sch Ve","Scenario Tests",null,"2b. Specific WC Scen.- RP 1",null,null,null,null,null,null,null,null,null,null,null,0]
["Sch Ve","Scenario Tests",null,"2b. Specific WC Scen.- RP 2",null,null,null,null,null,null,null,null,null,null,null,0]
["Sch Ve","Scenario Tests",null," Reserve Stress Test - Details",null,null,null,null,null,null,null,null,null,null,null,0]
["Sch Ve","Scenario Tests",null," Reserve Stress Test - Gross Loss",null,null,null,null,null,null,null,null,null,null,null,0]
["Sch Ve","Scenario Tests",null," Reserve Stress Test - Net Loss",null,null,null,null,null,null,null,null,null,null,null,0]
["Sch Ve","Scenario Tests",null," Reserve Stress Test - RP 1",null,null,null,null,null,null,null,null,null,null,null,0]
["Sch Ve","Scenario Tests",null," Reserve Stress Test - RP 2",null,null,null,null,null,null,null,null,null,null,null,0]
["Sch Ve","Scenario Tests",null," Terrorism Vendor Model",null,null,null,null,null,null,null,null,null,null,null,0]
["Sch Ve","Scenario Tests",null," Terrorism Loss 1 - State",null,null,null,null,null,null,null,null,null,null,null,0]
["Sch Ve","Scenario Tests",null," Terrorism Loss 1 - Country",null,null,null,null,null,null,null,null,null,null,null,0]
["Sch Ve","Scenario Tests",null," Terrorism Loss 1 - Gross Loss",null,null,null,null,null,null,null,null,null,null,null,0]
["Sch Ve","Scenario Tests",null," Terrorism Loss 1 - TRIP",null,null,null,null,null,null,null,null,null,null,null,0]
["Sch Ve","Scenario Tests",null," Terrorism Loss 1 - R/I Recoverable",null,null,null,null,null,null,null,null,null,null,null,0]
["Sch Ve","Scenario Tests",null," Terrorism Loss 1 - Net Loss",null,null,null,null,null,null,null,null,null,null,null,0]
["Sch Ve","Scenario Tests",null," Terrorism Loss 1 - Location",null,null,null,null,null,null,null,null,null,null,null,0]
["Sch Ve","Scenario Tests",null," Terrorism Loss 2 - State",null,null,null,null,null,null,null,null,null,null,null,0]
["Sch Ve","Scenario Tests",null," Terrorism Loss 2 - Country",null,null,null,null,null,null,null,null,null,null,null,0]
["Sch Ve","Scenario Tests",null," Terrorism Loss 2 - Gross Loss",null,null,null,null,null,null,null,null,null,null,null,0]
["Sch Ve","Scenario Tests",null," Terrorism Loss 2 - TRIP",null,null,null,null,null,null,null,null,null,null,null,0]
["Sch Ve","Scenario Tests",null," Terrorism Loss 2 - R/I Recoverable",null,null,null,null,null,null,null,null,null,null,null,0]
["Sch Ve","Scenario Tests",null," Terrorism Loss 2 - Net Loss",null,null,null,null,null,null,null,null,null,null,null,0]
["Sch Ve","Scenario Tests",null," Terrorism Loss 2 - Location",null,null,null,null,null,null,null,null,null,null,null,0]
["Sch Ve","Scenario Tests",null," Terrorism Loss 3 - State",null,null,null,null,null,null,null,null,null,null,null,0]
["Sch Ve","Scenario Tests",null," Terrorism Loss 3 - Country",null,null,null,null,null,null,null,null,null,null,null,0]
["Sch Ve","Scenario Tests",null," Terrorism Loss 3 - Gross Loss",null,null,null,null,null,null,null,null,null,null,null,0]
["Sch Ve","Scenario Tests",null," Terrorism Loss 3 - TRIP",null,null,null,null,null,null,null,null,null,null,null,0]
["Sch Ve","Scenario Tests",null," Terrorism Loss 3 - R/I Recoverable",null,null,null,null,null,null,null,null,null,null,null,0]
["Sch Ve","Scenario Tests",null," Terrorism Loss 3 - Net Loss",null,null,null,null,null,null,null,null,null,null,null,0]
["Sch Ve","Scenario Tests",null," Terrorism Loss 3 - Location",null,null,null,null,null,null,null,null,null,null,null,0]
["Sch Ve","Scenario Tests",null," Terrorism Loss 4 - State",null,null,null,null,null,null,null,null,null,null,null,0]
["Sch Ve","Scenario Tests",null," Terrorism Loss 4 - Country",null,null,null,null,null,null,null,null,null,null,null,0]
["Sch Ve","Scenario Tests",null," Terrorism Loss 4 - Gross Loss",null,null,null,null,null,null,null,null,null,null,null,0]
["Sch Ve","Scenario Tests",null," Terrorism Loss 4 - TRIP",null,null,null,null,null,null,null,null,null,null,null,0]
["Sch Ve","Scenario Tests",null," Terrorism Loss 4 - R/I Recoverable",null,null,null,null,null,null,null,null,null,null,null,0]
["Sch Ve","Scenario Tests",null," Terrorism Loss 4 - Net Loss",null,null,null,null,null,null,null,null,null,null,null,0]
["Sch Ve","Scenario Tests",null," Terrorism Loss 4 - Location",null,null,null,null,null,null,null,null,null,null,null,0]
["Sch Ve","Scenario Tests",null," Terrorism Loss 5 - State",null,null,null,null,null,null,null,null,null,null,null,0]
["Sch Ve","Scenario Tests",null," Terrorism Loss 5 - Country",null,null,null,null,null,null,null,null,null,null,null,0]
["Sch Ve","Scenario Tests",null," Terrorism Loss 5 - Gross Loss",null,null,null,null,null,null,null,null,null,null,null,0]
["Sch Ve","Scenario Tests",null," Terrorism Loss 5 - TRIP",null,null,null,null,null,null,null,null,null,null,null,0]
["Sch Ve","Scenario Tests",null," Terrorism Loss 5 - R/I Recoverable",null,null,null,null,null,null,null,null,null,null,null,0]
["Sch Ve","Scenario Tests",null," Terrorism Loss 5 - Net Loss",null,null,null,null,null,null,null,null,null,null,null,0]
["Sch Ve","Scenario Tests",null," Terrorism Loss 5 - Location",null,null,null,null,null,null,null,null,null,null,null,0]
["Sch Ve","Scenario Tests",null," Terrorism Loss 6 - State",null,null,null,null,null,null,null,null,null,null,null,0]
["Sch Ve","Scenario Tests",null," Terrorism Loss 6 - Country",null,null,null,null,null,null,null,null,null,null,null,0]
["Sch Ve","Scenario Tests",null," Terrorism Loss 6 - Gross Loss",null,null,null,null,null,null,null,null,null,null,null,0]
["Sch Ve","Scenario Tests",null," Terrorism Loss 6 - TRIP",null,null,null,null,null,null,null,null,null,null,null,0]
["Sch Ve","Scenario Tests",null," Terrorism Loss 6 - R/I Recoverable",null,null,null,null,null,null,null,null,null,null,null,0]
["Sch Ve","Scenario Tests",null," Terrorism Loss 6 - Net Loss",null,null,null,null,null,null,null,null,null,null,null,0]
["Sch Ve","Scenario Tests",null," Terrorism Loss 6 - Location",null,null,null,null,null,null,null,null,null,null,null,0]
["Sch Ve","Scenario Tests",null," Terrorism Loss 7 - State",null,null,null,null,null,null,null,null,null,null,null,0]
["Sch Ve","Scenario Tests",null," Terrorism Loss 7 - Country",null,null,null,null,null,null,null,null,null,null,null,0]
["Sch Ve","Scenario Tests",null," Terrorism Loss 7 - Gross Loss",null,null,null,null,null,null,null,null,null,null,null,0]
["Sch Ve","Scenario Tests",null," Terrorism Loss 7 - TRIP",null,null,null,null,null,null,null,null,null,null,null,0]
["Sch Ve","Scenario Tests",null," Terrorism Loss 7 - R/I Recoverable",null,null,null,null,null,null,null,null,null,null,null,0]
["Sch Ve","Scenario Tests",null," Terrorism Loss 7 - Net Loss",null,null,null,null,null,null,null,null,null,null,null,0]
["Sch Ve","Scenario Tests",null," Terrorism Loss 7 - Location",null,null,null,null,null,null,null,null,null,null,null,0]
["Sch Ve","Scenario Tests",null," Terrorism Loss 8 - State",null,null,null,null,null,null,null,null,null,null,null,0]
["Sch Ve","Scenario Tests",null," Terrorism Loss 8 - Country",null,null,null,null,null,null,null,null,null,null,null,0]
["Sch Ve","Scenario Tests",null," Terrorism Loss 8 - Gross Loss",null,null,null,null,null,null,null,null,null,null,null,0]
["Sch Ve","Scenario Tests",null," Terrorism Loss 8 - TRIP",null,null,null,null,null,null,null,null,null,null,null,0]
["Sch Ve","Scenario Tests",null," Terrorism Loss 8 - R/I Recoverable",null,null,null,null,null,null,null,null,null,null,null,0]
["Sch Ve","Scenario Tests",null," Terrorism Loss 8 - Net Loss",null,null,null,null,null,null,null,null,null,null,null,0]
["Sch Ve","Scenario Tests",null," Terrorism Loss 8 - Location",null,null,null,null,null,null,null,null,null,null,null,0]
["Sch Ve","Scenario Tests",null," Terrorism Loss 9 - State",null,null,null,null,null,null,null,null,null,null,null,0]
["Sch Ve","Scenario Tests",null," Terrorism Loss 9 - Country",null,null,null,null,null,null,null,null,null,null,null,0]
["Sch Ve","Scenario Tests",null," Terrorism Loss 9 - Gross Loss",null,null,null,null,null,null,null,null,null,null,null,0]
["Sch Ve","Scenario Tests",null," Terrorism Loss 9 - TRIP",null,null,null,null,null,null,null,null,null,null,null,0]
["Sch Ve","Scenario Tests",null," Terrorism Loss 9 - R/I Recoverable",null,null,null,null,null,null,null,null,null,null,null,0]
["Sch Ve","Scenario Tests",null," Terrorism Loss 9 - Net Loss",null,null,null,null,null,null,null,null,null,null,null,0]
["Sch Ve","Scenario Tests",null," Terrorism Loss 9 - Location",null,null,null,null,null,null,null,null,null,null,null,0]
["Sch Ve","Scenario Tests",null," Terrorism Loss 1 - State",null,null,null,null,null,null,null,null,null,null,null,0]
["Sch Ve","Scenario Tests",null," Terrorism Loss 1 - Country",null,null,null,null,null,null,null,null,null,null,null,0]
["Sch Ve","Scenario Tests",null," Terrorism Loss 1 - Gross Loss",null,null,null,null,null,null,null,null,null,null,null,0]
["Sch Ve","Scenario Tests",null," Terrorism Loss 1 - TRIP",null,null,null,null,null,null,null,null,null,null,null,0]
["Sch Ve","Scenario Tests",null," Terrorism Loss 1 - R/I Recoverable",null,null,null,null,null,null,null,null,null,null,null,0]
["Sch Ve","Scenario Tests",null," Terrorism Loss 1 - Net Loss",null,null,null,null,null,null,null,null,null,null,null,0]
["Sch Ve","Scenario Tests",null," Terrorism Loss 1 - Location",null,null,null,null,null,null,null,null,null,null,null,0]
["Sch Ve","Scenario Tests",null,"Results consolidated by a Bermuda (re)insurer",null,null,null,null,null,null,null,null,null,null,null,0]
["Sch Ve","Scenario Tests",null,"Name of the Parent Bermuda (re)insurer",null,null,null,null,null,null,null,null,null,null,null,0]
["Sch Ve","Scenario Tests",null,"Cyber - 1. Cyber Policies in Force - No - Direct",0,null,0,null,null,null,null,null,null,null,null,0]
["Sch Ve","Scenario Tests",null,"Cyber - 1. Gross Exp. in Force - Direct",0,null,0,null,null,null,null,null,null,null,null,0]
["Sch Ve","Scenario Tests",null,"Cyber - 1. Net Exp. in Force - Direct",0,null,0,null,null,null,null,null,null,null,null,0]
["Sch Ve","Scenario Tests",null,"Cyber - 1. Cyber GPW - Direct",0,null,0,null,null,null,null,null,null,null,null,0]
["Sch Ve","Scenario Tests",null,"Cyber - 1. Cyber NPW - Direct",0,null,0,null,null,null,null,null,null,null,null,0]
["Sch Ve","Scenario Tests",null,"Cyber - 1. Gross Reserves - Direct",0,null,0,null,null,null,null,null,null,null,null,0]
["Sch Ve","Scenario Tests",null,"Cyber - 1. Net Reserves - Direct",0,null,0,null,null,null,null,null,null,null,null,0]
["Sch Ve","Scenario Tests",null,"Cyber - 1. No. Reported Claims - Direct",0,null,0,null,null,null,null,null,null,null,null,0]
["Sch Ve","Scenario Tests",null,"Cyber - 1. Claims Paid - Direct",0,null,0,null,null,null,null,null,null,null,null,0]
["Sch Ve","Scenario Tests",null,"Cyber - 1. Claims Incur - Direct",0,null,0,null,null,null,null,null,null,null,null,0]
["Sch Ve","Scenario Tests",null,"Cyber - 1. Cyber Avg. Claims - Direct",0,null,0,null,null,null,null,null,null,null,null,0]
["Sch Ve","Scenario Tests",null,"Cyber - 1. Cyber Lrg Claims - Direct",0,null,0,null,null,null,null,null,null,null,null,0]
["Sch Ve","Scenario Tests",null,"Cyber - 1. Cyber - Descr. - Direct",0,null,null,null,null,null,null,null,null,null,null,0]
["Sch Ve","Scenario Tests",null,"Cyber - 1. Cyber Policies in Force - No - R/I",0,null,0,null,null,null,null,null,null,null,null,0]
["Sch Ve","Scenario Tests",null,"Cyber - 1. Gross Exp. in Force - R/I",0,null,0,null,null,null,null,null,null,null,null,0]
["Sch Ve","Scenario Tests",null,"Cyber - 1. Net Exp. in Force - R/I",0,null,0,null,null,null,null,null,null,null,null,0]
["Sch Ve","Scenario Tests",null,"Cyber - 1. Cyber GPW - R/I",0,null,0,null,null,null,null,null,null,null,null,0]
["Sch Ve","Scenario Tests",null,"Cyber - 1. Cyber NPW - R/I",0,null,0,null,null,null,null,null,null,null,null,0]
["Sch Ve","Scenario Tests",null,"Cyber - 1. Gross Reserves - R/I",0,null,0,null,null,null,null,null,null,null,null,0]
["Sch Ve","Scenario Tests",null,"Cyber - 1. Net Reserves - R/I",0,null,0,null,null,null,null,null,null,null,null,0]
["Sch Ve","Scenario Tests",null,"Cyber - 1. No. Reported Claims - R/I",0,null,0,null,null,null,null,null,null,null,null,0]
["Sch Ve","Scenario Tests",null,"Cyber - 1. Claims Paid - R/I",0,null,0,null,null,null,null,null,null,null,null,0]
["Sch Ve","Scenario Tests",null,"Cyber - 1. Claims Incur - R/I",0,null,0,null,null,null,null,null,null,null,null,0]
["Sch Ve","Scenario Tests",null,"Cyber - 1. Cyber Avg. Claims - R/I",0,null,0,null,null,null,null,null,null,null,null,0]
["Sch Ve","Scenario Tests",null,"Cyber - 1. Cyber Lrg Claims - R/I",0,null,0,null,null,null,null,null,null,null,null,0]
["Sch Ve","Scenario Tests",null,"Cyber - 1. Cyber - Descr.- R/I",0,null,null,null,null,null,null,null,null,null,null,0]
["Sch Ve","Scenario Tests",null,"Cyber - 1. Cyber Policies in Force - No - Package",0,null,0,null,null,null,null,null,null,null,null,0]
["Sch Ve","Scenario Tests",null,"Cyber - 1. Gross Exp. in Force - Package",0,null,0,null,null,null,null,null,null,null,null,"Select"]
["Sch Ve","Scenario Tests",null,"Cyber - 1. Net Exp. in Force - Package",0,null,0,null,null,null,null,null,null,null,null,0]
["Sch Ve","Scenario Tests",null,"Cyber - 1. Cyber GPW - Package",0,null,0,null,null,null,null,null,null,null,null,0,null,0]
["Sch Ve","Scenario Tests",null,"Cyber - 1. Cyber NPW - Package",0,null,0,null,null,null,null,null,null,null,null,0,null,0]
["Sch Ve","Scenario Tests",null,"Cyber - 1. Gross Reserves - Package",0,null,0,null,null,null,null,null,null,null,null,0,null,0]
["Sch Ve","Scenario Tests",null,"Cyber - 1. Net Reserves - Package",0,null,0,null,null,null,null,null,null,null,null,0,null,0]
["Sch Ve","Scenario Tests",null,"Cyber - 1. No. Reported Claims - Package",0,null,0,null,null,null,null,null,null,null,null,0,null,0]
["Sch Ve","Scenario Tests",null,"Cyber - 1. Claims Paid - Package",0,null,0,null,null,null,null,null,null,null,null,0,null,0]
["Sch Ve","Scenario Tests",null,"Cyber - 1. Claims Incur - Package",0,null,0,null,null,null,null,null,null,null,null,0,null,0]
["Sch Ve","Scenario Tests",null,"Cyber - 1. Cyber Avg. Claims - Package",0,null,0,null,null,null,null,null,null,null,null,0,null,0]
["Sch Ve","Scenario Tests",null,"Cyber - 1. Cyber Lrg Claims - Package",0,null,0,null,null,null,null,null,null,null,null,0,null,0]
["Sch Ve","Scenario Tests",null,"Cyber - 1. Cyber - Descr.- Package",0,null,null,null,null,null,null,null,null,null,null,0,null,0]
["Sch Ve","Scenario Tests",null,"Cyber - 1. Cyber Policies in Force - No - Related",0,null,0,null,null,null,null,null,null,null,null,0,null,0]
["Sch Ve","Scenario Tests",null,"Cyber - 1. Gross Exp. in Force - Related",0,null,0,null,null,null,null,null,null,null,null,0,null,0]
["Sch Ve","Scenario Tests",null,"Cyber - 1. Net Exp. in Force - Related",0,null,0,null,null,null,null,null,null,null,null,0]
["Sch Ve","Scenario Tests",null,"Cyber - 1. Cyber GPW - Related",0,null,0,null,null,null,null,null,null,null,null,0,null,0]
["Sch Ve","Scenario Tests",null,"Cyber - 1. Cyber NPW - Related",0,null,0,null,null,null,null,null,null,null,null,0,null,0]
["Sch Ve","Scenario Tests",null,"Cyber - 1. Gross Reserves - Related",0,null,0,null,null,null,null,null,null,null,null,0,null,0]
["Sch Ve","Scenario Tests",null,"Cyber - 1. Net Reserves - Related",0,null,0,null,null,null,null,null,null,null,null,0,null,0]
["Sch Ve","Scenario Tests",null,"Cyber - 1. No. Reported Claims - Related",0,null,0,null,null,null,null,null,null,null,null,0,null,0]
["Sch Ve","Scenario Tests",null,"Cyber - 1. Claims Paid - Related",0,null,0,null,null,null,null,null,null,null,null,0,null,0]
["Sch Ve","Scenario Tests",null,"Cyber - 1. Claims Incur - Related",0,null,0,null,null,null,null,null,null,null,null,0,null,0]
["Sch Ve","Scenario Tests",null,"Cyber - 1. Cyber Avg. Claims - Related",0,null,0,null,null,null,null,null,null,null,null,0,null,0]
["Sch Ve","Scenario Tests",null,"Cyber - 1. Cyber Lrg Claims - Related",0,null,0,null,null,null,null,null,null,null,null,0,null,0]
["Sch Ve","Scenario Tests",null,"Cyber - 1. Cyber - Descr.- Related",0,null,null,null,null,null,null,null,null,null,null,0,null,0]
["Sch Ve","Scenario Tests",null,"Cyber - 1. Cyber Policies in Force - No - Unrelated",0,null,0,null,null,null,null,null,null,null,null,0,null,0]
["Sch Ve","Scenario Tests",null,"Cyber - 1. Gross Exp. in Force - Unrelated",0,null,0,null,null,null,null,null,null,null,null,0,null,0]
["Sch Ve","Scenario Tests",null,"Cyber - 1. Net Exp. in Force - Unrelated",0,null,0,null,null,null,null,null,null,null,null,0]
["Sch Ve","Scenario Tests",null,"Cyber - 1. Cyber GPW - Unrelated",0,null,0,null,null,null,null,null,null,null,null,0,null,0]
["Sch Ve","Scenario Tests",null,"Cyber - 1. Cyber NPW - Unrelated",0,null,0,null,null,null,null,null,null,null,null,0,null,0]
["Sch Ve","Scenario Tests",null,"Cyber - 1. Gross Reserves - Unrelated",0,null,0,null,null,null,null,null,null,null,null,0,null,0]
["Sch Ve","Scenario Tests",null,"Cyber - 1. Net Reserves - Unrelated",0,null,0,null,null,null,null,null,null,null,null,0,null,0]
["Sch Ve","Scenario Tests",null,"Cyber - 1. No. Reported Claims - Unrelated",0,null,0,null,null,null,null,null,null,null,null,0,null,0]
["Sch Ve","Scenario Tests",null,"Cyber - 1. Claims Paid - Unrelated",0,null,0,null,null,null,null,null,null,null,null,0,null,0]
["Sch Ve","Scenario Tests",null,"Cyber - 1. Claims Incur - Unrelated",0,null,0,null,null,null,null,null,null,null,null,0,null,0]
["Sch Ve","Scenario Tests",null,"Cyber - 1. Cyber Avg. Claims - Unrelated",0,null,0,null,null,null,null,null,null,null,null,0,null,0]
["Sch Ve","Scenario Tests",null,"Cyber - 1. Cyber Lrg Claims - Unrelated",0,null,0,null,null,null,null,null,null,null,null,0,null,0]
["Sch Ve","Scenario Tests",null,"Cyber - 1. Cyber - Descr.- Unrelated",0,null,null,null,null,null,null,null,null,null,null,0,null,0]
["Sch Ve","Scenario Tests",null,"Cyber - 1. # of Policies Direct - US",0,null,null,null,null,null,null,null,null,null,null,0,null,0]
["Sch Ve","Scenario Tests",null,"Cyber - 1. # of Policies Direct - Canada",0,null,null,null,null,null,null,null,null,null,null,0,null,0]
["Sch Ve","Scenario Tests",null,"Cyber - 1. # of Policies Direct - UK & Europe",0,null,null,null,null,null,null,null,null,null,null,0]
["Sch Ve","Scenario Tests",null,"Cyber - 1. # of Policies Direct - Australia & New Zealand",0]
["Sch Ve","Scenario Tests",null,"Cyber - 1. # of Policies Direct - Japan",0]
["Sch Ve","Scenario Tests",null,"Cyber - 1. # of Policies Direct - Worldwide",0]
["Sch Ve","Scenario Tests",null,"Cyber - 1. # of Policies Direct - Other",0]
["Sch Ve","Scenario Tests",null,"Cyber - 1. Cyber GPW-Direct - US",0]
["Sch Ve","Scenario Tests",null,"Cyber - 1. Cyber GPW-Direct - Canada",0]
["Sch Ve","Scenario Tests",null,"Cyber - 1. Cyber GPW-Direct - UK & Europe",0]
["Sch Ve","Scenario Tests",null,"Cyber - 1. Cyber GPW-Direct - Australia & New Zealand",0]
["Sch Ve","Scenario Tests",null,"Cyber - 1. Cyber GPW-Direct - Japan",0]
["Sch Ve","Scenario Tests",null,"Cyber - 1. Cyber GPW-Direct - Worldwide",0]
["Sch Ve","Scenario Tests",null,"Cyber - 1. Cyber GPW-Direct - Other",0]
["Sch Ve","Scenario Tests",null,"Cyber - 1. Cyber NPW-Direct - US",0]
["Sch Ve","Scenario Tests",null,"Cyber - 1. Cyber NPW-Direct - Canada",0]
["Sch Ve","Scenario Tests",null,"Cyber - 1. Cyber NPW-Direct - UK & Europe",0]
["Sch Ve","Scenario Tests",null,"Cyber - 1. Cyber NPW-Direct - Australia & New Zealand",0]
["Sch Ve","Scenario Tests",null,"Cyber - 1. Cyber NPW-Direct - Japan",0]
["Sch Ve","Scenario Tests",null,"Cyber - 1. Cyber NPW-Direct - Worldwide",0]
["Sch Ve","Scenario Tests",null,"Cyber - 1. Cyber NPW-Direct - Other",0]
["Sch Ve","Scenario Tests",null,"Cyber - 1. Cyber Gross Exposure-Direct - US",0]
["Sch Ve","Scenario Tests",null,"Cyber - 1. Cyber Gross Exposure-Direct - Canada",0]
["Sch Ve","Scenario Tests",null,"Cyber - 1. Cyber Gross Exposure-Direct - UK & Europe",0]
["Sch Ve","Scenario Tests",null,"Cyber - 1. Cyber Gross Exposure-Direct - Australia & New Zealand",0]
["Sch Ve","Scenario Tests",null,"Cyber - 1. Cyber Gross Exposure-Direct - Japan",0]
["Sch Ve","Scenario Tests",null,"Cyber - 1. Cyber Gross Exposure-Direct - Worldwide",0]
["Sch Ve","Scenario Tests",null,"Cyber - 1. Cyber Gross Exposure-Direct - Other",0]
["Sch Ve","Scenario Tests",null,"Cyber - 1. Cyber Net Exposure-Direct - US",0]
["Sch Ve","Scenario Tests",null,"Cyber - 1. Cyber Net Exposure-Direct - Canada",0,null,null,null,null,null,null,null,null,null,null,0]
["Sch Ve","Scenario Tests",null,"Cyber - 1. Cyber Net Exposure-Direct - UK & Europe",0,null,null,null,null,null,null,null,null,null,null,0]
["Sch Ve","Scenario Tests",null,"Cyber - 1. Cyber Net Exposure-Direct - Australia & New Zealand",0,null,null,null,null,null,null,null,null,null,null,0]
["Sch Ve","Scenario Tests",null,"Cyber - 1. Cyber Net Exposure-Direct - Japan",0,null,null,null,null,null,null,null,null,null,null,0]
["Sch Ve","Scenario Tests",null,"Cyber - 1. Cyber Net Exposure-Direct - Worldwide",0,null,null,null,null,null,null,null,null,null,null,0]
["Sch Ve","Scenario Tests",null,"Cyber - 1. Cyber Net Exposure-Direct - Other",0,null,null,null,null,null,null,null,null,null,null,0]
["Sch Ve","Scenario Tests",null,"Cyber - 1. # of Policies R/I - US",0,null,null,null,null,null,null,null,null,null,null,0]
["Sch Ve","Scenario Tests",null,"Cyber - 1. # of Policies R/I - Canada",0,null,null,null,null,null,null,null,null,null,null,0]
["Sch Ve","Scenario Tests",null,"Cyber - 1. # of Policies R/I - UK & Europe",0,null,null,null,null,null,null,null,null,null,null,0]
["Sch Ve","Scenario Tests",null,"Cyber - 1. # of Policies R/I - Australia & New Zealand",0,null,null,null,null,null,null,null,null,null,null,0]
["Sch Ve","Scenario Tests",null,"Cyber - 1. # of Policies R/I - Japan",0,null,null,null,null,null,null,null,null,null,null,0]
["Sch Ve","Scenario Tests",null,"Cyber - 1. # of Policies R/I - Worldwide",0,null,null,null,null,null,null,null,null,null,null,0]
["Sch Ve","Scenario Tests",null,"Cyber - 1. # of Policies R/I - Other",0,null,null,null,null,null,null,null,null,null,null,0]
["Sch Ve","Scenario Tests",null,"Cyber - 1. Cyber GPW-R/I - US",0,null,null,null,null,null,null,null,null,null,null,0]
["Sch Ve","Scenario Tests",null,"Cyber - 1. Cyber GPW-R/I - Canada",0,null,null,null,null,null,null,null,null,null,null,0]
["Sch Ve","Scenario Tests",null,"Cyber - 1. Cyber GPW-R/I - UK & Europe",0,null,null,null,null,null,null,null,null,null,null,0]
["Sch Ve","Scenario Tests",null,"Cyber - 1. Cyber GPW-R/I - Australia & New Zealand",0,null,null,null,null,null,null,null,null,null,null,0]
["Sch Ve","Scenario Tests",null,"Cyber - 1. Cyber GPW-R/I - Japan",0,null,null,null,null,null,null,null,null,null,null,0]
["Sch Ve","Scenario Tests",null,"Cyber - 1. Cyber GPW-R/I - Worldwide",0,null,null,null,null,null,null,null,null,null,null,0]
["Sch Ve","Scenario Tests",null,"Cyber - 1. Cyber GPW-R/I - Other",0,null,null,null,null,null,null,null,null,null,null,0]
["Sch Ve","Scenario Tests",null,"Cyber - 1. Cyber NPW-R/I - US",0,null,null,null,null,null,null,null,null,null,null,0]
["Sch Ve","Scenario Tests",null,"Cyber - 1. Cyber NPW-R/I - Canada",0,null,null,null,null,null,null,null,null,null,null,0]
["Sch Ve","Scenario Tests",null,"Cyber - 1. Cyber NPW-R/I - UK & Europe",0,null,null,null,null,null,null,null,null,null,null,0]
["Sch Ve","Scenario Tests",null,"Cyber - 1. Cyber NPW-R/I - Australia & New Zealand",0,null,null,null,null,null,null,null,null,null,null,0]
["Sch Ve","Scenario Tests",null,"Cyber - 1. Cyber NPW-R/I - Japan",0,null,null,null,null,null,null,null,null,null,null,0]
["Sch Ve","Scenario Tests",null,"Cyber - 1. Cyber NPW-R/I - Worldwide",0,null,null,null,null,null,null,null,null,null,null,0]
["Sch Ve","Scenario Tests",null,"Cyber - 1. Cyber NPW-R/I - Other",0,null,null,null,null,null,null,null,null,null,null,0]
["Sch Ve","Scenario Tests",null,"Cyber - 1. Cyber Gross Exposure-R/I - US",0,null,null,null,null,null,null,null,null,null,null,0]
["Sch Ve","Scenario Tests",null,"Cyber - 1. Cyber Gross Exposure-R/I - Canada",0,null,null,null,null,null,null,null,null,null,null,0]
["Sch Ve","Scenario Tests",null,"Cyber - 1. Cyber Gross Exposure-R/I - UK & Europe",0,null,null,null,null,null,null,null,null,null,null,0]
["Sch Ve","Scenario Tests",null,"Cyber - 1. Cyber Gross Exposure-R/I - Australia & New Zealand",0,null,null,null,null,null,null,null,null,null,null,0]
["Sch Ve","Scenario Tests",null,"Cyber - 1. Cyber Gross Exposure-R/I - Japan",0,null,null,null,null,null,null,null,null,null,null,0]
["Sch Ve","Scenario Tests",null,"Cyber - 1. Cyber Gross Exposure-R/I - Worldwide",0,null,null,null,null,null,null,null,null,null,null,0]
["Sch Ve","Scenario Tests",null,"Cyber - 1. Cyber Gross Exposure-R/I - Other",0,null,null,null,null,null,null,null,null,null,null,0]
["Sch Ve","Scenario Tests",null,"Cyber - 1. Cyber Net Exposure-R/I - US",0,null,null,null,null,null,null,null,null,null,null,0]
["Sch Ve","Scenario Tests",null,"Cyber - 1. Cyber Net Exposure-R/I - Canada",0,null,null,null,null,null,null,null,null,null,null,0]
["Sch Ve","Scenario Tests",null,"Cyber - 1. Cyber Net Exposure-R/I - UK & Europe",0,null,null,null,null,null,null,null,null,null,null,0]
["Sch Ve","Scenario Tests",null,"Cyber - 1. Cyber Net Exposure-R/I - Australia & New Zealand",0,null,null,null,null,null,null,null,null,null,null,0]
["Sch Ve","Scenario Tests",null,"Cyber - 1. Cyber Net Exposure-R/I - Japan",0,null,null,null,null,null,null,null,null,null,null,0]
["Sch Ve","Scenario Tests",null,"Cyber - 1. Cyber Net Exposure-R/I - Worldwide",0,null,null,null,null,null,null,null,null,null,null,0]
["Sch Ve","Scenario Tests",null,"Cyber - 1. Cyber Net Exposure-R/I - Other",0,null,null,null,null,null,null,null,null,null,null,0]
["Sch Ve","Scenario Tests",null,"Cyber - 1. # of Policies Package - US",0,null,null,null,null,null,null,null,null,null,null,0]
["Sch Ve","Scenario Tests",null,"Cyber - 1. # of Policies Package - Canada",0,null,null,null,null,null,null,null,null,null,null,0]
["Sch Ve","Scenario Tests",null,"Cyber - 1. # of Policies Package - UK & Europe",0,null,null,null,null,null,null,null,null,null,null,0]
["Sch Ve","Scenario Tests",null,"Cyber - 1. # of Policies Package - Australia & New Zealand",0,null,null,null,null,null,null,null,null,null,null,0]
["Sch Ve","Scenario Tests",null,"Cyber - 1. # of Policies Package - Japan",0,null,null,null,null,null,null,null,null,null,null,0]
["Sch Ve","Scenario Tests",null,"Cyber - 1. # of Policies Package - Worldwide",0,null,null,null,null,null,null,null,null,null,null,0]
["Sch Ve","Scenario Tests",null,"Cyber - 1. # of Policies Package - Other",0,null,null,null,null,null,null,null,null,null,null,0]
["Sch Ve","Scenario Tests",null,"Cyber - 1. Cyber GPW-Package - US",0,null,null,null,null,null,null,null,null,null,null,0]
["Sch Ve","Scenario Tests",null,"Cyber - 1. Cyber GPW-Package - Canada",0,null,null,null,null,null,null,null,null,null,null,0]
["Sch Ve","Scenario Tests",null,"Cyber - 1. Cyber GPW-Package - UK & Europe",0,null,null,null,null,null,null,null,null,null,null,0]
["Sch Ve","Scenario Tests",null,"Cyber - 1. Cyber GPW-Package - Australia & New Zealand",0,null,null,null,null,null,null,null,null,null,null,0]
["Sch Ve","Scenario Tests",null,"Cyber - 1. Cyber GPW-Package - Japan",0,null,null,null,null,null,null,null,null,null,null,0]
["Sch Ve","Scenario Tests",null,"Cyber - 1. Cyber GPW-Package - Worldwide",0,null,null,null,null,null,null,null,null,null,null,0]
["Sch Ve","Scenario Tests",null,"Cyber - 1. Cyber GPW-Package - Other",0,null,null,null,null,null,null,null,null,null,null,0]
["Sch Ve","Scenario Tests",null,"Cyber - 1. Cyber NPW-Package - US",0,null,null,null,null,null,null,null,null,null,null,0]
["Sch Ve","Scenario Tests",null,"Cyber - 1. Cyber NPW-Package - Canada",0,null,null,null,null,null,null,null,null,null,null,0]
["Sch Ve","Scenario Tests",null,"Cyber - 1. Cyber NPW-Package - UK & Europe",0,null,null,null,null,null,null,null,null,null,null,0]
["Sch Ve","Scenario Tests",null,"Cyber - 1. Cyber NPW-Package - Australia & New Zealand",0,null,null,null,null,null,null,null,null,null,null,0]
["Sch Ve","Scenario Tests",null,"Cyber - 1. Cyber NPW-Package - Japan",0,null,null,null,null,null,null,null,null,null,null,0]
["Sch Ve","Scenario Tests",null,"Cyber - 1. Cyber NPW-Package - Worldwide",0,null,null,null,null,null,null,null,null,null,null,0]
["Sch Ve","Scenario Tests",null,"Cyber - 1. Cyber NPW-Package - Other",0,null,null,null,null,null,null,null,null,null,null,0]
["Sch Ve","Scenario Tests",null,"Cyber - 1. Cyber Gross Exposure-Package - US",0,null,null,null,null,null,null,null,null,null,null,0]
["Sch Ve","Scenario Tests",null,"Cyber - 1. Cyber Gross Exposure-Package - Canada",0,null,null,null,null,null,null,null,null,null,null,0]
["Sch Ve","Scenario Tests",null,"Cyber - 1. Cyber Gross Exposure-Package - UK & Europe",0,null,null,null,null,null,null,null,null,null,null,0]
["Sch Ve","Scenario Tests",null,"Cyber - 1. Cyber Gross Exposure-Package - Australia & New Zealand",0,null,null,null,null,null,null,null,null,null,null,0]
["Sch Ve","Scenario Tests",null,"Cyber - 1. Cyber Gross Exposure-Package - Japan",0,null,null,null,null,null,null,null,null,null,null,0]
["Sch Ve","Scenario Tests",null,"Cyber - 1. Cyber Gross Exposure-Package - Worldwide",0,null,null,null,null,null,null,null,null,null,null,0]
["Sch Ve","Scenario Tests",null,"Cyber - 1. Cyber Gross Exposure-Package - Other",0,null,null,null,null,null,null,null,null,null,null,0]
["Sch Ve","Scenario Tests",null,"Cyber - 1. Cyber Net Exposure-Package - US",0,null,null,null,null,null,null,null,null,null,null,0]
["Sch Ve","Scenario Tests",null,"Cyber - 1. Cyber Net Exposure-Package - Canada",0,null,null,null,null,null,null,null,null,null,null,0]
["Sch Ve","Scenario Tests",null,"Cyber - 1. Cyber Net Exposure-Package - UK & Europe",0,null,null,null,null,null,null,null,null,null,null,0]
["Sch Ve","Scenario Tests",null,"Cyber - 1. Cyber Net Exposure-Package - Australia & New Zealand",0,null,null,null,null,null,null,null,null,null,null,0]
["Sch Ve","Scenario Tests",null,"Cyber - 1. Cyber Net Exposure-Package - Japan",0,null,null,null,null,null,null,null,null,null,null,0]
["Sch Ve","Scenario Tests",null,"Cyber - 1. Cyber Net Exposure-Package - Worldwide",0,null,null,null,null,null,null,null,null,null,null,0]
["Sch Ve","Scenario Tests",null,"Cyber - 1. Cyber Net Exposure-Package - Other",0,null,null,null,null,null,null,null,null,null,null,0]
["Sch Ve","Scenario Tests",null,"Cyber - 2. Yes/No Property",null,null,null,null,null,null,null,null,null,null,null,0]
["Sch Ve","Scenario Tests",null,"Cyber - 2. Yes/No Property Non-Proportional",null,null,null,null,null,null,null,null,null,null,null,0]
["Sch Ve","Scenario Tests",null,"Cyber - 2. Yes/No Personal Accident",null,null,null,null,null,null,null,null,null,null,null,0]
["Sch Ve","Scenario Tests",null,"Cyber - 2. Yes/No Personal Accident Non-Proportional",null,null,null,null,null,null,null,null,null,null,null,0]
["Sch Ve","Scenario Tests",null,"Cyber - 2. Yes/No Aviation",null,null,null,null,null,null,null,null,null,null,null,0]
["Sch Ve","Scenario Tests",null,"Cyber - 2. Yes/No Aviation Non-Proportional",null,null,null,null,null,null,null,null,null,null,null,0]
["Sch Ve","Scenario Tests",null,"Cyber - 2. Yes/No Credit/Surety",null,null,null,null,null,null,null,null,null,null,null,0]
["Sch Ve","Scenario Tests",null,"Cyber - 2. Yes/No Credit/Surety - Non-Proportional",null,null,null,null,null,null,null,null,null,null,null,0]
["Sch Ve","Scenario Tests",null,"Cyber - 2. Yes/No Energy Offshore/Marine",null,null,null,null,null,null,null,null,null,null,null,0]
["Sch Ve","Scenario Tests",null,"Cyber - 2. Yes/No Energy offshore/Marine Non-Proportional",null,null,null,null,null,null,null,null,null,null,null,0]
["Sch Ve","Scenario Tests",null,"Cyber - 2. Yes/No US Casualty",null,null,null,null,null,null,null,null,null,null,null,0]
["Sch Ve","Scenario Tests",null,"Cyber - 2. Yes/No US Casualty Non-Proportional",null,null,null,null,null,null,null,null,null,null,null,0]
["Sch Ve","Scenario Tests",null,"Cyber - 2. Yes/No US Professional",null,null,null,null,null,null,null,null,null,null,null,0]
["Sch Ve","Scenario Tests",null,"Cyber - 2. Yes/No US Professional Non-Proportional",null,null,null,null,null,null,null,null,null,null,null,0]
["Sch Ve","Scenario Tests",null,"Cyber - 2. Yes/No US Specialty",null,null,null,null,null,null,null,null,null,null,null,0]
["Sch Ve","Scenario Tests",null,"Cyber - 2. Yes/No US Specialty Non-Proportional",null,null,null,null,null,null,null,null,null,null,null,0]
["Sch Ve","Scenario Tests",null,"Cyber - 2. Yes/No International Motor",null,null,null,null,null,null,null,null,null,null,null,0]
["Sch Ve","Scenario Tests",null,"Cyber - 2. Yes/No International Motor Non-Proportional",null,null,null,null,null,null,null,null,null,null,null,0]
["Sch Ve","Scenario Tests",null,"Cyber - 2. Yes/No International Casualty Non-Motor",null,null,null,null,null,null,null,null,null,null,null,0]
["Sch Ve","Scenario Tests",null,"Cyber - 2. Yes/No International Casualty Non-Motor Non-Proportional",null,null,null,null,null,null,null,null,null,null,null,0]
["Sch Ve","Scenario Tests",null,"Cyber - 2. Yes/No Retro Property",null,null,null,null,null,null,null,null,null,null,null,0]
["Sch Ve","Scenario Tests",null,"Cyber - 2. Yes/No Structured/Finite reinsurance",null,null,null,null,null,null,null,null,null,null,null,0]
["Sch Ve","Scenario Tests",null,"Cyber - 2. Yes/No Health",null,null,null,null,null,null,null,null,null,null,null,0]
["Sch Ve","Scenario Tests",null,"Cyber - 2. Current Yr Property",null,null,null,null,null,null,null,null,null,null,null,0]
["Sch Ve","Scenario Tests",null,"Cyber - 2. Current Yr Property Non-Proportional",null,null,null,null,null,null,null,null,null,null,null,0]
["Sch Ve","Scenario Tests",null,"Cyber - 2. Current Yr Personal Accident",null,null,null,null,null,null,null,null,null,null,null,0]
["Sch Ve","Scenario Tests",null,"Cyber - 2. Current Yr Personal Accident Non-Proportional",null,null,null,null,null,null,null,null,null,null,null,0]
["Sch Ve","Scenario Tests",null,"Cyber - 2. Current Yr Aviation",null,null,null,null,null,null,null,null,null,null,null,0]
["Sch Ve","Scenario Tests",null,"Cyber - 2. Current Yr Aviation Non-Proportional",null,null,null,null,null,null,null,null,null,null,null,0]
["Sch Ve","Scenario Tests",null,"Cyber - 2. Current Yr Credit/Surety",null,null,null,null,null,null,null,null,null,null,null,"Select Yes/No"]
["Sch Ve","Scenario Tests",null,"Cyber - 2. Current Yr Credit/Surety - Non-Proportional",null,null,null,null,null,null,null,null,null,null,null,"Select Yes/No"]
["Sch Ve","Scenario Tests",null,"Cyber - 2. Current Yr Energy Offshore/Marine",null,null,null,null,null,null,null,null,null,null,null,"Select Yes/No"]
["Sch Ve","Scenario Tests",null,"Cyber - 2. Current Yr Energy offshore/Marine Non-Proportional",null,null,null,null,null,null,null,null,null,null,null,"Select Yes/No"]
["Sch Ve","Scenario Tests",null,"Cyber - 2. Current Yr US Casualty",null,null,null,null,null,null,null,null,null,null,null,"Select Yes/No"]
["Sch Ve","Scenario Tests",null,"Cyber - 2. Current Yr US Casualty Non-Proportional",null,null,null,null,null,null,null,null,null,null,null,"Select Yes/No"]
["Sch Ve","Scenario Tests",null,"Cyber - 2. Current Yr US Professional",null,null,null,null,null,null,null,null,null,null,null,"Select Yes/No"]
["Sch Ve","Scenario Tests",null,"Cyber - 2. Current Yr US Professional Non-Proportional",null,null,null,null,null,null,null,null,null,null,null,"Select Yes/No"]
["Sch Ve","Scenario Tests",null,"Cyber - 2. Current Yr US Specialty",null,null,null,null,null,null,null,null,null,null,null,"Select Yes/No"]
["Sch Ve","Scenario Tests",null,"Cyber - 2. Current Yr US Specialty Non-Proportional",null,null,null,null,null,null,null,null,null,null,null,"Select Yes/No"]
["Sch Ve","Scenario Tests",null,"Cyber - 2. Current Yr International Motor",null,null,null,null,null,null,null,null,null,null,null,"Select Yes/No"]
["Sch Ve","Scenario Tests",null,"Cyber - 2. Current Yr International Motor Non-Proportional",null,null,null,null,null,null,null,null,null,null,null,"Select Yes/No"]
["Sch Ve","Scenario Tests",null,"Cyber - 2. Current Yr International Casualty Non-Motor",null,null,null,null,null,null,null,null,null,null,null,"Select Yes/No"]
["Sch Ve","Scenario Tests",null,"Cyber - 2. Current Yr International Casualty Non-Motor Non-Proportional",null,null,null,null,null,null,null,null,null,null,null,"Select Yes/No"]
["Sch Ve","Scenario Tests",null,"Cyber - 2. Current Yr Retro Property",null,null,null,null,null,null,null,null,null,null,null,"Select Yes/No"]
["Sch Ve","Scenario Tests",null,"Cyber - 2. Current Yr Structured/Finite reinsurance",null,null,null,null,null,null,null,null,null,null,null,"Select Yes/No"]
["Sch Ve","Scenario Tests",null,"Cyber - 2. Current Yr Health",null,null,null,null,null,null,null,null,null,null,null,"Select Yes/No"]
["Sch Ve","Scenario Tests",null,"Cyber - 2. Prior Yr Property",null,null,null,null,null,null,null,null,null,null,null,"Select Yes/No"]
["Sch Ve","Scenario Tests",null,"Cyber - 2. Prior Yr Property Non-Proportional",null,null,null,null,null,null,null,null,null,null,null,"Select Yes/No"]
["Sch Ve","Scenario Tests",null,"Cyber - 2. Prior Yr Personal Accident",null,null,null,null,null,null,null,null,null,null,null,"Select Yes/No"]
["Sch Ve","Scenario Tests",null,"Cyber - 2. Prior Yr Personal Accident Non-Proportional",null,null,null,null,null,null,null,null,null,null,null,"Select Yes/No"]
["Sch Ve","Scenario Tests",null,"Cyber - 2. Prior Yr Aviation",null,null,null,null,null,null,null,null,null,null,null,"Select Yes/No"]
["Sch Ve","Scenario Tests",null,"Cyber - 2. Prior Yr Aviation Non-Proportional",null,null,null,null,null,null,null,null,null,null,null,"Select Yes/No"]
["Sch Ve","Scenario Tests",null,"Cyber - 2. Prior Yr Credit/Surety",null,null,null,null,null,null,null,null,null,null,null,0]
["Sch Ve","Scenario Tests",null,"Cyber - 2. Prior Yr Credit/Surety - Non-Proportional",null,null,null,null,null,null,null,null,null,null,null,0]
["Sch Ve","Scenario Tests",null,"Cyber - 2. Prior Yr Energy Offshore/Marine",null,null,null,null,null,null,null,null,null,null,null,0]
["Sch Ve","Scenario Tests",null,"Cyber - 2. Prior Yr Energy offshore/Marine Non-Proportional",null,null,null,null,null,null,null,null,null,null,null,0]
["Sch Ve","Scenario Tests",null,"Cyber - 2. Prior Yr US Casualty",null,null,null,null,null,null,null,null,null,null,null,0]
["Sch Ve","Scenario Tests",null,"Cyber - 2. Prior Yr US Casualty Non-Proportional",null,null,null,null,null,null,null,null,null,null,null,0]
["Sch Ve","Scenario Tests",null,"Cyber - 2. Prior Yr US Professional",null,null,null,null,null,null,null,null,null,null,null,0]
["Sch Ve","Scenario Tests",null,"Cyber - 2. Prior Yr US Professional Non-Proportional",null,null,null,null,null,null,null,null,null,null,null,0]
["Sch Ve","Scenario Tests",null,"Cyber - 2. Prior Yr US Specialty",null,null,null,null,null,null,null,null,null,null,null,0]
["Sch Ve","Scenario Tests",null,"Cyber - 2. Prior Yr US Specialty Non-Proportional",null,null,null,null,null,null,null,null,null,null,null,0]
["Sch Ve","Scenario Tests",null,"Cyber - 2. Prior Yr International Motor",null,null,null,null,null,null,null,null,null,null,null,0]
["Sch Ve","Scenario Tests",null,"Cyber - 2. Prior Yr International Motor Non-Proportional",null,null,null,null,null,null,null,null,null,null,null,0]
["Sch Ve","Scenario Tests",null,"Cyber - 2. Prior Yr International Casualty Non-Motor",null,null,null,null,null,null,null,null,null,null,null,0]
["Sch Ve","Scenario Tests",null,"Cyber - 2. Prior Yr International Casualty Non-Motor Non-Proportional",null,null,null,null,null,null,null,null,null,null,null,0]
["Sch Ve","Scenario Tests",null,"Cyber - 2. Prior Yr Retro Property",null,null,null,null,null,null,null,null,null,null,null,0]
["Sch Ve","Scenario Tests",null,"Cyber - 2. Prior Yr Structured/Finite reinsurance",null,null,null,null,null,null,null,null,null,null,null,0]
["Sch Ve","Scenario Tests",null,"Cyber - 2. Prior Yr Health",null,null,null,null,null,null,null,null,null,null,null,0]
["Sch Ve","Scenario Tests",null,"Cyber - 2. Claims Made or Occurrence -  Property",null,null,null,null,null,null,null,null,null,null,null,0]
["Sch Ve","Scenario Tests",null,"Cyber - 2. Claims Made or Occurrence -  Property Non-Proportional",null,null,null,null,null,null,null,null,null,null,null,0]
["Sch Ve","Scenario Tests",null,"Cyber - 2. Claims Made or Occurrence -  Personal Accident",null,null,null,null,null,null,null,null,null,null,null,0]
["Sch Ve","Scenario Tests",null,"Cyber - 2. Claims Made or Occurrence -  Personal Accident Non-Proportional",null,null,null,null,null,null,null,null,null,null,null,0]
["Sch Ve","Scenario Tests",null,"Cyber - 2. Claims Made or Occurrence -  Aviation",null,null,null,null,null,null,null,null,null,null,null,0]
["Sch Ve","Scenario Tests",null,"Cyber - 2. Claims Made or Occurrence -  Aviation Non-Proportional",null,null,null,null,null,null,null,null,null,null,null,0]
["Sch Ve","Scenario Tests",null,"Cyber - 2. Claims Made or Occurrence -  Credit/Surety",null,null,null,null,null,null,null,null,null,null,null,0]
["Sch Ve","Scenario Tests",null,"Cyber - 2. Claims Made or Occurrence -  Credit/Surety - Non-Proportional",null,null,null,null,null,null,null,null,null,null,null,0]
["Sch Ve","Scenario Tests",null,"Cyber - 2. Claims Made or Occurrence -  Energy Offshore/Marine",null,null,null,null,null,null,null,null,null,null,null,0]
["Sch Ve","Scenario Tests",null,"Cyber - 2. Claims Made or Occurrence -  Energy offshore/Marine Non-Proportional",null,null,null,null,null,null,null,null,null,null,null,0]
["Sch Ve","Scenario Tests",null,"Cyber - 2. Claims Made or Occurrence -  US Casualty",null,null,null,null,null,null,null,null,null,null,null,0]
["Sch Ve","Scenario Tests",null,"Cyber - 2. Claims Made or Occurrence -  US Casualty Non-Proportional",null,null,null,null,null,null,null,null,null,null,null,0]
["Sch Ve","Scenario Tests",null,"Cyber - 2. Claims Made or Occurrence -  US Professional",null,null,null,null,null,null,null,null,null,null,null,0]
["Sch Ve","Scenario Tests",null,"Cyber - 2. Claims Made or Occurrence -  US Professional Non-Proportional",null,null,null,null,null,null,null,null,null,null,null,0]
["Sch Ve","Scenario Tests",null,"Cyber - 2. Claims Made or Occurrence -  US Specialty",null,null,null,null,null,null,null,null,null,null,null,0]
["Sch Ve","Scenario Tests",null,"Cyber - 2. Claims Made or Occurrence -  US Specialty Non-Proportional",null,null,null,null,null,null,null,null,null,null,null,0]
["Sch Ve","Scenario Tests",null,"Cyber - 2. Claims Made or Occurrence -  International Motor",null,null,null,null,null,null,null,null,null,null,null,0]
["Sch Ve","Scenario Tests",null,"Cyber - 2. Claims Made or Occurrence -  International Motor Non-Proportional",null,null,null,null,null,null,null,null,null,null,null,0]
["Sch Ve","Scenario Tests",null,"Cyber - 2. Claims Made or Occurrence -  International Casualty Non-Motor",null,null,null,null,null,null,null,null,null,null,null,0]
["Sch Ve","Scenario Tests",null,"Cyber - 2. Claims Made or Occurrence -  International Casualty Non-Motor Non-Proportional",null,null,null,null,null,null,null,null,null,null,null,0]
["Sch Ve","Scenario Tests",null,"Cyber - 2. Claims Made or Occurrence -  Retro Property",null,null,null,null,null,null,null,null,null,null,null,0]
["Sch Ve","Scenario Tests",null,"Cyber - 2. Claims Made or Occurrence -  Structured/Finite reinsurance",null,null,null,null,null,null,null,null,null,null,null,0]
["Sch Ve","Scenario Tests",null,"Cyber - 2. Claims Made or Occurrence -  Health",null,null,null,null,null,null,null,null,null,null,null,0]
["Sch Ve","Scenario Tests",null,"Cyber - 2. No Cyber Exclusion -  Property",null,null,null,null,null,null,null,null,null,null,null,0]
["Sch Ve","Scenario Tests",null,"Cyber - 2. No Cyber Exclusion -  Property Non-Proportional",null,null,null,null,null,null,null,null,null,null,null,0]
["Sch Ve","Scenario Tests",null,"Cyber - 2. No Cyber Exclusion -  Personal Accident",null,null,null,null,null,null,null,null,null,null,null,0]
["Sch Ve","Scenario Tests",null,"Cyber - 2. No Cyber Exclusion -  Personal Accident Non-Proportional",null,null,null,null,null,null,null,null,null,null,null,0]
["Sch Ve","Scenario Tests",null,"Cyber - 2. No Cyber Exclusion -  Aviation",null,null,null,null,null,null,null,null,null,null,null,0]
["Sch Ve","Scenario Tests",null,"Cyber - 2. No Cyber Exclusion -  Aviation Non-Proportional",null,null,null,null,null,null,null,null,null,null,null,0]
["Sch Ve","Scenario Tests",null,"Cyber - 2. No Cyber Exclusion -  Credit/Surety",null,null,null,null,null,null,null,null,null,null,null,"Select from Drop-down"]
["Sch Ve","Scenario Tests",null,"Cyber - 2. No Cyber Exclusion -  Credit/Surety - Non-Proportional",null,null,null,null,null,null,null,null,null,null,null,"Select from Drop-down"]
["Sch Ve","Scenario Tests",null,"Cyber - 2. No Cyber Exclusion -  Energy Offshore/Marine",null,null,null,null,null,null,null,null,null,null,null,"Select from Drop-down"]
["Sch Ve","Scenario Tests",null,"Cyber - 2. No Cyber Exclusion -  Energy offshore/Marine Non-Proportional",null,null,null,null,null,null,null,null,null,null,null,"Select from Drop-down"]
["Sch Ve","Scenario Tests",null,"Cyber - 2. No Cyber Exclusion -  US Casualty",null,null,null,null,null,null,null,null,null,null,null,"Select from Drop-down"]
["Sch Ve","Scenario Tests",null,"Cyber - 2. No Cyber Exclusion -  US Casualty Non-Proportional",null,null,null,null,null,null,null,null,null,null,null,"Select from Drop-down"]
["Sch Ve","Scenario Tests",null,"Cyber - 2. No Cyber Exclusion -  US Professional",null,null,null,null,null,null,null,null,null,null,null,"Select from Drop-down"]
["Sch Ve","Scenario Tests",null,"Cyber - 2. No Cyber Exclusion -  US Professional Non-Proportional",null,null,null,null,null,null,null,null,null,null,null,"Select from Drop-down"]
["Sch Ve","Scenario Tests",null,"Cyber - 2. No Cyber Exclusion -  US Specialty",null,null,null,null,null,null,null,null,null,null,null,"Select from Drop-down"]
["Sch Ve","Scenario Tests",null,"Cyber - 2. No Cyber Exclusion -  US Specialty Non-Proportional",null,null,null,null,null,null,null,null,null,null,null,"Select from Drop-down"]
["Sch Ve","Scenario Tests",null,"Cyber - 2. No Cyber Exclusion -  International Motor",null,null,null,null,null,null,null,null,null,null,null,"Select from Drop-down"]
["Sch Ve","Scenario Tests",null,"Cyber - 2. No Cyber Exclusion -  International Motor Non-Proportional",null,null,null,null,null,null,null,null,null,null,null,"Select from Drop-down"]
["Sch Ve","Scenario Tests",null,"Cyber - 2. No Cyber Exclusion -  International Casualty Non-Motor",null,null,null,null,null,null,null,null,null,null,null,"Select from Drop-down"]
["Sch Ve","Scenario Tests",null,"Cyber - 2. No Cyber Exclusion -  International Casualty Non-Motor Non-Proportional",null,null,null,null,null,null,null,null,null,null,null,"Select from Drop-down"]
["Sch Ve","Scenario Tests",null,"Cyber - 2. No Cyber Exclusion -  Retro Property",null,null,null,null,null,null,null,null,null,null,null,"Select from Drop-down"]
["Sch Ve","Scenario Tests",null,"Cyber - 2. No Cyber Exclusion -  Structured/Finite reinsurance",null,null,null,null,null,null,null,null,null,null,null,"Select from Drop-down"]
["Sch Ve","Scenario Tests",null,"Cyber - 2. No Cyber Exclusion -  Health",null,null,null,null,null,null,null,null,null,null,null,"Select from Drop-down"]
["Sch Ve","Scenario Tests",null,"Cyber - 3. Worst Case Description",null,null,null,null,null,null,null,null,null,null,null,"Select from Drop-down"]
["Sch Ve","Scenario Tests",null,"Cyber - 3. Gross Policy Limits",null,null,null,null,null,null,null,null,null,null,null,"Select from Drop-down"]
["Sch Ve","Scenario Tests",null,"Cyber - 3. Net Policy Limits",null,null,null,null,null,null,null,null,null,null,null,"Select from Drop-down"]
["Sch Ve","Scenario Tests",null,"Cyber - 3. Gross Loss",null,null,null,null,null,null,null,null,null,null,null,"Select from Drop-down"]
["Sch Ve","Scenario Tests",null,"Cyber - 3. Net Loss",null,null,null,null,null,null,null,null,null,null,null,"Select from Drop-down"]
["Sch Ve","Scenario Tests",null,"Cyber - 3. Occurrence Return Limit",null,null,null,null,null,null,null,null,null,null,null,"Select from Drop-down"]
["Sch Ve","Scenario Tests",null,"Cyber - 3. Relative Return Limit",null,null,null,null,null,null,null,null,null,null,null,"Select Yes/No"]
["Sch Ve","Scenario Tests",null,"A1) Headquarters in Bermuda?","Select Yes/No",null,null,null,null,null,null,null,null,null,null,"Select Yes/No"]
["Sch Ve","Scenario Tests",null,"A2) Number of users located in Bermuda","Select Amount",null,null,null,null,null,null,null,null,null,null,"Select Yes/No"]
["Sch Ve","Scenario Tests",null,"A3) Number of users globally","Select Amount",null,null,null,null,null,null,null,null,null,null,"Select Yes/No"]
["Sch Ve","Scenario Tests",null,"A4) Data centre in Bermuda to host servers","Select Yes/No",null,null,null,null,null,null,null,null,null,null,"Select Yes/No"]
["Sch Ve","Scenario Tests",null,"A5) Utilize a cloud hosting company to host servers","Select Yes/No",null,null,null,null,null,null,null,null,null,null,"Select Yes/No"]
["Sch Ve","Scenario Tests",null,"A6) Cybersecurity insurance coverage","Select Yes/No",null,null,null,null,null,null,null,null,null,null,"Select Yes/No"]
["Sch Ve","Scenario Tests",null,"A7) Personal data of customers stored/processed","Select Yes/No",null,null,null,null,null,null,null,null,null,null,"Select Yes/No"]
["Sch Ve","Scenario Tests",null,"A8) # of Credit card data stored/processed","Select Yes/No",null,null,null,null,null,null,null,null,null,null,"Select Yes/No"]
["Sch Ve","Scenario Tests",null,"A9) Personal data stored/processed","Select Yes/No",null,null,null,null,null,null,null,null,null,null,"Select Yes/No"]
["Sch Ve","Scenario Tests",null,"A10) Brochureware","Select Yes/No",null,null,null,null,null,null,null,null,null,null,"Select Yes/No"]
["Sch Ve","Scenario Tests",null,"A11) Web applications","Select Yes/No",null,null,null,null,null,null,null,null,null,null,"Select Yes/No"]
["Sch Ve","Scenario Tests",null,"A12) Web applications that processes","Select Yes/No",null,null,null,null,null,null,null,null,null,null,"Select Yes/No"]
["Sch Ve","Scenario Tests",null,"A13) Dedicated IT Risk Manager","Select Yes/No",null,null,null,null,null,null,null,null,null,null,"Select Yes/No"]
["Sch Ve","Scenario Tests",null,"A13a) Dedicated IT Risk Manager Details","Confirm role holder's name",null,null,null,null,null,null,null,null,null,null,"Select Yes/No"]
["Sch Ve","Scenario Tests",null,"A14) Dedicated IT Security Manager","Select Yes/No",null,null,null,null,null,null,null,null,null,null,"Select Yes/No"]
["Sch Ve","Scenario Tests",null,"A14a) Dedicated IT Security Manager","Confirm role holder's name",null,null,null,null,null,null,null,null,null,null,"Select Yes/No"]
["Sch Ve","Scenario Tests",null,"A15) Dedicated IT Disaster Recovery Manager","Select Yes/No",null,null,null,null,null,null,null,null,null,null,"Select Yes/No"]
["Sch Ve","Scenario Tests",null,"A15a) Dedicated IT Disaster Recovery Manager details","Confirm role holder's name",null,null,null,null,null,null,null,null,null,null,"Select Yes/No"]
["Sch Ve","Scenario Tests",null,"A16) Dedicated Business Continuity Manager","Select Yes/No",null,null,null,null,null,null,null,null,null,null,"Select Yes/No"]
["Sch Ve","Scenario Tests",null,"A16a) Dedicated Business Continuity Manager details","Confirm role holder's name",null,null,null,null,null,null,null,null,null,null,"Select Yes/No"]
["Sch Ve","Scenario Tests",null,"A17) Designated Data Privacy Officer","Select Yes/No",null,null,null,null,null,null,null,null,null,null,"Select Yes/No"]
["Sch Ve","Scenario Tests",null,"A17a) Designated Data Privacy Officer details","Confirm role holder's name",null,null,null,null,null,null,null,null,null,null,"Select Yes/No"]
["Sch Ve","Scenario Tests",null,"A18) IT Audit completed annually","Select Yes/No",null,null,null,null,null,null,null,null,null,null,0]
["Sch Ve","Scenario Tests",null,"A18a) IT Audit completed annually details","Date of last internal/external IT audit",null,null,null,null,null,null,null,null,null,null,0]
["Sch Ve","Scenario Tests",null,"B1) Cyber security programme in place","Select Yes/No",null,null,null,null,null,null,null,null,null,null,0]
["Sch Ve","Scenario Tests",null,"B2) Cyber programme status communicated to Senior Mgmt","Select Yes/No",null,null,null,null,null,null,null,null,null,null,0]
["Sch Ve","Scenario Tests",null,"B3) Cyber Risk Policy approved by Board annually","Select Yes/No",null,null,null,null,null,null,null,null,null,null,0]
["Sch Ve","Scenario Tests",null,"B4) 3 lines of defence clearly defined","Select Yes/No",null,null,null,null,null,null,null,null,null,null,0]
["Sch Ve","Scenario Tests",null,"B5) Compliance with Data Protection requirements","Select Yes/No",null,null,null,null,null,null,null,null,null,null,0]
["Sch Ve","Scenario Tests",null,"B6) Asset Management inventoried","Select Yes/No"]
["Sch Ve","Scenario Tests",null,"B7) Classified all data","Select Yes/No"]
["Sch Ve","Scenario Tests",null,"B8) 3rd Party security assessment in past year","Select Yes/No"]
["Sch Ve","Scenario Tests",null,"B9) Classed Data by sensitivity","Select Yes/No"]
["Sch Ve","Scenario Tests",null,"B10) Formal Process for software and hardware maintenance","Select Yes/No"]
["Sch Ve","Scenario Tests",null,"B11) Logical Assess Management Standard","Select Yes/No"]
["Sch Ve","Scenario Tests",null,"B12) Staff complete cybersecurity training","Select Yes/No"]
["Sch Ve","Scenario Tests",null,"B13) Penetration Testing completed within 1 yr","Select Yes/No"]
["Sch Ve","Scenario Tests",null,"B14) Segment enterprise network","Select Yes/No"]
["Sch Ve","Scenario Tests",null,"B15) Formal process for software changes","Select Yes/No"]
["Sch Ve","Scenario Tests",null,"B16) Security configuration standards","Select Yes/No"]
["Sch Ve","Scenario Tests",null,"B17) Detect-Process for threat alerting","Select Yes/No"]
["Sch Ve","Scenario Tests",null,"B18) Process to Monitor Info Systems","Select Yes/No"]
["Sch Ve","Scenario Tests",null,"B19) Centrally stores & archives logs","Select Yes/No"]
["Sch Ve","Scenario Tests",null,"B20) Doc. Incident Response Plan","Select Yes/No"]
["Sch Ve","Scenario Tests",null,"B21) 4th Line Expertise service for major incident","Select Yes/No"]
["Sch Ve","Scenario Tests",null,"B22) Business Continuity Plan tested last 12 months","Select Yes/No"]
["Sch Ve","Scenario Tests",null,"B23) Cyber Incident last 12 months","Select Yes/No"]
["Sch Ve","Scenario Tests",null,"C1) Antivirus software installed","Select Yes/No"]
["Sch Ve","Scenario Tests",null,"C2) APT Control in place","Select Yes/No"]
["Sch Ve","Scenario Tests",null,"C3) DLP controls in place","Select Yes/No"]
["Sch Ve","Scenario Tests",null,"C4) Internal Vulnerability scanning conducted","Select Yes/No"]
["Sch Ve","Scenario Tests",null,"C4a) Internal Vulnerability scanning frequency","Select Frequency"]
["Sch Ve","Scenario Tests",null,"C5) External Vulnerability scanning conducted","Select Yes/No"]
["Sch Ve","Scenario Tests",null,"C5a) External Vulnerability scanning frequency","Select Frequency"]
["Sch Ve","Scenario Tests",null,"C6) Regular Firewall Ruleset Reviews","Select Yes/No"]
["Sch Ve","Scenario Tests",null,"C7) Network IDS/IPS control","Select Yes/No"]
["Sch Ve","Scenario Tests",null,"C8) Internet borne DDOS defence in place","Select Yes/No"]
[]
["Sch V(m)","Alternative Capital",null,"Structure of Insurer","Select from Drop Down"]
["Sch V(m)","Alternative Capital",null,"Number of Rows",0]
["Sch V(m)","Alternative Capital",null,"Name of Cedant - 1",0]
["Sch V(m)","Alternative Capital",null,"Name of Cedant - 2",0]
["Sch V(m)","Alternative Capital",null,"Name of Cedant - 3",0]
["Sch V(m)","Alternative Capital",null,"Name of Cedant - 4",0]
["Sch V(m)","Alternative Capital",null,"Name of Cedant - 5",0]
["Sch V(m)","Alternative Capital",null,"Name of Cedant - 6",0]
["Sch V(m)","Alternative Capital",null,"Name of Cedant - 7",0]
["Sch V(m)","Alternative Capital",null,"Name of Cedant - 8",0]
["Sch V(m)","Alternative Capital",null,"Name of Cedant - 9",0]
["Sch V(m)","Alternative Capital",null,"Name of Cedant - 10",0]
["Sch V(m)","Alternative Capital",null,"Name of Cedant - 11",0]
["Sch V(m)","Alternative Capital",null,"Name of Cedant - 12",0]
["Sch V(m)","Alternative Capital",null,"Name of Cedant - 13",0]
["Sch V(m)","Alternative Capital",null,"Name of Cedant - 14",0]
["Sch V(m)","Alternative Capital",null,"Name of Cedant - 15",0]
["Sch V(m)","Alternative Capital",null,"Name of Cedant - 16",0]
["Sch V(m)","Alternative Capital",null,"Name of Cedant - 17",0]
["Sch V(m)","Alternative Capital",null,"Name of Cedant - 18",0]
["Sch V(m)","Alternative Capital",null,"Name of Cedant - 19",0]
["Sch V(m)","Alternative Capital",null,"Name of Cedant - 20",0]
["Sch V(m)","Alternative Capital",null,"Name of Cedant - 21",0]
["Sch V(m)","Alternative Capital",null,"Name of Cedant - 22",0]
["Sch V(m)","Alternative Capital",null,"Name of Cedant - 23",0]
["Sch V(m)","Alternative Capital",null,"Name of Cedant - 24",0]
["Sch V(m)","Alternative Capital",null,"Name of Cedant - 25",0]
["Sch V(m)","Alternative Capital",null,"Contract Reference - 1",0]
["Sch V(m)","Alternative Capital",null,"Contract Reference - 2",0]
["Sch V(m)","Alternative Capital",null,"Contract Reference - 3",0]
["Sch V(m)","Alternative Capital",null,"Contract Reference - 4",0]
["Sch V(m)","Alternative Capital",null,"Contract Reference - 5",0]
["Sch V(m)","Alternative Capital",null,"Contract Reference - 6",0]
["Sch V(m)","Alternative Capital",null,"Contract Reference - 7",0]
["Sch V(m)","Alternative Capital",null,"Contract Reference - 8",0]
["Sch V(m)","Alternative Capital",null,"Contract Reference - 9",0]
["Sch V(m)","Alternative Capital",null,"Contract Reference - 10",0]
["Sch V(m)","Alternative Capital",null,"Contract Reference - 11",0]
["Sch V(m)","Alternative Capital",null,"Contract Reference - 12",0]
["Sch V(m)","Alternative Capital",null,"Contract Reference - 13",0]
["Sch V(m)","Alternative Capital",null,"Contract Reference - 14",0]
["Sch V(m)","Alternative Capital",null,"Contract Reference - 15",0]
["Sch V(m)","Alternative Capital",null,"Contract Reference - 16",0]
["Sch V(m)","Alternative Capital",null,"Contract Reference - 17",0]
["Sch V(m)","Alternative Capital",null,"Contract Reference - 18",0]
["Sch V(m)","Alternative Capital",null,"Contract Reference - 19",0]
["Sch V(m)","Alternative Capital",null,"Contract Reference - 20",0]
["Sch V(m)","Alternative Capital",null,"Contract Reference - 21",0]
["Sch V(m)","Alternative Capital",null,"Contract Reference - 22",0]
["Sch V(m)","Alternative Capital",null,"Contract Reference - 23",0]
["Sch V(m)","Alternative Capital",null,"Contract Reference - 24",0]
["Sch V(m)","Alternative Capital",null,"Contract Reference - 25",0]
["Sch V(m)","Alternative Capital",null,"Type of Coverage - 1","Select from Drop Down"]
["Sch V(m)","Alternative Capital",null,"Type of Coverage - 2","Select from Drop Down"]
["Sch V(m)","Alternative Capital",null,"Type of Coverage - 3","Select from Drop Down"]
["Sch V(m)","Alternative Capital",null,"Type of Coverage - 4","Select from Drop Down"]
["Sch V(m)","Alternative Capital",null,"Type of Coverage - 5","Select from Drop Down"]
["Sch V(m)","Alternative Capital",null,"Type of Coverage - 6","Select from Drop Down"]
["Sch V(m)","Alternative Capital",null,"Type of Coverage - 7","Select from Drop Down"]
["Sch V(m)","Alternative Capital",null,"Type of Coverage - 8","Select from Drop Down"]
["Sch V(m)","Alternative Capital",null,"Type of Coverage - 9","Select from Drop Down"]
["Sch V(m)","Alternative Capital",null,"Type of Coverage - 10","Select from Drop Down"]
["Sch V(m)","Alternative Capital",null,"Type of Coverage - 11","Select from Drop Down"]
["Sch V(m)","Alternative Capital",null,"Type of Coverage - 12","Select from Drop Down"]
["Sch V(m)","Alternative Capital",null,"Type of Coverage - 13","Select from Drop Down"]
["Sch V(m)","Alternative Capital",null,"Type of Coverage - 14","Select from Drop Down"]
["Sch V(m)","Alternative Capital",null,"Type of Coverage - 15","Select from Drop Down"]
["Sch V(m)","Alternative Capital",null,"Type of Coverage - 16","Select from Drop Down"]
["Sch V(m)","Alternative Capital",null,"Type of Coverage - 17","Select from Drop Down"]
["Sch V(m)","Alternative Capital",null,"Type of Coverage - 18","Select from Drop Down"]
["Sch V(m)","Alternative Capital",null,"Type of Coverage - 19","Select from Drop Down"]
["Sch V(m)","Alternative Capital",null,"Type of Coverage - 20","Select from Drop Down"]
["Sch V(m)","Alternative Capital",null,"Type of Coverage - 21","Select from Drop Down"]
["Sch V(m)","Alternative Capital",null,"Type of Coverage - 22","Select from Drop Down"]
["Sch V(m)","Alternative Capital",null,"Type of Coverage - 23","Select from Drop Down"]
["Sch V(m)","Alternative Capital",null,"Type of Coverage - 24","Select from Drop Down"]
["Sch V(m)","Alternative Capital",null,"Type of Coverage - 25","Select from Drop Down"]
["Sch V(m)","Alternative Capital",null,"Statutory Line of Business - 1","Select from Drop Down"]
["Sch V(m)","Alternative Capital",null,"Statutory Line of Business - 2","Select from Drop Down"]
["Sch V(m)","Alternative Capital",null,"Statutory Line of Business - 3","Select from Drop Down"]
["Sch V(m)","Alternative Capital",null,"Statutory Line of Business - 4","Select from Drop Down"]
["Sch V(m)","Alternative Capital",null,"Statutory Line of Business - 5","Select from Drop Down"]
["Sch V(m)","Alternative Capital",null,"Statutory Line of Business - 6","Select from Drop Down"]
["Sch V(m)","Alternative Capital",null,"Statutory Line of Business - 7","Select from Drop Down"]
["Sch V(m)","Alternative Capital",null,"Statutory Line of Business - 8","Select from Drop Down"]
["Sch V(m)","Alternative Capital",null,"Statutory Line of Business - 9","Select from Drop Down"]
["Sch V(m)","Alternative Capital",null,"Statutory Line of Business - 10","Select from Drop Down"]
["Sch V(m)","Alternative Capital",null,"Statutory Line of Business - 11","Select from Drop Down"]
["Sch V(m)","Alternative Capital",null,"Statutory Line of Business - 12","Select from Drop Down"]
["Sch V(m)","Alternative Capital",null,"Statutory Line of Business - 13","Select from Drop Down"]
["Sch V(m)","Alternative Capital",null,"Statutory Line of Business - 14","Select from Drop Down"]
["Sch V(m)","Alternative Capital",null,"Statutory Line of Business - 15","Select from Drop Down"]
["Sch V(m)","Alternative Capital",null,"Statutory Line of Business - 16","Select from Drop Down"]
["Sch V(m)","Alternative Capital",null,"Statutory Line of Business - 17","Select from Drop Down"]
["Sch V(m)","Alternative Capital",null,"Statutory Line of Business - 18","Select from Drop Down"]
["Sch V(m)","Alternative Capital",null,"Statutory Line of Business - 19","Select from Drop Down"]
["Sch V(m)","Alternative Capital",null,"Statutory Line of Business - 20","Select from Drop Down"]
["Sch V(m)","Alternative Capital",null,"Statutory Line of Business - 21","Select from Drop Down"]
["Sch V(m)","Alternative Capital",null,"Statutory Line of Business - 22","Select from Drop Down"]
["Sch V(m)","Alternative Capital",null,"Statutory Line of Business - 23","Select from Drop Down"]
["Sch V(m)","Alternative Capital",null,"Statutory Line of Business - 24","Select from Drop Down"]
["Sch V(m)","Alternative Capital",null,"Statutory Line of Business - 25","Select from Drop Down"]
["Sch V(m)","Alternative Capital",null,"Location of Coverage - 1","Select from Drop Down"]
["Sch V(m)","Alternative Capital",null,"Location of Coverage - 2","Select from Drop Down"]
["Sch V(m)","Alternative Capital",null,"Location of Coverage - 3","Select from Drop Down"]
["Sch V(m)","Alternative Capital",null,"Location of Coverage - 4","Select from Drop Down"]
["Sch V(m)","Alternative Capital",null,"Location of Coverage - 5","Select from Drop Down"]
["Sch V(m)","Alternative Capital",null,"Location of Coverage - 6","Select from Drop Down"]
["Sch V(m)","Alternative Capital",null,"Location of Coverage - 7","Select from Drop Down"]
["Sch V(m)","Alternative Capital",null,"Location of Coverage - 8","Select from Drop Down"]
["Sch V(m)","Alternative Capital",null,"Location of Coverage - 9","Select from Drop Down"]
["Sch V(m)","Alternative Capital",null,"Location of Coverage - 10","Select from Drop Down"]
["Sch V(m)","Alternative Capital",null,"Location of Coverage - 11","Select from Drop Down"]
["Sch V(m)","Alternative Capital",null,"Location of Coverage - 12","Select from Drop Down"]
["Sch V(m)","Alternative Capital",null,"Location of Coverage - 13","Select from Drop Down"]
["Sch V(m)","Alternative Capital",null,"Location of Coverage - 14","Select from Drop Down"]
["Sch V(m)","Alternative Capital",null,"Location of Coverage - 15","Select from Drop Down"]
["Sch V(m)","Alternative Capital",null,"Location of Coverage - 16","Select from Drop Down"]
["Sch V(m)","Alternative Capital",null,"Location of Coverage - 17","Select from Drop Down"]
["Sch V(m)","Alternative Capital",null,"Location of Coverage - 18","Select from Drop Down"]
["Sch V(m)","Alternative Capital",null,"Location of Coverage - 19","Select from Drop Down"]
["Sch V(m)","Alternative Capital",null,"Location of Coverage - 20","Select from Drop Down"]
["Sch V(m)","Alternative Capital",null,"Location of Coverage - 21","Select from Drop Down"]
["Sch V(m)","Alternative Capital",null,"Location of Coverage - 22","Select from Drop Down"]
["Sch V(m)","Alternative Capital",null,"Location of Coverage - 23","Select from Drop Down"]
["Sch V(m)","Alternative Capital",null,"Location of Coverage - 24","Select from Drop Down"]
["Sch V(m)","Alternative Capital",null,"Location of Coverage - 25","Select from Drop Down"]
["Sch V(m)","Alternative Capital",null,"Agg. Max. Limit at Inception - 1",0]
["Sch V(m)","Alternative Capital",null,"Agg. Max. Limit at Inception - 2",0]
["Sch V(m)","Alternative Capital",null,"Agg. Max. Limit at Inception - 3",0]
["Sch V(m)","Alternative Capital",null,"Agg. Max. Limit at Inception - 4",0]
["Sch V(m)","Alternative Capital",null,"Agg. Max. Limit at Inception - 5",0]
["Sch V(m)","Alternative Capital",null,"Agg. Max. Limit at Inception - 6",0]
["Sch V(m)","Alternative Capital",null,"Agg. Max. Limit at Inception - 7",0]
["Sch V(m)","Alternative Capital",null,"Agg. Max. Limit at Inception - 8",0]
["Sch V(m)","Alternative Capital",null,"Agg. Max. Limit at Inception - 9",0]
["Sch V(m)","Alternative Capital",null,"Agg. Max. Limit at Inception - 10",0]
["Sch V(m)","Alternative Capital",null,"Agg. Max. Limit at Inception - 11",0]
["Sch V(m)","Alternative Capital",null,"Agg. Max. Limit at Inception - 12",0]
["Sch V(m)","Alternative Capital",null,"Agg. Max. Limit at Inception - 13",0]
["Sch V(m)","Alternative Capital",null,"Agg. Max. Limit at Inception - 14",0]
["Sch V(m)","Alternative Capital",null,"Agg. Max. Limit at Inception - 15",0]
["Sch V(m)","Alternative Capital",null,"Agg. Max. Limit at Inception - 16",0]
["Sch V(m)","Alternative Capital",null,"Agg. Max. Limit at Inception - 17",0]
["Sch V(m)","Alternative Capital",null,"Agg. Max. Limit at Inception - 18",0]
["Sch V(m)","Alternative Capital",null,"Agg. Max. Limit at Inception - 19",0]
["Sch V(m)","Alternative Capital",null,"Agg. Max. Limit at Inception - 20",0]
["Sch V(m)","Alternative Capital",null,"Agg. Max. Limit at Inception - 21",0]
["Sch V(m)","Alternative Capital",null,"Agg. Max. Limit at Inception - 22",0]
["Sch V(m)","Alternative Capital",null,"Agg. Max. Limit at Inception - 23",0]
["Sch V(m)","Alternative Capital",null,"Agg. Max. Limit at Inception - 24",0]
["Sch V(m)","Alternative Capital",null,"Agg. Max. Limit at Inception - 25",0]
["Sch V(m)","Alternative Capital",null,"Agg. Max. Limit at Inception - Total",0]
["Sch V(m)","Alternative Capital",null,"Net Agg. Max. Limit at End of Year - 1",0]
["Sch V(m)","Alternative Capital",null,"Net Agg. Max. Limit at End of Year - 2",0]
["Sch V(m)","Alternative Capital",null,"Net Agg. Max. Limit at End of Year - 3",0]
["Sch V(m)","Alternative Capital",null,"Net Agg. Max. Limit at End of Year - 4",0]
["Sch V(m)","Alternative Capital",null,"Net Agg. Max. Limit at End of Year - 5",0]
["Sch V(m)","Alternative Capital",null,"Net Agg. Max. Limit at End of Year - 6",0]
["Sch V(m)","Alternative Capital",null,"Net Agg. Max. Limit at End of Year - 7",0]
["Sch V(m)","Alternative Capital",null,"Net Agg. Max. Limit at End of Year - 8",0]
["Sch V(m)","Alternative Capital",null,"Net Agg. Max. Limit at End of Year - 9",0]
["Sch V(m)","Alternative Capital",null,"Net Agg. Max. Limit at End of Year - 10",0]
["Sch V(m)","Alternative Capital",null,"Net Agg. Max. Limit at End of Year - 11",0]
["Sch V(m)","Alternative Capital",null,"Net Agg. Max. Limit at End of Year - 12",0]
["Sch V(m)","Alternative Capital",null,"Net Agg. Max. Limit at End of Year - 13",0]
["Sch V(m)","Alternative Capital",null,"Net Agg. Max. Limit at End of Year - 14",0]
["Sch V(m)","Alternative Capital",null,"Net Agg. Max. Limit at End of Year - 15",0]
["Sch V(m)","Alternative Capital",null,"Net Agg. Max. Limit at End of Year - 16",0]
["Sch V(m)","Alternative Capital",null,"Net Agg. Max. Limit at End of Year - 17",0]
["Sch V(m)","Alternative Capital",null,"Net Agg. Max. Limit at End of Year - 18",0]
["Sch V(m)","Alternative Capital",null,"Net Agg. Max. Limit at End of Year - 19",0]
["Sch V(m)","Alternative Capital",null,"Net Agg. Max. Limit at End of Year - 20",0]
["Sch V(m)","Alternative Capital",null,"Net Agg. Max. Limit at End of Year - 21",0]
["Sch V(m)","Alternative Capital",null,"Net Agg. Max. Limit at End of Year - 22",0]
["Sch V(m)","Alternative Capital",null,"Net Agg. Max. Limit at End of Year - 23",0]
["Sch V(m)","Alternative Capital",null,"Net Agg. Max. Limit at End of Year - 24",0]
["Sch V(m)","Alternative Capital",null,"Net Agg. Max. Limit at End of Year - 25",0]
["Sch V(m)","Alternative Capital",null,"Net Agg. Max. Limit at End of Year - Total",0]
["Sch V(m)","Alternative Capital",null,"Inception Date of Cover Period - 1","00:00:00"]
["Sch V(m)","Alternative Capital",null,"Inception Date of Cover Period - 2","00:00:00"]
["Sch V(m)","Alternative Capital",null,"Inception Date of Cover Period - 3","00:00:00"]
["Sch V(m)","Alternative Capital",null,"Inception Date of Cover Period - 4","00:00:00"]
["Sch V(m)","Alternative Capital",null,"Inception Date of Cover Period - 5","00:00:00"]
["Sch V(m)","Alternative Capital",null,"Inception Date of Cover Period - 6","00:00:00"]
["Sch V(m)","Alternative Capital",null,"Inception Date of Cover Period - 7","00:00:00"]
["Sch V(m)","Alternative Capital",null,"Inception Date of Cover Period - 8","00:00:00"]
["Sch V(m)","Alternative Capital",null,"Inception Date of Cover Period - 9","00:00:00"]
["Sch V(m)","Alternative Capital",null,"Inception Date of Cover Period - 10","00:00:00"]
["Sch V(m)","Alternative Capital",null,"Inception Date of Cover Period - 11","00:00:00"]
["Sch V(m)","Alternative Capital",null,"Inception Date of Cover Period - 12","00:00:00"]
["Sch V(m)","Alternative Capital",null,"Inception Date of Cover Period - 13","00:00:00"]
["Sch V(m)","Alternative Capital",null,"Inception Date of Cover Period - 14","00:00:00"]
["Sch V(m)","Alternative Capital",null,"Inception Date of Cover Period - 15","00:00:00"]
["Sch V(m)","Alternative Capital",null,"Inception Date of Cover Period - 16","00:00:00"]
["Sch V(m)","Alternative Capital",null,"Inception Date of Cover Period - 17","00:00:00"]
["Sch V(m)","Alternative Capital",null,"Inception Date of Cover Period - 18","00:00:00"]
["Sch V(m)","Alternative Capital",null,"Inception Date of Cover Period - 19","00:00:00"]
["Sch V(m)","Alternative Capital",null,"Inception Date of Cover Period - 20","00:00:00"]
["Sch V(m)","Alternative Capital",null,"Inception Date of Cover Period - 21","00:00:00"]
["Sch V(m)","Alternative Capital",null,"Inception Date of Cover Period - 22","00:00:00"]
["Sch V(m)","Alternative Capital",null,"Inception Date of Cover Period - 23","00:00:00"]
["Sch V(m)","Alternative Capital",null,"Inception Date of Cover Period - 24","00:00:00"]
["Sch V(m)","Alternative Capital",null,"Inception Date of Cover Period - 25","00:00:00"]
["Sch V(m)","Alternative Capital",null,"Effective Date of Contract - 1","00:00:00"]
["Sch V(m)","Alternative Capital",null,"Effective Date of Contract - 2","00:00:00"]
["Sch V(m)","Alternative Capital",null,"Effective Date of Contract - 3","00:00:00"]
["Sch V(m)","Alternative Capital",null,"Effective Date of Contract - 4","00:00:00"]
["Sch V(m)","Alternative Capital",null,"Effective Date of Contract - 5","00:00:00"]
["Sch V(m)","Alternative Capital",null,"Effective Date of Contract - 6","00:00:00"]
["Sch V(m)","Alternative Capital",null,"Effective Date of Contract - 7","00:00:00"]
["Sch V(m)","Alternative Capital",null,"Effective Date of Contract - 8","00:00:00"]
["Sch V(m)","Alternative Capital",null,"Effective Date of Contract - 9","00:00:00"]
["Sch V(m)","Alternative Capital",null,"Effective Date of Contract - 10","00:00:00"]
["Sch V(m)","Alternative Capital",null,"Effective Date of Contract - 11","00:00:00"]
["Sch V(m)","Alternative Capital",null,"Effective Date of Contract - 12","00:00:00"]
["Sch V(m)","Alternative Capital",null,"Effective Date of Contract - 13","00:00:00"]
["Sch V(m)","Alternative Capital",null,"Effective Date of Contract - 14","00:00:00"]
["Sch V(m)","Alternative Capital",null,"Effective Date of Contract - 15","00:00:00"]
["Sch V(m)","Alternative Capital",null,"Effective Date of Contract - 16","00:00:00"]
["Sch V(m)","Alternative Capital",null,"Effective Date of Contract - 17","00:00:00"]
["Sch V(m)","Alternative Capital",null,"Effective Date of Contract - 18","00:00:00"]
["Sch V(m)","Alternative Capital",null,"Effective Date of Contract - 19","00:00:00"]
["Sch V(m)","Alternative Capital",null,"Effective Date of Contract - 20","00:00:00"]
["Sch V(m)","Alternative Capital",null,"Effective Date of Contract - 21","00:00:00"]
["Sch V(m)","Alternative Capital",null,"Effective Date of Contract - 22","00:00:00"]
["Sch V(m)","Alternative Capital",null,"Effective Date of Contract - 23","00:00:00"]
["Sch V(m)","Alternative Capital",null,"Effective Date of Contract - 24","00:00:00"]
["Sch V(m)","Alternative Capital",null,"Effective Date of Contract - 25","00:00:00"]
["Sch V(m)","Alternative Capital",null,"Expiry Date of Cover - 1","00:00:00"]
["Sch V(m)","Alternative Capital",null,"Expiry Date of Cover - 2","00:00:00"]
["Sch V(m)","Alternative Capital",null,"Expiry Date of Cover - 3","00:00:00"]
["Sch V(m)","Alternative Capital",null,"Expiry Date of Cover - 4","00:00:00"]
["Sch V(m)","Alternative Capital",null,"Expiry Date of Cover - 5","00:00:00"]
["Sch V(m)","Alternative Capital",null,"Expiry Date of Cover - 6","00:00:00"]
["Sch V(m)","Alternative Capital",null,"Expiry Date of Cover - 7","00:00:00"]
["Sch V(m)","Alternative Capital",null,"Expiry Date of Cover - 8","00:00:00"]
["Sch V(m)","Alternative Capital",null,"Expiry Date of Cover - 9","00:00:00"]
["Sch V(m)","Alternative Capital",null,"Expiry Date of Cover - 10","00:00:00"]
["Sch V(m)","Alternative Capital",null,"Expiry Date of Cover - 11","00:00:00"]
["Sch V(m)","Alternative Capital",null,"Expiry Date of Cover - 12","00:00:00"]
["Sch V(m)","Alternative Capital",null,"Expiry Date of Cover - 13","00:00:00"]
["Sch V(m)","Alternative Capital",null,"Expiry Date of Cover - 14","00:00:00"]
["Sch V(m)","Alternative Capital",null,"Expiry Date of Cover - 15","00:00:00"]
["Sch V(m)","Alternative Capital",null,"Expiry Date of Cover - 16","00:00:00"]
["Sch V(m)","Alternative Capital",null,"Expiry Date of Cover - 17","00:00:00"]
["Sch V(m)","Alternative Capital",null,"Expiry Date of Cover - 18","00:00:00"]
["Sch V(m)","Alternative Capital",null,"Expiry Date of Cover - 19","00:00:00"]
["Sch V(m)","Alternative Capital",null,"Expiry Date of Cover - 20","00:00:00"]
["Sch V(m)","Alternative Capital",null,"Expiry Date of Cover - 21","00:00:00"]
["Sch V(m)","Alternative Capital",null,"Expiry Date of Cover - 22","00:00:00"]
["Sch V(m)","Alternative Capital",null,"Expiry Date of Cover - 23","00:00:00"]
["Sch V(m)","Alternative Capital",null,"Expiry Date of Cover - 24","00:00:00"]
["Sch V(m)","Alternative Capital",null,"Expiry Date of Cover - 25","00:00:00"]
["Sch V(m)","Alternative Capital",null,"Cover Period GPW - 1",0]
["Sch V(m)","Alternative Capital",null,"Cover Period GPW - 2",0]
["Sch V(m)","Alternative Capital",null,"Cover Period GPW - 3",0]
["Sch V(m)","Alternative Capital",null,"Cover Period GPW - 4",0]
["Sch V(m)","Alternative Capital",null,"Cover Period GPW - 5",0]
["Sch V(m)","Alternative Capital",null,"Cover Period GPW - 6",0]
["Sch V(m)","Alternative Capital",null,"Cover Period GPW - 7",0]
["Sch V(m)","Alternative Capital",null,"Cover Period GPW - 8",0]
["Sch V(m)","Alternative Capital",null,"Cover Period GPW - 9",0]
["Sch V(m)","Alternative Capital",null,"Cover Period GPW - 10",0]
["Sch V(m)","Alternative Capital",null,"Cover Period GPW - 11",0]
["Sch V(m)","Alternative Capital",null,"Cover Period GPW - 12",0]
["Sch V(m)","Alternative Capital",null,"Cover Period GPW - 13",0]
["Sch V(m)","Alternative Capital",null,"Cover Period GPW - 14",0]
["Sch V(m)","Alternative Capital",null,"Cover Period GPW - 15",0]
["Sch V(m)","Alternative Capital",null,"Cover Period GPW - 16",0]
["Sch V(m)","Alternative Capital",null,"Cover Period GPW - 17",0]
["Sch V(m)","Alternative Capital",null,"Cover Period GPW - 18",0]
["Sch V(m)","Alternative Capital",null,"Cover Period GPW - 19",0]
["Sch V(m)","Alternative Capital",null,"Cover Period GPW - 20",0]
["Sch V(m)","Alternative Capital",null,"Cover Period GPW - 21",0]
["Sch V(m)","Alternative Capital",null,"Cover Period GPW - 22",0]
["Sch V(m)","Alternative Capital",null,"Cover Period GPW - 23",0]
["Sch V(m)","Alternative Capital",null,"Cover Period GPW - 24",0]
["Sch V(m)","Alternative Capital",null,"Cover Period GPW - 25",0]
["Sch V(m)","Alternative Capital",null,"Cover Period GPW - Total",0]
["Sch V(m)","Alternative Capital",null,"Cover Period NPW - 1",0]
["Sch V(m)","Alternative Capital",null,"Cover Period NPW - 2",0]
["Sch V(m)","Alternative Capital",null,"Cover Period NPW - 3",0]
["Sch V(m)","Alternative Capital",null,"Cover Period NPW - 4",0]
["Sch V(m)","Alternative Capital",null,"Cover Period NPW - 5",0]
["Sch V(m)","Alternative Capital",null,"Cover Period NPW - 6",0]
["Sch V(m)","Alternative Capital",null,"Cover Period NPW - 7",0]
["Sch V(m)","Alternative Capital",null,"Cover Period NPW - 8",0]
["Sch V(m)","Alternative Capital",null,"Cover Period NPW - 9",0]
["Sch V(m)","Alternative Capital",null,"Cover Period NPW - 10",0]
["Sch V(m)","Alternative Capital",null,"Cover Period NPW - 11",0]
["Sch V(m)","Alternative Capital",null,"Cover Period NPW - 12",0]
["Sch V(m)","Alternative Capital",null,"Cover Period NPW - 13",0]
["Sch V(m)","Alternative Capital",null,"Cover Period NPW - 14",0]
["Sch V(m)","Alternative Capital",null,"Cover Period NPW - 15",0]
["Sch V(m)","Alternative Capital",null,"Cover Period NPW - 16",0]
["Sch V(m)","Alternative Capital",null,"Cover Period NPW - 17",0]
["Sch V(m)","Alternative Capital",null,"Cover Period NPW - 18",0]
["Sch V(m)","Alternative Capital",null,"Cover Period NPW - 19",0]
["Sch V(m)","Alternative Capital",null,"Cover Period NPW - 20",0]
["Sch V(m)","Alternative Capital",null,"Cover Period NPW - 21",0]
["Sch V(m)","Alternative Capital",null,"Cover Period NPW - 22",0]
["Sch V(m)","Alternative Capital",null,"Cover Period NPW - 23",0]
["Sch V(m)","Alternative Capital",null,"Cover Period NPW - 24",0]
["Sch V(m)","Alternative Capital",null,"Cover Period NPW - 25",0]
["Sch V(m)","Alternative Capital",null,"Cover Period NPW - Total",0]
["Sch V(m)","Alternative Capital",null,"Attachment Point - 1",0]
["Sch V(m)","Alternative Capital",null,"Attachment Point - 2",0]
["Sch V(m)","Alternative Capital",null,"Attachment Point - 3",0]
["Sch V(m)","Alternative Capital",null,"Attachment Point - 4",0]
["Sch V(m)","Alternative Capital",null,"Attachment Point - 5",0]
["Sch V(m)","Alternative Capital",null,"Attachment Point - 6",0]
["Sch V(m)","Alternative Capital",null,"Attachment Point - 7",0]
["Sch V(m)","Alternative Capital",null,"Attachment Point - 8",0]
["Sch V(m)","Alternative Capital",null,"Attachment Point - 9",0]
["Sch V(m)","Alternative Capital",null,"Attachment Point - 10",0]
["Sch V(m)","Alternative Capital",null,"Attachment Point - 11",0]
["Sch V(m)","Alternative Capital",null,"Attachment Point - 12",0]
["Sch V(m)","Alternative Capital",null,"Attachment Point - 13",0]
["Sch V(m)","Alternative Capital",null,"Attachment Point - 14",0]
["Sch V(m)","Alternative Capital",null,"Attachment Point - 15",0]
["Sch V(m)","Alternative Capital",null,"Attachment Point - 16",0]
["Sch V(m)","Alternative Capital",null,"Attachment Point - 17",0]
["Sch V(m)","Alternative Capital",null,"Attachment Point - 18",0]
["Sch V(m)","Alternative Capital",null,"Attachment Point - 19",0]
["Sch V(m)","Alternative Capital",null,"Attachment Point - 20",0]
["Sch V(m)","Alternative Capital",null,"Attachment Point - 21",0]
["Sch V(m)","Alternative Capital",null,"Attachment Point - 22",0]
["Sch V(m)","Alternative Capital",null,"Attachment Point - 23",0]
["Sch V(m)","Alternative Capital",null,"Attachment Point - 24",0]
["Sch V(m)","Alternative Capital",null,"Attachment Point - 25",0]
["Sch V(m)","Alternative Capital",null,"Attachment Point - Total",0]
["Sch V(m)","Alternative Capital",null,"Aggregate Losses Beg. Of Year - 1",0]
["Sch V(m)","Alternative Capital",null,"Aggregate Losses Beg. Of Year - 2",0]
["Sch V(m)","Alternative Capital",null,"Aggregate Losses Beg. Of Year - 3",0]
["Sch V(m)","Alternative Capital",null,"Aggregate Losses Beg. Of Year - 4",0]
["Sch V(m)","Alternative Capital",null,"Aggregate Losses Beg. Of Year - 5",0]
["Sch V(m)","Alternative Capital",null,"Aggregate Losses Beg. Of Year - 6",0]
["Sch V(m)","Alternative Capital",null,"Aggregate Losses Beg. Of Year - 7",0]
["Sch V(m)","Alternative Capital",null,"Aggregate Losses Beg. Of Year - 8",0]
["Sch V(m)","Alternative Capital",null,"Aggregate Losses Beg. Of Year - 9",0]
["Sch V(m)","Alternative Capital",null,"Aggregate Losses Beg. Of Year - 10",0]
["Sch V(m)","Alternative Capital",null,"Aggregate Losses Beg. Of Year - 11",0]
["Sch V(m)","Alternative Capital",null,"Aggregate Losses Beg. Of Year - 12",0]
["Sch V(m)","Alternative Capital",null,"Aggregate Losses Beg. Of Year - 13",0]
["Sch V(m)","Alternative Capital",null,"Aggregate Losses Beg. Of Year - 14",0]
["Sch V(m)","Alternative Capital",null,"Aggregate Losses Beg. Of Year - 15",0]
["Sch V(m)","Alternative Capital",null,"Aggregate Losses Beg. Of Year - 16",0]
["Sch V(m)","Alternative Capital",null,"Aggregate Losses Beg. Of Year - 17",0]
["Sch V(m)","Alternative Capital",null,"Aggregate Losses Beg. Of Year - 18",0]
["Sch V(m)","Alternative Capital",null,"Aggregate Losses Beg. Of Year - 19",0]
["Sch V(m)","Alternative Capital",null,"Aggregate Losses Beg. Of Year - 20",0]
["Sch V(m)","Alternative Capital",null,"Aggregate Losses Beg. Of Year - 21",0]
["Sch V(m)","Alternative Capital",null,"Aggregate Losses Beg. Of Year - 22",0]
["Sch V(m)","Alternative Capital",null,"Aggregate Losses Beg. Of Year - 23",0]
["Sch V(m)","Alternative Capital",null,"Aggregate Losses Beg. Of Year - 24",0]
["Sch V(m)","Alternative Capital",null,"Aggregate Losses Beg. Of Year - 25",0]
["Sch V(m)","Alternative Capital",null,"Aggregate Losses Beg. Of Year - Total",0]
["Sch V(m)","Alternative Capital",null,"Aggregate Losses Incurred - 1",0]
["Sch V(m)","Alternative Capital",null,"Aggregate Losses Incurred - 2",0]
["Sch V(m)","Alternative Capital",null,"Aggregate Losses Incurred - 3",0]
["Sch V(m)","Alternative Capital",null,"Aggregate Losses Incurred - 4",0]
["Sch V(m)","Alternative Capital",null,"Aggregate Losses Incurred - 5",0]
["Sch V(m)","Alternative Capital",null,"Aggregate Losses Incurred - 6",0]
["Sch V(m)","Alternative Capital",null,"Aggregate Losses Incurred - 7",0]
["Sch V(m)","Alternative Capital",null,"Aggregate Losses Incurred - 8",0]
["Sch V(m)","Alternative Capital",null,"Aggregate Losses Incurred - 9",0]
["Sch V(m)","Alternative Capital",null,"Aggregate Losses Incurred - 10",0]
["Sch V(m)","Alternative Capital",null,"Aggregate Losses Incurred - 11",0]
["Sch V(m)","Alternative Capital",null,"Aggregate Losses Incurred - 12",0]
["Sch V(m)","Alternative Capital",null,"Aggregate Losses Incurred - 13",0]
["Sch V(m)","Alternative Capital",null,"Aggregate Losses Incurred - 14",0]
["Sch V(m)","Alternative Capital",null,"Aggregate Losses Incurred - 15",0]
["Sch V(m)","Alternative Capital",null,"Aggregate Losses Incurred - 16",0]
["Sch V(m)","Alternative Capital",null,"Aggregate Losses Incurred - 17",0]
["Sch V(m)","Alternative Capital",null,"Aggregate Losses Incurred - 18",0]
["Sch V(m)","Alternative Capital",null,"Aggregate Losses Incurred - 19",0]
["Sch V(m)","Alternative Capital",null,"Aggregate Losses Incurred - 20",0]
["Sch V(m)","Alternative Capital",null,"Aggregate Losses Incurred - 21",0]
["Sch V(m)","Alternative Capital",null,"Aggregate Losses Incurred - 22",0]
["Sch V(m)","Alternative Capital",null,"Aggregate Losses Incurred - 23",0]
["Sch V(m)","Alternative Capital",null,"Aggregate Losses Incurred - 24",0]
["Sch V(m)","Alternative Capital",null,"Aggregate Losses Incurred - 25",0]
["Sch V(m)","Alternative Capital",null,"Aggregate Losses Incurred - Total",0]
["Sch V(m)","Alternative Capital",null,"Aggregate Losses End Of Year - 1",0]
["Sch V(m)","Alternative Capital",null,"Aggregate Losses End Of Year - 2",0]
["Sch V(m)","Alternative Capital",null,"Aggregate Losses End Of Year - 3",0]
["Sch V(m)","Alternative Capital",null,"Aggregate Losses End Of Year - 4",0]
["Sch V(m)","Alternative Capital",null,"Aggregate Losses End Of Year - 5",0]
["Sch V(m)","Alternative Capital",null,"Aggregate Losses End Of Year - 6",0]
["Sch V(m)","Alternative Capital",null,"Aggregate Losses End Of Year - 7",0]
["Sch V(m)","Alternative Capital",null,"Aggregate Losses End Of Year - 8",0]
["Sch V(m)","Alternative Capital",null,"Aggregate Losses End Of Year - 9",0]
["Sch V(m)","Alternative Capital",null,"Aggregate Losses End Of Year - 10",0]
["Sch V(m)","Alternative Capital",null,"Aggregate Losses End Of Year - 11",0]
["Sch V(m)","Alternative Capital",null,"Aggregate Losses End Of Year - 12",0]
["Sch V(m)","Alternative Capital",null,"Aggregate Losses End Of Year - 13",0]
["Sch V(m)","Alternative Capital",null,"Aggregate Losses End Of Year - 14",0]
["Sch V(m)","Alternative Capital",null,"Aggregate Losses End Of Year - 15",0]
["Sch V(m)","Alternative Capital",null,"Aggregate Losses End Of Year - 16",0]
["Sch V(m)","Alternative Capital",null,"Aggregate Losses End Of Year - 17",0]
["Sch V(m)","Alternative Capital",null,"Aggregate Losses End Of Year - 18",0]
["Sch V(m)","Alternative Capital",null,"Aggregate Losses End Of Year - 19",0]
["Sch V(m)","Alternative Capital",null,"Aggregate Losses End Of Year - 20",0]
["Sch V(m)","Alternative Capital",null,"Aggregate Losses End Of Year - 21",0]
["Sch V(m)","Alternative Capital",null,"Aggregate Losses End Of Year - 22",0]
["Sch V(m)","Alternative Capital",null,"Aggregate Losses End Of Year - 23",0]
["Sch V(m)","Alternative Capital",null,"Aggregate Losses End Of Year - 24",0]
["Sch V(m)","Alternative Capital",null,"Aggregate Losses End Of Year - 25",0]
["Sch V(m)","Alternative Capital",null,"Aggregate Losses End Of Year - Total",0]
["Sch V(m)","Alternative Capital",null,"Collateral Reserve Buffer - 1",0]
["Sch V(m)","Alternative Capital",null,"Collateral Reserve Buffer - 2",0]
["Sch V(m)","Alternative Capital",null,"Collateral Reserve Buffer - 3",0]
["Sch V(m)","Alternative Capital",null,"Collateral Reserve Buffer - 4",0]
["Sch V(m)","Alternative Capital",null,"Collateral Reserve Buffer - 5",0]
["Sch V(m)","Alternative Capital",null,"Collateral Reserve Buffer - 6",0]
["Sch V(m)","Alternative Capital",null,"Collateral Reserve Buffer - 7",0]
["Sch V(m)","Alternative Capital",null,"Collateral Reserve Buffer - 8",0]
["Sch V(m)","Alternative Capital",null,"Collateral Reserve Buffer - 9",0]
["Sch V(m)","Alternative Capital",null,"Collateral Reserve Buffer - 10",0]
["Sch V(m)","Alternative Capital",null,"Collateral Reserve Buffer - 11",0]
["Sch V(m)","Alternative Capital",null,"Collateral Reserve Buffer - 12",0]
["Sch V(m)","Alternative Capital",null,"Collateral Reserve Buffer - 13",0]
["Sch V(m)","Alternative Capital",null,"Collateral Reserve Buffer - 14",0]
["Sch V(m)","Alternative Capital",null,"Collateral Reserve Buffer - 15",0]
["Sch V(m)","Alternative Capital",null,"Collateral Reserve Buffer - 16",0]
["Sch V(m)","Alternative Capital",null,"Collateral Reserve Buffer - 17",0]
["Sch V(m)","Alternative Capital",null,"Collateral Reserve Buffer - 18",0]
["Sch V(m)","Alternative Capital",null,"Collateral Reserve Buffer - 19",0]
["Sch V(m)","Alternative Capital",null,"Collateral Reserve Buffer - 20",0]
["Sch V(m)","Alternative Capital",null,"Collateral Reserve Buffer - 21",0]
["Sch V(m)","Alternative Capital",null,"Collateral Reserve Buffer - 22",0]
["Sch V(m)","Alternative Capital",null,"Collateral Reserve Buffer - 23",0]
["Sch V(m)","Alternative Capital",null,"Collateral Reserve Buffer - 24",0]
["Sch V(m)","Alternative Capital",null,"Collateral Reserve Buffer - 25",0]
["Sch V(m)","Alternative Capital",null,"Collateral Reserve Buffer - Total",0]
["Sch V(m)","Alternative Capital",null,"Currency of Exposure - 1","Select from Drop Down"]
["Sch V(m)","Alternative Capital",null,"Currency of Exposure - 2","Select from Drop Down"]
["Sch V(m)","Alternative Capital",null,"Currency of Exposure - 3","Select from Drop Down"]
["Sch V(m)","Alternative Capital",null,"Currency of Exposure - 4","Select from Drop Down"]
["Sch V(m)","Alternative Capital",null,"Currency of Exposure - 5","Select from Drop Down"]
["Sch V(m)","Alternative Capital",null,"Currency of Exposure - 6","Select from Drop Down"]
["Sch V(m)","Alternative Capital",null,"Currency of Exposure - 7","Select from Drop Down"]
["Sch V(m)","Alternative Capital",null,"Currency of Exposure - 8","Select from Drop Down"]
["Sch V(m)","Alternative Capital",null,"Currency of Exposure - 9","Select from Drop Down"]
["Sch V(m)","Alternative Capital",null,"Currency of Exposure - 10","Select from Drop Down"]
["Sch V(m)","Alternative Capital",null,"Currency of Exposure - 11","Select from Drop Down"]
["Sch V(m)","Alternative Capital",null,"Currency of Exposure - 12","Select from Drop Down"]
["Sch V(m)","Alternative Capital",null,"Currency of Exposure - 13","Select from Drop Down"]
["Sch V(m)","Alternative Capital",null,"Currency of Exposure - 14","Select from Drop Down"]
["Sch V(m)","Alternative Capital",null,"Currency of Exposure - 15","Select from Drop Down"]
["Sch V(m)","Alternative Capital",null,"Currency of Exposure - 16","Select from Drop Down"]
["Sch V(m)","Alternative Capital",null,"Currency of Exposure - 17","Select from Drop Down"]
["Sch V(m)","Alternative Capital",null,"Currency of Exposure - 18","Select from Drop Down"]
["Sch V(m)","Alternative Capital",null,"Currency of Exposure - 19","Select from Drop Down"]
["Sch V(m)","Alternative Capital",null,"Currency of Exposure - 20","Select from Drop Down"]
["Sch V(m)","Alternative Capital",null,"Currency of Exposure - 21","Select from Drop Down"]
["Sch V(m)","Alternative Capital",null,"Currency of Exposure - 22","Select from Drop Down"]
["Sch V(m)","Alternative Capital",null,"Currency of Exposure - 23","Select from Drop Down"]
["Sch V(m)","Alternative Capital",null,"Currency of Exposure - 24","Select from Drop Down"]
["Sch V(m)","Alternative Capital",null,"Currency of Exposure - 25","Select from Drop Down"]
["Sch V(m)","Alternative Capital",null,"Nature of Collateral - 1","Select from Drop Down"]
["Sch V(m)","Alternative Capital",null,"Nature of Collateral - 2","Select from Drop Down"]
["Sch V(m)","Alternative Capital",null,"Nature of Collateral - 3","Select from Drop Down"]
["Sch V(m)","Alternative Capital",null,"Nature of Collateral - 4","Select from Drop Down"]
["Sch V(m)","Alternative Capital",null,"Nature of Collateral - 5","Select from Drop Down"]
["Sch V(m)","Alternative Capital",null,"Nature of Collateral - 6","Select from Drop Down"]
["Sch V(m)","Alternative Capital",null,"Nature of Collateral - 7","Select from Drop Down"]
["Sch V(m)","Alternative Capital",null,"Nature of Collateral - 8","Select from Drop Down"]
["Sch V(m)","Alternative Capital",null,"Nature of Collateral - 9","Select from Drop Down"]
["Sch V(m)","Alternative Capital",null,"Nature of Collateral - 10","Select from Drop Down"]
["Sch V(m)","Alternative Capital",null,"Nature of Collateral - 11","Select from Drop Down"]
["Sch V(m)","Alternative Capital",null,"Nature of Collateral - 12","Select from Drop Down"]
["Sch V(m)","Alternative Capital",null,"Nature of Collateral - 13","Select from Drop Down"]
["Sch V(m)","Alternative Capital",null,"Nature of Collateral - 14","Select from Drop Down"]
["Sch V(m)","Alternative Capital",null,"Nature of Collateral - 15","Select from Drop Down"]
["Sch V(m)","Alternative Capital",null,"Nature of Collateral - 16","Select from Drop Down"]
["Sch V(m)","Alternative Capital",null,"Nature of Collateral - 17","Select from Drop Down"]
["Sch V(m)","Alternative Capital",null,"Nature of Collateral - 18","Select from Drop Down"]
["Sch V(m)","Alternative Capital",null,"Nature of Collateral - 19","Select from Drop Down"]
["Sch V(m)","Alternative Capital",null,"Nature of Collateral - 20","Select from Drop Down"]
["Sch V(m)","Alternative Capital",null,"Nature of Collateral - 21","Select from Drop Down"]
["Sch V(m)","Alternative Capital",null,"Nature of Collateral - 22","Select from Drop Down"]
["Sch V(m)","Alternative Capital",null,"Nature of Collateral - 23","Select from Drop Down"]
["Sch V(m)","Alternative Capital",null,"Nature of Collateral - 24","Select from Drop Down"]
["Sch V(m)","Alternative Capital",null,"Nature of Collateral - 25","Select from Drop Down"]
["Sch V(m)","Alternative Capital",null,"Collateral Rating - 1","Select from Drop Down"]
["Sch V(m)","Alternative Capital",null,"Collateral Rating - 2","Select from Drop Down"]
["Sch V(m)","Alternative Capital",null,"Collateral Rating - 3","Select from Drop Down"]
["Sch V(m)","Alternative Capital",null,"Collateral Rating - 4","Select from Drop Down"]
["Sch V(m)","Alternative Capital",null,"Collateral Rating - 5","Select from Drop Down"]
["Sch V(m)","Alternative Capital",null,"Collateral Rating - 6","Select from Drop Down"]
["Sch V(m)","Alternative Capital",null,"Collateral Rating - 7","Select from Drop Down"]
["Sch V(m)","Alternative Capital",null,"Collateral Rating - 8","Select from Drop Down"]
["Sch V(m)","Alternative Capital",null,"Collateral Rating - 9","Select from Drop Down"]
["Sch V(m)","Alternative Capital",null,"Collateral Rating - 10","Select from Drop Down"]
["Sch V(m)","Alternative Capital",null,"Collateral Rating - 11","Select from Drop Down"]
["Sch V(m)","Alternative Capital",null,"Collateral Rating - 12","Select from Drop Down"]
["Sch V(m)","Alternative Capital",null,"Collateral Rating - 13","Select from Drop Down"]
["Sch V(m)","Alternative Capital",null,"Collateral Rating - 14","Select from Drop Down"]
["Sch V(m)","Alternative Capital",null,"Collateral Rating - 15","Select from Drop Down"]
["Sch V(m)","Alternative Capital",null,"Collateral Rating - 16","Select from Drop Down"]
["Sch V(m)","Alternative Capital",null,"Collateral Rating - 17","Select from Drop Down"]
["Sch V(m)","Alternative Capital",null,"Collateral Rating - 18","Select from Drop Down"]
["Sch V(m)","Alternative Capital",null,"Collateral Rating - 19","Select from Drop Down"]
["Sch V(m)","Alternative Capital",null,"Collateral Rating - 20","Select from Drop Down"]
["Sch V(m)","Alternative Capital",null,"Collateral Rating - 21","Select from Drop Down"]
["Sch V(m)","Alternative Capital",null,"Collateral Rating - 22","Select from Drop Down"]
["Sch V(m)","Alternative Capital",null,"Collateral Rating - 23","Select from Drop Down"]
["Sch V(m)","Alternative Capital",null,"Collateral Rating - 24","Select from Drop Down"]
["Sch V(m)","Alternative Capital",null,"Collateral Rating - 25","Select from Drop Down"]
["Sch V(m)","Alternative Capital",null,"Amount of Collateral - 1",0]
["Sch V(m)","Alternative Capital",null,"Amount of Collateral - 2",0]
["Sch V(m)","Alternative Capital",null,"Amount of Collateral - 3",0]
["Sch V(m)","Alternative Capital",null,"Amount of Collateral - 4",0]
["Sch V(m)","Alternative Capital",null,"Amount of Collateral - 5",0]
["Sch V(m)","Alternative Capital",null,"Amount of Collateral - 6",0]
["Sch V(m)","Alternative Capital",null,"Amount of Collateral - 7",0]
["Sch V(m)","Alternative Capital",null,"Amount of Collateral - 8",0]
["Sch V(m)","Alternative Capital",null,"Amount of Collateral - 9",0]
["Sch V(m)","Alternative Capital",null,"Amount of Collateral - 10",0]
["Sch V(m)","Alternative Capital",null,"Amount of Collateral - 11",0]
["Sch V(m)","Alternative Capital",null,"Amount of Collateral - 12",0]
["Sch V(m)","Alternative Capital",null,"Amount of Collateral - 13",0]
["Sch V(m)","Alternative Capital",null,"Amount of Collateral - 14",0]
["Sch V(m)","Alternative Capital",null,"Amount of Collateral - 15",0]
["Sch V(m)","Alternative Capital",null,"Amount of Collateral - 16",0]
["Sch V(m)","Alternative Capital",null,"Amount of Collateral - 17",0]
["Sch V(m)","Alternative Capital",null,"Amount of Collateral - 18",0]
["Sch V(m)","Alternative Capital",null,"Amount of Collateral - 19",0]
["Sch V(m)","Alternative Capital",null,"Amount of Collateral - 20",0]
["Sch V(m)","Alternative Capital",null,"Amount of Collateral - 21",0]
["Sch V(m)","Alternative Capital",null,"Amount of Collateral - 22",0]
["Sch V(m)","Alternative Capital",null,"Amount of Collateral - 23",0]
["Sch V(m)","Alternative Capital",null,"Amount of Collateral - 24",0]
["Sch V(m)","Alternative Capital",null,"Amount of Collateral - 25",0]
["Sch V(m)","Alternative Capital",null,"Amount of Collateral - Total",0]
["Sch V(m)","Alternative Capital",null,"Comments - 1",0]
["Sch V(m)","Alternative Capital",null,"Comments - 2",0]
["Sch V(m)","Alternative Capital",null,"Comments - 3",0]
["Sch V(m)","Alternative Capital",null,"Comments - 4",0]
["Sch V(m)","Alternative Capital",null,"Comments - 5",0]
["Sch V(m)","Alternative Capital",null,"Comments - 6",0]
["Sch V(m)","Alternative Capital",null,"Comments - 7",0]
["Sch V(m)","Alternative Capital",null,"Comments - 8",0]
["Sch V(m)","Alternative Capital",null,"Comments - 9",0]
["Sch V(m)","Alternative Capital",null,"Comments - 10",0]
["Sch V(m)","Alternative Capital",null,"Comments - 11",0]
["Sch V(m)","Alternative Capital",null,"Comments - 12",0]
["Sch V(m)","Alternative Capital",null,"Comments - 13",0]
["Sch V(m)","Alternative Capital",null,"Comments - 14",0]
["Sch V(m)","Alternative Capital",null,"Comments - 15",0]
["Sch V(m)","Alternative Capital",null,"Comments - 16",0]
["Sch V(m)","Alternative Capital",null,"Comments - 17",0]
["Sch V(m)","Alternative Capital",null,"Comments - 18",0]
["Sch V(m)","Alternative Capital",null,"Comments - 19",0]
["Sch V(m)","Alternative Capital",null,"Comments - 20",0]
["Sch V(m)","Alternative Capital",null,"Comments - 21",0]
["Sch V(m)","Alternative Capital",null,"Comments - 22",0]
["Sch V(m)","Alternative Capital",null,"Comments - 23",0]
["Sch V(m)","Alternative Capital",null,"Comments - 24",0]
["Sch V(m)","Alternative Capital",null,"Comments - 25",0]
["Sch V(m)","Alternative Capital",null,"General Comments",0]
[]
["Sch XVIII","Outward R/I Secure Agg Limits",null,"# of Reinsurers",null,null,null,null,0,null,null,null,null,null,null,null,null,null,null,null,null,null,null,null,null,null,null,null,null,0]
["Sch XVIII","Outward R/I Secure Agg Limits",null,"Reinsurer Name - 1",null,null,null,null,0,null,null,null,null,null,null,null,null,null,null,null,null,null,null,null,null,null,null,null,null,0]
["Sch XVIII","Outward R/I Secure Agg Limits",null,"Reinsurer Name - 2",null,null,null,null,0,null,null,null,null,null,null,null,null,null,null,null,null,null,null,null,null,null,null,null,null,0]
["Sch XVIII","Outward R/I Secure Agg Limits",null,"Reinsurer Name - 3",null,null,null,null,0,null,null,null,null,null,null,null,null,null,null,null,null,null,null,null,null,null,null,null,null,0]
["Sch XVIII","Outward R/I Secure Agg Limits",null,"Reinsurer Name - 4",null,null,null,null,0,null,null,null,null,null,null,null,null,null,null,null,null,null,null,null,null,null,null,null,null,0]
["Sch XVIII","Outward R/I Secure Agg Limits",null,"Reinsurer Name - 5",null,null,null,null,0,null,null,null,null,null,null,null,null,null,null,null,null,null,null,null,null,null,null,null,null,0]
["Sch XVIII","Outward R/I Secure Agg Limits",null,"Reinsurer Name - 6",null,null,null,null,0,null,null,null,null,null,null,null,null,null,null,null,null,null,null,null,null,null,null,null,null,0]
["Sch XVIII","Outward R/I Secure Agg Limits",null,"Reinsurer Name - 7",null,null,null,null,0,null,null,null,null,null,null,null,null,null,null,null,null,null,null,null,null,null,null,null,null,0]
["Sch XVIII","Outward R/I Secure Agg Limits",null,"Reinsurer Name - 8",null,null,null,null,0,null,null,null,null,null,null,null,null,null,null,null,null,null,null,null,null,null,null,null,null,0]
["Sch XVIII","Outward R/I Secure Agg Limits",null,"Reinsurer Name - 9",null,null,null,null,0,null,null,null,null,null,null,null,null,null,null,null,null,null,null,null,null,null,null,null,null,0]
["Sch XVIII","Outward R/I Secure Agg Limits",null,"Reinsurer Name - 10",null,null,null,null,0,null,null,null,null,null,null,null,null,null,null,null,null,null,null,null,null,null,null,null,null,0]
["Sch XVIII","Outward R/I Secure Agg Limits",null,"Reinsurer Name - 11",null,null,null,null,0,null,null,null,null,null,null,null,null,null,null,null,null,null,null,null,null,null,null,null,null,0]
["Sch XVIII","Outward R/I Secure Agg Limits",null,"Reinsurer Name - 12",null,null,null,null,0,null,null,null,null,null,null,null,null,null,null,null,null,null,null,null,null,null,null,null,null,0]
["Sch XVIII","Outward R/I Secure Agg Limits",null,"Reinsurer Name - 13",null,null,null,null,0,null,null,null,null,null,null,null,null,null,null,null,null,null,null,null,null,null,null,null,null,0]
["Sch XVIII","Outward R/I Secure Agg Limits",null,"Reinsurer Name - 14",null,null,null,null,0,null,null,null,null,null,null,null,null,null,null,null,null,null,null,null,null,null,null,null,null,0]
["Sch XVIII","Outward R/I Secure Agg Limits",null,"Reinsurer Name - 15",null,null,null,null,0,null,null,null,null,null,null,null,null,null,null,null,null,null,null,null,null,null,null,null,null,0]
["Sch XVIII","Outward R/I Secure Agg Limits",null,"Reinsurer Name - 16",null,null,null,null,0,null,null,null,null,null,null,null,null,null,null,null,null,null,null,null,null,null,null,null,null,0]
["Sch XVIII","Outward R/I Secure Agg Limits",null,"Reinsurer Name - 17",null,null,null,null,0,null,null,null,null,null,null,null,null,null,null,null,null,null,null,null,null,null,null,null,null,0]
["Sch XVIII","Outward R/I Secure Agg Limits",null,"Reinsurer Name - 18",null,null,null,null,0,null,null,null,null,null,null,null,null,null,null,null,null,null,null,null,null,null,null,null,null,0]
["Sch XVIII","Outward R/I Secure Agg Limits",null,"Reinsurer Name - 19",null,null,null,null,0,null,null,null,null,null,null,null,null,null,null,null,null,null,null,null,null,null,null,null,null,0]
["Sch XVIII","Outward R/I Secure Agg Limits",null,"Reinsurer Name - 20",null,null,null,null,0,null,null,null,null,null,null,null,null,null,null,null,null,null,null,null,null,null,null,null,null,0]
["Sch XVIII","Outward R/I Secure Agg Limits",null,"Reinsurer Name - 21",null,null,null,null,0,null,null,null,null,null,null,null,null,null,null,null,null,null,null,null,null,null,null,null,null,0]
["Sch XVIII","Outward R/I Secure Agg Limits",null,"Reinsurer Name - 22",null,null,null,null,0,null,null,null,null,null,null,null,null,null,null,null,null,null,null,null,null,null,null,null,null,0]
["Sch XVIII","Outward R/I Secure Agg Limits",null,"Reinsurer Name - 23",null,null,null,null,0,null,null,null,null,null,null,null,null,null,null,null,null,null,null,null,null,null,null,null,null,0]
["Sch XVIII","Outward R/I Secure Agg Limits",null,"Reinsurer Name - 24",null,null,null,null,0,null,null,null,null,null,null,null,null,null,null,null,null,null,null,null,null,null,null,null,null,0]
["Sch XVIII","Outward R/I Secure Agg Limits",null,"Reinsurer Name - 25",null,null,null,null,0,null,null,null,null,null,null,null,null,null,null,null,null,null,null,null,null,null,null,null,null,0]
["Sch XVIII","Outward R/I Secure Agg Limits",null,"Reinsurer Name - 26",null,null,null,null,0,null,null,null,null,null,null,null,null,null,null,null,null,null,null,null,null,null,null,null,null,0]
["Sch XVIII","Outward R/I Secure Agg Limits",null,"Reinsurer Name - 27",null,null,null,null,0,null,null,null,null,null,null,null,null,null,null,null,null,null,null,null,null,null,null,null,null,0]
["Sch XVIII","Outward R/I Secure Agg Limits",null,"Reinsurer Name - 28",null,null,null,null,0,null,null,null,null,null,null,null,null,null,null,null,null,null,null,null,null,null,null,null,null,0]
["Sch XVIII","Outward R/I Secure Agg Limits",null,"Reinsurer Name - 29",null,null,null,null,0,null,null,null,null,null,null,null,null,null,null,null,null,null,null,null,null,null,null,null,null,0]
["Sch XVIII","Outward R/I Secure Agg Limits",null,"Reinsurer Name - 30",null,null,null,null,0,null,null,null,null,null,null,null,null,null,null,null,null,null,null,null,null,null,null,null,null,0]
["Sch XVIII","Outward R/I Secure Agg Limits",null,"Reinsurer BSCR Rating - 1",null,null,null,null,"Select",null,null,null,null,null,null,null,null,null,null,null,null,null,null,null,null,null,null,null,null,"Select"]
["Sch XVIII","Outward R/I Secure Agg Limits",null,"Reinsurer BSCR Rating - 2",null,null,null,null,"Select",null,null,null,null,null,null,null,null,null,null,null,null,null,null,null,null,null,null,null,null,"Select"]
["Sch XVIII","Outward R/I Secure Agg Limits",null,"Reinsurer BSCR Rating - 3",null,null,null,null,"Select",null,null,null,null,null,null,null,null,null,null,null,null,null,null,null,null,null,null,null,null,"Select"]
["Sch XVIII","Outward R/I Secure Agg Limits",null,"Reinsurer BSCR Rating - 4",null,null,null,null,"Select",null,null,null,null,null,null,null,null,null,null,null,null,null,null,null,null,null,null,null,null,"Select"]
["Sch XVIII","Outward R/I Secure Agg Limits",null,"Reinsurer BSCR Rating - 5",null,null,null,null,"Select",null,null,null,null,null,null,null,null,null,null,null,null,null,null,null,null,null,null,null,null,"Select"]
["Sch XVIII","Outward R/I Secure Agg Limits",null,"Reinsurer BSCR Rating - 6",null,null,null,null,"Select",null,null,null,null,null,null,null,null,null,null,null,null,null,null,null,null,null,null,null,null,"Select"]
["Sch XVIII","Outward R/I Secure Agg Limits",null,"Reinsurer BSCR Rating - 7",null,null,null,null,"Select",null,null,null,null,null,null,null,null,null,null,null,null,null,null,null,null,null,null,null,null,"Select"]
["Sch XVIII","Outward R/I Secure Agg Limits",null,"Reinsurer BSCR Rating - 8",null,null,null,null,"Select",null,null,null,null,null,null,null,null,null,null,null,null,null,null,null,null,null,null,null,null,"Select"]
["Sch XVIII","Outward R/I Secure Agg Limits",null,"Reinsurer BSCR Rating - 9",null,null,null,null,"Select",null,null,null,null,null,null,null,null,null,null,null,null,null,null,null,null,null,null,null,null,"Select"]
["Sch XVIII","Outward R/I Secure Agg Limits",null,"Reinsurer BSCR Rating - 10",null,null,null,null,"Select",null,null,null,null,null,null,null,null,null,null,null,null,null,null,null,null,null,null,null,null,"Select"]
["Sch XVIII","Outward R/I Secure Agg Limits",null,"Reinsurer BSCR Rating - 11",null,null,null,null,"Select",null,null,null,null,null,null,null,null,null,null,null,null,null,null,null,null,null,null,null,null,"Select"]
["Sch XVIII","Outward R/I Secure Agg Limits",null,"Reinsurer BSCR Rating - 12",null,null,null,null,"Select",null,null,null,null,null,null,null,null,null,null,null,null,null,null,null,null,null,null,null,null,"Select"]
["Sch XVIII","Outward R/I Secure Agg Limits",null,"Reinsurer BSCR Rating - 13",null,null,null,null,"Select",null,null,null,null,null,null,null,null,null,null,null,null,null,null,null,null,null,null,null,null,"Select"]
["Sch XVIII","Outward R/I Secure Agg Limits",null,"Reinsurer BSCR Rating - 14",null,null,null,null,"Select",null,null,null,null,null,null,null,null,null,null,null,null,null,null,null,null,null,null,null,null,"Select"]
["Sch XVIII","Outward R/I Secure Agg Limits",null,"Reinsurer BSCR Rating - 15",null,null,null,null,"Select",null,null,null,null,null,null,null,null,null,null,null,null,null,null,null,null,null,null,null,null,"Select"]
["Sch XVIII","Outward R/I Secure Agg Limits",null,"Reinsurer BSCR Rating - 16",null,null,null,null,"Select",null,null,null,null,null,null,null,null,null,null,null,null,null,null,null,null,null,null,null,null,"Select"]
["Sch XVIII","Outward R/I Secure Agg Limits",null,"Reinsurer BSCR Rating - 17",null,null,null,null,"Select",null,null,null,null,null,null,null,null,null,null,null,null,null,null,null,null,null,null,null,null,"Select"]
["Sch XVIII","Outward R/I Secure Agg Limits",null,"Reinsurer BSCR Rating - 18",null,null,null,null,"Select",null,null,null,null,null,null,null,null,null,null,null,null,null,null,null,null,null,null,null,null,"Select"]
["Sch XVIII","Outward R/I Secure Agg Limits",null,"Reinsurer BSCR Rating - 19",null,null,null,null,"Select",null,null,null,null,null,null,null,null,null,null,null,null,null,null,null,null,null,null,null,null,"Select"]
["Sch XVIII","Outward R/I Secure Agg Limits",null,"Reinsurer BSCR Rating - 20",null,null,null,null,"Select",null,null,null,null,null,null,null,null,null,null,null,null,null,null,null,null,null,null,null,null,"Select"]
["Sch XVIII","Outward R/I Secure Agg Limits",null,"Reinsurer BSCR Rating - 21",null,null,null,null,"Select",null,null,null,null,null,null,null,null,null,null,null,null,null,null,null,null,null,null,null,null,"Select"]
["Sch XVIII","Outward R/I Secure Agg Limits",null,"Reinsurer BSCR Rating - 22",null,null,null,null,"Select",null,null,null,null,null,null,null,null,null,null,null,null,null,null,null,null,null,null,null,null,"Select"]
["Sch XVIII","Outward R/I Secure Agg Limits",null,"Reinsurer BSCR Rating - 23",null,null,null,null,"Select",null,null,null,null,null,null,null,null,null,null,null,null,null,null,null,null,null,null,null,null,"Select"]
["Sch XVIII","Outward R/I Secure Agg Limits",null,"Reinsurer BSCR Rating - 24",null,null,null,null,"Select",null,null,null,null,null,null,null,null,null,null,null,null,null,null,null,null,null,null,null,null,"Select"]
["Sch XVIII","Outward R/I Secure Agg Limits",null,"Reinsurer BSCR Rating - 25",null,null,null,null,"Select",null,null,null,null,null,null,null,null,null,null,null,null,null,null,null,null,null,null,null,null,"Select"]
["Sch XVIII","Outward R/I Secure Agg Limits",null,"Reinsurer BSCR Rating - 26",null,null,null,null,"Select",null,null,null,null,null,null,null,null,null,null,null,null,null,null,null,null,null,null,null,null,"Select"]
["Sch XVIII","Outward R/I Secure Agg Limits",null,"Reinsurer BSCR Rating - 27",null,null,null,null,"Select",null,null,null,null,null,null,null,null,null,null,null,null,null,null,null,null,null,null,null,null,"Select"]
["Sch XVIII","Outward R/I Secure Agg Limits",null,"Reinsurer BSCR Rating - 28",null,null,null,null,"Select",null,null,null,null,null,null,null,null,null,null,null,null,null,null,null,null,null,null,null,null,"Select"]
["Sch XVIII","Outward R/I Secure Agg Limits",null,"Reinsurer BSCR Rating - 29",null,null,null,null,"Select",null,null,null,null,null,null,null,null,null,null,null,null,null,null,null,null,null,null,null,null,"Select"]
["Sch XVIII","Outward R/I Secure Agg Limits",null,"Reinsurer BSCR Rating - 30",null,null,null,null,"Select",null,null,null,null,null,null,null,null,null,null,null,null,null,null,null,null,null,null,null,null,"Select"]
["Sch XVIII","Outward R/I Secure Agg Limits",null,"Outwards R/I - 1",null,null,null,null,0,null,null,null,null,null,null,null,null,null,null,null,null,null,null,null,null,null,null,null,null,0]
["Sch XVIII","Outward R/I Secure Agg Limits",null,"Outwards R/I - 2",null,null,null,null,0,null,null,null,null,null,null,null,null,null,null,null,null,null,null,null,null,null,null,null,null,0]
["Sch XVIII","Outward R/I Secure Agg Limits",null,"Outwards R/I - 3",null,null,null,null,0,null,null,null,null,null,null,null,null,null,null,null,null,null,null,null,null,null,null,null,null,0]
["Sch XVIII","Outward R/I Secure Agg Limits",null,"Outwards R/I - 4",null,null,null,null,0,null,null,null,null,null,null,null,null,null,null,null,null,null,null,null,null,null,null,null,null,0]
["Sch XVIII","Outward R/I Secure Agg Limits",null,"Outwards R/I - 5",null,null,null,null,0,null,null,null,null,null,null,null,null,null,null,null,null,null,null,null,null,null,null,null,null,0]
["Sch XVIII","Outward R/I Secure Agg Limits",null,"Outwards R/I - 6",null,null,null,null,0,null,null,null,null,null,null,null,null,null,null,null,null,null,null,null,null,null,null,null,null,0]
["Sch XVIII","Outward R/I Secure Agg Limits",null,"Outwards R/I - 7",null,null,null,null,0,null,null,null,null,null,null,null,null,null,null,null,null,null,null,null,null,null,null,null,null,0]
["Sch XVIII","Outward R/I Secure Agg Limits",null,"Outwards R/I - 8",null,null,null,null,0,null,null,null,null,null,null,null,null,null,null,null,null,null,null,null,null,null,null,null,null,0]
["Sch XVIII","Outward R/I Secure Agg Limits",null,"Outwards R/I - 9",null,null,null,null,0,null,null,null,null,null,null,null,null,null,null,null,null,null,null,null,null,null,null,null,null,0]
["Sch XVIII","Outward R/I Secure Agg Limits",null,"Outwards R/I - 10",null,null,null,null,0,null,null,null,null,null,null,null,null,null,null,null,null,null,null,null,null,null,null,null,null,0]
["Sch XVIII","Outward R/I Secure Agg Limits",null,"Outwards R/I - 11",null,null,null,null,0,null,null,null,null,null,null,null,null,null,null,null,null,null,null,null,null,null,null,null,null,0]
["Sch XVIII","Outward R/I Secure Agg Limits",null,"Outwards R/I - 12",null,null,null,null,0,null,null,null,null,null,null,null,null,null,null,null,null,null,null,null,null,null,null,null,null,0]
["Sch XVIII","Outward R/I Secure Agg Limits",null,"Outwards R/I - 13",null,null,null,null,0,null,null,null,null,null,null,null,null,null,null,null,null,null,null,null,null,null,null,null,null,0]
["Sch XVIII","Outward R/I Secure Agg Limits",null,"Outwards R/I - 14",null,null,null,null,0,null,null,null,null,null,null,null,null,null,null,null,null,null,null,null,null,null,null,null,null,0]
["Sch XVIII","Outward R/I Secure Agg Limits",null,"Outwards R/I - 15",null,null,null,null,0,null,null,null,null,null,null,null,null,null,null,null,null,null,null,null,null,null,null,null,null,0]
["Sch XVIII","Outward R/I Secure Agg Limits",null,"Outwards R/I - 16",null,null,null,null,0,null,null,null,null,null,null,null,null,null,null,null,null,null,null,null,null,null,null,null,null,0]
["Sch XVIII","Outward R/I Secure Agg Limits",null,"Outwards R/I - 17",null,null,null,null,0,null,null,null,null,null,null,null,null,null,null,null,null,null,null,null,null,null,null,null,null,0]
["Sch XVIII","Outward R/I Secure Agg Limits",null,"Outwards R/I - 18",null,null,null,null,0,null,null,null,null,null,null,null,null,null,null,null,null,null,null,null,null,null,null,null,null,0]
["Sch XVIII","Outward R/I Secure Agg Limits",null,"Outwards R/I - 19",null,null,null,null,0,null,null,null,null,null,null,null,null,null,null,null,null,null,null,null,null,null,null,null,null,0]
["Sch XVIII","Outward R/I Secure Agg Limits",null,"Outwards R/I - 20",null,null,null,null,0,null,null,null,null,null,null,null,null,null,null,null,null,null,null,null,null,null,null,null,null,0]
["Sch XVIII","Outward R/I Secure Agg Limits",null,"Outwards R/I - 21",null,null,null,null,0,null,null,null,null,null,null,null,null,null,null,null,null,null,null,null,null,null,null,null,null,0]
["Sch XVIII","Outward R/I Secure Agg Limits",null,"Outwards R/I - 22",null,null,null,null,0,null,null,null,null,null,null,null,null,null,null,null,null,null,null,null,null,null,null,null,null,0]
["Sch XVIII","Outward R/I Secure Agg Limits",null,"Outwards R/I - 23",null,null,null,null,0,null,null,null,null,null,null,null,null,null,null,null,null,null,null,null,null,null,null,null,null,0]
["Sch XVIII","Outward R/I Secure Agg Limits",null,"Outwards R/I - 24",null,null,null,null,0,null,null,null,null,null,null,null,null,null,null,null,null,null,null,null,null,null,null,null,null,0]
["Sch XVIII","Outward R/I Secure Agg Limits",null,"Outwards R/I - 25",null,null,null,null,0,null,null,null,null,null,null,null,null,null,null,null,null,null,null,null,null,null,null,null,null,0]
["Sch XVIII","Outward R/I Secure Agg Limits",null,"Outwards R/I - 26",null,null,null,null,0,null,null,null,null,null,null,null,null,null,null,null,null,null,null,null,null,null,null,null,null,0]
["Sch XVIII","Outward R/I Secure Agg Limits",null,"Outwards R/I - 27",null,null,null,null,0,null,null,null,null,null,null,null,null,null,null,null,null,null,null,null,null,null,null,null,null,0]
["Sch XVIII","Outward R/I Secure Agg Limits",null,"Outwards R/I - 28",null,null,null,null,0,null,null,null,null,null,null,null,null,null,null,null,null,null,null,null,null,null,null,null,null,0]
["Sch XVIII","Outward R/I Secure Agg Limits",null,"Outwards R/I - 29",null,null,null,null,0,null,null,null,null,null,null,null,null,null,null,null,null,null,null,null,null,null,null,null,null,0]
["Sch XVIII","Outward R/I Secure Agg Limits",null,"Outwards R/I - 30",null,null,null,null,0,null,null,null,null,null,null,null,null,null,null,null,null,null,null,null,null,null,null,null,null,0]
["Sch XVIII","Outward R/I Secure Agg Limits",null,"Outwards R/I Total ",null,null,null,null,0,null,null,null,null,null,null,null,null,null,null,null,null,null,null,null,null,null,null,null,null,0]
["Sch XVIII","Outward R/I Secure Agg Limits",null,"Collateral - Cash and Cash Equivalents - 1",null,null,null,null,0,null,null,null,null,null,null,null,null,null,null,null,null,null,null,null,null,null,null,null,null,0]
["Sch XVIII","Outward R/I Secure Agg Limits",null,"Collateral - Cash and Cash Equivalents - 2",null,null,null,null,0,null,null,null,null,null,null,null,null,null,null,null,null,null,null,null,null,null,null,null,null,0]
["Sch XVIII","Outward R/I Secure Agg Limits",null,"Collateral - Cash and Cash Equivalents - 3",null,null,null,null,0,null,null,null,null,null,null,null,null,null,null,null,null,null,null,null,null,null,null,null,null,0]
["Sch XVIII","Outward R/I Secure Agg Limits",null,"Collateral - Cash and Cash Equivalents - 4",null,null,null,null,0,null,null,null,null,null,null,null,null,null,null,null,null,null,null,null,null,null,null,null,null,0]
["Sch XVIII","Outward R/I Secure Agg Limits",null,"Collateral - Cash and Cash Equivalents - 5",null,null,null,null,0,null,null,null,null,null,null,null,null,null,null,null,null,null,null,null,null,null,null,null,null,0]
["Sch XVIII","Outward R/I Secure Agg Limits",null,"Collateral - Cash and Cash Equivalents - 6",null,null,null,null,0,null,null,null,null,null,null,null,null,null,null,null,null,null,null,null,null,null,null,null,null,0]
["Sch XVIII","Outward R/I Secure Agg Limits",null,"Collateral - Cash and Cash Equivalents - 7",null,null,null,null,0,null,null,null,null,null,null,null,null,null,null,null,null,null,null,null,null,null,null,null,null,0]
["Sch XVIII","Outward R/I Secure Agg Limits",null,"Collateral - Cash and Cash Equivalents - 8",null,null,null,null,0,null,null,null,null,null,null,null,null,null,null,null,null,null,null,null,null,null,null,null,null,0]
["Sch XVIII","Outward R/I Secure Agg Limits",null,"Collateral - Cash and Cash Equivalents - 9",null,null,null,null,0,null,null,null,null,null,null,null,null,null,null,null,null,null,null,null,null,null,null,null,null,0]
["Sch XVIII","Outward R/I Secure Agg Limits",null,"Collateral - Cash and Cash Equivalents - 10",null,null,null,null,0,null,null,null,null,null,null,null,null,null,null,null,null,null,null,null,null,null,null,null,null,0]
["Sch XVIII","Outward R/I Secure Agg Limits",null,"Collateral - Cash and Cash Equivalents - 11",null,null,null,null,0,null,null,null,null,null,null,null,null,null,null,null,null,null,null,null,null,null,null,null,null,0]
["Sch XVIII","Outward R/I Secure Agg Limits",null,"Collateral - Cash and Cash Equivalents - 12",null,null,null,null,0,null,null,null,null,null,null,null,null,null,null,null,null,null,null,null,null,null,null,null,null,0]
["Sch XVIII","Outward R/I Secure Agg Limits",null,"Collateral - Cash and Cash Equivalents - 13",null,null,null,null,0,null,null,null,null,null,null,null,null,null,null,null,null,null,null,null,null,null,null,null,null,0]
["Sch XVIII","Outward R/I Secure Agg Limits",null,"Collateral - Cash and Cash Equivalents - 14",null,null,null,null,0,null,null,null,null,null,null,null,null,null,null,null,null,null,null,null,null,null,null,null,null,0]
["Sch XVIII","Outward R/I Secure Agg Limits",null,"Collateral - Cash and Cash Equivalents - 15",null,null,null,null,0,null,null,null,null,null,null,null,null,null,null,null,null,null,null,null,null,null,null,null,null,0]
["Sch XVIII","Outward R/I Secure Agg Limits",null,"Collateral - Cash and Cash Equivalents - 16",null,null,null,null,0,null,null,null,null,null,null,null,null,null,null,null,null,null,null,null,null,null,null,null,null,0]
["Sch XVIII","Outward R/I Secure Agg Limits",null,"Collateral - Cash and Cash Equivalents - 17",null,null,null,null,0,null,null,null,null,null,null,null,null,null,null,null,null,null,null,null,null,null,null,null,null,0]
["Sch XVIII","Outward R/I Secure Agg Limits",null,"Collateral - Cash and Cash Equivalents - 18",null,null,null,null,0,null,null,null,null,null,null,null,null,null,null,null,null,null,null,null,null,null,null,null,null,0]
["Sch XVIII","Outward R/I Secure Agg Limits",null,"Collateral - Cash and Cash Equivalents - 19",null,null,null,null,0,null,null,null,null,null,null,null,null,null,null,null,null,null,null,null,null,null,null,null,null,0]
["Sch XVIII","Outward R/I Secure Agg Limits",null,"Collateral - Cash and Cash Equivalents - 20",null,null,null,null,0,null,null,null,null,null,null,null,null,null,null,null,null,null,null,null,null,null,null,null,null,0]
["Sch XVIII","Outward R/I Secure Agg Limits",null,"Collateral - Cash and Cash Equivalents - 21",null,null,null,null,0,null,null,null,null,null,null,null,null,null,null,null,null,null,null,null,null,null,null,null,null,0]
["Sch XVIII","Outward R/I Secure Agg Limits",null,"Collateral - Cash and Cash Equivalents - 22",null,null,null,null,0,null,null,null,null,null,null,null,null,null,null,null,null,null,null,null,null,null,null,null,null,0]
["Sch XVIII","Outward R/I Secure Agg Limits",null,"Collateral - Cash and Cash Equivalents - 23",null,null,null,null,0,null,null,null,null,null,null,null,null,null,null,null,null,null,null,null,null,null,null,null,null,0]
["Sch XVIII","Outward R/I Secure Agg Limits",null,"Collateral - Cash and Cash Equivalents - 24",null,null,null,null,0,null,null,null,null,null,null,null,null,null,null,null,null,null,null,null,null,null,null,null,null,0]
["Sch XVIII","Outward R/I Secure Agg Limits",null,"Collateral - Cash and Cash Equivalents - 25",null,null,null,null,0,null,null,null,null,null,null,null,null,null,null,null,null,null,null,null,null,null,null,null,null,0]
["Sch XVIII","Outward R/I Secure Agg Limits",null,"Collateral - Cash and Cash Equivalents - 26",null,null,null,null,0,null,null,null,null,null,null,null,null,null,null,null,null,null,null,null,null,null,null,null,null,0]
["Sch XVIII","Outward R/I Secure Agg Limits",null,"Collateral - Cash and Cash Equivalents - 27",null,null,null,null,0,null,null,null,null,null,null,null,null,null,null,null,null,null,null,null,null,null,null,null,null,0]
["Sch XVIII","Outward R/I Secure Agg Limits",null,"Collateral - Cash and Cash Equivalents - 28",null,null,null,null,0,null,null,null,null,null,null,null,null,null,null,null,null,null,null,null,null,null,null,null,null,0]
["Sch XVIII","Outward R/I Secure Agg Limits",null,"Collateral - Cash and Cash Equivalents - 29",null,null,null,null,0,null,null,null,null,null,null,null,null,null,null,null,null,null,null,null,null,null,null,null,null,0]
["Sch XVIII","Outward R/I Secure Agg Limits",null,"Collateral - Cash and Cash Equivalents - 30",null,null,null,null,0,null,null,null,null,null,null,null,null,null,null,null,null,null,null,null,null,null,null,null,null,0]
["Sch XVIII","Outward R/I Secure Agg Limits",null,"Collateral - Cash and Cash Equivalents - Total",null,null,null,null,0,null,null,null,null,null,null,null,null,null,null,null,null,null,null,null,null,null,null,null,null,0]
["Sch XVIII","Outward R/I Secure Agg Limits",null,"Collateral - Other Assets - 1",null,null,null,null,0,null,null,null,null,null,null,null,null,null,null,null,null,null,null,null,null,null,null,null,null,0]
["Sch XVIII","Outward R/I Secure Agg Limits",null,"Collateral - Other Assets - 2",null,null,null,null,0,null,null,null,null,null,null,null,null,null,null,null,null,null,null,null,null,null,null,null,null,0]
["Sch XVIII","Outward R/I Secure Agg Limits",null,"Collateral - Other Assets - 3",null,null,null,null,0,null,null,null,null,null,null,null,null,null,null,null,null,null,null,null,null,null,null,null,null,0]
["Sch XVIII","Outward R/I Secure Agg Limits",null,"Collateral - Other Assets - 4",null,null,null,null,0,null,null,null,null,null,null,null,null,null,null,null,null,null,null,null,null,null,null,null,null,0]
["Sch XVIII","Outward R/I Secure Agg Limits",null,"Collateral - Other Assets - 5",null,null,null,null,0,null,null,null,null,null,null,null,null,null,null,null,null,null,null,null,null,null,null,null,null,0]
["Sch XVIII","Outward R/I Secure Agg Limits",null,"Collateral - Other Assets - 6",null,null,null,null,0,null,null,null,null,null,null,null,null,null,null,null,null,null,null,null,null,null,null,null,null,0]
["Sch XVIII","Outward R/I Secure Agg Limits",null,"Collateral - Other Assets - 7",null,null,null,null,0,null,null,null,null,null,null,null,null,null,null,null,null,null,null,null,null,null,null,null,null,0]
["Sch XVIII","Outward R/I Secure Agg Limits",null,"Collateral - Other Assets - 8",null,null,null,null,0,null,null,null,null,null,null,null,null,null,null,null,null,null,null,null,null,null,null,null,null,0]
["Sch XVIII","Outward R/I Secure Agg Limits",null,"Collateral - Other Assets - 9",null,null,null,null,0,null,null,null,null,null,null,null,null,null,null,null,null,null,null,null,null,null,null,null,null,0]
["Sch XVIII","Outward R/I Secure Agg Limits",null,"Collateral - Other Assets - 10",null,null,null,null,0,null,null,null,null,null,null,null,null,null,null,null,null,null,null,null,null,null,null,null,null,0]
["Sch XVIII","Outward R/I Secure Agg Limits",null,"Collateral - Other Assets - 11",null,null,null,null,0,null,null,null,null,null,null,null,null,null,null,null,null,null,null,null,null,null,null,null,null,0]
["Sch XVIII","Outward R/I Secure Agg Limits",null,"Collateral - Other Assets - 12",null,null,null,null,0,null,null,null,null,null,null,null,null,null,null,null,null,null,null,null,null,null,null,null,null,0]
["Sch XVIII","Outward R/I Secure Agg Limits",null,"Collateral - Other Assets - 13",null,null,null,null,0,null,null,null,null,null,null,null,null,null,null,null,null,null,null,null,null,null,null,null,null,0]
["Sch XVIII","Outward R/I Secure Agg Limits",null,"Collateral - Other Assets - 14",null,null,null,null,0,null,null,null,null,null,null,null,null,null,null,null,null,null,null,null,null,null,null,null,null,0]
["Sch XVIII","Outward R/I Secure Agg Limits",null,"Collateral - Other Assets - 15",null,null,null,null,0,null,null,null,null,null,null,null,null,null,null,null,null,null,null,null,null,null,null,null,null,0]
["Sch XVIII","Outward R/I Secure Agg Limits",null,"Collateral - Other Assets - 16",null,null,null,null,0,null,null,null,null,null,null,null,null,null,null,null,null,null,null,null,null,null,null,null,null,0]
["Sch XVIII","Outward R/I Secure Agg Limits",null,"Collateral - Other Assets - 17",null,null,null,null,0,null,null,null,null,null,null,null,null,null,null,null,null,null,null,null,null,null,null,null,null,0]
["Sch XVIII","Outward R/I Secure Agg Limits",null,"Collateral - Other Assets - 18",null,null,null,null,0,null,null,null,null,null,null,null,null,null,null,null,null,null,null,null,null,null,null,null,null,0]
["Sch XVIII","Outward R/I Secure Agg Limits",null,"Collateral - Other Assets - 19",null,null,null,null,0,null,null,null,null,null,null,null,null,null,null,null,null,null,null,null,null,null,null,null,null,0]
["Sch XVIII","Outward R/I Secure Agg Limits",null,"Collateral - Other Assets - 20",null,null,null,null,0,null,null,null,null,null,null,null,null,null,null,null,null,null,null,null,null,null,null,null,null,0]
["Sch XVIII","Outward R/I Secure Agg Limits",null,"Collateral - Other Assets - 21",null,null,null,null,0,null,null,null,null,null,null,null,null,null,null,null,null,null,null,null,null,null,null,null,null,0]
["Sch XVIII","Outward R/I Secure Agg Limits",null,"Collateral - Other Assets - 22",null,null,null,null,0,null,null,null,null,null,null,null,null,null,null,null,null,null,null,null,null,null,null,null,null,0]
["Sch XVIII","Outward R/I Secure Agg Limits",null,"Collateral - Other Assets - 23",null,null,null,null,0,null,null,null,null,null,null,null,null,null,null,null,null,null,null,null,null,null,null,null,null,0]
["Sch XVIII","Outward R/I Secure Agg Limits",null,"Collateral - Other Assets - 24",null,null,null,null,0,null,null,null,null,null,null,null,null,null,null,null,null,null,null,null,null,null,null,null,null,0]
["Sch XVIII","Outward R/I Secure Agg Limits",null,"Collateral - Other Assets - 25",null,null,null,null,0,null,null,null,null,null,null,null,null,null,null,null,null,null,null,null,null,null,null,null,null,0]
["Sch XVIII","Outward R/I Secure Agg Limits",null,"Collateral - Other Assets - 26",null,null,null,null,0,null,null,null,null,null,null,null,null,null,null,null,null,null,null,null,null,null,null,null,null,0]
["Sch XVIII","Outward R/I Secure Agg Limits",null,"Collateral - Other Assets - 27",null,null,null,null,0,null,null,null,null,null,null,null,null,null,null,null,null,null,null,null,null,null,null,null,null,0]
["Sch XVIII","Outward R/I Secure Agg Limits",null,"Collateral - Other Assets - 28",null,null,null,null,0,null,null,null,null,null,null,null,null,null,null,null,null,null,null,null,null,null,null,null,null,0]
["Sch XVIII","Outward R/I Secure Agg Limits",null,"Collateral - Other Assets - 29",null,null,null,null,0,null,null,null,null,null,null,null,null,null,null,null,null,null,null,null,null,null,null,null,null,0]
["Sch XVIII","Outward R/I Secure Agg Limits",null,"Collateral - Other Assets - 30",null,null,null,null,0,null,null,null,null,null,null,null,null,null,null,null,null,null,null,null,null,null,null,null,null,0]
["Sch XVIII","Outward R/I Secure Agg Limits",null,"Collateral - Other Assets - Total",null,null,null,null,0,null,null,null,null,null,null,null,null,null,null,null,null,null,null,null,null,null,null,null,null,0]
["Sch XVIII","Outward R/I Secure Agg Limits",null,"R/I Assets - Exposure by BSCR Rate 0",null,null,null,null,0,null,null,null,null,null,null,null,null,null,null,null,null,null,null,null,null,null,null,null,null,0]
["Sch XVIII","Outward R/I Secure Agg Limits",null,"R/I Assets - Exposure by BSCR Rate 1",null,null,null,null,0,null,null,null,null,null,null,null,null,null,null,null,null,null,null,null,null,null,null,null,null,0]
["Sch XVIII","Outward R/I Secure Agg Limits",null,"R/I Assets - Exposure by BSCR Rate 2",null,null,null,null,0,null,null,null,null,null,null,null,null,null,null,null,null,null,null,null,null,null,null,null,null,0]
["Sch XVIII","Outward R/I Secure Agg Limits",null,"R/I Assets - Exposure by BSCR Rate 3",null,null,null,null,0,null,null,null,null,null,null,null,null,null,null,null,null,null,null,null,null,null,null,null,null,0]
["Sch XVIII","Outward R/I Secure Agg Limits",null,"R/I Assets - Exposure by BSCR Rate 4",null,null,null,null,0,null,null,null,null,null,null,null,null,null,null,null,null,null,null,null,null,null,null,null,null,0]
["Sch XVIII","Outward R/I Secure Agg Limits",null,"R/I Assets - Exposure by BSCR Rate 5",null,null,null,null,0,null,null,null,null,null,null,null,null,null,null,null,null,null,null,null,null,null,null,null,null,0]
["Sch XVIII","Outward R/I Secure Agg Limits",null,"R/I Assets - Exposure by BSCR Rate 6",null,null,null,null,0,null,null,null,null,null,null,null,null,null,null,null,null,null,null,null,null,null,null,null,null,0]
["Sch XVIII","Outward R/I Secure Agg Limits",null,"R/I Assets - Exposure by BSCR Rate 7",null,null,null,null,0,null,null,null,null,null,null,null,null,null,null,null,null,null,null,null,null,null,null,null,null,0]
["Sch XVIII","Outward R/I Secure Agg Limits",null,"R/I Assets - Exposure by BSCR Rate 8",null,null,null,null,0,null,null,null,null,null,null,null,null,null,null,null,null,null,null,null,null,null,null,null,null,0]
["Sch XVIII","Outward R/I Secure Agg Limits",null,"R/I Assets - Exposure Total",null,null,null,null,0,null,null,null,null,null,null,null,null,null,null,null,null,null,null,null,null,null,null,null,null,0]
["Sch XVIII","Outward R/I Secure Agg Limits",null,"R/I Assets - Single Cons. Exp.",null,null,null,null,0,null,null,null,null,null,null,null,null,null,null,null,null,null,null,null,null,null,null,null,null,0]
["Sch XVIII","Outward R/I Secure Agg Limits",null,"R/I Payable - Exposure by BSCR Rate 0",null,null,null,null,0,null,null,null,null,null,null,null,null,null,null,null,null,null,null,null,null,null,null,null,null,0]
["Sch XVIII","Outward R/I Secure Agg Limits",null,"R/I Payable - Exposure by BSCR Rate 1",null,null,null,null,0,null,null,null,null,null,null,null,null,null,null,null,null,null,null,null,null,null,null,null,null,0]
["Sch XVIII","Outward R/I Secure Agg Limits",null,"R/I Payable - Exposure by BSCR Rate 2",null,null,null,null,0,null,null,null,null,null,null,null,null,null,null,null,null,null,null,null,null,null,null,null,null,0]
["Sch XVIII","Outward R/I Secure Agg Limits",null,"R/I Payable - Exposure by BSCR Rate 3",null,null,null,null,0,null,null,null,null,null,null,null,null,null,null,null,null,null,null,null,null,null,null,null,null,0]
["Sch XVIII","Outward R/I Secure Agg Limits",null,"R/I Payable - Exposure by BSCR Rate 4",null,null,null,null,0,null,null,null,null,null,null,null,null,null,null,null,null,null,null,null,null,null,null,null,null,0]
["Sch XVIII","Outward R/I Secure Agg Limits",null,"R/I Payable - Exposure by BSCR Rate 5",null,null,null,null,0,null,null,null,null,null,null,null,null,null,null,null,null,null,null,null,null,null,null,null,null,0]
["Sch XVIII","Outward R/I Secure Agg Limits",null,"R/I Payable - Exposure by BSCR Rate 6",null,null,null,null,0,null,null,null,null,null,null,null,null,null,null,null,null,null,null,null,null,null,null,null,null,0]
["Sch XVIII","Outward R/I Secure Agg Limits",null,"R/I Payable - Exposure by BSCR Rate 7",null,null,null,null,0,null,null,null,null,null,null,null,null,null,null,null,null,null,null,null,null,null,null,null,null,0]
["Sch XVIII","Outward R/I Secure Agg Limits",null,"R/I Payable - Exposure by BSCR Rate 8",null,null,null,null,0,null,null,null,null,null,null,null,null,null,null,null,null,null,null,null,null,null,null,null,null,0]
["Sch XVIII","Outward R/I Secure Agg Limits",null,"R/I Payable - Exposure Total",null,null,null,null,0,null,null,null,null,null,null,null,null,null,null,null,null,null,null,null,null,null,null,null,null,0]
["Sch XVIII","Outward R/I Secure Agg Limits",null,"R/I Payable - Single Cons. Exp.",null,null,null,null,0,null,null,null,null,null,null,null,null,null,null,null,null,null,null,null,null,null,null,null,null,0]
["Sch XVIII","Outward R/I Secure Agg Limits",null,"Collateral - Exposure by BSCR Rate 0",null,null,null,null,0,null,null,null,null,null,null,null,null,null,null,null,null,null,null,null,null,null,null,null,null,0]
["Sch XVIII","Outward R/I Secure Agg Limits",null,"Collateral - Exposure by BSCR Rate 1",null,null,null,null,0,null,null,null,null,null,null,null,null,null,null,null,null,null,null,null,null,null,null,null,null,0]
["Sch XVIII","Outward R/I Secure Agg Limits",null,"Collateral - Exposure by BSCR Rate 2",null,null,null,null,0,null,null,null,null,null,null,null,null,null,null,null,null,null,null,null,null,null,null,null,null,0]
["Sch XVIII","Outward R/I Secure Agg Limits",null,"Collateral - Exposure by BSCR Rate 3",null,null,null,null,0,null,null,null,null,null,null,null,null,null,null,null,null,null,null,null,null,null,null,null,null,0]
["Sch XVIII","Outward R/I Secure Agg Limits",null,"Collateral - Exposure by BSCR Rate 4",null,null,null,null,0,null,null,null,null,null,null,null,null,null,null,null,null,null,null,null,null,null,null,null,null,0]
["Sch XVIII","Outward R/I Secure Agg Limits",null,"Collateral - Exposure by BSCR Rate 5",null,null,null,null,0,null,null,null,null,null,null,null,null,null,null,null,null,null,null,null,null,null,null,null,null,0]
["Sch XVIII","Outward R/I Secure Agg Limits",null,"Collateral - Exposure by BSCR Rate 6",null,null,null,null,0,null,null,null,null,null,null,null,null,null,null,null,null,null,null,null,null,null,null,null,null,0]
["Sch XVIII","Outward R/I Secure Agg Limits",null,"Collateral - Exposure by BSCR Rate 7",null,null,null,null,0,null,null,null,null,null,null,null,null,null,null,null,null,null,null,null,null,null,null,null,null,0]
["Sch XVIII","Outward R/I Secure Agg Limits",null,"Collateral - Exposure by BSCR Rate 8",null,null,null,null,0,null,null,null,null,null,null,null,null,null,null,null,null,null,null,null,null,null,null,null,null,0]
["Sch XVIII","Outward R/I Secure Agg Limits",null,"Collateral - Exposure Total",null,null,null,null,0,null,null,null,null,null,null,null,null,null,null,null,null,null,null,null,null,null,null,null,null,0]
["Sch XVIII","Outward R/I Not Securing Agg Limits",null,"# of Outward Reinsurers",null,null,null,null,0,null,null,null,null,null,null,null,null,null,null,null,null,null,null,null,null,null,null,null,null,0]
["Sch XVIII","Outward R/I Not Securing Agg Limits",null,"Reinsurer Name - 1",null,null,null,null,0,null,null,null,null,null,null,null,null,null,null,null,null,null,null,null,null,null,null,null,null,0]
["Sch XVIII","Outward R/I Not Securing Agg Limits",null,"Reinsurer Name - 2",null,null,null,null,0,null,null,null,null,null,null,null,null,null,null,null,null,null,null,null,null,null,null,null,null,0]
["Sch XVIII","Outward R/I Not Securing Agg Limits",null,"Reinsurer Name - 3",null,null,null,null,0,null,null,null,null,null,null,null,null,null,null,null,null,null,null,null,null,null,null,null,null,0]
["Sch XVIII","Outward R/I Not Securing Agg Limits",null,"Reinsurer Name - 4",null,null,null,null,0,null,null,null,null,null,null,null,null,null,null,null,null,null,null,null,null,null,null,null,null,0]
["Sch XVIII","Outward R/I Not Securing Agg Limits",null,"Reinsurer Name - 5",null,null,null,null,0,null,null,null,null,null,null,null,null,null,null,null,null,null,null,null,null,null,null,null,null,0]
["Sch XVIII","Outward R/I Not Securing Agg Limits",null,"Reinsurer Name - 6",null,null,null,null,0,null,null,null,null,null,null,null,null,null,null,null,null,null,null,null,null,null,null,null,null,0]
["Sch XVIII","Outward R/I Not Securing Agg Limits",null,"Reinsurer Name - 7",null,null,null,null,0,null,null,null,null,null,null,null,null,null,null,null,null,null,null,null,null,null,null,null,null,0]
["Sch XVIII","Outward R/I Not Securing Agg Limits",null,"Reinsurer Name - 8",null,null,null,null,0,null,null,null,null,null,null,null,null,null,null,null,null,null,null,null,null,null,null,null,null,0]
["Sch XVIII","Outward R/I Not Securing Agg Limits",null,"Reinsurer Name - 9",null,null,null,null,0,null,null,null,null,null,null,null,null,null,null,null,null,null,null,null,null,null,null,null,null,0]
["Sch XVIII","Outward R/I Not Securing Agg Limits",null,"Reinsurer Name - 10",null,null,null,null,0,null,null,null,null,null,null,null,null,null,null,null,null,null,null,null,null,null,null,null,null,0]
["Sch XVIII","Outward R/I Not Securing Agg Limits",null,"Reinsurer Name - 11",null,null,null,null,0,null,null,null,null,null,null,null,null,null,null,null,null,null,null,null,null,null,null,null,null,0]
["Sch XVIII","Outward R/I Not Securing Agg Limits",null,"Reinsurer Name - 12",null,null,null,null,0,null,null,null,null,null,null,null,null,null,null,null,null,null,null,null,null,null,null,null,null,0]
["Sch XVIII","Outward R/I Not Securing Agg Limits",null,"Reinsurer Name - 13",null,null,null,null,0,null,null,null,null,null,null,null,null,null,null,null,null,null,null,null,null,null,null,null,null,0]
["Sch XVIII","Outward R/I Not Securing Agg Limits",null,"Reinsurer Name - 14",null,null,null,null,0,null,null,null,null,null,null,null,null,null,null,null,null,null,null,null,null,null,null,null,null,0]
["Sch XVIII","Outward R/I Not Securing Agg Limits",null,"Reinsurer Name - 15",null,null,null,null,0,null,null,null,null,null,null,null,null,null,null,null,null,null,null,null,null,null,null,null,null,0]
["Sch XVIII","Outward R/I Not Securing Agg Limits",null,"Reinsurer Name - 16",null,null,null,null,0,null,null,null,null,null,null,null,null,null,null,null,null,null,null,null,null,null,null,null,null,0]
["Sch XVIII","Outward R/I Not Securing Agg Limits",null,"Reinsurer Name - 17",null,null,null,null,0,null,null,null,null,null,null,null,null,null,null,null,null,null,null,null,null,null,null,null,null,0]
["Sch XVIII","Outward R/I Not Securing Agg Limits",null,"Reinsurer Name - 18",null,null,null,null,0,null,null,null,null,null,null,null,null,null,null,null,null,null,null,null,null,null,null,null,null,0]
["Sch XVIII","Outward R/I Not Securing Agg Limits",null,"Reinsurer Name - 19",null,null,null,null,0,null,null,null,null,null,null,null,null,null,null,null,null,null,null,null,null,null,null,null,null,0]
["Sch XVIII","Outward R/I Not Securing Agg Limits",null,"Reinsurer Name - 20",null,null,null,null,0,null,null,null,null,null,null,null,null,null,null,null,null,null,null,null,null,null,null,null,null,0]
["Sch XVIII","Outward R/I Not Securing Agg Limits",null,"Reinsurer Name - 21",null,null,null,null,0,null,null,null,null,null,null,null,null,null,null,null,null,null,null,null,null,null,null,null,null,0]
["Sch XVIII","Outward R/I Not Securing Agg Limits",null,"Reinsurer Name - 22",null,null,null,null,0,null,null,null,null,null,null,null,null,null,null,null,null,null,null,null,null,null,null,null,null,0]
["Sch XVIII","Outward R/I Not Securing Agg Limits",null,"Reinsurer Name - 23",null,null,null,null,0,null,null,null,null,null,null,null,null,null,null,null,null,null,null,null,null,null,null,null,null,0]
["Sch XVIII","Outward R/I Not Securing Agg Limits",null,"Reinsurer Name - 24",null,null,null,null,0,null,null,null,null,null,null,null,null,null,null,null,null,null,null,null,null,null,null,null,null,0]
["Sch XVIII","Outward R/I Not Securing Agg Limits",null,"Reinsurer Name - 25",null,null,null,null,0,null,null,null,null,null,null,null,null,null,null,null,null,null,null,null,null,null,null,null,null,0]
["Sch XVIII","Outward R/I Not Securing Agg Limits",null,"Reinsurer Name - 26",null,null,null,null,0,null,null,null,null,null,null,null,null,null,null,null,null,null,null,null,null,null,null,null,null,0]
["Sch XVIII","Outward R/I Not Securing Agg Limits",null,"Reinsurer Name - 27",null,null,null,null,0,null,null,null,null,null,null,null,null,null,null,null,null,null,null,null,null,null,null,null,null,0]
["Sch XVIII","Outward R/I Not Securing Agg Limits",null,"Reinsurer Name - 28",null,null,null,null,0,null,null,null,null,null,null,null,null,null,null,null,null,null,null,null,null,null,null,null,null,0]
["Sch XVIII","Outward R/I Not Securing Agg Limits",null,"Reinsurer Name - 29",null,null,null,null,0,null,null,null,null,null,null,null,null,null,null,null,null,null,null,null,null,null,null,null,null,0]
["Sch XVIII","Outward R/I Not Securing Agg Limits",null,"Reinsurer Name - 30",null,null,null,null,0,null,null,null,null,null,null,null,null,null,null,null,null,null,null,null,null,null,null,null,null,0]
["Sch XVIII","Outward R/I Not Securing Agg Limits",null,"Reinsurer BSCR Rating - 1",null,null,null,null,"Select",null,null,null,null,null,null,null,null,null,null,null,null,null,null,null,null,null,null,null,null,"Select"]
["Sch XVIII","Outward R/I Not Securing Agg Limits",null,"Reinsurer BSCR Rating - 2",null,null,null,null,"Select",null,null,null,null,null,null,null,null,null,null,null,null,null,null,null,null,null,null,null,null,"Select"]
["Sch XVIII","Outward R/I Not Securing Agg Limits",null,"Reinsurer BSCR Rating - 3",null,null,null,null,"Select",null,null,null,null,null,null,null,null,null,null,null,null,null,null,null,null,null,null,null,null,"Select"]
["Sch XVIII","Outward R/I Not Securing Agg Limits",null,"Reinsurer BSCR Rating - 4",null,null,null,null,"Select",null,null,null,null,null,null,null,null,null,null,null,null,null,null,null,null,null,null,null,null,"Select"]
["Sch XVIII","Outward R/I Not Securing Agg Limits",null,"Reinsurer BSCR Rating - 5",null,null,null,null,"Select",null,null,null,null,null,null,null,null,null,null,null,null,null,null,null,null,null,null,null,null,"Select"]
["Sch XVIII","Outward R/I Not Securing Agg Limits",null,"Reinsurer BSCR Rating - 6",null,null,null,null,"Select",null,null,null,null,null,null,null,null,null,null,null,null,null,null,null,null,null,null,null,null,"Select"]
["Sch XVIII","Outward R/I Not Securing Agg Limits",null,"Reinsurer BSCR Rating - 7",null,null,null,null,"Select",null,null,null,null,null,null,null,null,null,null,null,null,null,null,null,null,null,null,null,null,"Select"]
["Sch XVIII","Outward R/I Not Securing Agg Limits",null,"Reinsurer BSCR Rating - 8",null,null,null,null,"Select",null,null,null,null,null,null,null,null,null,null,null,null,null,null,null,null,null,null,null,null,"Select"]
["Sch XVIII","Outward R/I Not Securing Agg Limits",null,"Reinsurer BSCR Rating - 9",null,null,null,null,"Select",null,null,null,null,null,null,null,null,null,null,null,null,null,null,null,null,null,null,null,null,"Select"]
["Sch XVIII","Outward R/I Not Securing Agg Limits",null,"Reinsurer BSCR Rating - 10",null,null,null,null,"Select",null,null,null,null,null,null,null,null,null,null,null,null,null,null,null,null,null,null,null,null,"Select"]
["Sch XVIII","Outward R/I Not Securing Agg Limits",null,"Reinsurer BSCR Rating - 11",null,null,null,null,"Select",null,null,null,null,null,null,null,null,null,null,null,null,null,null,null,null,null,null,null,null,"Select"]
["Sch XVIII","Outward R/I Not Securing Agg Limits",null,"Reinsurer BSCR Rating - 12",null,null,null,null,"Select",null,null,null,null,null,null,null,null,null,null,null,null,null,null,null,null,null,null,null,null,"Select"]
["Sch XVIII","Outward R/I Not Securing Agg Limits",null,"Reinsurer BSCR Rating - 13",null,null,null,null,"Select",null,null,null,null,null,null,null,null,null,null,null,null,null,null,null,null,null,null,null,null,"Select"]
["Sch XVIII","Outward R/I Not Securing Agg Limits",null,"Reinsurer BSCR Rating - 14",null,null,null,null,"Select",null,null,null,null,null,null,null,null,null,null,null,null,null,null,null,null,null,null,null,null,"Select"]
["Sch XVIII","Outward R/I Not Securing Agg Limits",null,"Reinsurer BSCR Rating - 15",null,null,null,null,"Select",null,null,null,null,null,null,null,null,null,null,null,null,null,null,null,null,null,null,null,null,"Select"]
["Sch XVIII","Outward R/I Not Securing Agg Limits",null,"Reinsurer BSCR Rating - 16",null,null,null,null,"Select",null,null,null,null,null,null,null,null,null,null,null,null,null,null,null,null,null,null,null,null,"Select"]
["Sch XVIII","Outward R/I Not Securing Agg Limits",null,"Reinsurer BSCR Rating - 17",null,null,null,null,"Select",null,null,null,null,null,null,null,null,null,null,null,null,null,null,null,null,null,null,null,null,"Select"]
["Sch XVIII","Outward R/I Not Securing Agg Limits",null,"Reinsurer BSCR Rating - 18",null,null,null,null,"Select",null,null,null,null,null,null,null,null,null,null,null,null,null,null,null,null,null,null,null,null,"Select"]
["Sch XVIII","Outward R/I Not Securing Agg Limits",null,"Reinsurer BSCR Rating - 19",null,null,null,null,"Select",null,null,null,null,null,null,null,null,null,null,null,null,null,null,null,null,null,null,null,null,"Select"]
["Sch XVIII","Outward R/I Not Securing Agg Limits",null,"Reinsurer BSCR Rating - 20",null,null,null,null,"Select",null,null,null,null,null,null,null,null,null,null,null,null,null,null,null,null,null,null,null,null,"Select"]
["Sch XVIII","Outward R/I Not Securing Agg Limits",null,"Reinsurer BSCR Rating - 21",null,null,null,null,"Select",null,null,null,null,null,null,null,null,null,null,null,null,null,null,null,null,null,null,null,null,"Select"]
["Sch XVIII","Outward R/I Not Securing Agg Limits",null,"Reinsurer BSCR Rating - 22",null,null,null,null,"Select",null,null,null,null,null,null,null,null,null,null,null,null,null,null,null,null,null,null,null,null,"Select"]
["Sch XVIII","Outward R/I Not Securing Agg Limits",null,"Reinsurer BSCR Rating - 23",null,null,null,null,"Select",null,null,null,null,null,null,null,null,null,null,null,null,null,null,null,null,null,null,null,null,"Select"]
["Sch XVIII","Outward R/I Not Securing Agg Limits",null,"Reinsurer BSCR Rating - 24",null,null,null,null,"Select",null,null,null,null,null,null,null,null,null,null,null,null,null,null,null,null,null,null,null,null,"Select"]
["Sch XVIII","Outward R/I Not Securing Agg Limits",null,"Reinsurer BSCR Rating - 25",null,null,null,null,"Select",null,null,null,null,null,null,null,null,null,null,null,null,null,null,null,null,null,null,null,null,"Select"]
["Sch XVIII","Outward R/I Not Securing Agg Limits",null,"Reinsurer BSCR Rating - 26",null,null,null,null,"Select",null,null,null,null,null,null,null,null,null,null,null,null,null,null,null,null,null,null,null,null,"Select"]
["Sch XVIII","Outward R/I Not Securing Agg Limits",null,"Reinsurer BSCR Rating - 27",null,null,null,null,"Select",null,null,null,null,null,null,null,null,null,null,null,null,null,null,null,null,null,null,null,null,"Select"]
["Sch XVIII","Outward R/I Not Securing Agg Limits",null,"Reinsurer BSCR Rating - 28",null,null,null,null,"Select",null,null,null,null,null,null,null,null,null,null,null,null,null,null,null,null,null,null,null,null,"Select"]
["Sch XVIII","Outward R/I Not Securing Agg Limits",null,"Reinsurer BSCR Rating - 29",null,null,null,null,"Select",null,null,null,null,null,null,null,null,null,null,null,null,null,null,null,null,null,null,null,null,"Select"]
["Sch XVIII","Outward R/I Not Securing Agg Limits",null,"Reinsurer BSCR Rating - 30",null,null,null,null,"Select",null,null,null,null,null,null,null,null,null,null,null,null,null,null,null,null,null,null,null,null,"Select"]
["Sch XVIII","Outward R/I Not Securing Agg Limits",null,"Outwards R/I - 1",null,null,null,null,0,null,null,null,null,null,null,null,null,null,null,null,null,null,null,null,null,null,null,null,null,0]
["Sch XVIII","Outward R/I Not Securing Agg Limits",null,"Outwards R/I - 2",null,null,null,null,0,null,null,null,null,null,null,null,null,null,null,null,null,null,null,null,null,null,null,null,null,0]
["Sch XVIII","Outward R/I Not Securing Agg Limits",null,"Outwards R/I - 3",null,null,null,null,0,null,null,null,null,null,null,null,null,null,null,null,null,null,null,null,null,null,null,null,null,0]
["Sch XVIII","Outward R/I Not Securing Agg Limits",null,"Outwards R/I - 4",null,null,null,null,0,null,null,null,null,null,null,null,null,null,null,null,null,null,null,null,null,null,null,null,null,0]
["Sch XVIII","Outward R/I Not Securing Agg Limits",null,"Outwards R/I - 5",null,null,null,null,0,null,null,null,null,null,null,null,null,null,null,null,null,null,null,null,null,null,null,null,null,0]
["Sch XVIII","Outward R/I Not Securing Agg Limits",null,"Outwards R/I - 6",null,null,null,null,0,null,null,null,null,null,null,null,null,null,null,null,null,null,null,null,null,null,null,null,null,0]
["Sch XVIII","Outward R/I Not Securing Agg Limits",null,"Outwards R/I - 7",null,null,null,null,0,null,null,null,null,null,null,null,null,null,null,null,null,null,null,null,null,null,null,null,null,0]
["Sch XVIII","Outward R/I Not Securing Agg Limits",null,"Outwards R/I - 8",null,null,null,null,0,null,null,null,null,null,null,null,null,null,null,null,null,null,null,null,null,null,null,null,null,0]
["Sch XVIII","Outward R/I Not Securing Agg Limits",null,"Outwards R/I - 9",null,null,null,null,0,null,null,null,null,null,null,null,null,null,null,null,null,null,null,null,null,null,null,null,null,0]
["Sch XVIII","Outward R/I Not Securing Agg Limits",null,"Outwards R/I - 10",null,null,null,null,0,null,null,null,null,null,null,null,null,null,null,null,null,null,null,null,null,null,null,null,null,0]
["Sch XVIII","Outward R/I Not Securing Agg Limits",null,"Outwards R/I - 11",null,null,null,null,0,null,null,null,null,null,null,null,null,null,null,null,null,null,null,null,null,null,null,null,null,0]
["Sch XVIII","Outward R/I Not Securing Agg Limits",null,"Outwards R/I - 12",null,null,null,null,0,null,null,null,null,null,null,null,null,null,null,null,null,null,null,null,null,null,null,null,null,0]
["Sch XVIII","Outward R/I Not Securing Agg Limits",null,"Outwards R/I - 13",null,null,null,null,0,null,null,null,null,null,null,null,null,null,null,null,null,null,null,null,null,null,null,null,null,0]
["Sch XVIII","Outward R/I Not Securing Agg Limits",null,"Outwards R/I - 14",null,null,null,null,0,null,null,null,null,null,null,null,null,null,null,null,null,null,null,null,null,null,null,null,null,0]
["Sch XVIII","Outward R/I Not Securing Agg Limits",null,"Outwards R/I - 15",null,null,null,null,0,null,null,null,null,null,null,null,null,null,null,null,null,null,null,null,null,null,null,null,null,0]
["Sch XVIII","Outward R/I Not Securing Agg Limits",null,"Outwards R/I - 16",null,null,null,null,0,null,null,null,null,null,null,null,null,null,null,null,null,null,null,null,null,null,null,null,null,0]
["Sch XVIII","Outward R/I Not Securing Agg Limits",null,"Outwards R/I - 17",null,null,null,null,0,null,null,null,null,null,null,null,null,null,null,null,null,null,null,null,null,null,null,null,null,0]
["Sch XVIII","Outward R/I Not Securing Agg Limits",null,"Outwards R/I - 18",null,null,null,null,0,null,null,null,null,null,null,null,null,null,null,null,null,null,null,null,null,null,null,null,null,0]
["Sch XVIII","Outward R/I Not Securing Agg Limits",null,"Outwards R/I - 19",null,null,null,null,0,null,null,null,null,null,null,null,null,null,null,null,null,null,null,null,null,null,null,null,null,0]
["Sch XVIII","Outward R/I Not Securing Agg Limits",null,"Outwards R/I - 20",null,null,null,null,0,null,null,null,null,null,null,null,null,null,null,null,null,null,null,null,null,null,null,null,null,0]
["Sch XVIII","Outward R/I Not Securing Agg Limits",null,"Outwards R/I - 21",null,null,null,null,0,null,null,null,null,null,null,null,null,null,null,null,null,null,null,null,null,null,null,null,null,0]
["Sch XVIII","Outward R/I Not Securing Agg Limits",null,"Outwards R/I - 22",null,null,null,null,0,null,null,null,null,null,null,null,null,null,null,null,null,null,null,null,null,null,null,null,null,0]
["Sch XVIII","Outward R/I Not Securing Agg Limits",null,"Outwards R/I - 23",null,null,null,null,0,null,null,null,null,null,null,null,null,null,null,null,null,null,null,null,null,null,null,null,null,0]
["Sch XVIII","Outward R/I Not Securing Agg Limits",null,"Outwards R/I - 24",null,null,null,null,0,null,null,null,null,null,null,null,null,null,null,null,null,null,null,null,null,null,null,null,null,0]
["Sch XVIII","Outward R/I Not Securing Agg Limits",null,"Outwards R/I - 25",null,null,null,null,0,null,null,null,null,null,null,null,null,null,null,null,null,null,null,null,null,null,null,null,null,0]
["Sch XVIII","Outward R/I Not Securing Agg Limits",null,"Outwards R/I - 26",null,null,null,null,0,null,null,null,null,null,null,null,null,null,null,null,null,null,null,null,null,null,null,null,null,0]
["Sch XVIII","Outward R/I Not Securing Agg Limits",null,"Outwards R/I - 27",null,null,null,null,0,null,null,null,null,null,null,null,null,null,null,null,null,null,null,null,null,null,null,null,null,0]
["Sch XVIII","Outward R/I Not Securing Agg Limits",null,"Outwards R/I - 28",null,null,null,null,0,null,null,null,null,null,null,null,null,null,null,null,null,null,null,null,null,null,null,null,null,0]
["Sch XVIII","Outward R/I Not Securing Agg Limits",null,"Outwards R/I - 29",null,null,null,null,0,null,null,null,null,null,null,null,null,null,null,null,null,null,null,null,null,null,null,null,null,0]
["Sch XVIII","Outward R/I Not Securing Agg Limits",null,"Outwards R/I - 30",null,null,null,null,0,null,null,null,null,null,null,null,null,null,null,null,null,null,null,null,null,null,null,null,null,0]
["Sch XVIII","Outward R/I Not Securing Agg Limits",null,"Outwards R/I Total ",null,null,null,null,0,null,null,null,null,null,null,null,null,null,null,null,null,null,null,null,null,null,null,null,null,0]
["Sch XVIII","Outward R/I Not Securing Agg Limits",null,"Collateral - Cash and Cash Equivalents - 1",null,null,null,null,0,null,null,null,null,null,null,null,null,null,null,null,null,null,null,null,null,null,null,null,null,0]
["Sch XVIII","Outward R/I Not Securing Agg Limits",null,"Collateral - Cash and Cash Equivalents - 2",null,null,null,null,0,null,null,null,null,null,null,null,null,null,null,null,null,null,null,null,null,null,null,null,null,0]
["Sch XVIII","Outward R/I Not Securing Agg Limits",null,"Collateral - Cash and Cash Equivalents - 3",null,null,null,null,0,null,null,null,null,null,null,null,null,null,null,null,null,null,null,null,null,null,null,null,null,0]
["Sch XVIII","Outward R/I Not Securing Agg Limits",null,"Collateral - Cash and Cash Equivalents - 4",null,null,null,null,0,null,null,null,null,null,null,null,null,null,null,null,null,null,null,null,null,null,null,null,null,0]
["Sch XVIII","Outward R/I Not Securing Agg Limits",null,"Collateral - Cash and Cash Equivalents - 5",null,null,null,null,0,null,null,null,null,null,null,null,null,null,null,null,null,null,null,null,null,null,null,null,null,0]
["Sch XVIII","Outward R/I Not Securing Agg Limits",null,"Collateral - Cash and Cash Equivalents - 6",null,null,null,null,0,null,null,null,null,null,null,null,null,null,null,null,null,null,null,null,null,null,null,null,null,0]
["Sch XVIII","Outward R/I Not Securing Agg Limits",null,"Collateral - Cash and Cash Equivalents - 7",null,null,null,null,0,null,null,null,null,null,null,null,null,null,null,null,null,null,null,null,null,null,null,null,null,0]
["Sch XVIII","Outward R/I Not Securing Agg Limits",null,"Collateral - Cash and Cash Equivalents - 8",null,null,null,null,0,null,null,null,null,null,null,null,null,null,null,null,null,null,null,null,null,null,null,null,null,0]
["Sch XVIII","Outward R/I Not Securing Agg Limits",null,"Collateral - Cash and Cash Equivalents - 9",null,null,null,null,0,null,null,null,null,null,null,null,null,null,null,null,null,null,null,null,null,null,null,null,null,0]
["Sch XVIII","Outward R/I Not Securing Agg Limits",null,"Collateral - Cash and Cash Equivalents - 10",null,null,null,null,0,null,null,null,null,null,null,null,null,null,null,null,null,null,null,null,null,null,null,null,null,0]
["Sch XVIII","Outward R/I Not Securing Agg Limits",null,"Collateral - Cash and Cash Equivalents - 11",null,null,null,null,0,null,null,null,null,null,null,null,null,null,null,null,null,null,null,null,null,null,null,null,null,0]
["Sch XVIII","Outward R/I Not Securing Agg Limits",null,"Collateral - Cash and Cash Equivalents - 12",null,null,null,null,0,null,null,null,null,null,null,null,null,null,null,null,null,null,null,null,null,null,null,null,null,0]
["Sch XVIII","Outward R/I Not Securing Agg Limits",null,"Collateral - Cash and Cash Equivalents - 13",null,null,null,null,0,null,null,null,null,null,null,null,null,null,null,null,null,null,null,null,null,null,null,null,null,0]
["Sch XVIII","Outward R/I Not Securing Agg Limits",null,"Collateral - Cash and Cash Equivalents - 14",null,null,null,null,0,null,null,null,null,null,null,null,null,null,null,null,null,null,null,null,null,null,null,null,null,0]
["Sch XVIII","Outward R/I Not Securing Agg Limits",null,"Collateral - Cash and Cash Equivalents - 15",null,null,null,null,0,null,null,null,null,null,null,null,null,null,null,null,null,null,null,null,null,null,null,null,null,0]
["Sch XVIII","Outward R/I Not Securing Agg Limits",null,"Collateral - Cash and Cash Equivalents - 16",null,null,null,null,0,null,null,null,null,null,null,null,null,null,null,null,null,null,null,null,null,null,null,null,null,0]
["Sch XVIII","Outward R/I Not Securing Agg Limits",null,"Collateral - Cash and Cash Equivalents - 17",null,null,null,null,0,null,null,null,null,null,null,null,null,null,null,null,null,null,null,null,null,null,null,null,null,0]
["Sch XVIII","Outward R/I Not Securing Agg Limits",null,"Collateral - Cash and Cash Equivalents - 18",null,null,null,null,0,null,null,null,null,null,null,null,null,null,null,null,null,null,null,null,null,null,null,null,null,0]
["Sch XVIII","Outward R/I Not Securing Agg Limits",null,"Collateral - Cash and Cash Equivalents - 19",null,null,null,null,0,null,null,null,null,null,null,null,null,null,null,null,null,null,null,null,null,null,null,null,null,0]
["Sch XVIII","Outward R/I Not Securing Agg Limits",null,"Collateral - Cash and Cash Equivalents - 20",null,null,null,null,0,null,null,null,null,null,null,null,null,null,null,null,null,null,null,null,null,null,null,null,null,0]
["Sch XVIII","Outward R/I Not Securing Agg Limits",null,"Collateral - Cash and Cash Equivalents - 21",null,null,null,null,0,null,null,null,null,null,null,null,null,null,null,null,null,null,null,null,null,null,null,null,null,0]
["Sch XVIII","Outward R/I Not Securing Agg Limits",null,"Collateral - Cash and Cash Equivalents - 22",null,null,null,null,0,null,null,null,null,null,null,null,null,null,null,null,null,null,null,null,null,null,null,null,null,0]
["Sch XVIII","Outward R/I Not Securing Agg Limits",null,"Collateral - Cash and Cash Equivalents - 23",null,null,null,null,0,null,null,null,null,null,null,null,null,null,null,null,null,null,null,null,null,null,null,null,null,0]
["Sch XVIII","Outward R/I Not Securing Agg Limits",null,"Collateral - Cash and Cash Equivalents - 24",null,null,null,null,0,null,null,null,null,null,null,null,null,null,null,null,null,null,null,null,null,null,null,null,null,0]
["Sch XVIII","Outward R/I Not Securing Agg Limits",null,"Collateral - Cash and Cash Equivalents - 25",null,null,null,null,0,null,null,null,null,null,null,null,null,null,null,null,null,null,null,null,null,null,null,null,null,0]
["Sch XVIII","Outward R/I Not Securing Agg Limits",null,"Collateral - Cash and Cash Equivalents - 26",null,null,null,null,0,null,null,null,null,null,null,null,null,null,null,null,null,null,null,null,null,null,null,null,null,0]
["Sch XVIII","Outward R/I Not Securing Agg Limits",null,"Collateral - Cash and Cash Equivalents - 27",null,null,null,null,0,null,null,null,null,null,null,null,null,null,null,null,null,null,null,null,null,null,null,null,null,0]
["Sch XVIII","Outward R/I Not Securing Agg Limits",null,"Collateral - Cash and Cash Equivalents - 28",null,null,null,null,0,null,null,null,null,null,null,null,null,null,null,null,null,null,null,null,null,null,null,null,null,0]
["Sch XVIII","Outward R/I Not Securing Agg Limits",null,"Collateral - Cash and Cash Equivalents - 29",null,null,null,null,0,null,null,null,null,null,null,null,null,null,null,null,null,null,null,null,null,null,null,null,null,0]
["Sch XVIII","Outward R/I Not Securing Agg Limits",null,"Collateral - Cash and Cash Equivalents - 30",null,null,null,null,0,null,null,null,null,null,null,null,null,null,null,null,null,null,null,null,null,null,null,null,null,0]
["Sch XVIII","Outward R/I Not Securing Agg Limits",null,"Collateral - Cash and Cash Equivalents - Total",null,null,null,null,0,null,null,null,null,null,null,null,null,null,null,null,null,null,null,null,null,null,null,null,null,0]
["Sch XVIII","Outward R/I Not Securing Agg Limits",null,"Collateral - Other Assets - 1",null,null,null,null,0,null,null,null,null,null,null,null,null,null,null,null,null,null,null,null,null,null,null,null,null,0]
["Sch XVIII","Outward R/I Not Securing Agg Limits",null,"Collateral - Other Assets - 2",null,null,null,null,0,null,null,null,null,null,null,null,null,null,null,null,null,null,null,null,null,null,null,null,null,0]
["Sch XVIII","Outward R/I Not Securing Agg Limits",null,"Collateral - Other Assets - 3",null,null,null,null,0,null,null,null,null,null,null,null,null,null,null,null,null,null,null,null,null,null,null,null,null,0]
["Sch XVIII","Outward R/I Not Securing Agg Limits",null,"Collateral - Other Assets - 4",null,null,null,null,0,null,null,null,null,null,null,null,null,null,null,null,null,null,null,null,null,null,null,null,null,0]
["Sch XVIII","Outward R/I Not Securing Agg Limits",null,"Collateral - Other Assets - 5",null,null,null,null,0,null,null,null,null,null,null,null,null,null,null,null,null,null,null,null,null,null,null,null,null,0]
["Sch XVIII","Outward R/I Not Securing Agg Limits",null,"Collateral - Other Assets - 6",null,null,null,null,0,null,null,null,null,null,null,null,null,null,null,null,null,null,null,null,null,null,null,null,null,0]
["Sch XVIII","Outward R/I Not Securing Agg Limits",null,"Collateral - Other Assets - 7",null,null,null,null,0,null,null,null,null,null,null,null,null,null,null,null,null,null,null,null,null,null,null,null,null,0]
["Sch XVIII","Outward R/I Not Securing Agg Limits",null,"Collateral - Other Assets - 8",null,null,null,null,0,null,null,null,null,null,null,null,null,null,null,null,null,null,null,null,null,null,null,null,null,0]
["Sch XVIII","Outward R/I Not Securing Agg Limits",null,"Collateral - Other Assets - 9",null,null,null,null,0,null,null,null,null,null,null,null,null,null,null,null,null,null,null,null,null,null,null,null,null,0]
["Sch XVIII","Outward R/I Not Securing Agg Limits",null,"Collateral - Other Assets - 10",null,null,null,null,0,null,null,null,null,null,null,null,null,null,null,null,null,null,null,null,null,null,null,null,null,0]
["Sch XVIII","Outward R/I Not Securing Agg Limits",null,"Collateral - Other Assets - 11",null,null,null,null,0,null,null,null,null,null,null,null,null,null,null,null,null,null,null,null,null,null,null,null,null,0]
["Sch XVIII","Outward R/I Not Securing Agg Limits",null,"Collateral - Other Assets - 12",null,null,null,null,0,null,null,null,null,null,null,null,null,null,null,null,null,null,null,null,null,null,null,null,null,0]
["Sch XVIII","Outward R/I Not Securing Agg Limits",null,"Collateral - Other Assets - 13",null,null,null,null,0,null,null,null,null,null,null,null,null,null,null,null,null,null,null,null,null,null,null,null,null,0]
["Sch XVIII","Outward R/I Not Securing Agg Limits",null,"Collateral - Other Assets - 14",null,null,null,null,0,null,null,null,null,null,null,null,null,null,null,null,null,null,null,null,null,null,null,null,null,0]
["Sch XVIII","Outward R/I Not Securing Agg Limits",null,"Collateral - Other Assets - 15",null,null,null,null,0,null,null,null,null,null,null,null,null,null,null,null,null,null,null,null,null,null,null,null,null,0]
["Sch XVIII","Outward R/I Not Securing Agg Limits",null,"Collateral - Other Assets - 16",null,null,null,null,0,null,null,null,null,null,null,null,null,null,null,null,null,null,null,null,null,null,null,null,null,0]
["Sch XVIII","Outward R/I Not Securing Agg Limits",null,"Collateral - Other Assets - 17",null,null,null,null,0,null,null,null,null,null,null,null,null,null,null,null,null,null,null,null,null,null,null,null,null,0]
["Sch XVIII","Outward R/I Not Securing Agg Limits",null,"Collateral - Other Assets - 18",null,null,null,null,0,null,null,null,null,null,null,null,null,null,null,null,null,null,null,null,null,null,null,null,null,0]
["Sch XVIII","Outward R/I Not Securing Agg Limits",null,"Collateral - Other Assets - 19",null,null,null,null,0,null,null,null,null,null,null,null,null,null,null,null,null,null,null,null,null,null,null,null,null,0]
["Sch XVIII","Outward R/I Not Securing Agg Limits",null,"Collateral - Other Assets - 20",null,null,null,null,0,null,null,null,null,null,null,null,null,null,null,null,null,null,null,null,null,null,null,null,null,0]
["Sch XVIII","Outward R/I Not Securing Agg Limits",null,"Collateral - Other Assets - 21",null,null,null,null,0,null,null,null,null,null,null,null,null,null,null,null,null,null,null,null,null,null,null,null,null,0]
["Sch XVIII","Outward R/I Not Securing Agg Limits",null,"Collateral - Other Assets - 22",null,null,null,null,0,null,null,null,null,null,null,null,null,null,null,null,null,null,null,null,null,null,null,null,null,0]
["Sch XVIII","Outward R/I Not Securing Agg Limits",null,"Collateral - Other Assets - 23",null,null,null,null,0,null,null,null,null,null,null,null,null,null,null,null,null,null,null,null,null,null,null,null,null,0]
["Sch XVIII","Outward R/I Not Securing Agg Limits",null,"Collateral - Other Assets - 24",null,null,null,null,0,null,null,null,null,null,null,null,null,null,null,null,null,null,null,null,null,null,null,null,null,0]
["Sch XVIII","Outward R/I Not Securing Agg Limits",null,"Collateral - Other Assets - 25",null,null,null,null,0,null,null,null,null,null,null,null,null,null,null,null,null,null,null,null,null,null,null,null,null,0]
["Sch XVIII","Outward R/I Not Securing Agg Limits",null,"Collateral - Other Assets - 26",null,null,null,null,0,null,null,null,null,null,null,null,null,null,null,null,null,null,null,null,null,null,null,null,null,0]
["Sch XVIII","Outward R/I Not Securing Agg Limits",null,"Collateral - Other Assets - 27",null,null,null,null,0,null,null,null,null,null,null,null,null,null,null,null,null,null,null,null,null,null,null,null,null,0]
["Sch XVIII","Outward R/I Not Securing Agg Limits",null,"Collateral - Other Assets - 28",null,null,null,null,0,null,null,null,null,null,null,null,null,null,null,null,null,null,null,null,null,null,null,null,null,0]
["Sch XVIII","Outward R/I Not Securing Agg Limits",null,"Collateral - Other Assets - 29",null,null,null,null,0,null,null,null,null,null,null,null,null,null,null,null,null,null,null,null,null,null,null,null,null,0]
["Sch XVIII","Outward R/I Not Securing Agg Limits",null,"Collateral - Other Assets - 30",null,null,null,null,0,null,null,null,null,null,null,null,null,null,null,null,null,null,null,null,null,null,null,null,null,0]
["Sch XVIII","Outward R/I Not Securing Agg Limits",null,"Collateral - Other Assets - Total",null,null,null,null,0,null,null,null,null,null,null,null,null,null,null,null,null,null,null,null,null,null,null,null,null,0]
["Sch XVIII","Outward R/I Not Securing Agg Limits",null,"Comments - 1",null,null,null,null,0]
["Sch XVIII","Outward R/I Not Securing Agg Limits",null,"Comments - 2",null,null,null,null,0]
["Sch XVIII","Outward R/I Not Securing Agg Limits",null,"Comments - 3",null,null,null,null,0]
["Sch XVIII","Outward R/I Not Securing Agg Limits",null,"Comments - 4",null,null,null,null,0]
["Sch XVIII","Outward R/I Not Securing Agg Limits",null,"Comments - 5",null,null,null,null,0]
["Sch XVIII","Outward R/I Not Securing Agg Limits",null,"Comments - 6",null,null,null,null,0]
["Sch XVIII","Outward R/I Not Securing Agg Limits",null,"Comments - 7",null,null,null,null,0]
["Sch XVIII","Outward R/I Not Securing Agg Limits",null,"Comments - 8",null,null,null,null,0]
["Sch XVIII","Outward R/I Not Securing Agg Limits",null,"Comments - 9",null,null,null,null,0]
["Sch XVIII","Outward R/I Not Securing Agg Limits",null,"Comments - 10",null,null,null,null,0]
["Sch XVIII","Outward R/I Not Securing Agg Limits",null,"Comments - 11",null,null,null,null,0]
["Sch XVIII","Outward R/I Not Securing Agg Limits",null,"Comments - 12",null,null,null,null,0]
["Sch XVIII","Outward R/I Not Securing Agg Limits",null,"Comments - 13",null,null,null,null,0]
["Sch XVIII","Outward R/I Not Securing Agg Limits",null,"Comments - 14",null,null,null,null,0]
["Sch XVIII","Outward R/I Not Securing Agg Limits",null,"Comments - 15",null,null,null,null,0]
["Sch XVIII","Outward R/I Not Securing Agg Limits",null,"Comments - 16",null,null,null,null,0]
["Sch XVIII","Outward R/I Not Securing Agg Limits",null,"Comments - 17",null,null,null,null,0]
["Sch XVIII","Outward R/I Not Securing Agg Limits",null,"Comments - 18",null,null,null,null,0]
["Sch XVIII","Outward R/I Not Securing Agg Limits",null,"Comments - 19",null,null,null,null,0]
["Sch XVIII","Outward R/I Not Securing Agg Limits",null,"Comments - 20",null,null,null,null,0]
["Sch XVIII","Outward R/I Not Securing Agg Limits",null,"Comments - 21",null,null,null,null,0]
["Sch XVIII","Outward R/I Not Securing Agg Limits",null,"Comments - 22",null,null,null,null,0]
["Sch XVIII","Outward R/I Not Securing Agg Limits",null,"Comments - 23",null,null,null,null,0]
["Sch XVIII","Outward R/I Not Securing Agg Limits",null,"Comments - 24",null,null,null,null,0]
["Sch XVIII","Outward R/I Not Securing Agg Limits",null,"Comments - 25",null,null,null,null,0]
["Sch XVIII","Outward R/I Not Securing Agg Limits",null,"Comments - 26",null,null,null,null,0]
["Sch XVIII","Outward R/I Not Securing Agg Limits",null,"Comments - 27",null,null,null,null,0]
["Sch XVIII","Outward R/I Not Securing Agg Limits",null,"Comments - 28",null,null,null,null,0]
["Sch XVIII","Outward R/I Not Securing Agg Limits",null,"Comments - 29",null,null,null,null,0]
["Sch XVIII","Outward R/I Not Securing Agg Limits",null,"Comments - 30",null,null,null,null,0]
[]
["Operational","Coll. Op. Risk Charge","Trans & Struct","Q1 Nature & Structure of Product Written - a)",null,null,null,null,"No"]
["Operational","Coll. Op. Risk Charge","Trans & Struct","Q1 Nature & Structure of Product Written - b)",null,null,null,null,"Yes"]
["Operational","Coll. Op. Risk Charge","Trans & Struct","Q1 Nature & Structure of Product Written - c)",null,null,null,null,"Select Yes/No"]
["Operational","Coll. Op. Risk Charge","Trans & Struct","Q2 Nature of Product Written - a)",null,null,null,null,"Select Yes/No"]
["Operational","Coll. Op. Risk Charge","Trans & Struct","Q2 Nature of Product Written - b)",null,null,null,null,"Select Yes/No"]
["Operational","Coll. Op. Risk Charge","Trans & Struct","Q2 Nature of Product Written - c)",null,null,null,null,"Select Yes/No"]
["Operational","Coll. Op. Risk Charge","Trans & Struct","Q3 Insurance Contracts' Aggregate Limits - a)",null,null,null,null,"Select Yes/No"]
["Operational","Coll. Op. Risk Charge","Trans & Struct","Q3 Insurance Contracts' Aggregate Limits - b)",null,null,null,null,"Select Yes/No"]
["Operational","Coll. Op. Risk Charge","Trans & Struct","Q3 Insurance Contracts' Aggregate Limits - c)",null,null,null,null,"Select Yes/No"]
["Operational","Coll. Op. Risk Charge","Trans & Struct","Q4 Collateral Insurers Operation details - a)",null,null,null,null,"Select Yes/No"]
["Operational","Coll. Op. Risk Charge","Trans & Struct","Q4 Collateral Insurers Operation details - b)",null,null,null,null,"Select Yes/No"]
["Operational","Coll. Op. Risk Charge","Trans & Struct","Q4 Collateral Insurers Operation details - c)",null,null,null,null,"Select Yes/No"]
["Operational","Coll. Op. Risk Charge","Trans & Struct","Q5 Cedants are Affiliated A or better - a)",null,null,null,null,"Select Yes/No"]
["Operational","Coll. Op. Risk Charge","Trans & Struct","Q5 Cedants are Affiliated A or better - b)",null,null,null,null,"Select Yes/No"]
["Operational","Coll. Op. Risk Charge","Trans & Struct","Q5 Cedants are Affiliated A or better - c)",null,null,null,null,"Select Yes/No"]
["Operational","Coll. Op. Risk Charge","Trans & Struct","Q6 Weighted Average # of Claims - a)",null,null,null,null,"Select Yes/No"]
["Operational","Coll. Op. Risk Charge","Trans & Struct","Q6 Weighted Average # of Claims - b)",null,null,null,null,"Select Yes/No"]
["Operational","Coll. Op. Risk Charge","Trans & Struct","Q6 Weighted Average # of Claims - c)",null,null,null,null,"Select Yes/No"]
["Operational","Coll. Op. Risk Charge","Trans & Struct","Q7 Insurer is not obliged to return collateral - a)",null,null,null,null,"Select Yes/No"]
["Operational","Coll. Op. Risk Charge","Trans & Struct","Q7 Insurer is not obliged to return collateral - b)",null,null,null,null,"Select Yes/No"]
["Operational","Coll. Op. Risk Charge","Trans & Struct","Q7 Insurer is not obliged to return collateral - c)",null,null,null,null,"Select Yes/No"]
["Operational","Coll. Op. Risk Charge","Trans & Struct","Q8 No contractual provisions prohibiting clawback of collateral - a)",null,null,null,null,"Select Yes/No"]
["Operational","Coll. Op. Risk Charge","Trans & Struct","Q8 No contractual provisions prohibiting clawback of collateral - b)",null,null,null,null,"Select Yes/No"]
["Operational","Coll. Op. Risk Charge","Trans & Struct","Q8 No contractual provisions prohibiting clawback of collateral - c)",null,null,null,null,"Select Yes/No"]
["Operational","Coll. Op. Risk Charge","Trans & Struct","Q9 # of Contracts Written during the year - a)",null,null,null,null,"Select Yes/No"]
["Operational","Coll. Op. Risk Charge","Trans & Struct","Q9 # of Contracts Written during the year - b)",null,null,null,null,"Select Yes/No"]
["Operational","Coll. Op. Risk Charge","Trans & Struct","Q9 # of Contracts Written during the year - c)",null,null,null,null,"Select Yes/No"]
["Operational","Coll. Op. Risk Charge","Trans & Struct","Q10 R/I protection purchased as contingent collateral - a)",null,null,null,null,"Select Yes/No"]
["Operational","Coll. Op. Risk Charge","Trans & Struct","Q10 R/I protection purchased as contingent collateral - b)",null,null,null,null,"Select Yes/No"]
["Operational","Coll. Op. Risk Charge","Trans & Struct","Q10 R/I protection purchased as contingent collateral - c)",null,null,null,null,"Select Yes/No"]
["Operational","Coll. Op. Risk Charge","Trans & Struct","Q11 Insurers submits audited FS and LRSO/AAO - a)",null,null,null,null,"Select Yes/No"]
["Operational","Coll. Op. Risk Charge","Trans & Struct","Q11 Insurers submits audited FS and LRSO/AAO - b)",null,null,null,null,"Select Yes/No"]
["Operational","Coll. Op. Risk Charge","Trans & Struct","Q11 Insurers submits audited FS and LRSO/AAO - c)",null,null,null,null,"Select Yes/No"]
["Operational","Coll. Op. Risk Charge","Trans & Struct","Q12 Insurer involved with litigation, arbitration, mediation - a)",null,null,null,null,"Select Yes/No"]
["Operational","Coll. Op. Risk Charge","Trans & Struct","Q12 Insurer involved with litigation, arbitration, mediation - b)",null,null,null,null,"Select Yes/No"]
["Operational","Coll. Op. Risk Charge","Trans & Struct","Q12 Insurer involved with litigation, arbitration, mediation - c)",null,null,null,null,"Select Yes/No"]
["Operational","Coll. Op. Risk Charge","Trans & Struct","Q13 Insurer has legally binding, off balance sheet commitments - a)",null,null,null,null,"Select Yes/No"]
["Operational","Coll. Op. Risk Charge","Trans & Struct","Q13 Insurer has legally binding, off balance sheet commitments - b)",null,null,null,null,"Select Yes/No"]
["Operational","Coll. Op. Risk Charge","Trans & Struct","Q13 Insurer has legally binding, off balance sheet commitments - c)",null,null,null,null,"Select Yes/No"]
["Operational","Coll. Op. Risk Charge","Trans & Struct","Q14 Formalised process for legal communication exists - a)",null,null,null,null,"Select Yes/No"]
["Operational","Coll. Op. Risk Charge","Trans & Struct","Q14 Formalised process for legal communication exists - b)",null,null,null,null,"Select Yes/No"]
["Operational","Coll. Op. Risk Charge","Trans & Struct","Q14 Formalised process for legal communication exists - c)",null,null,null,null,"Select Yes/No"]
["Operational","Coll. Op. Risk Charge","Trans & Struct","Q15 R/I agreement requires top-up of collateral - a)",null,null,null,null,"Select Yes/No"]
["Operational","Coll. Op. Risk Charge","Trans & Struct","Q15 R/I agreement requires top-up of collateral - b)",null,null,null,null,"Select Yes/No"]
["Operational","Coll. Op. Risk Charge","Trans & Struct","Q15 R/I agreement requires top-up of collateral - c)",null,null,null,null,"Select Yes/No"]
["Operational","Coll. Op. Risk Charge","Corp Gov","Q16 BOD include independent non-executive on board - a)",null,null,null,null,"Select Yes/No"]
["Operational","Coll. Op. Risk Charge","Corp Gov","Q16 BOD include independent non-executive on board - b)",null,null,null,null,"Select Yes/No"]
["Operational","Coll. Op. Risk Charge","Corp Gov","Q16 BOD include independent non-executive on board - c)",null,null,null,null,"Select Yes/No"]
["Operational","Coll. Op. Risk Charge","Corp Gov","Q17 Board sets risks policies, practices & limits - a)",null,null,null,null,"Select Yes/No"]
["Operational","Coll. Op. Risk Charge","Corp Gov","Q17 Board sets risks policies, practices & limits - b)",null,null,null,null,"Select Yes/No"]
["Operational","Coll. Op. Risk Charge","Corp Gov","Q17 Board sets risks policies, practices & limits - c)",null,null,null,null,"Select Yes/No"]
["Operational","Coll. Op. Risk Charge","Corp Gov","Q18 Board sets policies address conflict of interest - a)",null,null,null,null,"Select Yes/No"]
["Operational","Coll. Op. Risk Charge","Corp Gov","Q18 Board sets policies address conflict of interest - b)",null,null,null,null,"Select Yes/No"]
["Operational","Coll. Op. Risk Charge","Corp Gov","Q18 Board sets policies address conflict of interest - c)",null,null,null,null,"Select Yes/No"]
["Operational","Coll. Op. Risk Charge","Corp Gov","Q19 Annually Board receives reports on internal control - a)",null,null,null,null,"Select Yes/No"]
["Operational","Coll. Op. Risk Charge","Corp Gov","Q19 Annually Board receives reports on internal control - b)",null,null,null,null,"Select Yes/No"]
["Operational","Coll. Op. Risk Charge","Corp Gov","Q19 Annually Board receives reports on internal control - c)",null,null,null,null,"Select Yes/No"]
["Operational","Coll. Op. Risk Charge","Inv Strategy","Q20 Investment Quality - a)",null,null,null,null,"Select Yes/No"]
["Operational","Coll. Op. Risk Charge","Inv Strategy","Q20 Investment Quality - b)",null,null,null,null,"Select Yes/No"]
["Operational","Coll. Op. Risk Charge","Inv Strategy","Q20 Investment Quality - c)",null,null,null,null,"Select Yes/No"]
["Operational","Coll. Op. Risk Charge","Inv Strategy","Q21 Liquidity - Private / Unquoted Investments @ FMV - a)",null,null,null,null,"Select Yes/No"]
["Operational","Coll. Op. Risk Charge","Inv Strategy","Q21 Liquidity - Private / Unquoted Investments @ FMV - b)",null,null,null,null,"Select Yes/No"]
["Operational","Coll. Op. Risk Charge","Inv Strategy","Q21 Liquidity - Private / Unquoted Investments @ FMV - c)",null,null,null,null,"Select Yes/No"]
["Operational","Coll. Op. Risk Charge","Inv Strategy","Q22 Duration mismatch - a)",null,null,null,null,"Select Yes/No"]
["Operational","Coll. Op. Risk Charge","Inv Strategy","Q22 Duration mismatch - b)",null,null,null,null,"Select Yes/No"]
["Operational","Coll. Op. Risk Charge","Inv Strategy","Q22 Duration mismatch - c)",null,null,null,null,"Select Yes/No"]
["Operational","Coll. Op. Risk Charge","Inv Strategy","Q23 Duration valued at FMV - a)",null,null,null,null,"Select Yes/No"]
["Operational","Coll. Op. Risk Charge","Inv Strategy","Q23 Duration valued at FMV - b)",null,null,null,null,"Select Yes/No"]
["Operational","Coll. Op. Risk Charge","Inv Strategy","Q23 Duration valued at FMV - c)",null,null,null,null,"Select Yes/No"]
["Operational","Coll. Op. Risk Charge",null,"Aggregate Limit in next 12 months",null,null,null,null,0]
["Operational","Coll. Op. Risk Charge",null,"i. Confirm if the insurer has E&O or PI policy",null,null,null,null,"Select Yes/No"]
["Operational","Coll. Op. Risk Charge",null,"ii. Confirm if claiming E&O or PI protection",null,null,null,null,"Select Yes/No"]
["Operational","Coll. Op. Risk Charge",null,"iii. Confirm if purchased E&O or PI rated A- or higher",null,null,null,null,"Select Yes/No"]
["Operational","Coll. Op. Risk Charge",null,"iv. Aggregate E&O or PI Aggregate Limit",null,null,null,null,0]
["Operational","Coll. Op. Risk Charge",null,"iv. Aggregate E&O or PI Aggregate Deductible",null,null,null,null,0]
["Operational","Coll. Op. Risk Charge",null,"v. Attached E&O or PI policy",null,null,null,null,"Select Yes/No"]
["Operational","Coll. Op. Risk Charge",null,"vi. E&O or PI policy includes material operational risk events",null,null,null,null,"Select Yes/No"]
["Operational","Coll. Op. Risk Charge",null,"vii. Stress testing responding to material operational risk events",null,null,null,null,"Select Yes/No"]
["Operational","Coll. Op. Risk Charge",null,"viii. E&O or PI responds to material operational events",null,null,null,null,"Select"]
["Operational","Coll. Op. Risk Charge",null,"Operational Risk Charge comments",null,null,null,null,0]
[]
["Sar & Sanc.","SAR & Santions",null,"E.1 Registered GoAML","Select Yes/No"]
["Sar & Sanc.","SAR & Santions",null,"E.1.1 When","(Select)"]
["Sar & Sanc.","SAR & Santions",null,"E.1.1 Name",0]
["Sar & Sanc.","SAR & Santions",null,"E.1.2 Another Registered","Select Yes/No"]
["Sar & Sanc.","SAR & Santions",null,"E.1.3 Name",0]
["Sar & Sanc.","SAR & Santions",null,"E.1.4 Filed SAR",0]
["Sar & Sanc.","SAR & Santions",null,"E.2 SAR Filed - Internal - Current Year",0]
["Sar & Sanc.","SAR & Santions",null,"E.2 SAR Filed - Internal - Prior Year",0]
["Sar & Sanc.","SAR & Santions",null,"E.2 SAR Filed - Internal - 2 Years Prior",0]
["Sar & Sanc.","SAR & Santions",null,"E.2 SAR Filed - Internal - 3 Years Prior",0]
["Sar & Sanc.","SAR & Santions",null,"E.2 SAR Filed - Internal - Total",0]
["Sar & Sanc.","SAR & Santions",null,"E.2 SAR Filed - w FIA - Current Year",0]
["Sar & Sanc.","SAR & Santions",null,"E.2 SAR Filed - w FIA - Prior Year",0]
["Sar & Sanc.","SAR & Santions",null,"E.2 SAR Filed - w FIA - 2 Years Prior",0]
["Sar & Sanc.","SAR & Santions",null,"E.2 SAR Filed - w FIA - 3 Years Prior",0]
["Sar & Sanc.","SAR & Santions",null,"E.2 SAR Filed - w FIA - Total",0]
["Sar & Sanc.","SAR & Santions",null,"E.2 Additional Comments",0]
["Sar & Sanc.","SAR & Santions",null,"E. Sanction - 1. Screen insurers","Select Yes/No"]
["Sar & Sanc.","SAR & Santions",null,"E. Sanction - 2. Screen employees","Select Yes/No"]
["Sar & Sanc.","SAR & Santions",null,"E. Sanction - 3. Freeze Assets","Select Yes/No"]
["Sar & Sanc.","SAR & Santions",null,"E. Sanction - 3.1 # of Assets Frozen",0]
["Sar & Sanc.","SAR & Santions",null,"E. Sanction - 3.2 Group ID 1",0]
["Sar & Sanc.","SAR & Santions",null,"E. Sanction - 3.2 Group ID 2",0]
["Sar & Sanc.","SAR & Santions",null,"E. Sanction - 3.2 Group ID 3",0]
["Sar & Sanc.","SAR & Santions",null,"E. Sanction - 3.2 Group ID 4",0]
["Sar & Sanc.","SAR & Santions",null,"E. Sanction - 3.2 Name Given 1",0]
["Sar & Sanc.","SAR & Santions",null,"E. Sanction - 3.2 Name Given 2",0]
["Sar & Sanc.","SAR & Santions",null,"E. Sanction - 3.2 Name Given 3",0]
["Sar & Sanc.","SAR & Santions",null,"E. Sanction - 3.2 Name Given 4",0]
["Sar & Sanc.","SAR & Santions",null,"E. Sanction - 3.2 Owned 1",0]
["Sar & Sanc.","SAR & Santions",null,"E. Sanction - 3.2 Owned 2",0]
["Sar & Sanc.","SAR & Santions",null,"E. Sanction - 3.2 Owned 3",0]
["Sar & Sanc.","SAR & Santions",null,"E. Sanction - 3.2 Owned 4",0]
["Sar & Sanc.","SAR & Santions",null,"E. Sanction - 3.2 Value of Assets 1",0]
["Sar & Sanc.","SAR & Santions",null,"E. Sanction - 3.2 Value of Assets 2",0]
["Sar & Sanc.","SAR & Santions",null,"E. Sanction - 3.2 Value of Assets 3",0]
["Sar & Sanc.","SAR & Santions",null,"E. Sanction - 3.2 Value of Assets 4",0]
["Sar & Sanc.","SAR & Santions",null,"E. Sanction - 3.2 Value of Total",0]
["Sar & Sanc.","SAR & Santions",null,"E. Sanction - 4 Frequency of Screen for Sanctions","Select"]
["Sar & Sanc.","SAR & Santions",null,"E. Sanction - Additional Comments ",0]

{"sheet":"Export","index":7,"n_rows":2789,"n_cols":30,"rows_kept":2789,"cut":false,"hidden":false,"merged":[[0,23,0,25],[0,27,0,29],[0,4,0,10],[1,4,1,6],[1,8,1,10],[0,15,0,21],[1,15,1,17],[1,19,1,21]]}
[null,null,null,null,"GENERAL BUSINESS - (for 1SFS + 2SFS only)",null,null,null,null,null,null,null,null,null,null,"LONG-TERM BUSINESS - (for 1SFS + 2SFS only)",null,null,null,null,null,null,null,"Consolidated",null,null,null,"EBS"]
[null,null,null,null,"General Account",null,null,null,"Combined",null,null,null,null,null,null,"General Account",null,null,null,"Combined"]
["Sheet Name","Sheet Short Description","Field Code","Field Description",{"$f":"YEAR('Company Information'!$C$3)","v":2019},null,{"$f":"E3-1","v":2018},null,null,null,null,null,null,null,null,null,null,null,null,null,null,null,null,{"$f":"YEAR('Company Information'!$C$3)","v":2019},null,{"$f":"X3-1","v":2018},null,{"$f":"YEAR('Company Information'!$C$3)","v":2019},null,{"$f":"AB3-1","v":2018}]
["Summary",null,null,"Comments",{"$f":"Submission!B14","v":0}]
[]
["Declaration",null,null,"Authorised Signing Authority 1",{"$f":"+Declaration!C11","v":0}]
["Declaration",null,null,"Date",{"$f":"+Declaration!C14","v":"00:00:00"}]
["Declaration",null,null,"Authorised Signing Authority 2",{"$f":"+Declaration!C19","v":0}]
["Declaration",null,null,"Date",{"$f":"+Declaration!C22","v":"00:00:00"}]
["Declaration",null,null,"Authorised Signing Authority 3",{"$f":"+Declaration!C26","v":0}]
["Declaration",null,null,"Date",{"$f":"+Declaration!C29","v":"00:00:00"}]
[]
["Info Sheet",null,null,"(d) Statements Held at Registered Office",{"$f":"'Information Sheet'!H9","v":"Select Yes/No"}]
["Info Sheet",null,null,"(e) Filing Period - Period Start Date",{"$f":"'Information Sheet'!H13","v":"00:00:00"}]
["Info Sheet",null,null,"(g) Figures Translated at:",{"$f":"'Information Sheet'!H18","v":1}]
["Info Sheet",null,null,"(h) Ultimate Parent",{"$f":"'Information Sheet'!H20","v":0}]
["Info Sheet",null,null,"(i) Insurer's Parent Company",{"$f":"'Information Sheet'!H22","v":0}]
["Info Sheet",null,null,"(j) Industry Sector of Insurer's Parent",{"$f":"'Information Sheet'!H24","v":"Select from Drop-Down"}]
["Info Sheet",null,null,"(k) Insurer's Ownership Structure",{"$f":"'Information Sheet'!H26","v":"Select from Drop-Down"}]
["Info Sheet",null,null,"(l) Insurer's Company Structure",{"$f":"'Information Sheet'!H28","v":"Select from Drop-Down"}]
["Info Sheet",null,null,"(l).1 Confirm if Company writes LT Insurance",{"$f":"'Information Sheet'!H29","v":"Select Yes/No"}]
["Info Sheet",null,null,"(l).2 LT Insurance written during the period",{"$f":"'Information Sheet'!H30","v":"Select Yes/No"}]
["Info Sheet",null,null,"(l).3 Subsidiares wrote Long-Term insurance",{"$f":"'Information Sheet'!H31","v":"Select Yes/No"}]
["Info Sheet",null,null,"(l).4 Subsidiares wrote LT Ins. Outside of BDA",{"$f":"'Information Sheet'!H32","v":"Select Yes/No"}]
["Info Sheet",null,null,"(l).5 Subsidiares Ins. Outside of BDA jurisdiction 1",{"$f":"'Information Sheet'!H33","v":0}]
["Info Sheet",null,null,"(l).5 Subsidiares Ins. Outside of BDA jurisdiction 2",{"$f":"'Information Sheet'!H34","v":0}]
["Info Sheet",null,null,"(l).5 Subsidiares Ins. Outside of BDA jurisdiction 3",{"$f":"'Information Sheet'!H35","v":0}]
["Info Sheet",null,null,"(m)(i) Is the Insurer a Member of Ins. Group?",{"$f":"'Information Sheet'!H38","v":"Select Yes/No"}]
["Info Sheet",null,null,"(m)(ii) Are there Segregated Accounts?",{"$f":"'Information Sheet'!H39","v":"Select Yes/No"}]
["Info Sheet",null,null,"(m)(iii) Is the Insurer in Run-Off?",{"$f":"'Information Sheet'!H40","v":"Select Yes/No"}]
["Info Sheet",null,null,"(m)(iv) Statements have a Qualified Opinion?",{"$f":"'Information Sheet'!H41","v":"Select Yes/No"}]
["Info Sheet",null,null,"(m)(iv) Details of Qualified Opinion",{"$f":"'Information Sheet'!C43","v":0}]
["Info Sheet",null,null,"(m)(v) Minimum Solvency Margin Met",{"$f":"'Information Sheet'!H46","v":"Select Yes/No"}]
["Info Sheet",null,null,"(m)(vi) Liquidity Ratio Met",{"$f":"'Information Sheet'!H47","v":"Select Yes/No"}]
["Info Sheet",null,null,"(n)(1) Certificate of Registration Date",{"$f":"'Information Sheet'!H51","v":""}]
["Info Sheet",null,null,"(n)(2) # of Conditions",{"$f":"'Information Sheet'!H53","v":0}]
["Info Sheet",null,null,"Effective Start Date of Condition - 1",{"$f":"'Information Sheet'!E56","v":"00:00:00"}]
["Info Sheet",null,null,"Effective Start Date of Condition - 2",{"$f":"'Information Sheet'!E57","v":"00:00:00"}]
["Info Sheet",null,null,"Effective Start Date of Condition - 3",{"$f":"'Information Sheet'!E58","v":"00:00:00"}]
["Info Sheet",null,null,"Effective Start Date of Condition - 4",{"$f":"'Information Sheet'!E59","v":"00:00:00"}]
["Info Sheet",null,null,"Effective Start Date of Condition - 5",{"$f":"'Information Sheet'!E60","v":"00:00:00"}]
["Info Sheet",null,null,"Effective Start Date of Condition - 6",{"$f":"'Information Sheet'!E61","v":"00:00:00"}]
["Info Sheet",null,null,"Effective Start Date of Condition - 7",{"$f":"'Information Sheet'!E62","v":"00:00:00"}]
["Info Sheet",null,null,"Effective Start Date of Condition - 8",{"$f":"'Information Sheet'!E63","v":"00:00:00"}]
["Info Sheet",null,null,"Effective Start Date of Condition - 9",{"$f":"'Information Sheet'!E64","v":"00:00:00"}]
["Info Sheet",null,null,"Effective Start Date of Condition - 10",{"$f":"'Information Sheet'!E65","v":"00:00:00"}]
["Info Sheet",null,null,"Effective End Date of Condition - 1",{"$f":"'Information Sheet'!F56","v":"00:00:00"}]
["Info Sheet",null,null,"Effective End Date of Condition - 2",{"$f":"'Information Sheet'!F57","v":"00:00:00"}]
["Info Sheet",null,null,"Effective End Date of Condition - 3",{"$f":"'Information Sheet'!F58","v":"00:00:00"}]
["Info Sheet",null,null,"Effective End Date of Condition - 4",{"$f":"'Information Sheet'!F59","v":"00:00:00"}]
["Info Sheet",null,null,"Effective End Date of Condition - 5",{"$f":"'Information Sheet'!F60","v":"00:00:00"}]
["Info Sheet",null,null,"Effective End Date of Condition - 6",{"$f":"'Information Sheet'!F61","v":"00:00:00"}]
["Info Sheet",null,null,"Effective End Date of Condition - 7",{"$f":"'Information Sheet'!F62","v":"00:00:00"}]
["Info Sheet",null,null,"Effective End Date of Condition - 8",{"$f":"'Information Sheet'!F63","v":"00:00:00"}]
["Info Sheet",null,null,"Effective End Date of Condition - 9",{"$f":"'Information Sheet'!F64","v":"00:00:00"}]
["Info Sheet",null,null,"Effective End Date of Condition - 10",{"$f":"'Information Sheet'!F65","v":"00:00:00"}]
["Info Sheet",null,null,"Description of Condition - 1",{"$f":"'Information Sheet'!G56","v":0}]
["Info Sheet",null,null,"Description of Condition - 2",{"$f":"'Information Sheet'!G57","v":0}]
["Info Sheet",null,null,"Description of Condition - 3",{"$f":"'Information Sheet'!G58","v":0}]
["Info Sheet",null,null,"Description of Condition - 4",{"$f":"'Information Sheet'!G59","v":0}]
["Info Sheet",null,null,"Description of Condition - 5",{"$f":"'Information Sheet'!G60","v":0}]
["Info Sheet",null,null,"Description of Condition - 6",{"$f":"'Information Sheet'!G61","v":0}]
["Info Sheet",null,null,"Description of Condition - 7",{"$f":"'Information Sheet'!G62","v":0}]
["Info Sheet",null,null,"Description of Condition - 8",{"$f":"'Information Sheet'!G63","v":0}]
["Info Sheet",null,null,"Description of Condition - 9",{"$f":"'Information Sheet'!G64","v":0}]
["Info Sheet",null,null,"Description of Condition - 10",{"$f":"'Information Sheet'!G65","v":0}]
["Info Sheet",null,null,"Insurer Complied with All Conditions?",{"$f":"'Information Sheet'!H67","v":"Select Yes/No"}]
["Info Sheet",null,null,"(p) # of Directions",{"$f":"'Information Sheet'!H71","v":0}]
["Info Sheet",null,null,"Effective Start Date of Direction - 1",{"$f":"'Information Sheet'!E74","v":"00:00:00"}]
["Info Sheet",null,null,"Effective Start Date of Direction - 2",{"$f":"'Information Sheet'!E75","v":"00:00:00"}]
["Info Sheet",null,null,"Effective Start Date of Direction - 3",{"$f":"'Information Sheet'!E76","v":"00:00:00"}]
["Info Sheet",null,null,"Effective Start Date of Direction - 4",{"$f":"'Information Sheet'!E77","v":"00:00:00"}]
["Info Sheet",null,null,"Effective Start Date of Direction - 5",{"$f":"'Information Sheet'!E78","v":"00:00:00"}]
["Info Sheet",null,null,"Effective Start Date of Direction - 6",{"$f":"'Information Sheet'!E79","v":"00:00:00"}]
["Info Sheet",null,null,"Effective Start Date of Direction - 7",{"$f":"'Information Sheet'!E80","v":"00:00:00"}]
["Info Sheet",null,null,"Effective Start Date of Direction - 8",{"$f":"'Information Sheet'!E81","v":"00:00:00"}]
["Info Sheet",null,null,"Effective Start Date of Direction - 9",{"$f":"'Information Sheet'!E82","v":"00:00:00"}]
["Info Sheet",null,null,"Effective Start Date of Direction - 10",{"$f":"'Information Sheet'!E83","v":"00:00:00"}]
["Info Sheet",null,null,"Effective End Date of Direction - 1",{"$f":"'Information Sheet'!F74","v":"00:00:00"}]
["Info Sheet",null,null,"Effective End Date of Direction - 2",{"$f":"'Information Sheet'!F75","v":"00:00:00"}]
["Info Sheet",null,null,"Effective End Date of Direction - 3",{"$f":"'Information Sheet'!F76","v":"00:00:00"}]
["Info Sheet",null,null,"Effective End Date of Direction - 4",{"$f":"'Information Sheet'!F77","v":"00:00:00"}]
["Info Sheet",null,null,"Effective End Date of Direction - 5",{"$f":"'Information Sheet'!F78","v":"00:00:00"}]
["Info Sheet",null,null,"Effective End Date of Direction - 6",{"$f":"'Information Sheet'!F79","v":"00:00:00"}]
["Info Sheet",null,null,"Effective End Date of Direction - 7",{"$f":"'Information Sheet'!F80","v":"00:00:00"}]
["Info Sheet",null,null,"Effective End Date of Direction - 8",{"$f":"'Information Sheet'!F81","v":"00:00:00"}]
["Info Sheet",null,null,"Effective End Date of Direction - 9",{"$f":"'Information Sheet'!F82","v":"00:00:00"}]
["Info Sheet",null,null,"Effective End Date of Direction - 10",{"$f":"'Information Sheet'!F83","v":"00:00:00"}]
["Info Sheet",null,null,"Description of Direction - 1",{"$f":"'Information Sheet'!G74","v":0}]
["Info Sheet",null,null,"Description of Direction - 2",{"$f":"'Information Sheet'!G75","v":0}]
["Info Sheet",null,null,"Description of Direction - 3",{"$f":"'Information Sheet'!G76","v":0}]
["Info Sheet",null,null,"Description of Direction - 4",{"$f":"'Information Sheet'!G77","v":0}]
["Info Sheet",null,null,"Description of Direction - 5",{"$f":"'Information Sheet'!G78","v":0}]
["Info Sheet",null,null,"Description of Direction - 6",{"$f":"'Information Sheet'!G79","v":0}]
["Info Sheet",null,null,"Description of Direction - 7",{"$f":"'Information Sheet'!G80","v":0}]
["Info Sheet",null,null,"Description of Direction - 8",{"$f":"'Information Sheet'!G81","v":0}]
["Info Sheet",null,null,"Description of Direction - 9",{"$f":"'Information Sheet'!G82","v":0}]
["Info Sheet",null,null,"Description of Direction - 10",{"$f":"'Information Sheet'!G83","v":0}]
["Info Sheet",null,null,"(q) Confirm If Any Negative Responses?",{"$f":"'Information Sheet'!H87","v":"Select Yes/No"}]
["Info Sheet",null,null,"Details of Negative Responses",{"$f":"'Information Sheet'!C89","v":0}]
[]
[null,null,null,"Balance Sheet"]
["Form 1SFS/1EBS","Balance Sheet GEN/CON/EBS","1SFS1","Cash and Cash Equivalents",{"$f":"'Form 1SFS GB'!E12","v":0},null,{"$f":"'Form 1SFS GB'!G12","v":0},null,{"$f":"'Form 1SFS GB'!I12","v":0},null,{"$f":"'Form 1SFS GB'!K12","v":0},null,null,null,"1SFS1",{"$f":"'Form 1SFS LT'!E12","v":0},null,{"$f":"'Form 1SFS LT'!G12","v":0},null,{"$f":"'Form 1SFS LT'!I12","v":0},null,{"$f":"'Form 1SFS LT'!K12","v":0},null,null,null,null,null,{"$f":"#REF!","v":{"$error":"#REF!"}},null,{"$f":"#REF!","v":{"$error":"#REF!"}}]
["Form 1SFS/1EBS","Balance Sheet GEN/CON/EBS","1SFS2ai","Quoted - Bonds - Held to Maturity",{"$f":"'Form 1SFS GB'!E16","v":0},null,{"$f":"'Form 1SFS GB'!G16","v":0},null,{"$f":"'Form 1SFS GB'!I16","v":0},null,{"$f":"'Form 1SFS GB'!K16","v":0},null,null,null,"1SFS2ai",{"$f":"'Form 1SFS LT'!E16","v":0},null,{"$f":"'Form 1SFS LT'!G16","v":0},null,{"$f":"'Form 1SFS LT'!I16","v":0},null,{"$f":"'Form 1SFS LT'!K16","v":0}]
["Form 1SFS/1EBS","Balance Sheet GEN/CON/EBS","1SFS2aii","Quoted - Bonds - Other",{"$f":"'Form 1SFS GB'!E17","v":0},null,{"$f":"'Form 1SFS GB'!G17","v":0},null,{"$f":"'Form 1SFS GB'!I17","v":0},null,{"$f":"'Form 1SFS GB'!K17","v":0},null,null,null,"1SFS2aii",{"$f":"'Form 1SFS LT'!E17","v":0},null,{"$f":"'Form 1SFS LT'!G17","v":0},null,{"$f":"'Form 1SFS LT'!I17","v":0},null,{"$f":"'Form 1SFS LT'!K17","v":0}]
["Form 1SFS/1EBS","Balance Sheet GEN/CON/EBS","1EBS2b","Quoted - Bonds - Total",null,null,null,null,null,null,null,null,null,null,null,null,null,null,null,null,null,null,null,null,null,null,null,{"$f":"#REF!","v":{"$error":"#REF!"}},null,{"$f":"#REF!","v":{"$error":"#REF!"}}]
["Form 1SFS/1EBS","Balance Sheet GEN/CON/EBS","1SFS2ci","Quoted - Equities - Common Stocks",{"$f":"'Form 1SFS GB'!E20","v":0},null,{"$f":"'Form 1SFS GB'!G20","v":0},null,{"$f":"'Form 1SFS GB'!I20","v":0},null,{"$f":"'Form 1SFS GB'!K20","v":0},null,null,null,"1SFS2ci",{"$f":"'Form 1SFS LT'!E20","v":0},null,{"$f":"'Form 1SFS LT'!G20","v":0},null,{"$f":"'Form 1SFS LT'!I20","v":0},null,{"$f":"'Form 1SFS LT'!K20","v":0},null,null,null,null,null,{"$f":"#REF!","v":{"$error":"#REF!"}},null,{"$f":"#REF!","v":{"$error":"#REF!"}}]
["Form 1SFS/1EBS","Balance Sheet GEN/CON/EBS","1SFS2cii","Quoted - Equities - Preferred Stocks",{"$f":"'Form 1SFS GB'!E21","v":0},null,{"$f":"'Form 1SFS GB'!G21","v":0},null,{"$f":"'Form 1SFS GB'!I21","v":0},null,{"$f":"'Form 1SFS GB'!K21","v":0},null,null,null,"1SFS2cii",{"$f":"'Form 1SFS LT'!E21","v":0},null,{"$f":"'Form 1SFS LT'!G21","v":0},null,{"$f":"'Form 1SFS LT'!I21","v":0},null,{"$f":"'Form 1SFS LT'!K21","v":0},null,null,null,null,null,{"$f":"#REF!","v":{"$error":"#REF!"}},null,{"$f":"#REF!","v":{"$error":"#REF!"}}]
["Form 1SFS/1EBS","Balance Sheet GEN/CON/EBS","1SFS2ciii","Quoted - Equities - Mutual Funds",{"$f":"'Form 1SFS GB'!E22","v":0},null,{"$f":"'Form 1SFS GB'!G22","v":0},null,{"$f":"'Form 1SFS GB'!I22","v":0},null,{"$f":"'Form 1SFS GB'!K22","v":0},null,null,null,"1SFS2ciii",{"$f":"'Form 1SFS LT'!E22","v":0},null,{"$f":"'Form 1SFS LT'!G22","v":0},null,{"$f":"'Form 1SFS LT'!I22","v":0},null,{"$f":"'Form 1SFS LT'!K22","v":0},null,null,null,null,null,{"$f":"#REF!","v":{"$error":"#REF!"}},null,{"$f":"#REF!","v":{"$error":"#REF!"}}]
["Form 1SFS/1EBS","Balance Sheet GEN/CON/EBS","1SFS2e","Quoted - Other Investments",{"$f":"'Form 1SFS GB'!E24","v":0},null,{"$f":"'Form 1SFS GB'!G24","v":0},null,{"$f":"'Form 1SFS GB'!I24","v":0},null,{"$f":"'Form 1SFS GB'!K24","v":0},null,null,null,"1SFS2e",{"$f":"'Form 1SFS LT'!E24","v":0},null,{"$f":"'Form 1SFS LT'!G24","v":0},null,{"$f":"'Form 1SFS LT'!I24","v":0},null,{"$f":"'Form 1SFS LT'!K24","v":0},null,null,null,null,null,{"$f":"#REF!","v":{"$error":"#REF!"}},null,{"$f":"#REF!","v":{"$error":"#REF!"}}]
["Form 1SFS/1EBS","Balance Sheet GEN/CON/EBS","1SFS3ai","Unquoted - Bonds - Held to Maturity",{"$f":"'Form 1SFS GB'!E29","v":0},null,{"$f":"'Form 1SFS GB'!G29","v":0},null,{"$f":"'Form 1SFS GB'!I29","v":0},null,{"$f":"'Form 1SFS GB'!K29","v":0},null,null,null,"1SFS3ai",{"$f":"'Form 1SFS LT'!E29","v":0},null,{"$f":"'Form 1SFS LT'!G29","v":0},null,{"$f":"'Form 1SFS LT'!I29","v":0},null,{"$f":"'Form 1SFS LT'!K29","v":0}]
["Form 1SFS/1EBS","Balance Sheet GEN/CON/EBS","1SFS3aii","Unquoted - Bonds - Other",{"$f":"'Form 1SFS GB'!E30","v":0},null,{"$f":"'Form 1SFS GB'!G30","v":0},null,{"$f":"'Form 1SFS GB'!I30","v":0},null,{"$f":"'Form 1SFS GB'!K30","v":0},null,null,null,"1SFS3aii",{"$f":"'Form 1SFS LT'!E30","v":0},null,{"$f":"'Form 1SFS LT'!G30","v":0},null,{"$f":"'Form 1SFS LT'!I30","v":0},null,{"$f":"'Form 1SFS LT'!K30","v":0}]
["Form 1SFS/1EBS","Balance Sheet GEN/CON/EBS","1EBS3b","Unquoted - Bonds - Total",null,null,null,null,null,null,null,null,null,null,null,null,null,null,null,null,null,null,null,null,null,null,null,{"$f":"#REF!","v":{"$error":"#REF!"}},null,{"$f":"#REF!","v":{"$error":"#REF!"}}]
["Form 1SFS/1EBS","Balance Sheet GEN/CON/EBS","1SFS3ci","Unquoted - Equities - Common Stocks",{"$f":"'Form 1SFS GB'!E33","v":0},null,{"$f":"'Form 1SFS GB'!G33","v":0},null,{"$f":"'Form 1SFS GB'!I33","v":0},null,{"$f":"'Form 1SFS GB'!K33","v":0},null,null,null,"1SFS3ci",{"$f":"'Form 1SFS LT'!E33","v":0},null,{"$f":"'Form 1SFS LT'!G33","v":0},null,{"$f":"'Form 1SFS LT'!I33","v":0},null,{"$f":"'Form 1SFS LT'!K33","v":0},null,null,null,null,null,{"$f":"#REF!","v":{"$error":"#REF!"}},null,{"$f":"#REF!","v":{"$error":"#REF!"}}]
["Form 1SFS/1EBS","Balance Sheet GEN/CON/EBS","1SFS3cii","Unquoted - Equities - Preferred Stocks",{"$f":"'Form 1SFS GB'!E34","v":0},null,{"$f":"'Form 1SFS GB'!G34","v":0},null,{"$f":"'Form 1SFS GB'!I34","v":0},null,{"$f":"'Form 1SFS GB'!K34","v":0},null,null,null,"1SFS3cii",{"$f":"'Form 1SFS LT'!E34","v":0},null,{"$f":"'Form 1SFS LT'!G34","v":0},null,{"$f":"'Form 1SFS LT'!I34","v":0},null,{"$f":"'Form 1SFS LT'!K34","v":0},null,null,null,null,null,{"$f":"#REF!","v":{"$error":"#REF!"}},null,{"$f":"#REF!","v":{"$error":"#REF!"}}]
["Form 1SFS/1EBS","Balance Sheet GEN/CON/EBS","1SFS3ciii","Unquoted - Equities - Mutual Funds",{"$f":"'Form 1SFS GB'!E35","v":0},null,{"$f":"'Form 1SFS GB'!G35","v":0},null,{"$f":"'Form 1SFS GB'!I35","v":0},null,{"$f":"'Form 1SFS GB'!K35","v":0},null,null,null,"1SFS3ciii",{"$f":"'Form 1SFS LT'!E35","v":0},null,{"$f":"'Form 1SFS LT'!G35","v":0},null,{"$f":"'Form 1SFS LT'!I35","v":0},null,{"$f":"'Form 1SFS LT'!K35","v":0},null,null,null,null,null,{"$f":"#REF!","v":{"$error":"#REF!"}},null,{"$f":"#REF!","v":{"$error":"#REF!"}}]
["Form 1SFS/1EBS","Balance Sheet GEN/CON/EBS","1SFS3e","Unquoted - Other Investments",{"$f":"'Form 1SFS GB'!E37","v":0},null,{"$f":"'Form 1SFS GB'!G37","v":0},null,{"$f":"'Form 1SFS GB'!I37","v":0},null,{"$f":"'Form 1SFS GB'!K37","v":0},null,null,null,"1SFS3e",{"$f":"'Form 1SFS LT'!E37","v":0},null,{"$f":"'Form 1SFS LT'!G37","v":0},null,{"$f":"'Form 1SFS LT'!I37","v":0},null,{"$f":"'Form 1SFS LT'!K37","v":0},null,null,null,null,null,{"$f":"#REF!","v":{"$error":"#REF!"}},null,{"$f":"#REF!","v":{"$error":"#REF!"}}]
["Form 1SFS/1EBS","Balance Sheet GEN/CON/EBS","1SFS4a","Inv. In Affiliates - Unregulated Ancillary",{"$f":"'Form 1SFS GB'!E41","v":0},null,{"$f":"'Form 1SFS GB'!G41","v":0},null,{"$f":"'Form 1SFS GB'!I41","v":0},null,{"$f":"'Form 1SFS GB'!K41","v":0},null,null,null,"1SFS4a",{"$f":"'Form 1SFS LT'!E41","v":0},null,{"$f":"'Form 1SFS LT'!G41","v":0},null,{"$f":"'Form 1SFS LT'!I41","v":0},null,{"$f":"'Form 1SFS LT'!K41","v":0},null,null,null,null,null,{"$f":"#REF!","v":{"$error":"#REF!"}},null,{"$f":"#REF!","v":{"$error":"#REF!"}}]
["Form 1SFS/1EBS","Balance Sheet GEN/CON/EBS","1SFS4b","Inv. In Affiliates - Unregulated Non-Fin. Oper.",{"$f":"'Form 1SFS GB'!E42","v":0},null,{"$f":"'Form 1SFS GB'!G42","v":0},null,{"$f":"'Form 1SFS GB'!I42","v":0},null,{"$f":"'Form 1SFS GB'!K42","v":0},null,null,null,"1SFS4b",{"$f":"'Form 1SFS LT'!E42","v":0},null,{"$f":"'Form 1SFS LT'!G42","v":0},null,{"$f":"'Form 1SFS LT'!I42","v":0},null,{"$f":"'Form 1SFS LT'!K42","v":0},null,null,null,null,null,{"$f":"#REF!","v":{"$error":"#REF!"}},null,{"$f":"#REF!","v":{"$error":"#REF!"}}]
["Form 1SFS/1EBS","Balance Sheet GEN/CON/EBS","1SFS4c","Inv. In Affiliates - Unregulated Fin. Operating",{"$f":"'Form 1SFS GB'!E43","v":0},null,{"$f":"'Form 1SFS GB'!G43","v":0},null,{"$f":"'Form 1SFS GB'!I43","v":0},null,{"$f":"'Form 1SFS GB'!K43","v":0},null,null,null,"1SFS4c",{"$f":"'Form 1SFS LT'!E43","v":0},null,{"$f":"'Form 1SFS LT'!G43","v":0},null,{"$f":"'Form 1SFS LT'!I43","v":0},null,{"$f":"'Form 1SFS LT'!K43","v":0},null,null,null,null,null,{"$f":"#REF!","v":{"$error":"#REF!"}},null,{"$f":"#REF!","v":{"$error":"#REF!"}}]
["Form 1SFS/1EBS","Balance Sheet GEN/CON/EBS","1SFS4d","Inv. In Affiliates - Regulated Non-Insurance",{"$f":"'Form 1SFS GB'!E44","v":0},null,{"$f":"'Form 1SFS GB'!G44","v":0},null,{"$f":"'Form 1SFS GB'!I44","v":0},null,{"$f":"'Form 1SFS GB'!K44","v":0},null,null,null,"1SFS4d",{"$f":"'Form 1SFS LT'!E44","v":0},null,{"$f":"'Form 1SFS LT'!G44","v":0},null,{"$f":"'Form 1SFS LT'!I44","v":0},null,{"$f":"'Form 1SFS LT'!K44","v":0},null,null,null,null,null,{"$f":"#REF!","v":{"$error":"#REF!"}},null,{"$f":"#REF!","v":{"$error":"#REF!"}}]
["Form 1SFS/1EBS","Balance Sheet GEN/CON/EBS","1SFS4e","Inv. In Affiliates - Regulated Insurance",{"$f":"'Form 1SFS GB'!E45","v":0},null,{"$f":"'Form 1SFS GB'!G45","v":0},null,{"$f":"'Form 1SFS GB'!I45","v":0},null,{"$f":"'Form 1SFS GB'!K45","v":0},null,null,null,"1SFS4e",{"$f":"'Form 1SFS LT'!E45","v":0},null,{"$f":"'Form 1SFS LT'!G45","v":0},null,{"$f":"'Form 1SFS LT'!I45","v":0},null,{"$f":"'Form 1SFS LT'!K45","v":0},null,null,null,null,null,{"$f":"#REF!","v":{"$error":"#REF!"}},null,{"$f":"#REF!","v":{"$error":"#REF!"}}]
["Form 1SFS/1EBS","Balance Sheet GEN/CON/EBS","1SFS4g","Advances To Affiliates",{"$f":"'Form 1SFS GB'!E47","v":0},null,{"$f":"'Form 1SFS GB'!G47","v":0},null,{"$f":"'Form 1SFS GB'!I47","v":0},null,{"$f":"'Form 1SFS GB'!K47","v":0},null,null,null,"1SFS4g",{"$f":"'Form 1SFS LT'!E47","v":0},null,{"$f":"'Form 1SFS LT'!G47","v":0},null,{"$f":"'Form 1SFS LT'!I47","v":0},null,{"$f":"'Form 1SFS LT'!K47","v":0},null,null,null,null,null,{"$f":"#REF!","v":{"$error":"#REF!"}},null,{"$f":"#REF!","v":{"$error":"#REF!"}}]
["Form 1SFS/1EBS","Balance Sheet GEN/CON/EBS","1SFS5a","Inv. In Mortg. Loans on Real Estate - 1st Lien",{"$f":"'Form 1SFS GB'!E51","v":0},null,{"$f":"'Form 1SFS GB'!G51","v":0},null,{"$f":"'Form 1SFS GB'!I51","v":0},null,{"$f":"'Form 1SFS GB'!K51","v":0},null,null,null,"1SFS5a",{"$f":"'Form 1SFS LT'!E51","v":0},null,{"$f":"'Form 1SFS LT'!G51","v":0},null,{"$f":"'Form 1SFS LT'!I51","v":0},null,{"$f":"'Form 1SFS LT'!K51","v":0},null,null,null,null,null,{"$f":"#REF!","v":{"$error":"#REF!"}},null,{"$f":"#REF!","v":{"$error":"#REF!"}}]
["Form 1SFS/1EBS","Balance Sheet GEN/CON/EBS","1SFS5b","Inv. In Mortg. Loans on Real Estate - Other",{"$f":"'Form 1SFS GB'!E52","v":0},null,{"$f":"'Form 1SFS GB'!G52","v":0},null,{"$f":"'Form 1SFS GB'!I52","v":0},null,{"$f":"'Form 1SFS GB'!K52","v":0},null,null,null,"1SFS5b",{"$f":"'Form 1SFS LT'!E52","v":0},null,{"$f":"'Form 1SFS LT'!G52","v":0},null,{"$f":"'Form 1SFS LT'!I52","v":0},null,{"$f":"'Form 1SFS LT'!K52","v":0},null,null,null,null,null,{"$f":"#REF!","v":{"$error":"#REF!"}},null,{"$f":"#REF!","v":{"$error":"#REF!"}}]
["Form 1SFS/1EBS","Balance Sheet GEN/CON/EBS","1SFS6","Policy Loans",null,null,null,null,{"$f":"'Form 1SFS GB'!I55","v":0},null,{"$f":"'Form 1SFS GB'!K55","v":0},null,null,null,"1SFS6",{"$f":"'Form 1SFS LT'!E55","v":0},null,{"$f":"'Form 1SFS LT'!G55","v":0},null,{"$f":"'Form 1SFS LT'!I55","v":0},null,{"$f":"'Form 1SFS LT'!K55","v":0}]
["Form 1SFS/1EBS","Balance Sheet GEN/CON/EBS","1SFS7a","Real Estate - Occupied by Company",{"$f":"'Form 1SFS GB'!E58","v":0},null,{"$f":"'Form 1SFS GB'!G58","v":0},null,{"$f":"'Form 1SFS GB'!I58","v":0},null,{"$f":"'Form 1SFS GB'!K58","v":0},null,null,null,"1SFS7a",{"$f":"'Form 1SFS LT'!E58","v":0},null,{"$f":"'Form 1SFS LT'!G58","v":0},null,{"$f":"'Form 1SFS LT'!I58","v":0},null,{"$f":"'Form 1SFS LT'!K58","v":0},null,null,null,null,null,{"$f":"#REF!","v":{"$error":"#REF!"}},null,{"$f":"#REF!","v":{"$error":"#REF!"}}]
["Form 1SFS/1EBS","Balance Sheet GEN/CON/EBS","1SFS7b","Real Estate - Other",{"$f":"'Form 1SFS GB'!E59","v":0},null,{"$f":"'Form 1SFS GB'!G59","v":0},null,{"$f":"'Form 1SFS GB'!I59","v":0},null,{"$f":"'Form 1SFS GB'!K59","v":0},null,null,null,"1SFS7b",{"$f":"'Form 1SFS LT'!E59","v":0},null,{"$f":"'Form 1SFS LT'!G59","v":0},null,{"$f":"'Form 1SFS LT'!I59","v":0},null,{"$f":"'Form 1SFS LT'!K59","v":0},null,null,null,null,null,{"$f":"#REF!","v":{"$error":"#REF!"}},null,{"$f":"#REF!","v":{"$error":"#REF!"}}]
["Form 1SFS/1EBS","Balance Sheet GEN/CON/EBS","1SFS8","Collateral Loans",{"$f":"'Form 1SFS GB'!E62","v":0},null,{"$f":"'Form 1SFS GB'!G62","v":0},null,{"$f":"'Form 1SFS GB'!I62","v":0},null,{"$f":"'Form 1SFS GB'!K62","v":0},null,null,null,"1SFS8",{"$f":"'Form 1SFS LT'!E62","v":0},null,{"$f":"'Form 1SFS LT'!G62","v":0},null,{"$f":"'Form 1SFS LT'!I62","v":0},null,{"$f":"'Form 1SFS LT'!K62","v":0},null,null,null,null,null,{"$f":"#REF!","v":{"$error":"#REF!"}},null,{"$f":"#REF!","v":{"$error":"#REF!"}}]
["Form 1SFS/1EBS","Balance Sheet GEN/CON/EBS","1SFS9","Investment Income Due and Accrued",{"$f":"'Form 1SFS GB'!E64","v":0},null,{"$f":"'Form 1SFS GB'!G64","v":0},null,{"$f":"'Form 1SFS GB'!I64","v":0},null,{"$f":"'Form 1SFS GB'!K64","v":0},null,null,null,"1SFS9",{"$f":"'Form 1SFS LT'!E64","v":0},null,{"$f":"'Form 1SFS LT'!G64","v":0},null,{"$f":"'Form 1SFS LT'!I64","v":0},null,{"$f":"'Form 1SFS LT'!K64","v":0},null,null,null,null,null,{"$f":"#REF!","v":{"$error":"#REF!"}},null,{"$f":"#REF!","v":{"$error":"#REF!"}}]
["Form 1SFS/1EBS","Balance Sheet GEN/CON/EBS","1SFS10a","Accounts & Premium Rec. - In Collection",{"$f":"'Form 1SFS GB'!E67","v":0},null,{"$f":"'Form 1SFS GB'!G67","v":0},null,{"$f":"'Form 1SFS GB'!I67","v":0},null,{"$f":"'Form 1SFS GB'!K67","v":0},null,null,null,"1SFS10a",{"$f":"'Form 1SFS LT'!E67","v":0},null,{"$f":"'Form 1SFS LT'!G67","v":0},null,{"$f":"'Form 1SFS LT'!I67","v":0},null,{"$f":"'Form 1SFS LT'!K67","v":0},null,null,null,null,null,{"$f":"#REF!","v":{"$error":"#REF!"}},null,{"$f":"#REF!","v":{"$error":"#REF!"}}]
["Form 1SFS/1EBS","Balance Sheet GEN/CON/EBS","1SFS10b","Accounts & Premium Rec. - Not Yet Due ",{"$f":"'Form 1SFS GB'!E68","v":0},null,{"$f":"'Form 1SFS GB'!G68","v":0},null,{"$f":"'Form 1SFS GB'!I68","v":0},null,{"$f":"'Form 1SFS GB'!K68","v":0},null,null,null,"1SFS10b",{"$f":"'Form 1SFS LT'!E68","v":0},null,{"$f":"'Form 1SFS LT'!G68","v":0},null,{"$f":"'Form 1SFS LT'!I68","v":0},null,{"$f":"'Form 1SFS LT'!K68","v":0}]
["Form 1SFS/1EBS","Balance Sheet GEN/CON/EBS","1SFS10c","Accounts & Premium Rec. - Retro. Contracts",{"$f":"'Form 1SFS GB'!E69","v":0},null,{"$f":"'Form 1SFS GB'!G69","v":0},null,{"$f":"'Form 1SFS GB'!I69","v":0},null,{"$f":"'Form 1SFS GB'!K69","v":0},null,null,null,"1SFS10c",{"$f":"'Form 1SFS LT'!E69","v":0},null,{"$f":"'Form 1SFS LT'!G69","v":0},null,{"$f":"'Form 1SFS LT'!I69","v":0},null,{"$f":"'Form 1SFS LT'!K69","v":0},null,null,null,null,null,{"$f":"#REF!","v":{"$error":"#REF!"}},null,{"$f":"#REF!","v":{"$error":"#REF!"}}]
["Form 1SFS/1EBS","Balance Sheet GEN/CON/EBS","1SFS11a","R/I Balances Receivable - Foreign Affiliates",{"$f":"'Form 1SFS GB'!E73","v":0},null,{"$f":"'Form 1SFS GB'!G73","v":0},null,{"$f":"'Form 1SFS GB'!I73","v":0},null,{"$f":"'Form 1SFS GB'!K73","v":0},null,null,null,"1SFS11a",{"$f":"'Form 1SFS LT'!E73","v":0},null,{"$f":"'Form 1SFS LT'!G73","v":0},null,{"$f":"'Form 1SFS LT'!I73","v":0},null,{"$f":"'Form 1SFS LT'!K73","v":0},null,null,null,null,null,{"$f":"#REF!","v":{"$error":"#REF!"}},null,{"$f":"#REF!","v":{"$error":"#REF!"}}]
["Form 1SFS/1EBS","Balance Sheet GEN/CON/EBS","1SFS11b","R/I Balances Receivable - Domestic Affiliates",{"$f":"'Form 1SFS GB'!E74","v":0},null,{"$f":"'Form 1SFS GB'!G74","v":0},null,{"$f":"'Form 1SFS GB'!I74","v":0},null,{"$f":"'Form 1SFS GB'!K74","v":0},null,null,null,"1SFS11b",{"$f":"'Form 1SFS LT'!E74","v":0},null,{"$f":"'Form 1SFS LT'!G74","v":0},null,{"$f":"'Form 1SFS LT'!I74","v":0},null,{"$f":"'Form 1SFS LT'!K74","v":0},null,null,null,null,null,{"$f":"#REF!","v":{"$error":"#REF!"}},null,{"$f":"#REF!","v":{"$error":"#REF!"}}]
["Form 1SFS/1EBS","Balance Sheet GEN/CON/EBS","1SFS11c","R/I Balances Receivable - Pools & Assoc.",{"$f":"'Form 1SFS GB'!E75","v":0},null,{"$f":"'Form 1SFS GB'!G75","v":0},null,{"$f":"'Form 1SFS GB'!I75","v":0},null,{"$f":"'Form 1SFS GB'!K75","v":0},null,null,null,"1SFS11c",{"$f":"'Form 1SFS LT'!E75","v":0},null,{"$f":"'Form 1SFS LT'!G75","v":0},null,{"$f":"'Form 1SFS LT'!I75","v":0},null,{"$f":"'Form 1SFS LT'!K75","v":0},null,null,null,null,null,{"$f":"#REF!","v":{"$error":"#REF!"}},null,{"$f":"#REF!","v":{"$error":"#REF!"}}]
["Form 1SFS/1EBS","Balance Sheet GEN/CON/EBS","1SFS11d","R/I Balances Receivable - All Other",{"$f":"'Form 1SFS GB'!E76","v":0},null,{"$f":"'Form 1SFS GB'!G76","v":0},null,{"$f":"'Form 1SFS GB'!I76","v":0},null,{"$f":"'Form 1SFS GB'!K76","v":0},null,null,null,"1SFS11d",{"$f":"'Form 1SFS LT'!E76","v":0},null,{"$f":"'Form 1SFS LT'!G76","v":0},null,{"$f":"'Form 1SFS LT'!I76","v":0},null,{"$f":"'Form 1SFS LT'!K76","v":0},null,null,null,null,null,{"$f":"#REF!","v":{"$error":"#REF!"}},null,{"$f":"#REF!","v":{"$error":"#REF!"}}]
["Form 1SFS/1EBS","Balance Sheet GEN/CON/EBS","1EBS12a","Funds Held by Ceding Companies - Affiliates",null,null,null,null,null,null,null,null,null,null,null,null,null,null,null,null,null,null,null,null,null,null,null,{"$f":"#REF!","v":{"$error":"#REF!"}},null,{"$f":"#REF!","v":{"$error":"#REF!"}}]
["Form 1SFS/1EBS","Balance Sheet GEN/CON/EBS","1EBS12b","Funds Held by Ceding Companies - Non-Aff.",null,null,null,null,null,null,null,null,null,null,null,null,null,null,null,null,null,null,null,null,null,null,null,{"$f":"#REF!","v":{"$error":"#REF!"}},null,{"$f":"#REF!","v":{"$error":"#REF!"}}]
["Form 1SFS/1EBS","Balance Sheet GEN/CON/EBS","1SFS12","Funds Held by Ceding Companies ",{"$f":"'Form 1SFS GB'!E79","v":0},null,{"$f":"'Form 1SFS GB'!G79","v":0},null,{"$f":"'Form 1SFS GB'!I79","v":0},null,{"$f":"'Form 1SFS GB'!K79","v":0},null,null,null,"1SFS12",{"$f":"'Form 1SFS LT'!E79","v":0},null,{"$f":"'Form 1SFS LT'!G79","v":0},null,{"$f":"'Form 1SFS LT'!I79","v":0},null,{"$f":"'Form 1SFS LT'!K79","v":0}]
["Form 1SFS/1EBS","Balance Sheet GEN/CON/EBS","1SFS13a","Sundry Assets - Derivatives",{"$f":"'Form 1SFS GB'!E82","v":0},null,{"$f":"'Form 1SFS GB'!G82","v":0},null,{"$f":"'Form 1SFS GB'!I82","v":0},null,{"$f":"'Form 1SFS GB'!K82","v":0},null,null,null,"1SFS13a",{"$f":"'Form 1SFS LT'!E82","v":0},null,{"$f":"'Form 1SFS LT'!G82","v":0},null,{"$f":"'Form 1SFS LT'!I82","v":0},null,{"$f":"'Form 1SFS LT'!K82","v":0},null,null,null,null,null,{"$f":"#REF!","v":{"$error":"#REF!"}},null,{"$f":"#REF!","v":{"$error":"#REF!"}}]
["Form 1SFS/1EBS","Balance Sheet GEN/CON/EBS","1SFS13b","Sundry Assets - SAC - LT- Variable Annuities",null,null,null,null,{"$f":"'Form 1SFS GB'!I83","v":0},null,{"$f":"'Form 1SFS GB'!K83","v":0},null,null,null,"1SFS13b",{"$f":"'Form 1SFS LT'!E83","v":0},null,{"$f":"'Form 1SFS LT'!G83","v":0},null,{"$f":"'Form 1SFS LT'!I83","v":0},null,{"$f":"'Form 1SFS LT'!K83","v":0}]
["Form 1SFS/1EBS","Balance Sheet GEN/CON/EBS","1SFS13c","Sundry Assets - SAC - LT- Others",null,null,null,null,{"$f":"'Form 1SFS GB'!I84","v":0},null,{"$f":"'Form 1SFS GB'!K84","v":0},null,null,null,"1SFS13c",{"$f":"'Form 1SFS LT'!E84","v":0},null,{"$f":"'Form 1SFS LT'!G84","v":0},null,{"$f":"'Form 1SFS LT'!I84","v":0},null,{"$f":"'Form 1SFS LT'!K84","v":0}]
["Form 1SFS/1EBS","Balance Sheet GEN/CON/EBS","1SFS13d","Sundry Assets - SAC - General Business",{"$f":"'Form 1SFS GB'!E85","v":0},null,{"$f":"'Form 1SFS GB'!G85","v":0},null,{"$f":"'Form 1SFS GB'!I85","v":0},null,{"$f":"'Form 1SFS GB'!K85","v":0},null,null,null,null,null,null,null,null,{"$f":"'Form 1SFS LT'!I85","v":0},null,{"$f":"'Form 1SFS LT'!K85","v":0},null,null,null,null,null,{"$f":"#REF!","v":{"$error":"#REF!"}},null,{"$f":"#REF!","v":{"$error":"#REF!"}}]
["Form 1SFS/1EBS","Balance Sheet GEN/CON/EBS","1SFS13e","Sundry Assets - Deposit Assets",{"$f":"'Form 1SFS GB'!E86","v":0},null,{"$f":"'Form 1SFS GB'!G86","v":0},null,{"$f":"'Form 1SFS GB'!I86","v":0},null,{"$f":"'Form 1SFS GB'!K86","v":0},null,null,null,"1SFS13e",{"$f":"'Form 1SFS LT'!E86","v":0},null,{"$f":"'Form 1SFS LT'!G86","v":0},null,{"$f":"'Form 1SFS LT'!I86","v":0},null,{"$f":"'Form 1SFS LT'!K86","v":0},null,null,null,null,null,{"$f":"#REF!","v":{"$error":"#REF!"}},null,{"$f":"#REF!","v":{"$error":"#REF!"}}]
["Form 1SFS/1EBS","Balance Sheet GEN/CON/EBS","1SFS13f","Sundry Assets - Deferred Acquisition Costs",{"$f":"'Form 1SFS GB'!E87","v":0},null,{"$f":"'Form 1SFS GB'!G87","v":0},null,{"$f":"'Form 1SFS GB'!I87","v":0},null,{"$f":"'Form 1SFS GB'!K87","v":0},null,null,null,"1SFS13f",{"$f":"'Form 1SFS LT'!E87","v":0},null,{"$f":"'Form 1SFS LT'!G87","v":0},null,{"$f":"'Form 1SFS LT'!I87","v":0},null,{"$f":"'Form 1SFS LT'!K87","v":0}]
["Form 1SFS/1EBS","Balance Sheet GEN/CON/EBS","1SFS13g","Sundry Assets - Net Rec. for Investments",{"$f":"'Form 1SFS GB'!E88","v":0},null,{"$f":"'Form 1SFS GB'!G88","v":0},null,{"$f":"'Form 1SFS GB'!I88","v":0},null,{"$f":"'Form 1SFS GB'!K88","v":0},null,null,null,"1SFS13g",{"$f":"'Form 1SFS LT'!E88","v":0},null,{"$f":"'Form 1SFS LT'!G88","v":0},null,{"$f":"'Form 1SFS LT'!I88","v":0},null,{"$f":"'Form 1SFS LT'!K88","v":0},null,null,null,null,null,{"$f":"#REF!","v":{"$error":"#REF!"}},null,{"$f":"#REF!","v":{"$error":"#REF!"}}]
["Form 1SFS/1EBS","Balance Sheet GEN/CON/EBS","1EBS13g","Sundry Assets - Intangible Assets",null,null,null,null,null,null,null,null,null,null,null,null,null,null,null,null,null,null,null,null,null,null,null,{"$f":"#REF!","v":{"$error":"#REF!"}},null,{"$f":"#REF!","v":{"$error":"#REF!"}}]
["Form 1SFS/1EBS","Balance Sheet GEN/CON/EBS","1EBS13h","Sundry Assets - Deferred Tax Assets",null,null,null,null,null,null,null,null,null,null,null,null,null,null,null,null,null,null,null,null,null,null,null,{"$f":"#REF!","v":{"$error":"#REF!"}},null,{"$f":"#REF!","v":{"$error":"#REF!"}}]
["Form 1SFS/1EBS","Balance Sheet GEN/CON/EBS","1EBS13i","Sundry Assets - Pension Benefit Surplus",null,null,null,null,null,null,null,null,null,null,null,null,null,null,null,null,null,null,null,null,null,null,null,{"$f":"#REF!","v":{"$error":"#REF!"}},null,{"$f":"#REF!","v":{"$error":"#REF!"}}]
["Form 1SFS/1EBS","Balance Sheet GEN/CON/EBS","1SFS13h","Sundry Assets - Other 1",{"$f":"'Form 1SFS GB'!E89","v":0},null,{"$f":"'Form 1SFS GB'!G89","v":0},null,{"$f":"'Form 1SFS GB'!I89","v":0},null,{"$f":"'Form 1SFS GB'!K89","v":0},null,null,null,"1SFS13h",{"$f":"'Form 1SFS LT'!E89","v":0},null,{"$f":"'Form 1SFS LT'!G89","v":0},null,{"$f":"'Form 1SFS LT'!I89","v":0},null,{"$f":"'Form 1SFS LT'!K89","v":0},null,null,null,null,null,{"$f":"#REF!","v":{"$error":"#REF!"}},null,{"$f":"#REF!","v":{"$error":"#REF!"}}]
["Form 1SFS/1EBS","Balance Sheet GEN/CON/EBS","1SFS13i","Sundry Assets - Other 2",{"$f":"'Form 1SFS GB'!E90","v":0},null,{"$f":"'Form 1SFS GB'!G90","v":0},null,{"$f":"'Form 1SFS GB'!I90","v":0},null,{"$f":"'Form 1SFS GB'!K90","v":0},null,null,null,"1SFS13i",{"$f":"'Form 1SFS LT'!E90","v":0},null,{"$f":"'Form 1SFS LT'!G90","v":0},null,{"$f":"'Form 1SFS LT'!I90","v":0},null,{"$f":"'Form 1SFS LT'!K90","v":0}]
["Form 1SFS/1EBS","Balance Sheet GEN/CON/EBS","1SFS13j","Sundry Assets - Other 3",{"$f":"'Form 1SFS GB'!E91","v":0},null,{"$f":"'Form 1SFS GB'!G91","v":0},null,{"$f":"'Form 1SFS GB'!I91","v":0},null,{"$f":"'Form 1SFS GB'!K91","v":0},null,null,null,"1SFS13j",{"$f":"'Form 1SFS LT'!E91","v":0},null,{"$f":"'Form 1SFS LT'!G91","v":0},null,{"$f":"'Form 1SFS LT'!I91","v":0},null,{"$f":"'Form 1SFS LT'!K91","v":0}]
["Form 1SFS/1EBS","Balance Sheet GEN/CON/EBS","1SFS14a","Letters of Credit",{"$f":"'Form 1SFS GB'!E95","v":0},null,{"$f":"'Form 1SFS GB'!G95","v":0},null,{"$f":"'Form 1SFS GB'!I95","v":0},null,{"$f":"'Form 1SFS GB'!K95","v":0},null,null,null,"1SFS14a",{"$f":"'Form 1SFS LT'!E95","v":0},null,{"$f":"'Form 1SFS LT'!G95","v":0},null,{"$f":"'Form 1SFS LT'!I95","v":0},null,{"$f":"'Form 1SFS LT'!K95","v":0},null,null,null,null,null,{"$f":"#REF!","v":{"$error":"#REF!"}},null,{"$f":"#REF!","v":{"$error":"#REF!"}}]
["Form 1SFS/1EBS","Balance Sheet GEN/CON/EBS","1SFS14b","Guarantees",{"$f":"'Form 1SFS GB'!E96","v":0},null,{"$f":"'Form 1SFS GB'!G96","v":0},null,{"$f":"'Form 1SFS GB'!I96","v":0},null,{"$f":"'Form 1SFS GB'!K96","v":0},null,null,null,"1SFS14b",{"$f":"'Form 1SFS LT'!E96","v":0},null,{"$f":"'Form 1SFS LT'!G96","v":0},null,{"$f":"'Form 1SFS LT'!I96","v":0},null,{"$f":"'Form 1SFS LT'!K96","v":0},null,null,null,null,null,{"$f":"#REF!","v":{"$error":"#REF!"}},null,{"$f":"#REF!","v":{"$error":"#REF!"}}]
["Form 1SFS/1EBS","Balance Sheet GEN/CON/EBS","1SFS14c","Other Instruments",{"$f":"'Form 1SFS GB'!E97","v":0},null,{"$f":"'Form 1SFS GB'!G97","v":0},null,{"$f":"'Form 1SFS GB'!I97","v":0},null,{"$f":"'Form 1SFS GB'!K97","v":0},null,null,null,"1SFS14c",{"$f":"'Form 1SFS LT'!E97","v":0},null,{"$f":"'Form 1SFS LT'!G97","v":0},null,{"$f":"'Form 1SFS LT'!I97","v":0},null,{"$f":"'Form 1SFS LT'!K97","v":0},null,null,null,null,null,{"$f":"#REF!","v":{"$error":"#REF!"}},null,{"$f":"#REF!","v":{"$error":"#REF!"}}]
["Form 1SFS/1EBS","Balance Sheet GEN/CON/EBS","1SFS15","Total Assets",{"$f":"'Form 1SFS GB'!E100","v":0},null,{"$f":"'Form 1SFS GB'!G100","v":0},null,null,null,null,null,null,null,"1SFS15"]
["Form 1SFS/1EBS","Balance Sheet GEN/CON/EBS","1SFS16a","Unearned Premium Reserve - Gross",{"$f":"'Form 1SFS GB'!E107","v":0},null,{"$f":"'Form 1SFS GB'!G107","v":0},null,{"$f":"'Form 1SFS GB'!I107","v":0},null,{"$f":"'Form 1SFS GB'!K107","v":0},null,null,null,null,null,null,null,null,null,null,null,null,null,null,null,null,{"$f":"#REF!","v":{"$error":"#REF!"}},null,{"$f":"#REF!","v":{"$error":"#REF!"}}]
["Form 1SFS/1EBS","Balance Sheet GEN/CON/EBS","1SFS16bi","UPR - Ceded - Foreign Affiliates",{"$f":"'Form 1SFS GB'!E109","v":0},null,{"$f":"'Form 1SFS GB'!G109","v":0},null,{"$f":"'Form 1SFS GB'!I109","v":0},null,{"$f":"'Form 1SFS GB'!K109","v":0},null,null,null,null,null,null,null,null,null,null,null,null,null,null,null,null,{"$f":"#REF!","v":{"$error":"#REF!"}},null,{"$f":"#REF!","v":{"$error":"#REF!"}}]
["Form 1SFS/1EBS","Balance Sheet GEN/CON/EBS","1SFS16bii","UPR - Ceded - Domestic Affiliates",{"$f":"'Form 1SFS GB'!E110","v":0},null,{"$f":"'Form 1SFS GB'!G110","v":0},null,{"$f":"'Form 1SFS GB'!I110","v":0},null,{"$f":"'Form 1SFS GB'!K110","v":0},null,null,null,null,null,null,null,null,null,null,null,null,null,null,null,null,{"$f":"#REF!","v":{"$error":"#REF!"}},null,{"$f":"#REF!","v":{"$error":"#REF!"}}]
["Form 1SFS/1EBS","Balance Sheet GEN/CON/EBS","1SFS16biii","UPR - Ceded - Pools & Assoc.",{"$f":"'Form 1SFS GB'!E111","v":0},null,{"$f":"'Form 1SFS GB'!G111","v":0},null,{"$f":"'Form 1SFS GB'!I111","v":0},null,{"$f":"'Form 1SFS GB'!K111","v":0},null,null,null,null,null,null,null,null,null,null,null,null,null,null,null,null,{"$f":"#REF!","v":{"$error":"#REF!"}},null,{"$f":"#REF!","v":{"$error":"#REF!"}}]
["Form 1SFS/1EBS","Balance Sheet GEN/CON/EBS","1SFS16biv","UPR - Ceded - All Other",{"$f":"'Form 1SFS GB'!E112","v":0},null,{"$f":"'Form 1SFS GB'!G112","v":0},null,{"$f":"'Form 1SFS GB'!I112","v":0},null,{"$f":"'Form 1SFS GB'!K112","v":0},null,null,null,null,null,null,null,null,null,null,null,null,null,null,null,null,{"$f":"#REF!","v":{"$error":"#REF!"}},null,{"$f":"#REF!","v":{"$error":"#REF!"}}]
["Form 1SFS/1EBS","Balance Sheet GEN/CON/EBS","1SFS17a","Loss Provision - Gross",{"$f":"'Form 1SFS GB'!E117","v":0},null,{"$f":"'Form 1SFS GB'!G117","v":0},null,{"$f":"'Form 1SFS GB'!I117","v":0},null,{"$f":"'Form 1SFS GB'!K117","v":0},null,null,null,null,null,null,null,null,null,null,null,null,null,null,null,null,{"$f":"#REF!","v":{"$error":"#REF!"}},null,{"$f":"#REF!","v":{"$error":"#REF!"}}]
["Form 1SFS/1EBS","Balance Sheet GEN/CON/EBS","1SFS17bi","R/I Recoverable - Foreign Affiliates",{"$f":"'Form 1SFS GB'!E119","v":0},null,{"$f":"'Form 1SFS GB'!G119","v":0},null,{"$f":"'Form 1SFS GB'!I119","v":0},null,{"$f":"'Form 1SFS GB'!K119","v":0},null,null,null,null,null,null,null,null,null,null,null,null,null,null,null,null,{"$f":"#REF!","v":{"$error":"#REF!"}},null,{"$f":"#REF!","v":{"$error":"#REF!"}}]
["Form 1SFS/1EBS","Balance Sheet GEN/CON/EBS","1SFS17bii","R/I Recoverable - Domestic Affiliates",{"$f":"'Form 1SFS GB'!E120","v":0},null,{"$f":"'Form 1SFS GB'!G120","v":0},null,{"$f":"'Form 1SFS GB'!I120","v":0},null,{"$f":"'Form 1SFS GB'!K120","v":0},null,null,null,null,null,null,null,null,null,null,null,null,null,null,null,null,{"$f":"#REF!","v":{"$error":"#REF!"}},null,{"$f":"#REF!","v":{"$error":"#REF!"}}]
["Form 1SFS/1EBS","Balance Sheet GEN/CON/EBS","1SFS17biii","R/I Recoverable - Pools & Assoc.",{"$f":"'Form 1SFS GB'!E121","v":0},null,{"$f":"'Form 1SFS GB'!G121","v":0},null,{"$f":"'Form 1SFS GB'!I121","v":0},null,{"$f":"'Form 1SFS GB'!K121","v":0},null,null,null,null,null,null,null,null,null,null,null,null,null,null,null,null,{"$f":"#REF!","v":{"$error":"#REF!"}},null,{"$f":"#REF!","v":{"$error":"#REF!"}}]
["Form 1SFS/1EBS","Balance Sheet GEN/CON/EBS","1SFS17biv","R/I Recoverable - All Other",{"$f":"'Form 1SFS GB'!E122","v":0},null,{"$f":"'Form 1SFS GB'!G122","v":0},null,{"$f":"'Form 1SFS GB'!I122","v":0},null,{"$f":"'Form 1SFS GB'!K122","v":0},null,null,null,null,null,null,null,null,null,null,null,null,null,null,null,null,{"$f":"#REF!","v":{"$error":"#REF!"}},null,{"$f":"#REF!","v":{"$error":"#REF!"}}]
["Form 1SFS/1EBS","Balance Sheet GEN/CON/EBS","1SFS18","Risk Margin",{"$f":"'Form 1SFS GB'!E126","v":0},null,{"$f":"'Form 1SFS GB'!G126","v":0},null,{"$f":"'Form 1SFS GB'!I126","v":0},null,{"$f":"'Form 1SFS GB'!K126","v":0},null,null,null,null,null,null,null,null,null,null,null,null,null,null,null,null,{"$f":"#REF!","v":{"$error":"#REF!"}},null,{"$f":"#REF!","v":{"$error":"#REF!"}}]
["Form 1SFS/1EBS","Balance Sheet GEN/CON/EBS","1SFS20","Net - Reserves for Reported Claims",null,null,null,null,{"$f":"'Form 1SFS GB'!I132","v":0},null,{"$f":"'Form 1SFS GB'!K132","v":0},null,null,null,"1SFS20",{"$f":"'Form 1SFS LT'!E132","v":0},null,{"$f":"'Form 1SFS LT'!G132","v":0},null,{"$f":"'Form 1SFS LT'!I132","v":0},null,{"$f":"'Form 1SFS LT'!K132","v":0}]
["Form 1SFS/1EBS","Balance Sheet GEN/CON/EBS","1SFS21","Net - Reserves for Unreported Claims",null,null,null,null,{"$f":"'Form 1SFS GB'!I134","v":0},null,{"$f":"'Form 1SFS GB'!K134","v":0},null,null,null,"1SFS21",{"$f":"'Form 1SFS LT'!E134","v":0},null,{"$f":"'Form 1SFS LT'!G134","v":0},null,{"$f":"'Form 1SFS LT'!I134","v":0},null,{"$f":"'Form 1SFS LT'!K134","v":0}]
["Form 1SFS/1EBS","Balance Sheet GEN/CON/EBS","1SFS22","Net - Policy Reserves - Life",null,null,null,null,{"$f":"'Form 1SFS GB'!I136","v":0},null,{"$f":"'Form 1SFS GB'!K136","v":0},null,null,null,"1SFS22",{"$f":"'Form 1SFS LT'!E136","v":0},null,{"$f":"'Form 1SFS LT'!G136","v":0},null,{"$f":"'Form 1SFS LT'!I136","v":0},null,{"$f":"'Form 1SFS LT'!K136","v":0}]
["Form 1SFS/1EBS","Balance Sheet GEN/CON/EBS","1SFS23","Net - Policy Reserves - Accident & Health",null,null,null,null,{"$f":"'Form 1SFS GB'!I138","v":0},null,{"$f":"'Form 1SFS GB'!K138","v":0},null,null,null,"1SFS23",{"$f":"'Form 1SFS LT'!E138","v":0},null,{"$f":"'Form 1SFS LT'!G138","v":0},null,{"$f":"'Form 1SFS LT'!I138","v":0},null,{"$f":"'Form 1SFS LT'!K138","v":0}]
["Form 1SFS/1EBS","Balance Sheet GEN/CON/EBS","1SFS24","Net - Policyholder's Funds on Deposit",null,null,null,null,{"$f":"'Form 1SFS GB'!I140","v":0},null,{"$f":"'Form 1SFS GB'!K140","v":0},null,null,null,"1SFS24",{"$f":"'Form 1SFS LT'!E140","v":0},null,{"$f":"'Form 1SFS LT'!G140","v":0},null,{"$f":"'Form 1SFS LT'!I140","v":0},null,{"$f":"'Form 1SFS LT'!K140","v":0}]
["Form 1SFS/1EBS","Balance Sheet GEN/CON/EBS","1SFS25","Net - Liability for Future Policyholder Dividends",null,null,null,null,{"$f":"'Form 1SFS GB'!I142","v":0},null,{"$f":"'Form 1SFS GB'!K142","v":0},null,null,null,"1SFS25",{"$f":"'Form 1SFS LT'!E142","v":0},null,{"$f":"'Form 1SFS LT'!G142","v":0},null,{"$f":"'Form 1SFS LT'!I142","v":0},null,{"$f":"'Form 1SFS LT'!K142","v":0}]
["Form 1SFS/1EBS","Balance Sheet GEN/CON/EBS","1SFS26","Net - Other LT Insurance Reserves",null,null,null,null,{"$f":"'Form 1SFS GB'!I144","v":0},null,{"$f":"'Form 1SFS GB'!K144","v":0},null,null,null,"1SFS26",{"$f":"'Form 1SFS LT'!E144","v":0},null,{"$f":"'Form 1SFS LT'!G144","v":0},null,{"$f":"'Form 1SFS LT'!I144","v":0},null,{"$f":"'Form 1SFS LT'!K144","v":0}]
["Form 1SFS/1EBS","Balance Sheet GEN/CON/EBS","1SFS27bi","R/I Recoverable - Foreign Affiliates",null,null,null,null,{"$f":"'Form 1SFS GB'!I149","v":0},null,{"$f":"'Form 1SFS GB'!K149","v":0},null,null,null,"1SFS27bi",{"$f":"'Form 1SFS LT'!E149","v":0},null,{"$f":"'Form 1SFS LT'!G149","v":0},null,{"$f":"'Form 1SFS LT'!I149","v":0},null,{"$f":"'Form 1SFS LT'!K149","v":0}]
["Form 1SFS/1EBS","Balance Sheet GEN/CON/EBS","1SFS27bii","R/I Recoverable - Domestic Affiliates",null,null,null,null,{"$f":"'Form 1SFS GB'!I150","v":0},null,{"$f":"'Form 1SFS GB'!K150","v":0},null,null,null,"1SFS27bii",{"$f":"'Form 1SFS LT'!E150","v":0},null,{"$f":"'Form 1SFS LT'!G150","v":0},null,{"$f":"'Form 1SFS LT'!I150","v":0},null,{"$f":"'Form 1SFS LT'!K150","v":0}]
["Form 1SFS/1EBS","Balance Sheet GEN/CON/EBS","1SFS27biii","R/I Recoverable - Pools & Assoc.",null,null,null,null,{"$f":"'Form 1SFS GB'!I151","v":0},null,{"$f":"'Form 1SFS GB'!K151","v":0},null,null,null,"1SFS27biii",{"$f":"'Form 1SFS LT'!E151","v":0},null,{"$f":"'Form 1SFS LT'!G151","v":0},null,{"$f":"'Form 1SFS LT'!I151","v":0},null,{"$f":"'Form 1SFS LT'!K151","v":0}]
["Form 1SFS/1EBS","Balance Sheet GEN/CON/EBS","1SFS27biv","R/I Recoverable - All Other",null,null,null,null,{"$f":"'Form 1SFS GB'!I152","v":0},null,{"$f":"'Form 1SFS GB'!K152","v":0},null,null,null,"1SFS27biv",{"$f":"'Form 1SFS LT'!E152","v":0},null,{"$f":"'Form 1SFS LT'!G152","v":0},null,{"$f":"'Form 1SFS LT'!I152","v":0},null,{"$f":"'Form 1SFS LT'!K152","v":0}]
["Form 1SFS/1EBS","Balance Sheet GEN/CON/EBS","1EBS27A","Risk Margin"]
["Form 1SFS/1EBS","Balance Sheet GEN/CON/EBS","1EBS27Ba","Gross Provision - Tech. Prov. Calc. on Whole"]
["Form 1SFS/1EBS","Balance Sheet GEN/CON/EBS","1EBS27Bbi","R/I Recoverable - Foreign Affiliates"]
["Form 1SFS/1EBS","Balance Sheet GEN/CON/EBS","1EBS27Bbii","R/I Recoverable - Domestic Affiliates"]
["Form 1SFS/1EBS","Balance Sheet GEN/CON/EBS","1EBS27Bbiii","R/I Recoverable - Pools & Assoc."]
["Form 1SFS/1EBS","Balance Sheet GEN/CON/EBS","1EBS27Bbiv","R/I Recoverable - All Other"]
["Form 1SFS/1EBS","Balance Sheet GEN/CON/EBS","1EBS27C","Total Long-Term Tech Provisions"]
["Form 1SFS/1EBS","Balance Sheet GEN/CON/EBS","1SFS28","Insurance & R/I Balances Payable",{"$f":"'Form 1SFS GB'!E158","v":0},null,{"$f":"'Form 1SFS GB'!G158","v":0},null,{"$f":"'Form 1SFS GB'!I158","v":0},null,{"$f":"'Form 1SFS GB'!K158","v":0},null,null,null,"1SFS28",{"$f":"'Form 1SFS LT'!E158","v":0},null,{"$f":"'Form 1SFS LT'!G158","v":0},null,{"$f":"'Form 1SFS LT'!I158","v":0},null,{"$f":"'Form 1SFS LT'!K158","v":0},null,null,null,null,null,{"$f":"#REF!","v":{"$error":"#REF!"}},null,{"$f":"#REF!","v":{"$error":"#REF!"}}]
["Form 1SFS/1EBS","Balance Sheet GEN/CON/EBS","1SFS29","Commissions, Expenses and Taxes Payable",{"$f":"'Form 1SFS GB'!E160","v":0},null,{"$f":"'Form 1SFS GB'!G160","v":0},null,{"$f":"'Form 1SFS GB'!I160","v":0},null,{"$f":"'Form 1SFS GB'!K160","v":0},null,null,null,"1SFS29",{"$f":"'Form 1SFS LT'!E160","v":0},null,{"$f":"'Form 1SFS LT'!G160","v":0},null,{"$f":"'Form 1SFS LT'!I160","v":0},null,{"$f":"'Form 1SFS LT'!K160","v":0},null,null,null,null,null,{"$f":"#REF!","v":{"$error":"#REF!"}},null,{"$f":"#REF!","v":{"$error":"#REF!"}}]
["Form 1SFS/1EBS","Balance Sheet GEN/CON/EBS","1SFS30","Loans and Notes Payable",{"$f":"'Form 1SFS GB'!E162","v":0},null,{"$f":"'Form 1SFS GB'!G162","v":0},null,{"$f":"'Form 1SFS GB'!I162","v":0},null,{"$f":"'Form 1SFS GB'!K162","v":0},null,null,null,"1SFS30",{"$f":"'Form 1SFS LT'!E162","v":0},null,{"$f":"'Form 1SFS LT'!G162","v":0},null,{"$f":"'Form 1SFS LT'!I162","v":0},null,{"$f":"'Form 1SFS LT'!K162","v":0},null,null,null,null,null,{"$f":"#REF!","v":{"$error":"#REF!"}},null,{"$f":"#REF!","v":{"$error":"#REF!"}}]
["Form 1SFS/1EBS","Balance Sheet GEN/CON/EBS","1SFS31a","Income Taxes Payable",{"$f":"'Form 1SFS GB'!E164","v":0},null,{"$f":"'Form 1SFS GB'!G164","v":0},null,{"$f":"'Form 1SFS GB'!I164","v":0},null,{"$f":"'Form 1SFS GB'!K164","v":0},null,null,null,"1SFS31a",{"$f":"'Form 1SFS LT'!E164","v":0},null,{"$f":"'Form 1SFS LT'!G164","v":0},null,{"$f":"'Form 1SFS LT'!I164","v":0},null,{"$f":"'Form 1SFS LT'!K164","v":0},null,null,null,null,null,{"$f":"#REF!","v":{"$error":"#REF!"}},null,{"$f":"#REF!","v":{"$error":"#REF!"}}]
["Form 1SFS/1EBS","Balance Sheet GEN/CON/EBS","1SFS31b","Deferred Taxes Payable",{"$f":"'Form 1SFS GB'!E166","v":0},null,{"$f":"'Form 1SFS GB'!G166","v":0},null,{"$f":"'Form 1SFS GB'!I166","v":0},null,{"$f":"'Form 1SFS GB'!K166","v":0},null,null,null,"1SFS31b",{"$f":"'Form 1SFS LT'!E166","v":0},null,{"$f":"'Form 1SFS LT'!G166","v":0},null,{"$f":"'Form 1SFS LT'!I166","v":0},null,{"$f":"'Form 1SFS LT'!K166","v":0},null,null,null,null,null,{"$f":"#REF!","v":{"$error":"#REF!"}},null,{"$f":"#REF!","v":{"$error":"#REF!"}}]
["Form 1SFS/1EBS","Balance Sheet GEN/CON/EBS","1SFS32","Amounts Due to Affiliates",{"$f":"'Form 1SFS GB'!E168","v":0},null,{"$f":"'Form 1SFS GB'!G168","v":0},null,{"$f":"'Form 1SFS GB'!I168","v":0},null,{"$f":"'Form 1SFS GB'!K168","v":0},null,null,null,"1SFS32",{"$f":"'Form 1SFS LT'!E168","v":0},null,{"$f":"'Form 1SFS LT'!G168","v":0},null,{"$f":"'Form 1SFS LT'!I168","v":0},null,{"$f":"'Form 1SFS LT'!K168","v":0},null,null,null,null,null,{"$f":"#REF!","v":{"$error":"#REF!"}},null,{"$f":"#REF!","v":{"$error":"#REF!"}}]
["Form 1SFS/1EBS","Balance Sheet GEN/CON/EBS","1SFS33","Accounts Payable and Accrued Liabilities",{"$f":"'Form 1SFS GB'!E170","v":0},null,{"$f":"'Form 1SFS GB'!G170","v":0},null,{"$f":"'Form 1SFS GB'!I170","v":0},null,{"$f":"'Form 1SFS GB'!K170","v":0},null,null,null,"1SFS33",{"$f":"'Form 1SFS LT'!E170","v":0},null,{"$f":"'Form 1SFS LT'!G170","v":0},null,{"$f":"'Form 1SFS LT'!I170","v":0},null,{"$f":"'Form 1SFS LT'!K170","v":0},null,null,null,null,null,{"$f":"#REF!","v":{"$error":"#REF!"}},null,{"$f":"#REF!","v":{"$error":"#REF!"}}]
["Form 1SFS/1EBS","Balance Sheet GEN/CON/EBS","1EBS34a","Funds Held under R/I Contracts - Affiliates",null,null,null,null,null,null,null,null,null,null,null,null,null,null,null,null,null,null,null,null,null,null,null,{"$f":"#REF!","v":{"$error":"#REF!"}},null,{"$f":"#REF!","v":{"$error":"#REF!"}}]
["Form 1SFS/1EBS","Balance Sheet GEN/CON/EBS","1EBS34b","Funds Held under R/I Contracts - Non-Aff.",null,null,null,null,null,null,null,null,null,null,null,null,null,null,null,null,null,null,null,null,null,null,null,{"$f":"#REF!","v":{"$error":"#REF!"}},null,{"$f":"#REF!","v":{"$error":"#REF!"}}]
["Form 1SFS/1EBS","Balance Sheet GEN/CON/EBS","1SFS34","Funds Held under R/I Contracts",{"$f":"'Form 1SFS GB'!E172","v":0},null,{"$f":"'Form 1SFS GB'!G172","v":0},null,{"$f":"'Form 1SFS GB'!I172","v":0},null,{"$f":"'Form 1SFS GB'!K172","v":0},null,null,null,"1SFS34",{"$f":"'Form 1SFS LT'!E172","v":0},null,{"$f":"'Form 1SFS LT'!G172","v":0},null,{"$f":"'Form 1SFS LT'!I172","v":0},null,{"$f":"'Form 1SFS LT'!K172","v":0}]
["Form 1SFS/1EBS","Balance Sheet GEN/CON/EBS","1SFS35","Dividends Payable",{"$f":"'Form 1SFS GB'!E174","v":0},null,{"$f":"'Form 1SFS GB'!G174","v":0},null,{"$f":"'Form 1SFS GB'!I174","v":0},null,{"$f":"'Form 1SFS GB'!K174","v":0},null,null,null,"1SFS35",{"$f":"'Form 1SFS LT'!E174","v":0},null,{"$f":"'Form 1SFS LT'!G174","v":0},null,{"$f":"'Form 1SFS LT'!I174","v":0},null,{"$f":"'Form 1SFS LT'!K174","v":0},null,null,null,null,null,{"$f":"#REF!","v":{"$error":"#REF!"}},null,{"$f":"#REF!","v":{"$error":"#REF!"}}]
["Form 1SFS/1EBS","Balance Sheet GEN/CON/EBS","1SFS36a","Sundry Liabilities - Derivative Instruments",{"$f":"'Form 1SFS GB'!E177","v":0},null,{"$f":"'Form 1SFS GB'!G177","v":0},null,{"$f":"'Form 1SFS GB'!I177","v":0},null,{"$f":"'Form 1SFS GB'!K177","v":0},null,null,null,"1SFS36a",{"$f":"'Form 1SFS LT'!E177","v":0},null,{"$f":"'Form 1SFS LT'!G177","v":0},null,{"$f":"'Form 1SFS LT'!I177","v":0},null,{"$f":"'Form 1SFS LT'!K177","v":0},null,null,null,null,null,{"$f":"#REF!","v":{"$error":"#REF!"}},null,{"$f":"#REF!","v":{"$error":"#REF!"}}]
["Form 1SFS/1EBS","Balance Sheet GEN/CON/EBS","1EBS36b","Sundry Liabilities - Der. Instr. - Non-Hedge Purp.",null,null,null,null,null,null,null,null,null,null,null,null,null,null,null,null,null,null,null,null,null,null,null,{"$f":"#REF!","v":{"$error":"#REF!"}},null,{"$f":"#REF!","v":{"$error":"#REF!"}}]
["Form 1SFS/1EBS","Balance Sheet GEN/CON/EBS","1SFS36b","Sundry Liabilities - Seg. Accounts - GB",{"$f":"'Form 1SFS GB'!E178","v":0},null,{"$f":"'Form 1SFS GB'!G178","v":0},null,{"$f":"'Form 1SFS GB'!I178","v":0},null,{"$f":"'Form 1SFS GB'!K178","v":0},null,null,null,"1SFS36b",{"$f":"'Form 1SFS LT'!E178","v":0},null,{"$f":"'Form 1SFS LT'!G178","v":0},null,{"$f":"'Form 1SFS LT'!I178","v":0},null,{"$f":"'Form 1SFS LT'!K178","v":0},null,null,null,null,null,{"$f":"#REF!","v":{"$error":"#REF!"}},null,{"$f":"#REF!","v":{"$error":"#REF!"}}]
["Form 1SFS/1EBS","Balance Sheet GEN/CON/EBS","1SFS36c","Sundry Liabilities - Deposit Liabilities",{"$f":"'Form 1SFS GB'!E179","v":0},null,{"$f":"'Form 1SFS GB'!G179","v":0},null,{"$f":"'Form 1SFS GB'!I179","v":0},null,{"$f":"'Form 1SFS GB'!K179","v":0},null,null,null,"1SFS36c",{"$f":"'Form 1SFS LT'!E179","v":0},null,{"$f":"'Form 1SFS LT'!G179","v":0},null,{"$f":"'Form 1SFS LT'!I179","v":0},null,{"$f":"'Form 1SFS LT'!K179","v":0},null,null,null,null,null,{"$f":"#REF!","v":{"$error":"#REF!"}},null,{"$f":"#REF!","v":{"$error":"#REF!"}}]
["Form 1SFS/1EBS","Balance Sheet GEN/CON/EBS","1EBS36g","Sundry Liabilities - Pension Benefit Oblig.",null,null,null,null,null,null,null,null,null,null,null,null,null,null,null,null,null,null,null,null,null,null,null,{"$f":"#REF!","v":{"$error":"#REF!"}},null,{"$f":"#REF!","v":{"$error":"#REF!"}}]
["Form 1SFS/1EBS","Balance Sheet GEN/CON/EBS","1SFS36d","Sundry Liabilities - Investments Purchased",{"$f":"'Form 1SFS GB'!E180","v":0},null,{"$f":"'Form 1SFS GB'!G180","v":0},null,{"$f":"'Form 1SFS GB'!I180","v":0},null,{"$f":"'Form 1SFS GB'!K180","v":0},null,null,null,"1SFS36d",{"$f":"'Form 1SFS LT'!E180","v":0},null,{"$f":"'Form 1SFS LT'!G180","v":0},null,{"$f":"'Form 1SFS LT'!I180","v":0},null,{"$f":"'Form 1SFS LT'!K180","v":0},null,null,null,null,null,{"$f":"#REF!","v":{"$error":"#REF!"}},null,{"$f":"#REF!","v":{"$error":"#REF!"}}]
["Form 1SFS/1EBS","Balance Sheet GEN/CON/EBS","1SFS36e","Sundry Liabilities - Other 1",{"$f":"'Form 1SFS GB'!E181","v":0},null,{"$f":"'Form 1SFS GB'!G181","v":0},null,{"$f":"'Form 1SFS GB'!I181","v":0},null,{"$f":"'Form 1SFS GB'!K181","v":0},null,null,null,"1SFS36e",{"$f":"'Form 1SFS LT'!E181","v":0},null,{"$f":"'Form 1SFS LT'!G181","v":0},null,{"$f":"'Form 1SFS LT'!I181","v":0},null,{"$f":"'Form 1SFS LT'!K181","v":0},null,null,null,null,null,{"$f":"#REF!","v":{"$error":"#REF!"}},null,{"$f":"#REF!","v":{"$error":"#REF!"}}]
["Form 1SFS/1EBS","Balance Sheet GEN/CON/EBS","1SFS36f","Sundry Liabilities - Other 2",{"$f":"'Form 1SFS GB'!E182","v":0},null,{"$f":"'Form 1SFS GB'!G182","v":0},null,{"$f":"'Form 1SFS GB'!I182","v":0},null,{"$f":"'Form 1SFS GB'!K182","v":0},null,null,null,"1SFS36f",{"$f":"'Form 1SFS LT'!E182","v":0},null,{"$f":"'Form 1SFS LT'!G182","v":0},null,{"$f":"'Form 1SFS LT'!I182","v":0},null,{"$f":"'Form 1SFS LT'!K182","v":0}]
["Form 1SFS/1EBS","Balance Sheet GEN/CON/EBS","1SFS36g","Sundry Liabilities - Other 3",{"$f":"'Form 1SFS GB'!E183","v":0},null,{"$f":"'Form 1SFS GB'!G183","v":0},null,{"$f":"'Form 1SFS GB'!I183","v":0},null,{"$f":"'Form 1SFS GB'!K183","v":0},null,null,null,"1SFS36g",{"$f":"'Form 1SFS LT'!E183","v":0},null,{"$f":"'Form 1SFS LT'!G183","v":0},null,{"$f":"'Form 1SFS LT'!I183","v":0},null,{"$f":"'Form 1SFS LT'!K183","v":0}]
["Form 1SFS/1EBS","Balance Sheet GEN/CON/EBS","1SFS37a","Letters of Credit",{"$f":"'Form 1SFS GB'!E187","v":0},null,{"$f":"'Form 1SFS GB'!G187","v":0},null,{"$f":"'Form 1SFS GB'!I187","v":0},null,{"$f":"'Form 1SFS GB'!K187","v":0},null,null,null,"1SFS37a",{"$f":"'Form 1SFS LT'!E187","v":0},null,{"$f":"'Form 1SFS LT'!G187","v":0},null,{"$f":"'Form 1SFS LT'!I187","v":0},null,{"$f":"'Form 1SFS LT'!K187","v":0},null,null,null,null,null,{"$f":"#REF!","v":{"$error":"#REF!"}},null,{"$f":"#REF!","v":{"$error":"#REF!"}}]
["Form 1SFS/1EBS","Balance Sheet GEN/CON/EBS","1SFS37b","Guarantees",{"$f":"'Form 1SFS GB'!E188","v":0},null,{"$f":"'Form 1SFS GB'!G188","v":0},null,{"$f":"'Form 1SFS GB'!I188","v":0},null,{"$f":"'Form 1SFS GB'!K188","v":0},null,null,null,"1SFS37b",{"$f":"'Form 1SFS LT'!E188","v":0},null,{"$f":"'Form 1SFS LT'!G188","v":0},null,{"$f":"'Form 1SFS LT'!I188","v":0},null,{"$f":"'Form 1SFS LT'!K188","v":0},null,null,null,null,null,{"$f":"#REF!","v":{"$error":"#REF!"}},null,{"$f":"#REF!","v":{"$error":"#REF!"}}]
["Form 1SFS/1EBS","Balance Sheet GEN/CON/EBS","1SFS37c","Other Instruments",{"$f":"'Form 1SFS GB'!E189","v":0},null,{"$f":"'Form 1SFS GB'!G189","v":0},null,{"$f":"'Form 1SFS GB'!I189","v":0},null,{"$f":"'Form 1SFS GB'!K189","v":0},null,null,null,"1SFS37c",{"$f":"'Form 1SFS LT'!E189","v":0},null,{"$f":"'Form 1SFS LT'!G189","v":0},null,{"$f":"'Form 1SFS LT'!I189","v":0},null,{"$f":"'Form 1SFS LT'!K189","v":0},null,null,null,null,null,{"$f":"#REF!","v":{"$error":"#REF!"}},null,{"$f":"#REF!","v":{"$error":"#REF!"}}]
["Form 1SFS/1EBS","Balance Sheet GEN/CON/EBS","1EBS40","Economic Capital & Surplus",null,null,null,null,null,null,null,null,null,null,null,null,null,null,null,null,null,null,null,null,null,null,null,{"$f":"#REF!","v":{"$error":"#REF!"}},null,{"$f":"#REF!","v":{"$error":"#REF!"}}]
[]
["Form 1SFS","Notes","Form 1SFS","Other Types Notes Details",{"$f":"'Form 1SFS GB'!E216","v":"Input Text"},null,null,null,null,null,null,null,null,null,null,{"$f":"'Form 1SFS LT'!E216","v":"Input Text"}]
["Form 1SFS","Notes","Form 1SFS","Other Contingent Sources Details",{"$f":"'Form 1SFS GB'!E221","v":"Input Text"},null,null,null,null,null,null,null,null,null,null,{"$f":"'Form 1SFS LT'!E221","v":"Input Text"}]
["Form 1SFS","Notes","Form 1SFS","Collateral - Cash and cash equivalents",{"$f":"'Form 1SFS GB'!I212","v":0},null,{"$f":"'Form 1SFS GB'!K212","v":0},null,null,null,null,null,null,null,null,{"$f":"'Form 1SFS LT'!I212","v":0},null,{"$f":"'Form 1SFS LT'!K212","v":0}]
["Form 1SFS","Notes","Form 1SFS","Collateral - Total quoted Investments",{"$f":"'Form 1SFS GB'!I213","v":0},null,{"$f":"'Form 1SFS GB'!K213","v":0},null,null,null,null,null,null,null,null,{"$f":"'Form 1SFS LT'!I213","v":0},null,{"$f":"'Form 1SFS LT'!K213","v":0}]
["Form 1SFS","Notes","Form 1SFS","Collateral - Total unquoted investments",{"$f":"'Form 1SFS GB'!I214","v":0},null,{"$f":"'Form 1SFS GB'!K214","v":0},null,null,null,null,null,null,null,null,{"$f":"'Form 1SFS LT'!I214","v":0},null,{"$f":"'Form 1SFS LT'!K214","v":0}]
["Form 1SFS","Notes","Form 1SFS","Collateral - Funds held by ceding (re)insurers",{"$f":"'Form 1SFS GB'!I215","v":0},null,{"$f":"'Form 1SFS GB'!K215","v":0},null,null,null,null,null,null,null,null,{"$f":"'Form 1SFS LT'!I215","v":0},null,{"$f":"'Form 1SFS LT'!K215","v":0}]
["Form 1SFS","Notes","Form 1SFS","Collateral - Other asset types (specify)",{"$f":"'Form 1SFS GB'!I216","v":0},null,{"$f":"'Form 1SFS GB'!K216","v":0},null,null,null,null,null,null,null,null,{"$f":"'Form 1SFS LT'!I216","v":0},null,{"$f":"'Form 1SFS LT'!K216","v":0}]
["Form 1SFS","Notes","Form 1SFS","Collateral - Total collateral held on balance sheet",{"$f":"'Form 1SFS GB'!I217","v":0},null,{"$f":"'Form 1SFS GB'!K217","v":0},null,null,null,null,null,null,null,null,{"$f":"'Form 1SFS LT'!I217","v":0},null,{"$f":"'Form 1SFS LT'!K217","v":0}]
["Form 1SFS","Notes","Form 1SFS","Collateral - Outwards reinsurance exposure",{"$f":"'Form 1SFS GB'!I219","v":0},null,{"$f":"'Form 1SFS GB'!K219","v":0},null,null,null,null,null,null,null,null,{"$f":"'Form 1SFS LT'!I219","v":0},null,{"$f":"'Form 1SFS LT'!K219","v":0}]
["Form 1SFS","Notes","Form 1SFS","Collateral - Letters of credit",{"$f":"'Form 1SFS GB'!I220","v":0},null,{"$f":"'Form 1SFS GB'!K220","v":0},null,null,null,null,null,null,null,null,{"$f":"'Form 1SFS LT'!I220","v":0},null,{"$f":"'Form 1SFS LT'!K220","v":0}]
["Form 1SFS","Notes","Form 1SFS","Collateral - Other contingent sources of collateral",{"$f":"'Form 1SFS GB'!I221","v":0},null,{"$f":"'Form 1SFS GB'!K221","v":0},null,null,null,null,null,null,null,null,{"$f":"'Form 1SFS LT'!I221","v":0},null,{"$f":"'Form 1SFS LT'!K221","v":0}]
["Form 1SFS","Notes","Form 1SFS","Collateral - Total contingent collateral",{"$f":"'Form 1SFS GB'!I222","v":0},null,{"$f":"'Form 1SFS GB'!K222","v":0},null,null,null,null,null,null,null,null,{"$f":"'Form 1SFS LT'!I222","v":0},null,{"$f":"'Form 1SFS LT'!K222","v":0}]
["Form 1SFS","Notes","Form 1SFS","Collateral - Total Collateral Held for the Benefit of Ceding (Re)Insurers",{"$f":"'Form 1SFS GB'!I224","v":0},null,{"$f":"'Form 1SFS GB'!K224","v":0},null,null,null,null,null,null,null,null,{"$f":"'Form 1SFS LT'!I224","v":0},null,{"$f":"'Form 1SFS LT'!K224","v":0}]
["Form 1SFS","Notes","Form 1SFS","Line 10 - Collaterized Balances",{"$f":"'Form 1SFS GB'!I226","v":0},null,{"$f":"'Form 1SFS GB'!K226","v":0},null,null,null,null,null,null,null,null,null,null,null,null,null,null,null,null,null,null,null,null,{"$f":"#REF!","v":{"$error":"#REF!"}},null,{"$f":"#REF!","v":{"$error":"#REF!"}}]
["Form 1SFS","Notes","Form 1SFS","Line 11(e) - Collaterized Balances",{"$f":"'Form 1SFS GB'!I228","v":0},null,null,null,null,null,null,null,null,null,null,null,null,null,null,null,null,null,null,null,null,null,null,{"$f":"#REF!","v":{"$error":"#REF!"}},null,{"$f":"#REF!","v":{"$error":"#REF!"}}]
["Form 1SFS","Notes","Form 1SFS","Line 17cii - Collat. in Favor of Insurer",{"$f":"'Form 1SFS GB'!I230","v":0},null,null,null,null,null,null,null,null,null,null,null,null,null,null,null,null,null,null,null,null,null,null,{"$f":"#REF!","v":{"$error":"#REF!"}},null,{"$f":"#REF!","v":{"$error":"#REF!"}}]
["Form 1SFS","Notes","Form 1SFS","Line 13 - Sundry Assets",{"$f":"'Form 1SFS GB'!I232","v":0},null,{"$f":"'Form 1SFS GB'!K232","v":0},null,null,null,null,null,null,null,null,null,null,null,null,null,null,null,null,null,null,null,null,{"$f":"#REF!","v":{"$error":"#REF!"}},null,{"$f":"#REF!","v":{"$error":"#REF!"}}]
["Form 1SFS","Notes","Form 1SFS","Line 15 - Policy. Oblig. - Cash",{"$f":"'Form 1SFS GB'!I237","v":0},null,{"$f":"'Form 1SFS GB'!K237","v":0},null,null,null,null,null,null,null,null,null,null,null,null,null,null,null,null,null,null,null,null,{"$f":"#REF!","v":{"$error":"#REF!"}},null,{"$f":"#REF!","v":{"$error":"#REF!"}}]
["Form 1SFS","Notes","Form 1SFS","Line 15 - Policy. Oblig. - Quoted. Inv.",{"$f":"'Form 1SFS GB'!I238","v":0},null,{"$f":"'Form 1SFS GB'!K238","v":0},null,null,null,null,null,null,null,null,null,null,null,null,null,null,null,null,null,null,null,null,{"$f":"#REF!","v":{"$error":"#REF!"}},null,{"$f":"#REF!","v":{"$error":"#REF!"}}]
["Form 1SFS","Notes","Form 1SFS","Line 15 - Policy. Oblig. - Unquoted. Inv.",{"$f":"'Form 1SFS GB'!I239","v":0},null,{"$f":"'Form 1SFS GB'!K239","v":0},null,null,null,null,null,null,null,null,null,null,null,null,null,null,null,null,null,null,null,null,{"$f":"#REF!","v":{"$error":"#REF!"}},null,{"$f":"#REF!","v":{"$error":"#REF!"}}]
["Form 1SFS","Notes","Form 1SFS","Line 15 - Policy. Oblig. - Funds Held",{"$f":"'Form 1SFS GB'!I240","v":0},null,{"$f":"'Form 1SFS GB'!K240","v":0},null,null,null,null,null,null,null,null,null,null,null,null,null,null,null,null,null,null,null,null,{"$f":"#REF!","v":{"$error":"#REF!"}},null,{"$f":"#REF!","v":{"$error":"#REF!"}}]
["Form 1SFS","Notes","Form 1SFS","Line 15 - Policy. Oblig. - Other Assets",{"$f":"'Form 1SFS GB'!I241","v":0},null,{"$f":"'Form 1SFS GB'!K241","v":0},null,null,null,null,null,null,null,null,null,null,null,null,null,null,null,null,null,null,null,null,{"$f":"#REF!","v":{"$error":"#REF!"}},null,{"$f":"#REF!","v":{"$error":"#REF!"}}]
["Form 1SFS","Notes","Form 1SFS","Line 15 - Policy. Oblig. - Total",{"$f":"'Form 1SFS GB'!I242","v":0},null,{"$f":"'Form 1SFS GB'!K242","v":0},null,null,null,null,null,null,null,null,null,null,null,null,null,null,null,null,null,null,null,null,{"$f":"#REF!","v":{"$error":"#REF!"}},null,{"$f":"#REF!","v":{"$error":"#REF!"}}]
["Form 1SFS","Notes","Form 1SFS","Line 15 - Other - Cash",{"$f":"'Form 1SFS GB'!I247","v":0},null,{"$f":"'Form 1SFS GB'!K247","v":0},null,null,null,null,null,null,null,null,null,null,null,null,null,null,null,null,null,null,null,null,{"$f":"#REF!","v":{"$error":"#REF!"}},null,{"$f":"#REF!","v":{"$error":"#REF!"}}]
["Form 1SFS","Notes","Form 1SFS","Line 15 - Other - Quoted. Inv.",{"$f":"'Form 1SFS GB'!I248","v":0},null,{"$f":"'Form 1SFS GB'!K248","v":0},null,null,null,null,null,null,null,null,null,null,null,null,null,null,null,null,null,null,null,null,{"$f":"#REF!","v":{"$error":"#REF!"}},null,{"$f":"#REF!","v":{"$error":"#REF!"}}]
["Form 1SFS","Notes","Form 1SFS","Line 15 - Other - Unquoted. Inv.",{"$f":"'Form 1SFS GB'!I249","v":0},null,{"$f":"'Form 1SFS GB'!K249","v":0},null,null,null,null,null,null,null,null,null,null,null,null,null,null,null,null,null,null,null,null,{"$f":"#REF!","v":{"$error":"#REF!"}},null,{"$f":"#REF!","v":{"$error":"#REF!"}}]
["Form 1SFS","Notes","Form 1SFS","Line 15 - Other - Other Assets",{"$f":"'Form 1SFS GB'!I250","v":0},null,{"$f":"'Form 1SFS GB'!K250","v":0},null,null,null,null,null,null,null,null,null,null,null,null,null,null,null,null,null,null,null,null,{"$f":"#REF!","v":{"$error":"#REF!"}},null,{"$f":"#REF!","v":{"$error":"#REF!"}}]
["Form 1SFS","Notes","Form 1SFS","Line 15 - Other - Total",{"$f":"'Form 1SFS GB'!I251","v":0},null,{"$f":"'Form 1SFS GB'!K251","v":0},null,null,null,null,null,null,null,null,null,null,null,null,null,null,null,null,null,null,null,null,{"$f":"#REF!","v":{"$error":"#REF!"}},null,{"$f":"#REF!","v":{"$error":"#REF!"}}]
["Form 1SFS","Notes","Form 1SFS","Line 36 - Sundry Liabilities",{"$f":"'Form 1SFS GB'!I253","v":0},null,{"$f":"'Form 1SFS GB'!K253","v":0},null,null,null,null,null,null,null,null,null,null,null,null,null,null,null,null,null,null,null,null,{"$f":"#REF!","v":{"$error":"#REF!"}},null,{"$f":"#REF!","v":{"$error":"#REF!"}}]
["Form 1SFS","Notes","Form 1SFS","Line 37 - LOC's & Guarantees",{"$f":"'Form 1SFS GB'!I255","v":0},null,{"$f":"'Form 1SFS GB'!K255","v":0},null,null,null,null,null,null,null,null,null,null,null,null,null,null,null,null,null,null,null,null,{"$f":"#REF!","v":{"$error":"#REF!"}},null,{"$f":"#REF!","v":{"$error":"#REF!"}}]
["Form 1SFS","Notes","Form 1SFS","Line 17 - Prior year note disclosure"]
["Form 1SFS","Notes","Form 1SFS","Gross Provision - Beg. Of Year",{"$f":"'Form 1SFS GB'!I267","v":0},null,{"$f":"'Form 1SFS GB'!K267","v":0}]
["Form 1SFS","Notes","Form 1SFS","R/I Recoverable - Beg. Of Year",{"$f":"'Form 1SFS GB'!I269","v":0},null,{"$f":"'Form 1SFS GB'!K269","v":0}]
["Form 1SFS","Notes","Form 1SFS","Net Provision - Beg. Of Year",{"$f":"'Form 1SFS GB'!I271","v":0},null,{"$f":"'Form 1SFS GB'!K271","v":0}]
["Form 1SFS","Notes","Form 1SFS","Acquisition / Sale of loss reserves (net):",{"$f":"'Form 1SFS GB'!I273","v":0},null,{"$f":"'Form 1SFS GB'!K273","v":0}]
["Form 1SFS","Notes","Form 1SFS","Net Losses Incurred - Current Year",{"$f":"'Form 1SFS GB'!I277","v":0},null,{"$f":"'Form 1SFS GB'!K277","v":0}]
["Form 1SFS","Notes","Form 1SFS","Net Losses Incurred - Prior Years",{"$f":"'Form 1SFS GB'!I278","v":0},null,{"$f":"'Form 1SFS GB'!K278","v":0}]
["Form 1SFS","Notes","Form 1SFS","Net Losses Incurred - Total",{"$f":"'Form 1SFS GB'!I280","v":0},null,{"$f":"'Form 1SFS GB'!K280","v":0}]
["Form 1SFS","Notes","Form 1SFS","Losses Paid - Current Year",{"$f":"'Form 1SFS GB'!I284","v":0},null,{"$f":"'Form 1SFS GB'!K284","v":0}]
["Form 1SFS","Notes","Form 1SFS","Losses Paid - Prior Years",{"$f":"'Form 1SFS GB'!I285","v":0},null,{"$f":"'Form 1SFS GB'!K285","v":0}]
["Form 1SFS","Notes","Form 1SFS","Losses Paid - Total",{"$f":"'Form 1SFS GB'!I287","v":0},null,{"$f":"'Form 1SFS GB'!K287","v":0}]
["Form 1SFS","Notes","Form 1SFS","Foreign Exchange and Other",{"$f":"'Form 1SFS GB'!I289","v":0},null,{"$f":"'Form 1SFS GB'!K289","v":0}]
["Form 1SFS","Notes","Form 1SFS","Net Provision - End Of Year",{"$f":"'Form 1SFS GB'!I291","v":0},null,{"$f":"'Form 1SFS GB'!K291","v":0}]
["Form 1SFS","Notes","Form 1SFS","R/I Recoverable - End Of Year",{"$f":"'Form 1SFS GB'!I293","v":0},null,{"$f":"'Form 1SFS GB'!K293","v":0}]
["Form 1SFS","Notes","Form 1SFS","Gross Provision - End Of Year",{"$f":"'Form 1SFS GB'!I295","v":0},null,{"$f":"'Form 1SFS GB'!K295","v":0}]
["Form 1SFS","Notes","Form 1SFS","Insurance - Gross - Open Balance",{"$f":"'Form 1SFS GB'!E337","v":0},null,{"$f":"'Form 1SFS GB'!E346","v":0}]
["Form 1SFS","Notes","Form 1SFS","Insurance - Gross - Terminations",{"$f":"'Form 1SFS GB'!E338","v":0},null,{"$f":"'Form 1SFS GB'!E347","v":0}]
["Form 1SFS","Notes","Form 1SFS","Insurance - Gross - New Business",{"$f":"'Form 1SFS GB'!E339","v":0},null,{"$f":"'Form 1SFS GB'!E348","v":0}]
["Form 1SFS","Notes","Form 1SFS","Insurance - Gross - Chg.In Force",{"$f":"'Form 1SFS GB'!E340","v":0},null,{"$f":"'Form 1SFS GB'!E349","v":0}]
["Form 1SFS","Notes","Form 1SFS","Insurance - Gross - Mgmt Actions",{"$f":"'Form 1SFS GB'!E341","v":0},null,{"$f":"'Form 1SFS GB'!E350","v":0}]
["Form 1SFS","Notes","Form 1SFS","Insurance - Gross - FX",{"$f":"'Form 1SFS GB'!E342","v":0},null,{"$f":"'Form 1SFS GB'!E351","v":0}]
["Form 1SFS","Notes","Form 1SFS","Insurance - Gross - Closing Balance",{"$f":"'Form 1SFS GB'!E343","v":0},null,{"$f":"'Form 1SFS GB'!E352","v":0}]
["Form 1SFS","Notes","Form 1SFS","Insurance - R/I - Open Balance",{"$f":"'Form 1SFS GB'!G337","v":0},null,{"$f":"'Form 1SFS GB'!G346","v":0}]
["Form 1SFS","Notes","Form 1SFS","Insurance - R/I - Terminations",{"$f":"'Form 1SFS GB'!G338","v":0},null,{"$f":"'Form 1SFS GB'!G347","v":0}]
["Form 1SFS","Notes","Form 1SFS","Insurance - R/I - New Business",{"$f":"'Form 1SFS GB'!G339","v":0},null,{"$f":"'Form 1SFS GB'!G348","v":0}]
["Form 1SFS","Notes","Form 1SFS","Insurance - R/I - Chg.In Force",{"$f":"'Form 1SFS GB'!G340","v":0},null,{"$f":"'Form 1SFS GB'!G349","v":0}]
["Form 1SFS","Notes","Form 1SFS","Insurance - R/I - Mgmt Actions",{"$f":"'Form 1SFS GB'!G341","v":0},null,{"$f":"'Form 1SFS GB'!G350","v":0}]
["Form 1SFS","Notes","Form 1SFS","Insurance - R/I - FX",{"$f":"'Form 1SFS GB'!G342","v":0},null,{"$f":"'Form 1SFS GB'!G351","v":0}]
["Form 1SFS","Notes","Form 1SFS","Insurance - R/I - Closing Balance",{"$f":"'Form 1SFS GB'!G343","v":0},null,{"$f":"'Form 1SFS GB'!G352","v":0}]
["Form 1SFS","Notes","Form 1SFS","Insurance - Net - Open Balance"]
["Form 1SFS","Notes","Form 1SFS","Insurance - Net - Terminations"]
["Form 1SFS","Notes","Form 1SFS","Insurance - Net - New Business"]
["Form 1SFS","Notes","Form 1SFS","Insurance - Net - Chg.In Force"]
["Form 1SFS","Notes","Form 1SFS","Insurance - Net - Mgmt Actions"]
["Form 1SFS","Notes","Form 1SFS","Insurance - Net - FX"]
["Form 1SFS","Notes","Form 1SFS","Insurance - Net - Closing Balance"]
["Form 1SFS","Notes","Form 1SFS","Invmnt - Gross - Open Balance"]
["Form 1SFS","Notes","Form 1SFS","Invmnt - Gross - Terminations"]
["Form 1SFS","Notes","Form 1SFS","Invmnt - Gross - New Business"]
["Form 1SFS","Notes","Form 1SFS","Invmnt - Gross - Chg.In Force"]
["Form 1SFS","Notes","Form 1SFS","Invmnt - Gross - Mgmt Actions"]
["Form 1SFS","Notes","Form 1SFS","Invmnt - Gross - FX"]
["Form 1SFS","Notes","Form 1SFS","Invmnt - Gross - Closing Balance"]
["Form 1SFS","Notes","Form 1SFS","Invmnt - R/I - Open Balance",{"$f":"'Form 1SFS GB'!I337","v":0},null,{"$f":"'Form 1SFS GB'!I346","v":0}]
["Form 1SFS","Notes","Form 1SFS","Invmnt - R/I - Terminations",{"$f":"'Form 1SFS GB'!I338","v":0},null,{"$f":"'Form 1SFS GB'!I347","v":0}]
["Form 1SFS","Notes","Form 1SFS","Invmnt - R/I - New Business",{"$f":"'Form 1SFS GB'!I339","v":0},null,{"$f":"'Form 1SFS GB'!I348","v":0}]
["Form 1SFS","Notes","Form 1SFS","Invmnt - R/I - Chg.In Force",{"$f":"'Form 1SFS GB'!I340","v":0},null,{"$f":"'Form 1SFS GB'!I349","v":0}]
["Form 1SFS","Notes","Form 1SFS","Invmnt - R/I - Mgmt Actions",{"$f":"'Form 1SFS GB'!I341","v":0},null,{"$f":"'Form 1SFS GB'!I350","v":0}]
["Form 1SFS","Notes","Form 1SFS","Invmnt - R/I - FX",{"$f":"'Form 1SFS GB'!I342","v":0},null,{"$f":"'Form 1SFS GB'!I351","v":0}]
["Form 1SFS","Notes","Form 1SFS","Invmnt - R/I - Closing Balance",{"$f":"'Form 1SFS GB'!I343","v":0},null,{"$f":"'Form 1SFS GB'!I352","v":0}]
["Form 1SFS","Notes","Form 1SFS","Invmnt - Net - Open Balance",{"$f":"'Form 1SFS GB'!K337","v":0},null,{"$f":"'Form 1SFS GB'!K346","v":0}]
["Form 1SFS","Notes","Form 1SFS","Invmnt - Net - Terminations",{"$f":"'Form 1SFS GB'!K338","v":0},null,{"$f":"'Form 1SFS GB'!K347","v":0}]
["Form 1SFS","Notes","Form 1SFS","Invmnt - Net - New Business",{"$f":"'Form 1SFS GB'!K339","v":0},null,{"$f":"'Form 1SFS GB'!K348","v":0}]
["Form 1SFS","Notes","Form 1SFS","Invmnt - Net - Chg.In Force",{"$f":"'Form 1SFS GB'!K340","v":0},null,{"$f":"'Form 1SFS GB'!K349","v":0}]
["Form 1SFS","Notes","Form 1SFS","Invmnt - Net - Mgmt Actions",{"$f":"'Form 1SFS GB'!K341","v":0},null,{"$f":"'Form 1SFS GB'!K350","v":0}]
["Form 1SFS","Notes","Form 1SFS","Invmnt - Net - FX",{"$f":"'Form 1SFS GB'!K342","v":0},null,{"$f":"'Form 1SFS GB'!K351","v":0}]
["Form 1SFS","Notes","Form 1SFS","Invmnt - Net - Closing Balance",{"$f":"'Form 1SFS GB'!K343","v":0},null,{"$f":"'Form 1SFS GB'!K352","v":0}]
[]
["1EBS","Notes","1EBS","Line 36(i) - Any Other Liabilities",null,null,null,null,null,null,null,null,null,null,null,null,null,null,null,null,null,null,null,null,null,null,null,{"$f":"#REF!","v":{"$error":"#REF!"}},null,{"$f":"#REF!","v":{"$error":"#REF!"}}]
["1EBS","Notes","1EBS","Line 36(f) - Details of Deposit Liab.",null,null,null,null,null,null,null,null,null,null,null,null,null,null,null,null,null,null,null,null,null,null,null,{"$f":"#REF!","v":{"$error":"#REF!"}},null,{"$f":"#REF!","v":{"$error":"#REF!"}}]
["1EBS","Notes","1EBS","Line 40 - Recon. 1SFS 40 to EBS 40",null,null,null,null,null,null,null,null,null,null,null,null,null,null,null,null,null,null,null,null,null,null,null,{"$f":"#REF!","v":{"$error":"#REF!"}},null,{"$f":"#REF!","v":{"$error":"#REF!"}}]
["1EBS","Notes","1EBS","Line 16c - Adj. Counterparty Default",null,null,null,null,null,null,null,null,null,null,null,null,null,null,null,null,null,null,null,null,null,null,null,{"$f":"#REF!","v":{"$error":"#REF!"}},null,{"$f":"#REF!","v":{"$error":"#REF!"}}]
["1EBS","Notes","1EBS","Line 17ci - Adj. Counterparty Default",null,null,null,null,null,null,null,null,null,null,null,null,null,null,null,null,null,null,null,null,null,null,null,{"$f":"#REF!","v":{"$error":"#REF!"}},null,{"$f":"#REF!","v":{"$error":"#REF!"}}]
["1EBS","Notes","1EBS","Line 16di - BBNI Premium",null,null,null,null,null,null,null,null,null,null,null,null,null,null,null,null,null,null,null,null,null,null,null,{"$f":"#REF!","v":{"$error":"#REF!"}},null,{"$f":"#REF!","v":{"$error":"#REF!"}}]
["1EBS","Notes","1EBS","Line 16dii - BBNI Best Est. Prem",null,null,null,null,null,null,null,null,null,null,null,null,null,null,null,null,null,null,null,null,null,null,null,{"$f":"#REF!","v":{"$error":"#REF!"}},null,{"$f":"#REF!","v":{"$error":"#REF!"}}]
["1EBS","Notes","1EBS","Line 17di - Loss Provision Discount",null,null,null,null,null,null,null,null,null,null,null,null,null,null,null,null,null,null,null,null,null,null,null,{"$f":"#REF!","v":{"$error":"#REF!"}},null,{"$f":"#REF!","v":{"$error":"#REF!"}}]
["1EBS","Notes","1EBS","Line 17dii - Scenario Based Approach",null,null,null,null,null,null,null,null,null,null,null,null,null,null,null,null,null,null,null,null,null,null,null,{"$f":"#REF!","v":{"$error":"#REF!"}},null,{"$f":"#REF!","v":{"$error":"#REF!"}}]
["1EBS","Notes","1EBS","Best Estimate Provision - Beg. Of Year",null,null,null,null,null,null,null,null,null,null,null,null,null,null,null,null,null,null,null,null,null,null,null,{"$f":"#REF!","v":{"$error":"#REF!"}},null,{"$f":"#REF!","v":{"$error":"#REF!"}}]
["1EBS","Notes","1EBS","Unwind of Discount",null,null,null,null,null,null,null,null,null,null,null,null,null,null,null,null,null,null,null,null,null,null,null,{"$f":"#REF!","v":{"$error":"#REF!"}},null,{"$f":"#REF!","v":{"$error":"#REF!"}}]
["1EBS","Notes","1EBS","Net Loss Paid - Prior Years",null,null,null,null,null,null,null,null,null,null,null,null,null,null,null,null,null,null,null,null,null,null,null,{"$f":"#REF!","v":{"$error":"#REF!"}},null,{"$f":"#REF!","v":{"$error":"#REF!"}}]
["1EBS","Notes","1EBS","Net Losses Incurred - Prior Years",null,null,null,null,null,null,null,null,null,null,null,null,null,null,null,null,null,null,null,null,null,null,null,{"$f":"#REF!","v":{"$error":"#REF!"}},null,{"$f":"#REF!","v":{"$error":"#REF!"}}]
["1EBS","Notes","1EBS","Best Estimate Provision - From PY",null,null,null,null,null,null,null,null,null,null,null,null,null,null,null,null,null,null,null,null,null,null,null,{"$f":"#REF!","v":{"$error":"#REF!"}},null,{"$f":"#REF!","v":{"$error":"#REF!"}}]
["1EBS","Notes","1EBS","Net Losses Incurred - Current Year",null,null,null,null,null,null,null,null,null,null,null,null,null,null,null,null,null,null,null,null,null,null,null,{"$f":"#REF!","v":{"$error":"#REF!"}},null,{"$f":"#REF!","v":{"$error":"#REF!"}}]
["1EBS","Notes","1EBS","Net Loss Paid - Current Year",null,null,null,null,null,null,null,null,null,null,null,null,null,null,null,null,null,null,null,null,null,null,null,{"$f":"#REF!","v":{"$error":"#REF!"}},null,{"$f":"#REF!","v":{"$error":"#REF!"}}]
["1EBS","Notes","1EBS","Foreign Exchange and Other",null,null,null,null,null,null,null,null,null,null,null,null,null,null,null,null,null,null,null,null,null,null,null,{"$f":"#REF!","v":{"$error":"#REF!"}},null,{"$f":"#REF!","v":{"$error":"#REF!"}}]
["1EBS","Notes","1EBS","Best Estimate Provision - From CY",null,null,null,null,null,null,null,null,null,null,null,null,null,null,null,null,null,null,null,null,null,null,null,{"$f":"#REF!","v":{"$error":"#REF!"}},null,{"$f":"#REF!","v":{"$error":"#REF!"}}]
["1EBS","Notes","1EBS","Impact of Change in Discount Curve",null,null,null,null,null,null,null,null,null,null,null,null,null,null,null,null,null,null,null,null,null,null,null,{"$f":"#REF!","v":{"$error":"#REF!"}},null,{"$f":"#REF!","v":{"$error":"#REF!"}}]
["1EBS","Notes","1EBS","Best Estimate Provision - End Of Year",null,null,null,null,null,null,null,null,null,null,null,null,null,null,null,null,null,null,null,null,null,null,null,{"$f":"#REF!","v":{"$error":"#REF!"}},null,{"$f":"#REF!","v":{"$error":"#REF!"}}]
[]
[null,null,null,"Income Statement"]
["Form 2SFS","Income Stmt Uncon GEN / CON","2SFS1a","Gross Premium Written - Direct",{"$f":"'Form 2SFS GB'!E13","v":0},null,{"$f":"'Form 2SFS GB'!G13","v":0},null,{"$f":"'Form 2SFS GB'!I13","v":0},null,{"$f":"'Form 2SFS GB'!K13","v":0},null,null,null,null,null,null,null,null,{"$f":"'Form 2SFS LT'!I13","v":0},null,{"$f":"'Form 2SFS LT'!K13","v":0}]
["Form 2SFS","Income Stmt Uncon GEN / CON","2SFS1b","Gross Premium Written - Assumed",{"$f":"'Form 2SFS GB'!E14","v":0},null,{"$f":"'Form 2SFS GB'!G14","v":0},null,{"$f":"'Form 2SFS GB'!I14","v":0},null,{"$f":"'Form 2SFS GB'!K14","v":0},null,null,null,null,null,null,null,null,{"$f":"'Form 2SFS LT'!I14","v":0},null,{"$f":"'Form 2SFS LT'!K14","v":0}]
["Form 2SFS","Income Stmt Uncon GEN / CON","2SFS2","R/I Premiums Ceded",{"$f":"'Form 2SFS GB'!E17","v":0},null,{"$f":"'Form 2SFS GB'!G17","v":0},null,{"$f":"'Form 2SFS GB'!I17","v":0},null,{"$f":"'Form 2SFS GB'!K17","v":0},null,null,null,null,null,null,null,null,{"$f":"'Form 2SFS LT'!I17","v":0},null,{"$f":"'Form 2SFS LT'!K17","v":0}]
["Form 2SFS","Income Stmt Uncon GEN / CON","2SFS4","Change in Unearned Premiums",{"$f":"'Form 2SFS GB'!E21","v":0},null,{"$f":"'Form 2SFS GB'!G21","v":0},null,{"$f":"'Form 2SFS GB'!I21","v":0},null,{"$f":"'Form 2SFS GB'!K21","v":0},null,null,null,null,null,null,null,null,{"$f":"'Form 2SFS LT'!I21","v":0},null,{"$f":"'Form 2SFS LT'!K21","v":0}]
["Form 2SFS","Income Stmt Uncon GEN / CON","2SFS6","Other Insurance Income",{"$f":"'Form 2SFS GB'!E25","v":0},null,{"$f":"'Form 2SFS GB'!G25","v":0},null,{"$f":"'Form 2SFS GB'!I25","v":0},null,{"$f":"'Form 2SFS GB'!K25","v":0},null,null,null,null,null,null,null,null,{"$f":"'Form 2SFS LT'!I25","v":0},null,{"$f":"'Form 2SFS LT'!K25","v":0}]
["Form 2SFS","Income Stmt Uncon GEN / CON","2SFS8","Net Losses Incurred",{"$f":"'Form 2SFS GB'!E31","v":0},null,{"$f":"'Form 2SFS GB'!G31","v":0},null,{"$f":"'Form 2SFS GB'!I31","v":0},null,{"$f":"'Form 2SFS GB'!K31","v":0},null,null,null,null,null,null,null,null,{"$f":"'Form 2SFS LT'!I31","v":0},null,{"$f":"'Form 2SFS LT'!K31","v":0}]
["Form 2SFS","Income Stmt Uncon GEN / CON","2SFS9","Commissions & Brokerage",{"$f":"'Form 2SFS GB'!E33","v":0},null,{"$f":"'Form 2SFS GB'!G33","v":0},null,{"$f":"'Form 2SFS GB'!I33","v":0},null,{"$f":"'Form 2SFS GB'!K33","v":0},null,null,null,null,null,null,null,null,{"$f":"'Form 2SFS LT'!I33","v":0},null,{"$f":"'Form 2SFS LT'!K33","v":0}]
["Form 2SFS","Income Stmt Uncon GEN / CON","2SFS12a","Gross Premium Written - Direct",null,null,null,null,{"$f":"'Form 2SFS GB'!I42","v":0},null,{"$f":"'Form 2SFS GB'!K42","v":0},null,null,null,null,{"$f":"'Form 2SFS LT'!E42","v":0},null,{"$f":"'Form 2SFS LT'!G42","v":0},null,{"$f":"'Form 2SFS LT'!I42","v":0},null,{"$f":"'Form 2SFS LT'!K42","v":0}]
["Form 2SFS","Income Stmt Uncon GEN / CON","2SFS12b","Gross Premium Written - Assumed",null,null,null,null,{"$f":"'Form 2SFS GB'!I43","v":0},null,{"$f":"'Form 2SFS GB'!K43","v":0},null,null,null,null,{"$f":"'Form 2SFS LT'!E43","v":0},null,{"$f":"'Form 2SFS LT'!G43","v":0},null,{"$f":"'Form 2SFS LT'!I43","v":0},null,{"$f":"'Form 2SFS LT'!K43","v":0}]
["Form 2SFS","Income Stmt Uncon GEN / CON","2SFS13","R/I Premiums Ceded",null,null,null,null,{"$f":"'Form 2SFS GB'!I46","v":0},null,{"$f":"'Form 2SFS GB'!K46","v":0},null,null,null,null,{"$f":"'Form 2SFS LT'!E46","v":0},null,{"$f":"'Form 2SFS LT'!G46","v":0},null,{"$f":"'Form 2SFS LT'!I46","v":0},null,{"$f":"'Form 2SFS LT'!K46","v":0}]
["Form 2SFS","Income Stmt Uncon GEN / CON","2SFS14a","NPW - Life",null,null,null,null,{"$f":"'Form 2SFS GB'!I49","v":0},null,{"$f":"'Form 2SFS GB'!K49","v":0},null,null,null,null,{"$f":"'Form 2SFS LT'!E49","v":0},null,{"$f":"'Form 2SFS LT'!G49","v":0},null,{"$f":"'Form 2SFS LT'!I49","v":0},null,{"$f":"'Form 2SFS LT'!K49","v":0}]
["Form 2SFS","Income Stmt Uncon GEN / CON","2SFS14b","NPW - Annuities",null,null,null,null,{"$f":"'Form 2SFS GB'!I50","v":0},null,{"$f":"'Form 2SFS GB'!K50","v":0},null,null,null,null,{"$f":"'Form 2SFS LT'!E50","v":0},null,{"$f":"'Form 2SFS LT'!G50","v":0},null,{"$f":"'Form 2SFS LT'!I50","v":0},null,{"$f":"'Form 2SFS LT'!K50","v":0}]
["Form 2SFS","Income Stmt Uncon GEN / CON","2SFS14c","NPW - Accident & Health",null,null,null,null,{"$f":"'Form 2SFS GB'!I51","v":0},null,{"$f":"'Form 2SFS GB'!K51","v":0},null,null,null,null,{"$f":"'Form 2SFS LT'!E51","v":0},null,{"$f":"'Form 2SFS LT'!G51","v":0},null,{"$f":"'Form 2SFS LT'!I51","v":0},null,{"$f":"'Form 2SFS LT'!K51","v":0}]
["Form 2SFS","Income Stmt Uncon GEN / CON","2SFS15","Other Insurance Income",null,null,null,null,{"$f":"'Form 2SFS GB'!I54","v":0},null,{"$f":"'Form 2SFS GB'!K54","v":0},null,null,null,null,{"$f":"'Form 2SFS LT'!E54","v":0},null,{"$f":"'Form 2SFS LT'!G54","v":0},null,{"$f":"'Form 2SFS LT'!I54","v":0},null,{"$f":"'Form 2SFS LT'!K54","v":0}]
["Form 2SFS","Income Stmt Uncon GEN / CON","2SFS17","Claims - Life",null,null,null,null,{"$f":"'Form 2SFS GB'!I60","v":0},null,{"$f":"'Form 2SFS GB'!K60","v":0},null,null,null,null,{"$f":"'Form 2SFS LT'!E60","v":0},null,{"$f":"'Form 2SFS LT'!G60","v":0},null,{"$f":"'Form 2SFS LT'!I60","v":0},null,{"$f":"'Form 2SFS LT'!K60","v":0}]
["Form 2SFS","Income Stmt Uncon GEN / CON","2SFS18","Policyholders' Dividends",null,null,null,null,{"$f":"'Form 2SFS GB'!I62","v":0},null,{"$f":"'Form 2SFS GB'!K62","v":0},null,null,null,null,{"$f":"'Form 2SFS LT'!E62","v":0},null,{"$f":"'Form 2SFS LT'!G62","v":0},null,{"$f":"'Form 2SFS LT'!I62","v":0},null,{"$f":"'Form 2SFS LT'!K62","v":0}]
["Form 2SFS","Income Stmt Uncon GEN / CON","2SFS19","Surrenders",null,null,null,null,{"$f":"'Form 2SFS GB'!I64","v":0},null,{"$f":"'Form 2SFS GB'!K64","v":0},null,null,null,null,{"$f":"'Form 2SFS LT'!E64","v":0},null,{"$f":"'Form 2SFS LT'!G64","v":0},null,{"$f":"'Form 2SFS LT'!I64","v":0},null,{"$f":"'Form 2SFS LT'!K64","v":0}]
["Form 2SFS","Income Stmt Uncon GEN / CON","2SFS20","Maturities",null,null,null,null,{"$f":"'Form 2SFS GB'!I66","v":0},null,{"$f":"'Form 2SFS GB'!K66","v":0},null,null,null,null,{"$f":"'Form 2SFS LT'!E66","v":0},null,{"$f":"'Form 2SFS LT'!G66","v":0},null,{"$f":"'Form 2SFS LT'!I66","v":0},null,{"$f":"'Form 2SFS LT'!K66","v":0}]
["Form 2SFS","Income Stmt Uncon GEN / CON","2SFS21","Annuities",null,null,null,null,{"$f":"'Form 2SFS GB'!I68","v":0},null,{"$f":"'Form 2SFS GB'!K68","v":0},null,null,null,null,{"$f":"'Form 2SFS LT'!E68","v":0},null,{"$f":"'Form 2SFS LT'!G68","v":0},null,{"$f":"'Form 2SFS LT'!I68","v":0},null,{"$f":"'Form 2SFS LT'!K68","v":0}]
["Form 2SFS","Income Stmt Uncon GEN / CON","2SFS22","Accident & Health Benefits",null,null,null,null,{"$f":"'Form 2SFS GB'!I70","v":0},null,{"$f":"'Form 2SFS GB'!K70","v":0},null,null,null,null,{"$f":"'Form 2SFS LT'!E70","v":0},null,{"$f":"'Form 2SFS LT'!G70","v":0},null,{"$f":"'Form 2SFS LT'!I70","v":0},null,{"$f":"'Form 2SFS LT'!K70","v":0}]
["Form 2SFS","Income Stmt Uncon GEN / CON","2SFS23","Commissions",null,null,null,null,{"$f":"'Form 2SFS GB'!I72","v":0},null,{"$f":"'Form 2SFS GB'!K72","v":0},null,null,null,null,{"$f":"'Form 2SFS LT'!E72","v":0},null,{"$f":"'Form 2SFS LT'!G72","v":0},null,{"$f":"'Form 2SFS LT'!I72","v":0},null,{"$f":"'Form 2SFS LT'!K72","v":0}]
["Form 2SFS","Income Stmt Uncon GEN / CON","2SFS24","Other",null,null,null,null,{"$f":"'Form 2SFS GB'!I74","v":0},null,{"$f":"'Form 2SFS GB'!K74","v":0},null,null,null,null,{"$f":"'Form 2SFS LT'!E74","v":0},null,{"$f":"'Form 2SFS LT'!G74","v":0},null,{"$f":"'Form 2SFS LT'!I74","v":0},null,{"$f":"'Form 2SFS LT'!K74","v":0}]
["Form 2SFS","Income Stmt Uncon GEN / CON","2SFS26a","Change in Policy Reserves - Life",null,null,null,null,{"$f":"'Form 2SFS GB'!I79","v":0},null,{"$f":"'Form 2SFS GB'!K79","v":0},null,null,null,null,{"$f":"'Form 2SFS LT'!E79","v":0},null,{"$f":"'Form 2SFS LT'!G79","v":0},null,{"$f":"'Form 2SFS LT'!I79","v":0},null,{"$f":"'Form 2SFS LT'!K79","v":0}]
["Form 2SFS","Income Stmt Uncon GEN / CON","2SFS26b","Change in Policy Reserves - Annuities",null,null,null,null,{"$f":"'Form 2SFS GB'!I80","v":0},null,{"$f":"'Form 2SFS GB'!K80","v":0},null,null,null,null,{"$f":"'Form 2SFS LT'!E80","v":0},null,{"$f":"'Form 2SFS LT'!G80","v":0},null,{"$f":"'Form 2SFS LT'!I80","v":0},null,{"$f":"'Form 2SFS LT'!K80","v":0}]
["Form 2SFS","Income Stmt Uncon GEN / CON","2SFS26c","Change in Policy Reserves - Accid. & Health",null,null,null,null,{"$f":"'Form 2SFS GB'!I81","v":0},null,{"$f":"'Form 2SFS GB'!K81","v":0},null,null,null,null,{"$f":"'Form 2SFS LT'!E81","v":0},null,{"$f":"'Form 2SFS LT'!G81","v":0},null,{"$f":"'Form 2SFS LT'!I81","v":0},null,{"$f":"'Form 2SFS LT'!K81","v":0}]
["Form 2SFS","Income Stmt Uncon GEN / CON","2SFS30a","Operating Expense - G&A",{"$f":"'Form 2SFS GB'!E94","v":0},null,{"$f":"'Form 2SFS GB'!G94","v":0},null,{"$f":"'Form 2SFS GB'!I94","v":0},null,{"$f":"'Form 2SFS GB'!K94","v":0},null,null,null,null,{"$f":"'Form 2SFS LT'!E94","v":0},null,{"$f":"'Form 2SFS LT'!G94","v":0},null,{"$f":"'Form 2SFS LT'!I94","v":0},null,{"$f":"'Form 2SFS LT'!K94","v":0}]
["Form 2SFS","Income Stmt Uncon GEN / CON","2SFS30b","Operating Expense - Personnel Costs",{"$f":"'Form 2SFS GB'!E95","v":0},null,{"$f":"'Form 2SFS GB'!G95","v":0},null,{"$f":"'Form 2SFS GB'!I95","v":0},null,{"$f":"'Form 2SFS GB'!K95","v":0},null,null,null,null,{"$f":"'Form 2SFS LT'!E95","v":0},null,{"$f":"'Form 2SFS LT'!G95","v":0},null,{"$f":"'Form 2SFS LT'!I95","v":0},null,{"$f":"'Form 2SFS LT'!K95","v":0}]
["Form 2SFS","Income Stmt Uncon GEN / CON","2SFS30c","Operating Expense - Other",{"$f":"'Form 2SFS GB'!E96","v":0},null,{"$f":"'Form 2SFS GB'!G96","v":0},null,{"$f":"'Form 2SFS GB'!I96","v":0},null,{"$f":"'Form 2SFS GB'!K96","v":0},null,null,null,null,{"$f":"'Form 2SFS LT'!E96","v":0},null,{"$f":"'Form 2SFS LT'!G96","v":0},null,{"$f":"'Form 2SFS LT'!I96","v":0},null,{"$f":"'Form 2SFS LT'!K96","v":0}]
["Form 2SFS","Income Stmt Uncon GEN / CON","2SFS31","Investment Income",{"$f":"'Form 2SFS GB'!E99","v":0},null,{"$f":"'Form 2SFS GB'!G99","v":0},null,{"$f":"'Form 2SFS GB'!I99","v":0},null,{"$f":"'Form 2SFS GB'!K99","v":0},null,null,null,null,{"$f":"'Form 2SFS LT'!E99","v":0},null,{"$f":"'Form 2SFS LT'!G99","v":0},null,{"$f":"'Form 2SFS LT'!I99","v":0},null,{"$f":"'Form 2SFS LT'!K99","v":0}]
["Form 2SFS","Income Stmt Uncon GEN / CON","2SFS32","Other Income",{"$f":"'Form 2SFS GB'!E101","v":0},null,{"$f":"'Form 2SFS GB'!G101","v":0},null,{"$f":"'Form 2SFS GB'!I101","v":0},null,{"$f":"'Form 2SFS GB'!K101","v":0},null,null,null,null,{"$f":"'Form 2SFS LT'!E101","v":0},null,{"$f":"'Form 2SFS LT'!G101","v":0},null,{"$f":"'Form 2SFS LT'!I101","v":0},null,{"$f":"'Form 2SFS LT'!K101","v":0}]
["Form 2SFS","Income Stmt Uncon GEN / CON","2SFS34a","Income Tax - Current",{"$f":"'Form 2SFS GB'!E106","v":0},null,{"$f":"'Form 2SFS GB'!G106","v":0},null,{"$f":"'Form 2SFS GB'!I106","v":0},null,{"$f":"'Form 2SFS GB'!K106","v":0},null,null,null,null,{"$f":"'Form 2SFS LT'!E106","v":0},null,{"$f":"'Form 2SFS LT'!G106","v":0},null,{"$f":"'Form 2SFS LT'!I106","v":0},null,{"$f":"'Form 2SFS LT'!K106","v":0}]
["Form 2SFS","Income Stmt Uncon GEN / CON","2SFS34b","Income Tax - Deferred",{"$f":"'Form 2SFS GB'!E107","v":0},null,{"$f":"'Form 2SFS GB'!G107","v":0},null,{"$f":"'Form 2SFS GB'!I107","v":0},null,{"$f":"'Form 2SFS GB'!K107","v":0},null,null,null,null,{"$f":"'Form 2SFS LT'!E107","v":0},null,{"$f":"'Form 2SFS LT'!G107","v":0},null,{"$f":"'Form 2SFS LT'!I107","v":0},null,{"$f":"'Form 2SFS LT'!K107","v":0}]
["Form 2SFS","Income Stmt Uncon GEN / CON","2SFS36","Realized Gains/Losses",{"$f":"'Form 2SFS GB'!E112","v":0},null,{"$f":"'Form 2SFS GB'!G112","v":0},null,{"$f":"'Form 2SFS GB'!I112","v":0},null,{"$f":"'Form 2SFS GB'!K112","v":0},null,null,null,null,{"$f":"'Form 2SFS LT'!E112","v":0},null,{"$f":"'Form 2SFS LT'!G112","v":0},null,{"$f":"'Form 2SFS LT'!I112","v":0},null,{"$f":"'Form 2SFS LT'!K112","v":0}]
["Form 2SFS","Income Stmt Uncon GEN / CON","2SFS37","Interest Charges",{"$f":"'Form 2SFS GB'!E114","v":0},null,{"$f":"'Form 2SFS GB'!G114","v":0},null,{"$f":"'Form 2SFS GB'!I114","v":0},null,{"$f":"'Form 2SFS GB'!K114","v":0},null,null,null,null,{"$f":"'Form 2SFS LT'!E114","v":0},null,{"$f":"'Form 2SFS LT'!G114","v":0},null,{"$f":"'Form 2SFS LT'!I114","v":0},null,{"$f":"'Form 2SFS LT'!K114","v":0}]
[]
[null,null,null,"Statement of Capital & Surplus"]
["Form 8SFS","Stmt of C&S Uncon GEN / CON","8SFS1ai","Capital Stock",{"$f":"'Form 8SFS'!G11","v":0},null,{"$f":"'Form 8SFS'!I11","v":0},null,null,null,null,null,null,null,null,{"$f":"'Form 8SFS'!K11","v":0},null,{"$f":"'Form 8SFS'!M11","v":0}]
["Form 8SFS","Stmt of C&S Uncon GEN / CON",null,"Common Stock",null,null,null,null,{"$f":"'Form 8SFS'!O12","v":0},null,{"$f":"'Form 8SFS'!Q12","v":0}]
["Form 8SFS","Stmt of C&S Uncon GEN / CON","8SFS1aii","Preferred Shares",null,null,null,null,{"$f":"'Form 8SFS'!O17","v":0},null,{"$f":"'Form 8SFS'!Q17","v":0}]
["Form 8SFS","Stmt of C&S Uncon GEN / CON","8SFS1aiii","Treasury Shares",null,null,null,null,{"$f":"'Form 8SFS'!O25","v":0},null,{"$f":"'Form 8SFS'!Q25","v":0}]
["Form 8SFS","Stmt of C&S Uncon GEN / CON","8SFS1b","Contributed Surplus",{"$f":"'Form 8SFS'!G29","v":0},null,{"$f":"'Form 8SFS'!I29","v":0},null,{"$f":"'Form 8SFS'!O29","v":0},null,{"$f":"'Form 8SFS'!Q29","v":0},null,null,null,null,{"$f":"'Form 8SFS'!K29","v":0},null,{"$f":"'Form 8SFS'!M29","v":0}]
["Form 8SFS","Stmt of C&S Uncon GEN / CON","8SFS1ci","Other Fixed Capital - Hybrid Instruments",{"$f":"'Form 8SFS'!G32","v":0},null,{"$f":"'Form 8SFS'!I32","v":0},null,{"$f":"'Form 8SFS'!O32","v":0},null,{"$f":"'Form 8SFS'!Q32","v":0},null,null,null,null,{"$f":"'Form 8SFS'!K32","v":0},null,{"$f":"'Form 8SFS'!M32","v":0}]
["Form 8SFS","Stmt of C&S Uncon GEN / CON","8SFS1cii","Other Fixed Capital - Guarantees & Others",{"$f":"'Form 8SFS'!G33","v":0},null,{"$f":"'Form 8SFS'!I33","v":0},null,{"$f":"'Form 8SFS'!O33","v":0},null,{"$f":"'Form 8SFS'!Q33","v":0},null,null,null,null,{"$f":"'Form 8SFS'!K33","v":0},null,{"$f":"'Form 8SFS'!M33","v":0}]
["Form 8SFS","Stmt of C&S Uncon GEN / CON","8SFS2a","Statutory Surplus - Beginning of Year",{"$f":"'Form 8SFS'!G40","v":0},null,{"$f":"'Form 8SFS'!I40","v":0},null,{"$f":"'Form 8SFS'!O40","v":0},null,{"$f":"'Form 8SFS'!Q40","v":0},null,null,null,null,{"$f":"'Form 8SFS'!K40","v":0},null,{"$f":"'Form 8SFS'!M40","v":0}]
["Form 8SFS","Stmt of C&S Uncon GEN / CON","8SFS2c","Dividends",{"$f":"'Form 8SFS'!G44","v":0},null,{"$f":"'Form 8SFS'!I44","v":0},null,{"$f":"'Form 8SFS'!O44","v":0},null,{"$f":"'Form 8SFS'!Q44","v":0},null,null,null,null,{"$f":"'Form 8SFS'!K44","v":0},null,{"$f":"'Form 8SFS'!M44","v":0}]
["Form 8SFS","Stmt of C&S Uncon GEN / CON","8SFS2d","Unrealized Change in Investments",{"$f":"'Form 8SFS'!G46","v":0},null,{"$f":"'Form 8SFS'!I46","v":0},null,{"$f":"'Form 8SFS'!O46","v":0},null,{"$f":"'Form 8SFS'!Q46","v":0},null,null,null,null,{"$f":"'Form 8SFS'!K46","v":0},null,{"$f":"'Form 8SFS'!M46","v":0}]
["Form 8SFS","Stmt of C&S Uncon GEN / CON","8SFS2e","Change in Non-Admitted Assets",{"$f":"'Form 8SFS'!G48","v":0},null,{"$f":"'Form 8SFS'!I48","v":0},null,{"$f":"'Form 8SFS'!O48","v":0},null,{"$f":"'Form 8SFS'!Q48","v":0},null,null,null,null,{"$f":"'Form 8SFS'!K48","v":0},null,{"$f":"'Form 8SFS'!M48","v":0}]
["Form 8SFS","Stmt of C&S Uncon GEN / CON","8SFS2f","Change in Real Estate",{"$f":"'Form 8SFS'!G50","v":0},null,{"$f":"'Form 8SFS'!I50","v":0},null,{"$f":"'Form 8SFS'!O50","v":0},null,{"$f":"'Form 8SFS'!Q50","v":0},null,null,null,null,{"$f":"'Form 8SFS'!K50","v":0},null,{"$f":"'Form 8SFS'!M50","v":0}]
["Form 8SFS","Stmt of C&S Uncon GEN / CON","8SFS2g","Change in Other Statutory Capital",{"$f":"'Form 8SFS'!G52","v":0},null,{"$f":"'Form 8SFS'!I52","v":0},null,{"$f":"'Form 8SFS'!O52","v":0},null,{"$f":"'Form 8SFS'!Q52","v":0},null,null,null,null,{"$f":"'Form 8SFS'!K52","v":0},null,{"$f":"'Form 8SFS'!M52","v":0}]
["Form 8SFS","Stmt of C&S Uncon GEN / CON","8SFS3","Minority Interest",{"$f":"'Form 8SFS'!G56","v":0},null,{"$f":"'Form 8SFS'!I56","v":0},null,{"$f":"'Form 8SFS'!O56","v":0},null,{"$f":"'Form 8SFS'!Q56","v":0},null,null,null,null,{"$f":"'Form 8SFS'!K56","v":0},null,{"$f":"'Form 8SFS'!M56","v":0}]
["Form 8SFS","Stmt of C&S Uncon GEN / CON","Note 1","Assets Backing Collateral in Capital & Surplus",null,null,null,null,{"$f":"'Form 8SFS'!O63","v":0},null,{"$f":"'Form 8SFS'!Q63","v":0}]
["Form 8SFS","Stmt of C&S Uncon GEN / CON","Note 2","Capital Supporting Operational Risk",null,null,null,null,{"$f":"'Form 8SFS'!O71","v":0},null,{"$f":"'Form 8SFS'!Q71","v":0}]
["Form 8SFS","Stmt of C&S Uncon GEN / CON","Note 3","Capital Supporting Market Risk",{"$f":"'Form 8SFS'!G73","v":0},null,{"$f":"'Form 8SFS'!I73","v":0},null,{"$f":"'Form 8SFS'!O73","v":0},null,{"$f":"'Form 8SFS'!Q73","v":0},null,null,null,null,{"$f":"'Form 8SFS'!K73","v":0},null,{"$f":"'Form 8SFS'!M73","v":0}]
["Form 8SFS","Stmt of C&S Uncon GEN / CON","Note 4","Capital Supporting Credit Risk",{"$f":"'Form 8SFS'!G75","v":0},null,{"$f":"'Form 8SFS'!I75","v":0},null,{"$f":"'Form 8SFS'!O75","v":0},null,{"$f":"'Form 8SFS'!Q75","v":0},null,null,null,null,{"$f":"'Form 8SFS'!K75","v":0},null,{"$f":"'Form 8SFS'!M75","v":0}]
[]
[null,null,null,"BSCR Schedules "]
["Sch II","Investments",null,"Corp. Bonds - BSCR Rate 0",{"$f":"'Schedule II'!D13","v":0},null,{"$f":"'Schedule II'!F13","v":0},null,{"$f":"'Schedule II'!D83","v":0},null,{"$f":"'Schedule II'!F83","v":0},null,null,null,null,null,null,null,null,null,null,null,null,null,null,null,null,{"$f":"'Schedule II'!D13","v":0},null,{"$f":"'Schedule II'!F13","v":0}]
["Sch II","Investments",null,"Corp. Bonds - BSCR Rate 1",{"$f":"'Schedule II'!D14","v":0},null,{"$f":"'Schedule II'!F14","v":0},null,{"$f":"'Schedule II'!D84","v":0},null,{"$f":"'Schedule II'!F84","v":0},null,null,null,null,null,null,null,null,null,null,null,null,null,null,null,null,{"$f":"'Schedule II'!D14","v":0},null,{"$f":"'Schedule II'!F14","v":0}]
["Sch II","Investments",null,"Corp. Bonds - BSCR Rate 2",{"$f":"'Schedule II'!D15","v":0},null,{"$f":"'Schedule II'!F15","v":0},null,{"$f":"'Schedule II'!D85","v":0},null,{"$f":"'Schedule II'!F85","v":0},null,null,null,null,null,null,null,null,null,null,null,null,null,null,null,null,{"$f":"'Schedule II'!D15","v":0},null,{"$f":"'Schedule II'!F15","v":0}]
["Sch II","Investments",null,"Corp. Bonds - BSCR Rate 3",{"$f":"'Schedule II'!D16","v":0},null,{"$f":"'Schedule II'!F16","v":0},null,{"$f":"'Schedule II'!D86","v":0},null,{"$f":"'Schedule II'!F86","v":0},null,null,null,null,null,null,null,null,null,null,null,null,null,null,null,null,{"$f":"'Schedule II'!D16","v":0},null,{"$f":"'Schedule II'!F16","v":0}]
["Sch II","Investments",null,"Corp. Bonds - BSCR Rate 4",{"$f":"'Schedule II'!D17","v":0},null,{"$f":"'Schedule II'!F17","v":0},null,{"$f":"'Schedule II'!D87","v":0},null,{"$f":"'Schedule II'!F87","v":0},null,null,null,null,null,null,null,null,null,null,null,null,null,null,null,null,{"$f":"'Schedule II'!D17","v":0},null,{"$f":"'Schedule II'!F17","v":0}]
["Sch II","Investments",null,"Corp. Bonds - BSCR Rate 5",{"$f":"'Schedule II'!D18","v":0},null,{"$f":"'Schedule II'!F18","v":0},null,{"$f":"'Schedule II'!D88","v":0},null,{"$f":"'Schedule II'!F88","v":0},null,null,null,null,null,null,null,null,null,null,null,null,null,null,null,null,{"$f":"'Schedule II'!D18","v":0},null,{"$f":"'Schedule II'!F18","v":0}]
["Sch II","Investments",null,"Corp. Bonds - BSCR Rate 6",{"$f":"'Schedule II'!D19","v":0},null,{"$f":"'Schedule II'!F19","v":0},null,{"$f":"'Schedule II'!D89","v":0},null,{"$f":"'Schedule II'!F89","v":0},null,null,null,null,null,null,null,null,null,null,null,null,null,null,null,null,{"$f":"'Schedule II'!D19","v":0},null,{"$f":"'Schedule II'!F19","v":0}]
["Sch II","Investments",null,"Corp. Bonds - BSCR Rate 7",{"$f":"'Schedule II'!D20","v":0},null,{"$f":"'Schedule II'!F20","v":0},null,{"$f":"'Schedule II'!D90","v":0},null,{"$f":"'Schedule II'!F90","v":0},null,null,null,null,null,null,null,null,null,null,null,null,null,null,null,null,{"$f":"'Schedule II'!D20","v":0},null,{"$f":"'Schedule II'!F20","v":0}]
["Sch II","Investments",null,"Corp. Bonds - BSCR Rate 8",{"$f":"'Schedule II'!D21","v":0},null,{"$f":"'Schedule II'!F21","v":0},null,{"$f":"'Schedule II'!D91","v":0},null,{"$f":"'Schedule II'!F91","v":0},null,null,null,null,null,null,null,null,null,null,null,null,null,null,null,null,{"$f":"'Schedule II'!D21","v":0},null,{"$f":"'Schedule II'!F21","v":0}]
["Sch II","Investments",null,"Residential MBS - BSCR Rate 1",{"$f":"'Schedule II'!H14","v":0},null,{"$f":"'Schedule II'!J14","v":0},null,{"$f":"'Schedule II'!H84","v":0},null,{"$f":"'Schedule II'!J84","v":0},null,null,null,null,null,null,null,null,null,null,null,null,null,null,null,null,{"$f":"'Schedule II'!H14","v":0},null,{"$f":"'Schedule II'!J14","v":0}]
["Sch II","Investments",null,"Residential MBS - BSCR Rate 2",{"$f":"'Schedule II'!H15","v":0},null,{"$f":"'Schedule II'!J15","v":0},null,{"$f":"'Schedule II'!H85","v":0},null,{"$f":"'Schedule II'!J85","v":0},null,null,null,null,null,null,null,null,null,null,null,null,null,null,null,null,{"$f":"'Schedule II'!H15","v":0},null,{"$f":"'Schedule II'!J15","v":0}]
["Sch II","Investments",null,"Residential MBS - BSCR Rate 3",{"$f":"'Schedule II'!H16","v":0},null,{"$f":"'Schedule II'!J16","v":0},null,{"$f":"'Schedule II'!H86","v":0},null,{"$f":"'Schedule II'!J86","v":0},null,null,null,null,null,null,null,null,null,null,null,null,null,null,null,null,{"$f":"'Schedule II'!H16","v":0},null,{"$f":"'Schedule II'!J16","v":0}]
["Sch II","Investments",null,"Residential MBS - BSCR Rate 4",{"$f":"'Schedule II'!H17","v":0},null,{"$f":"'Schedule II'!J17","v":0},null,{"$f":"'Schedule II'!H87","v":0},null,{"$f":"'Schedule II'!J87","v":0},null,null,null,null,null,null,null,null,null,null,null,null,null,null,null,null,{"$f":"'Schedule II'!H17","v":0},null,{"$f":"'Schedule II'!J17","v":0}]
["Sch II","Investments",null,"Residential MBS - BSCR Rate 5",{"$f":"'Schedule II'!H18","v":0},null,{"$f":"'Schedule II'!J18","v":0},null,{"$f":"'Schedule II'!H88","v":0},null,{"$f":"'Schedule II'!J88","v":0},null,null,null,null,null,null,null,null,null,null,null,null,null,null,null,null,{"$f":"'Schedule II'!H18","v":0},null,{"$f":"'Schedule II'!J18","v":0}]
["Sch II","Investments",null,"Residential MBS - BSCR Rate 6",{"$f":"'Schedule II'!H19","v":0},null,{"$f":"'Schedule II'!J19","v":0},null,{"$f":"'Schedule II'!H89","v":0},null,{"$f":"'Schedule II'!J89","v":0},null,null,null,null,null,null,null,null,null,null,null,null,null,null,null,null,{"$f":"'Schedule II'!H19","v":0},null,{"$f":"'Schedule II'!J19","v":0}]
["Sch II","Investments",null,"Residential MBS - BSCR Rate 7",{"$f":"'Schedule II'!H20","v":0},null,{"$f":"'Schedule II'!J20","v":0},null,{"$f":"'Schedule II'!H90","v":0},null,{"$f":"'Schedule II'!J90","v":0},null,null,null,null,null,null,null,null,null,null,null,null,null,null,null,null,{"$f":"'Schedule II'!H20","v":0},null,{"$f":"'Schedule II'!J20","v":0}]
["Sch II","Investments",null,"Residential MBS - BSCR Rate 8",{"$f":"'Schedule II'!H21","v":0},null,{"$f":"'Schedule II'!J21","v":0},null,{"$f":"'Schedule II'!H91","v":0},null,{"$f":"'Schedule II'!J91","v":0},null,null,null,null,null,null,null,null,null,null,null,null,null,null,null,null,{"$f":"'Schedule II'!H21","v":0},null,{"$f":"'Schedule II'!J21","v":0}]
["Sch II","Investments",null,"Commercial MBS - BSCR Rate 1",{"$f":"'Schedule II'!L14","v":0},null,{"$f":"'Schedule II'!N14","v":0},null,{"$f":"'Schedule II'!L84","v":0},null,{"$f":"'Schedule II'!N84","v":0},null,null,null,null,null,null,null,null,null,null,null,null,null,null,null,null,{"$f":"'Schedule II'!L14","v":0},null,{"$f":"'Schedule II'!N14","v":0}]
["Sch II","Investments",null,"Commercial MBS - BSCR Rate 2",{"$f":"'Schedule II'!L15","v":0},null,{"$f":"'Schedule II'!N15","v":0},null,{"$f":"'Schedule II'!L85","v":0},null,{"$f":"'Schedule II'!N85","v":0},null,null,null,null,null,null,null,null,null,null,null,null,null,null,null,null,{"$f":"'Schedule II'!L15","v":0},null,{"$f":"'Schedule II'!N15","v":0}]
["Sch II","Investments",null,"Commercial MBS - BSCR Rate 3",{"$f":"'Schedule II'!L16","v":0},null,{"$f":"'Schedule II'!N16","v":0},null,{"$f":"'Schedule II'!L86","v":0},null,{"$f":"'Schedule II'!N86","v":0},null,null,null,null,null,null,null,null,null,null,null,null,null,null,null,null,{"$f":"'Schedule II'!L16","v":0},null,{"$f":"'Schedule II'!N16","v":0}]
["Sch II","Investments",null,"Commercial MBS - BSCR Rate 4",{"$f":"'Schedule II'!L17","v":0},null,{"$f":"'Schedule II'!N17","v":0},null,{"$f":"'Schedule II'!L87","v":0},null,{"$f":"'Schedule II'!N87","v":0},null,null,null,null,null,null,null,null,null,null,null,null,null,null,null,null,{"$f":"'Schedule II'!L17","v":0},null,{"$f":"'Schedule II'!N17","v":0}]
["Sch II","Investments",null,"Commercial MBS - BSCR Rate 5",{"$f":"'Schedule II'!L18","v":0},null,{"$f":"'Schedule II'!N18","v":0},null,{"$f":"'Schedule II'!L88","v":0},null,{"$f":"'Schedule II'!N88","v":0},null,null,null,null,null,null,null,null,null,null,null,null,null,null,null,null,{"$f":"'Schedule II'!L18","v":0},null,{"$f":"'Schedule II'!N18","v":0}]
["Sch II","Investments",null,"Commercial MBS - BSCR Rate 6",{"$f":"'Schedule II'!L19","v":0},null,{"$f":"'Schedule II'!N19","v":0},null,{"$f":"'Schedule II'!L89","v":0},null,{"$f":"'Schedule II'!N89","v":0},null,null,null,null,null,null,null,null,null,null,null,null,null,null,null,null,{"$f":"'Schedule II'!L19","v":0},null,{"$f":"'Schedule II'!N19","v":0}]
["Sch II","Investments",null,"Commercial MBS - BSCR Rate 7",{"$f":"'Schedule II'!L20","v":0},null,{"$f":"'Schedule II'!N20","v":0},null,{"$f":"'Schedule II'!L90","v":0},null,{"$f":"'Schedule II'!N90","v":0},null,null,null,null,null,null,null,null,null,null,null,null,null,null,null,null,{"$f":"'Schedule II'!L20","v":0},null,{"$f":"'Schedule II'!N20","v":0}]
["Sch II","Investments",null,"Commercial MBS - BSCR Rate 8",{"$f":"'Schedule II'!L21","v":0},null,{"$f":"'Schedule II'!N21","v":0},null,{"$f":"'Schedule II'!L91","v":0},null,{"$f":"'Schedule II'!N91","v":0},null,null,null,null,null,null,null,null,null,null,null,null,null,null,null,null,{"$f":"'Schedule II'!L21","v":0},null,{"$f":"'Schedule II'!N21","v":0}]
["Sch II","Investments",null,"Bonds Mutual Fund - BSCR Rate 0",{"$f":"'Schedule II'!P13","v":0},null,{"$f":"'Schedule II'!R13","v":0},null,{"$f":"'Schedule II'!P83","v":0},null,{"$f":"'Schedule II'!R83","v":0},null,null,null,null,null,null,null,null,null,null,null,null,null,null,null,null,{"$f":"'Schedule II'!P13","v":0},null,{"$f":"'Schedule II'!R13","v":0}]
["Sch II","Investments",null,"Bonds Mutual Fund - BSCR Rate 1",{"$f":"'Schedule II'!P14","v":0},null,{"$f":"'Schedule II'!R14","v":0},null,{"$f":"'Schedule II'!P84","v":0},null,{"$f":"'Schedule II'!R84","v":0},null,null,null,null,null,null,null,null,null,null,null,null,null,null,null,null,{"$f":"'Schedule II'!P14","v":0},null,{"$f":"'Schedule II'!R14","v":0}]
["Sch II","Investments",null,"Bonds Mutual Fund - BSCR Rate 2",{"$f":"'Schedule II'!P15","v":0},null,{"$f":"'Schedule II'!R15","v":0},null,{"$f":"'Schedule II'!P85","v":0},null,{"$f":"'Schedule II'!R85","v":0},null,null,null,null,null,null,null,null,null,null,null,null,null,null,null,null,{"$f":"'Schedule II'!P15","v":0},null,{"$f":"'Schedule II'!R15","v":0}]
["Sch II","Investments",null,"Bonds Mutual Fund - BSCR Rate 3",{"$f":"'Schedule II'!P16","v":0},null,{"$f":"'Schedule II'!R16","v":0},null,{"$f":"'Schedule II'!P86","v":0},null,{"$f":"'Schedule II'!R86","v":0},null,null,null,null,null,null,null,null,null,null,null,null,null,null,null,null,{"$f":"'Schedule II'!P16","v":0},null,{"$f":"'Schedule II'!R16","v":0}]
["Sch II","Investments",null,"Bonds Mutual Fund - BSCR Rate 4",{"$f":"'Schedule II'!P17","v":0},null,{"$f":"'Schedule II'!R17","v":0},null,{"$f":"'Schedule II'!P87","v":0},null,{"$f":"'Schedule II'!R87","v":0},null,null,null,null,null,null,null,null,null,null,null,null,null,null,null,null,{"$f":"'Schedule II'!P17","v":0},null,{"$f":"'Schedule II'!R17","v":0}]
["Sch II","Investments",null,"Bonds Mutual Fund - BSCR Rate 5",{"$f":"'Schedule II'!P18","v":0},null,{"$f":"'Schedule II'!R18","v":0},null,{"$f":"'Schedule II'!P88","v":0},null,{"$f":"'Schedule II'!R88","v":0},null,null,null,null,null,null,null,null,null,null,null,null,null,null,null,null,{"$f":"'Schedule II'!P18","v":0},null,{"$f":"'Schedule II'!R18","v":0}]
["Sch II","Investments",null,"Bonds Mutual Fund - BSCR Rate 6",{"$f":"'Schedule II'!P19","v":0},null,{"$f":"'Schedule II'!R19","v":0},null,{"$f":"'Schedule II'!P89","v":0},null,{"$f":"'Schedule II'!R89","v":0},null,null,null,null,null,null,null,null,null,null,null,null,null,null,null,null,{"$f":"'Schedule II'!P19","v":0},null,{"$f":"'Schedule II'!R19","v":0}]
["Sch II","Investments",null,"Bonds Mutual Fund - BSCR Rate 7",{"$f":"'Schedule II'!P20","v":0},null,{"$f":"'Schedule II'!R20","v":0},null,{"$f":"'Schedule II'!P90","v":0},null,{"$f":"'Schedule II'!R90","v":0},null,null,null,null,null,null,null,null,null,null,null,null,null,null,null,null,{"$f":"'Schedule II'!P20","v":0},null,{"$f":"'Schedule II'!R20","v":0}]
["Sch II","Investments",null,"Bonds Mutual Fund - BSCR Rate 8",{"$f":"'Schedule II'!P21","v":0},null,{"$f":"'Schedule II'!R21","v":0},null,{"$f":"'Schedule II'!P91","v":0},null,{"$f":"'Schedule II'!R91","v":0},null,null,null,null,null,null,null,null,null,null,null,null,null,null,null,null,{"$f":"'Schedule II'!P21","v":0},null,{"$f":"'Schedule II'!R21","v":0}]
["Sch II","Investments",null,"Mortgage Loans - Insured",{"$f":"'Schedule II'!T26","v":0},null,{"$f":"'Schedule II'!V26","v":0},null,{"$f":"'Schedule II'!T96","v":0},null,{"$f":"'Schedule II'!V96","v":0},null,null,null,null,null,null,null,null,null,null,null,null,null,null,null,null,{"$f":"'Schedule II'!T26","v":0},null,{"$f":"'Schedule II'!V26","v":0}]
["Sch II","Investments",null,"Mortgage Loans - Other Commercial",{"$f":"'Schedule II'!T27","v":0},null,{"$f":"'Schedule II'!V27","v":0},null,{"$f":"'Schedule II'!T97","v":0},null,{"$f":"'Schedule II'!V97","v":0},null,null,null,null,null,null,null,null,null,null,null,null,null,null,null,null,{"$f":"'Schedule II'!T27","v":0},null,{"$f":"'Schedule II'!V27","v":0}]
["Sch II","Investments",null,"Mortgage Loans - Other Residential",{"$f":"'Schedule II'!T28","v":0},null,{"$f":"'Schedule II'!V28","v":0},null,{"$f":"'Schedule II'!T98","v":0},null,{"$f":"'Schedule II'!V98","v":0},null,null,null,null,null,null,null,null,null,null,null,null,null,null,null,null,{"$f":"'Schedule II'!T28","v":0},null,{"$f":"'Schedule II'!V28","v":0}]
["Sch II","Investments",null,"Mortgage Loans - Not Good Stand.",{"$f":"'Schedule II'!T29","v":0},null,{"$f":"'Schedule II'!V29","v":0},null,{"$f":"'Schedule II'!T99","v":0},null,{"$f":"'Schedule II'!V99","v":0},null,null,null,null,null,null,null,null,null,null,null,null,null,null,null,null,{"$f":"'Schedule II'!T29","v":0},null,{"$f":"'Schedule II'!V29","v":0}]
["Sch II","Investments",null,"Other Loans",{"$f":"'Schedule II'!T30","v":0},null,{"$f":"'Schedule II'!V30","v":0},null,{"$f":"'Schedule II'!T100","v":0},null,{"$f":"'Schedule II'!V100","v":0}]
["Sch II","Investments",null,"Strategic Holdings - Listed",{"$f":"'Schedule II'!T35","v":0},null,{"$f":"'Schedule II'!V35","v":0},null,{"$f":"'Schedule II'!T105","v":0},null,{"$f":"'Schedule II'!V105","v":0}]
["Sch II","Investments",null,"Duration Based",{"$f":"'Schedule II'!T36","v":0},null,{"$f":"'Schedule II'!V36","v":0},null,{"$f":"'Schedule II'!T106","v":0},null,{"$f":"'Schedule II'!V106","v":0}]
["Sch II","Investments",null,"Listed Equity Securities in Developed Markets",{"$f":"'Schedule II'!T37","v":0},null,{"$f":"'Schedule II'!V37","v":0},null,{"$f":"'Schedule II'!T107","v":0},null,{"$f":"'Schedule II'!V107","v":0}]
["Sch II","Investments",null,"Preferred Stocks, BSCR Rating 1",{"$f":"'Schedule II'!T38","v":0},null,{"$f":"'Schedule II'!V38","v":0},null,{"$f":"'Schedule II'!T108","v":0},null,{"$f":"'Schedule II'!V108","v":0}]
["Sch II","Investments",null,"Preferred Stocks, BSCR Rating 2",{"$f":"'Schedule II'!T39","v":0},null,{"$f":"'Schedule II'!V39","v":0},null,{"$f":"'Schedule II'!T109","v":0},null,{"$f":"'Schedule II'!V109","v":0}]
["Sch II","Investments",null,"Preferred Stocks, BSCR Rating 3",{"$f":"'Schedule II'!T40","v":0},null,{"$f":"'Schedule II'!V40","v":0},null,{"$f":"'Schedule II'!T110","v":0},null,{"$f":"'Schedule II'!V110","v":0}]
["Sch II","Investments",null,"Preferred Stocks, BSCR Rating 4",{"$f":"'Schedule II'!T41","v":0},null,{"$f":"'Schedule II'!V41","v":0},null,{"$f":"'Schedule II'!T111","v":0},null,{"$f":"'Schedule II'!V111","v":0}]
["Sch II","Investments",null,"Preferred Stocks, BSCR Rating 5",{"$f":"'Schedule II'!T42","v":0},null,{"$f":"'Schedule II'!V42","v":0},null,{"$f":"'Schedule II'!T112","v":0},null,{"$f":"'Schedule II'!V112","v":0}]
["Sch II","Investments",null,"Preferred Stocks, BSCR Rating 6",{"$f":"'Schedule II'!T43","v":0},null,{"$f":"'Schedule II'!V43","v":0},null,{"$f":"'Schedule II'!T113","v":0},null,{"$f":"'Schedule II'!V113","v":0}]
["Sch II","Investments",null,"Preferred Stocks, BSCR Rating 7",{"$f":"'Schedule II'!T44","v":0},null,{"$f":"'Schedule II'!V44","v":0},null,{"$f":"'Schedule II'!T114","v":0},null,{"$f":"'Schedule II'!V114","v":0}]
["Sch II","Investments",null,"Preferred Stocks, BSCR Rating 8",{"$f":"'Schedule II'!T45","v":0},null,{"$f":"'Schedule II'!V45","v":0},null,{"$f":"'Schedule II'!T115","v":0},null,{"$f":"'Schedule II'!V115","v":0}]
["Sch II","Investments",null,"Equity Derivatives on Type 1 Equities",{"$f":"'Schedule II'!T46","v":0},null,{"$f":"'Schedule II'!V46","v":0},null,{"$f":"'Schedule II'!T116","v":0},null,{"$f":"'Schedule II'!V116","v":0}]
["Sch II","Investments",null,"Strategic Holdings - Unlisted",{"$f":"'Schedule II'!T47","v":0},null,{"$f":"'Schedule II'!V47","v":0},null,{"$f":"'Schedule II'!T117","v":0},null,{"$f":"'Schedule II'!V117","v":0}]
["Sch II","Investments",null,"Other Equities",{"$f":"'Schedule II'!T48","v":0},null,{"$f":"'Schedule II'!V48","v":0},null,{"$f":"'Schedule II'!T118","v":0},null,{"$f":"'Schedule II'!V118","v":0}]
["Sch II","Investments",null,"Letters of Credit",{"$f":"'Schedule II'!T49","v":0},null,{"$f":"'Schedule II'!V49","v":0},null,{"$f":"'Schedule II'!T119","v":0},null,{"$f":"'Schedule II'!V119","v":0}]
["Sch II","Investments",null,"Intangible assets",{"$f":"'Schedule II'!T50","v":0},null,{"$f":"'Schedule II'!V50","v":0},null,{"$f":"'Schedule II'!T120","v":0},null,{"$f":"'Schedule II'!V120","v":0}]
["Sch II","Investments",null,"Pension Benefit Surplus",{"$f":"'Schedule II'!T51","v":0},null,{"$f":"'Schedule II'!V51","v":0},null,{"$f":"'Schedule II'!T121","v":0},null,{"$f":"'Schedule II'!V121","v":0}]
["Sch II","Investments",null,"Equity Derivatives on Type 2 Equities",{"$f":"'Schedule II'!T52","v":0},null,{"$f":"'Schedule II'!V52","v":0},null,{"$f":"'Schedule II'!T122","v":0},null,{"$f":"'Schedule II'!V122","v":0}]
["Sch II","Investments",null,"Infrastructure",{"$f":"'Schedule II'!T53","v":0},null,{"$f":"'Schedule II'!V53","v":0},null,{"$f":"'Schedule II'!T123","v":0},null,{"$f":"'Schedule II'!V123","v":0}]
["Sch II","Investments",null,"Derivatives on Infrastructure",{"$f":"'Schedule II'!T54","v":0},null,{"$f":"'Schedule II'!V54","v":0},null,{"$f":"'Schedule II'!T124","v":0},null,{"$f":"'Schedule II'!V124","v":0}]
["Sch II","Investments",null,"Equity Real Estate 1",{"$f":"'Schedule II'!T55","v":0},null,{"$f":"'Schedule II'!V55","v":0},null,{"$f":"'Schedule II'!T125","v":0},null,{"$f":"'Schedule II'!V125","v":0}]
["Sch II","Investments",null,"Equity Real Estate 2",{"$f":"'Schedule II'!T56","v":0},null,{"$f":"'Schedule II'!V56","v":0},null,{"$f":"'Schedule II'!T126","v":0},null,{"$f":"'Schedule II'!V126","v":0}]
["Sch II","Investments",null,"Other Investments - Bonds and Debentures",{"$f":"'Schedule II'!T61","v":0},null,{"$f":"'Schedule II'!V61","v":0}]
["Sch II","Investments",null,"Other Investments - Equity Holdings",{"$f":"'Schedule II'!T62","v":0},null,{"$f":"'Schedule II'!V62","v":0}]
["Sch II","Investments",null,"NAIC Resid. MBS - Orig. Class 1",{"$f":"'Schedule II'!H28","v":0},null,null,null,{"$f":"'Schedule II'!H98","v":0},null,null,null,null,null,null,null,null,null,null,null,null,null,null,null,null,null,null,{"$f":"'Schedule II'!H28","v":0}]
["Sch II","Investments",null,"NAIC Resid. MBS - Orig. Class 2",{"$f":"'Schedule II'!H29","v":0},null,null,null,{"$f":"'Schedule II'!H99","v":0},null,null,null,null,null,null,null,null,null,null,null,null,null,null,null,null,null,null,{"$f":"'Schedule II'!H29","v":0}]
["Sch II","Investments",null,"NAIC Resid. MBS - Orig. Class 3",{"$f":"'Schedule II'!H30","v":0},null,null,null,{"$f":"'Schedule II'!H100","v":0},null,null,null,null,null,null,null,null,null,null,null,null,null,null,null,null,null,null,{"$f":"'Schedule II'!H30","v":0}]
["Sch II","Investments",null,"NAIC Resid. MBS - Orig. Class 4",{"$f":"'Schedule II'!H31","v":0},null,null,null,{"$f":"'Schedule II'!H101","v":0},null,null,null,null,null,null,null,null,null,null,null,null,null,null,null,null,null,null,{"$f":"'Schedule II'!H31","v":0}]
["Sch II","Investments",null,"NAIC Resid. MBS - Orig. Class 5",{"$f":"'Schedule II'!H32","v":0},null,null,null,{"$f":"'Schedule II'!H102","v":0},null,null,null,null,null,null,null,null,null,null,null,null,null,null,null,null,null,null,{"$f":"'Schedule II'!H32","v":0}]
["Sch II","Investments",null,"NAIC Resid. MBS - Orig. Class 6",{"$f":"'Schedule II'!H33","v":0},null,null,null,{"$f":"'Schedule II'!H103","v":0},null,null,null,null,null,null,null,null,null,null,null,null,null,null,null,null,null,null,{"$f":"'Schedule II'!H33","v":0}]
["Sch II","Investments",null,"NAIC Resid. MBS - Orig. Total",{"$f":"'Schedule II'!H35","v":0},null,null,null,{"$f":"'Schedule II'!H105","v":0},null,null,null,null,null,null,null,null,null,null,null,null,null,null,null,null,null,null,{"$f":"'Schedule II'!H35","v":0}]
["Sch II","Investments",null,"NAIC Resid. MBS - Rev. Class 1",{"$f":"'Schedule II'!J28","v":0},null,null,null,{"$f":"'Schedule II'!J98","v":0},null,null,null,null,null,null,null,null,null,null,null,null,null,null,null,null,null,null,{"$f":"'Schedule II'!J28","v":0}]
["Sch II","Investments",null,"NAIC Resid. MBS - Rev. Class 2",{"$f":"'Schedule II'!J29","v":0},null,null,null,{"$f":"'Schedule II'!J99","v":0},null,null,null,null,null,null,null,null,null,null,null,null,null,null,null,null,null,null,{"$f":"'Schedule II'!J29","v":0}]
["Sch II","Investments",null,"NAIC Resid. MBS - Rev. Class 3",{"$f":"'Schedule II'!J30","v":0},null,null,null,{"$f":"'Schedule II'!J100","v":0},null,null,null,null,null,null,null,null,null,null,null,null,null,null,null,null,null,null,{"$f":"'Schedule II'!J30","v":0}]
["Sch II","Investments",null,"NAIC Resid. MBS - Rev. Class 4",{"$f":"'Schedule II'!J31","v":0},null,null,null,{"$f":"'Schedule II'!J101","v":0},null,null,null,null,null,null,null,null,null,null,null,null,null,null,null,null,null,null,{"$f":"'Schedule II'!J31","v":0}]
["Sch II","Investments",null,"NAIC Resid. MBS - Rev. Class 5",{"$f":"'Schedule II'!J32","v":0},null,null,null,{"$f":"'Schedule II'!J102","v":0},null,null,null,null,null,null,null,null,null,null,null,null,null,null,null,null,null,null,{"$f":"'Schedule II'!J32","v":0}]
["Sch II","Investments",null,"NAIC Resid. MBS - Rev. Class 6",{"$f":"'Schedule II'!J33","v":0},null,null,null,{"$f":"'Schedule II'!J103","v":0},null,null,null,null,null,null,null,null,null,null,null,null,null,null,null,null,null,null,{"$f":"'Schedule II'!J33","v":0}]
["Sch II","Investments",null,"NAIC Resid. MBS - Rev. Total",{"$f":"'Schedule II'!J35","v":0},null,null,null,{"$f":"'Schedule II'!J105","v":0},null,null,null,null,null,null,null,null,null,null,null,null,null,null,null,null,null,null,{"$f":"'Schedule II'!J35","v":0}]
["Sch II","Investments",null,"NAIC Comm. MBS - Orig. Class 1",{"$f":"'Schedule II'!L28","v":0},null,null,null,{"$f":"'Schedule II'!L98","v":0},null,null,null,null,null,null,null,null,null,null,null,null,null,null,null,null,null,null,{"$f":"'Schedule II'!L28","v":0}]
["Sch II","Investments",null,"NAIC Comm. MBS - Orig. Class 2",{"$f":"'Schedule II'!L29","v":0},null,null,null,{"$f":"'Schedule II'!L99","v":0},null,null,null,null,null,null,null,null,null,null,null,null,null,null,null,null,null,null,{"$f":"'Schedule II'!L29","v":0}]
["Sch II","Investments",null,"NAIC Comm. MBS - Orig. Class 3",{"$f":"'Schedule II'!L30","v":0},null,null,null,{"$f":"'Schedule II'!L100","v":0},null,null,null,null,null,null,null,null,null,null,null,null,null,null,null,null,null,null,{"$f":"'Schedule II'!L30","v":0}]
["Sch II","Investments",null,"NAIC Comm. MBS - Orig. Class 4",{"$f":"'Schedule II'!L31","v":0},null,null,null,{"$f":"'Schedule II'!L101","v":0},null,null,null,null,null,null,null,null,null,null,null,null,null,null,null,null,null,null,{"$f":"'Schedule II'!L31","v":0}]
["Sch II","Investments",null,"NAIC Comm. MBS - Orig. Class 5",{"$f":"'Schedule II'!L32","v":0},null,null,null,{"$f":"'Schedule II'!L102","v":0},null,null,null,null,null,null,null,null,null,null,null,null,null,null,null,null,null,null,{"$f":"'Schedule II'!L32","v":0}]
["Sch II","Investments",null,"NAIC Comm. MBS - Orig. Class 6",{"$f":"'Schedule II'!L33","v":0},null,null,null,{"$f":"'Schedule II'!L103","v":0},null,null,null,null,null,null,null,null,null,null,null,null,null,null,null,null,null,null,{"$f":"'Schedule II'!L33","v":0}]
["Sch II","Investments",null,"NAIC Comm. MBS - Orig. Total",{"$f":"'Schedule II'!L35","v":0},null,null,null,{"$f":"'Schedule II'!L105","v":0},null,null,null,null,null,null,null,null,null,null,null,null,null,null,null,null,null,null,{"$f":"'Schedule II'!L35","v":0}]
["Sch II","Investments",null,"NAIC Comm. MBS - Rev. Class 1",{"$f":"'Schedule II'!N28","v":0},null,null,null,{"$f":"'Schedule II'!N98","v":0},null,null,null,null,null,null,null,null,null,null,null,null,null,null,null,null,null,null,{"$f":"'Schedule II'!N28","v":0}]
["Sch II","Investments",null,"NAIC Comm. MBS - Rev. Class 2",{"$f":"'Schedule II'!N29","v":0},null,null,null,{"$f":"'Schedule II'!N99","v":0},null,null,null,null,null,null,null,null,null,null,null,null,null,null,null,null,null,null,{"$f":"'Schedule II'!N29","v":0}]
["Sch II","Investments",null,"NAIC Comm. MBS - Rev. Class 3",{"$f":"'Schedule II'!N30","v":0},null,null,null,{"$f":"'Schedule II'!N100","v":0},null,null,null,null,null,null,null,null,null,null,null,null,null,null,null,null,null,null,{"$f":"'Schedule II'!N30","v":0}]
["Sch II","Investments",null,"NAIC Comm. MBS - Rev. Class 4",{"$f":"'Schedule II'!N31","v":0},null,null,null,{"$f":"'Schedule II'!N101","v":0},null,null,null,null,null,null,null,null,null,null,null,null,null,null,null,null,null,null,{"$f":"'Schedule II'!N31","v":0}]
["Sch II","Investments",null,"NAIC Comm. MBS - Rev. Class 5",{"$f":"'Schedule II'!N32","v":0},null,null,null,{"$f":"'Schedule II'!N102","v":0},null,null,null,null,null,null,null,null,null,null,null,null,null,null,null,null,null,null,{"$f":"'Schedule II'!N32","v":0}]
["Sch II","Investments",null,"NAIC Comm. MBS - Rev. Class 6",{"$f":"'Schedule II'!N33","v":0},null,null,null,{"$f":"'Schedule II'!N103","v":0},null,null,null,null,null,null,null,null,null,null,null,null,null,null,null,null,null,null,{"$f":"'Schedule II'!N33","v":0}]
["Sch II","Investments",null,"NAIC Comm. MBS - Rev. Total",{"$f":"'Schedule II'!N35","v":0},null,null,null,{"$f":"'Schedule II'!N105","v":0},null,null,null,null,null,null,null,null,null,null,null,null,null,null,null,null,null,null,{"$f":"'Schedule II'!N35","v":0}]
[]
["Sch Va","Governance",null,"# of Directors",{"$f":"'Schedule V(a)'!D8","v":0}]
["Sch Va","Governance",null,"Director Name - 1",{"$f":"'Schedule V(a)'!C12","v":0}]
["Sch Va","Governance",null,"Director Name - 2",{"$f":"'Schedule V(a)'!C13","v":0}]
["Sch Va","Governance",null,"Director Name - 3",{"$f":"'Schedule V(a)'!C14","v":0}]
["Sch Va","Governance",null,"Director Name - 4",{"$f":"'Schedule V(a)'!C15","v":0}]
["Sch Va","Governance",null,"Director Name - 5",{"$f":"'Schedule V(a)'!C16","v":0}]
["Sch Va","Governance",null,"Director Name - 6",{"$f":"'Schedule V(a)'!C17","v":0}]
["Sch Va","Governance",null,"Director Name - 7",{"$f":"'Schedule V(a)'!C18","v":0}]
["Sch Va","Governance",null,"Director Name - 8",{"$f":"'Schedule V(a)'!C19","v":0}]
["Sch Va","Governance",null,"Director Name - 9",{"$f":"'Schedule V(a)'!C20","v":0}]
["Sch Va","Governance",null,"Director Name - 10",{"$f":"'Schedule V(a)'!C21","v":0}]
["Sch Va","Governance",null,"Director Name - 11",{"$f":"'Schedule V(a)'!C22","v":0}]
["Sch Va","Governance",null,"Director Name - 12",{"$f":"'Schedule V(a)'!C23","v":0}]
["Sch Va","Governance",null,"Director Name - 13",{"$f":"'Schedule V(a)'!C24","v":0}]
["Sch Va","Governance",null,"Director Name - 14",{"$f":"'Schedule V(a)'!C25","v":0}]
["Sch Va","Governance",null,"Director Name - 15",{"$f":"'Schedule V(a)'!C26","v":0}]
["Sch Va","Governance",null,"Director Name - 16",{"$f":"'Schedule V(a)'!C27","v":0}]
["Sch Va","Governance",null,"Director Name - 17",{"$f":"'Schedule V(a)'!C28","v":0}]
["Sch Va","Governance",null,"Director Name - 18",{"$f":"'Schedule V(a)'!C29","v":0}]
["Sch Va","Governance",null,"Director Name - 19",{"$f":"'Schedule V(a)'!C30","v":0}]
["Sch Va","Governance",null,"Director Name - 20",{"$f":"'Schedule V(a)'!C31","v":0}]
["Sch Va","Governance",null,"Director Date of Appointment - 1",{"$f":"'Schedule V(a)'!D12","v":"00:00:00"}]
["Sch Va","Governance",null,"Director Date of Appointment - 2",{"$f":"'Schedule V(a)'!D13","v":"00:00:00"}]
["Sch Va","Governance",null,"Director Date of Appointment - 3",{"$f":"'Schedule V(a)'!D14","v":"00:00:00"}]
["Sch Va","Governance",null,"Director Date of Appointment - 4",{"$f":"'Schedule V(a)'!D15","v":"00:00:00"}]
["Sch Va","Governance",null,"Director Date of Appointment - 5",{"$f":"'Schedule V(a)'!D16","v":"00:00:00"}]
["Sch Va","Governance",null,"Director Date of Appointment - 6",{"$f":"'Schedule V(a)'!D17","v":"00:00:00"}]
["Sch Va","Governance",null,"Director Date of Appointment - 7",{"$f":"'Schedule V(a)'!D18","v":"00:00:00"}]
["Sch Va","Governance",null,"Director Date of Appointment - 8",{"$f":"'Schedule V(a)'!D19","v":"00:00:00"}]
["Sch Va","Governance",null,"Director Date of Appointment - 9",{"$f":"'Schedule V(a)'!D20","v":"00:00:00"}]
["Sch Va","Governance",null,"Director Date of Appointment - 10",{"$f":"'Schedule V(a)'!D21","v":"00:00:00"}]
["Sch Va","Governance",null,"Director Date of Appointment - 11",{"$f":"'Schedule V(a)'!D22","v":"00:00:00"}]
["Sch Va","Governance",null,"Director Date of Appointment - 12",{"$f":"'Schedule V(a)'!D23","v":"00:00:00"}]
["Sch Va","Governance",null,"Director Date of Appointment - 13",{"$f":"'Schedule V(a)'!D24","v":"00:00:00"}]
["Sch Va","Governance",null,"Director Date of Appointment - 14",{"$f":"'Schedule V(a)'!D25","v":"00:00:00"}]
["Sch Va","Governance",null,"Director Date of Appointment - 15",{"$f":"'Schedule V(a)'!D26","v":"00:00:00"}]
["Sch Va","Governance",null,"Director Date of Appointment - 16",{"$f":"'Schedule V(a)'!D27","v":"00:00:00"}]
["Sch Va","Governance",null,"Director Date of Appointment - 17",{"$f":"'Schedule V(a)'!D28","v":"00:00:00"}]
["Sch Va","Governance",null,"Director Date of Appointment - 18",{"$f":"'Schedule V(a)'!D29","v":"00:00:00"}]
["Sch Va","Governance",null,"Director Date of Appointment - 19",{"$f":"'Schedule V(a)'!D30","v":"00:00:00"}]
["Sch Va","Governance",null,"Director Date of Appointment - 20",{"$f":"'Schedule V(a)'!D31","v":"00:00:00"}]
["Sch Va","Governance",null,"Director Date of Cease to Act - 1",{"$f":"'Schedule V(a)'!E12","v":"00:00:00"}]
["Sch Va","Governance",null,"Director Date of Cease to Act - 2",{"$f":"'Schedule V(a)'!E13","v":"00:00:00"}]
["Sch Va","Governance",null,"Director Date of Cease to Act - 3",{"$f":"'Schedule V(a)'!E14","v":"00:00:00"}]
["Sch Va","Governance",null,"Director Date of Cease to Act - 4",{"$f":"'Schedule V(a)'!E15","v":"00:00:00"}]
["Sch Va","Governance",null,"Director Date of Cease to Act - 5",{"$f":"'Schedule V(a)'!E16","v":"00:00:00"}]
["Sch Va","Governance",null,"Director Date of Cease to Act - 6",{"$f":"'Schedule V(a)'!E17","v":"00:00:00"}]
["Sch Va","Governance",null,"Director Date of Cease to Act - 7",{"$f":"'Schedule V(a)'!E18","v":"00:00:00"}]
["Sch Va","Governance",null,"Director Date of Cease to Act - 8",{"$f":"'Schedule V(a)'!E19","v":"00:00:00"}]
["Sch Va","Governance",null,"Director Date of Cease to Act - 9",{"$f":"'Schedule V(a)'!E20","v":"00:00:00"}]
["Sch Va","Governance",null,"Director Date of Cease to Act - 10",{"$f":"'Schedule V(a)'!E21","v":"00:00:00"}]
["Sch Va","Governance",null,"Director Date of Cease to Act - 11",{"$f":"'Schedule V(a)'!E22","v":"00:00:00"}]
["Sch Va","Governance",null,"Director Date of Cease to Act - 12",{"$f":"'Schedule V(a)'!E23","v":"00:00:00"}]
["Sch Va","Governance",null,"Director Date of Cease to Act - 13",{"$f":"'Schedule V(a)'!E24","v":"00:00:00"}]
["Sch Va","Governance",null,"Director Date of Cease to Act - 14",{"$f":"'Schedule V(a)'!E25","v":"00:00:00"}]
["Sch Va","Governance",null,"Director Date of Cease to Act - 15",{"$f":"'Schedule V(a)'!E26","v":"00:00:00"}]
["Sch Va","Governance",null,"Director Date of Cease to Act - 16",{"$f":"'Schedule V(a)'!E27","v":"00:00:00"}]
["Sch Va","Governance",null,"Director Date of Cease to Act - 17",{"$f":"'Schedule V(a)'!E28","v":"00:00:00"}]
["Sch Va","Governance",null,"Director Date of Cease to Act - 18",{"$f":"'Schedule V(a)'!E29","v":"00:00:00"}]
["Sch Va","Governance",null,"Director Date of Cease to Act - 19",{"$f":"'Schedule V(a)'!E30","v":"00:00:00"}]
["Sch Va","Governance",null,"Director Date of Cease to Act - 20",{"$f":"'Schedule V(a)'!E31","v":"00:00:00"}]
["Sch Va","Governance",null,"Director Position - 1",{"$f":"'Schedule V(a)'!D12","v":0}]
["Sch Va","Governance",null,"Director Position - 2",{"$f":"'Schedule V(a)'!D13","v":0}]
["Sch Va","Governance",null,"Director Position - 3",{"$f":"'Schedule V(a)'!D14","v":0}]
["Sch Va","Governance",null,"Director Position - 4",{"$f":"'Schedule V(a)'!D15","v":0}]
["Sch Va","Governance",null,"Director Position - 5",{"$f":"'Schedule V(a)'!D16","v":0}]
["Sch Va","Governance",null,"Director Position - 6",{"$f":"'Schedule V(a)'!D17","v":0}]
["Sch Va","Governance",null,"Director Position - 7",{"$f":"'Schedule V(a)'!D18","v":0}]
["Sch Va","Governance",null,"Director Position - 8",{"$f":"'Schedule V(a)'!D19","v":0}]
["Sch Va","Governance",null,"Director Position - 9",{"$f":"'Schedule V(a)'!D20","v":0}]
["Sch Va","Governance",null,"Director Position - 10",{"$f":"'Schedule V(a)'!D21","v":0}]
["Sch Va","Governance",null,"Director Position - 11",{"$f":"'Schedule V(a)'!D22","v":0}]
["Sch Va","Governance",null,"Director Position - 12",{"$f":"'Schedule V(a)'!D23","v":0}]
["Sch Va","Governance",null,"Director Position - 13",{"$f":"'Schedule V(a)'!D24","v":0}]
["Sch Va","Governance",null,"Director Position - 14",{"$f":"'Schedule V(a)'!D25","v":0}]
["Sch Va","Governance",null,"Director Position - 15",{"$f":"'Schedule V(a)'!D26","v":0}]
["Sch Va","Governance",null,"Director Position - 16",{"$f":"'Schedule V(a)'!D27","v":0}]
["Sch Va","Governance",null,"Director Position - 17",{"$f":"'Schedule V(a)'!D28","v":0}]
["Sch Va","Governance",null,"Director Position - 18",{"$f":"'Schedule V(a)'!D29","v":0}]
["Sch Va","Governance",null,"Director Position - 19",{"$f":"'Schedule V(a)'!D30","v":0}]
["Sch Va","Governance",null,"Director Position - 20",{"$f":"'Schedule V(a)'!D31","v":0}]
["Sch Va","Governance",null,"Director Residence - 1",{"$f":"'Schedule V(a)'!F12","v":0}]
["Sch Va","Governance",null,"Director Residence - 2",{"$f":"'Schedule V(a)'!F13","v":0}]
["Sch Va","Governance",null,"Director Residence - 3",{"$f":"'Schedule V(a)'!F14","v":0}]
["Sch Va","Governance",null,"Director Residence - 4",{"$f":"'Schedule V(a)'!F15","v":0}]
["Sch Va","Governance",null,"Director Residence - 5",{"$f":"'Schedule V(a)'!F16","v":0}]
["Sch Va","Governance",null,"Director Residence - 6",{"$f":"'Schedule V(a)'!F17","v":0}]
["Sch Va","Governance",null,"Director Residence - 7",{"$f":"'Schedule V(a)'!F18","v":0}]
["Sch Va","Governance",null,"Director Residence - 8",{"$f":"'Schedule V(a)'!F19","v":0}]
["Sch Va","Governance",null,"Director Residence - 9",{"$f":"'Schedule V(a)'!F20","v":0}]
["Sch Va","Governance",null,"Director Residence - 10",{"$f":"'Schedule V(a)'!F21","v":0}]
["Sch Va","Governance",null,"Director Residence - 11",{"$f":"'Schedule V(a)'!F22","v":0}]
["Sch Va","Governance",null,"Director Residence - 12",{"$f":"'Schedule V(a)'!F23","v":0}]
["Sch Va","Governance",null,"Director Residence - 13",{"$f":"'Schedule V(a)'!F24","v":0}]
["Sch Va","Governance",null,"Director Residence - 14",{"$f":"'Schedule V(a)'!F25","v":0}]
["Sch Va","Governance",null,"Director Residence - 15",{"$f":"'Schedule V(a)'!F26","v":0}]
["Sch Va","Governance",null,"Director Residence - 16",{"$f":"'Schedule V(a)'!F27","v":0}]
["Sch Va","Governance",null,"Director Residence - 17",{"$f":"'Schedule V(a)'!F28","v":0}]
["Sch Va","Governance",null,"Director Residence - 18",{"$f":"'Schedule V(a)'!F29","v":0}]
["Sch Va","Governance",null,"Director Residence - 19",{"$f":"'Schedule V(a)'!F30","v":0}]
["Sch Va","Governance",null,"Director Residence - 20",{"$f":"'Schedule V(a)'!F31","v":0}]
["Sch Va","Governance",null,"Director Title / Position Held - 1",{"$f":"'Schedule V(a)'!G12","v":0}]
["Sch Va","Governance",null,"Director Title / Position Held - 2",{"$f":"'Schedule V(a)'!G13","v":0}]
["Sch Va","Governance",null,"Director Title / Position Held - 3",{"$f":"'Schedule V(a)'!G14","v":0}]
["Sch Va","Governance",null,"Director Title / Position Held - 4",{"$f":"'Schedule V(a)'!G15","v":0}]
["Sch Va","Governance",null,"Director Title / Position Held - 5",{"$f":"'Schedule V(a)'!G16","v":0}]
["Sch Va","Governance",null,"Director Title / Position Held - 6",{"$f":"'Schedule V(a)'!G17","v":0}]
["Sch Va","Governance",null,"Director Title / Position Held - 7",{"$f":"'Schedule V(a)'!G18","v":0}]
["Sch Va","Governance",null,"Director Title / Position Held - 8",{"$f":"'Schedule V(a)'!G19","v":0}]
["Sch Va","Governance",null,"Director Title / Position Held - 9",{"$f":"'Schedule V(a)'!G20","v":0}]
["Sch Va","Governance",null,"Director Title / Position Held - 10",{"$f":"'Schedule V(a)'!G21","v":0}]
["Sch Va","Governance",null,"Director Title / Position Held - 11",{"$f":"'Schedule V(a)'!G22","v":0}]
["Sch Va","Governance",null,"Director Title / Position Held - 12",{"$f":"'Schedule V(a)'!G23","v":0}]
["Sch Va","Governance",null,"Director Title / Position Held - 13",{"$f":"'Schedule V(a)'!G24","v":0}]
["Sch Va","Governance",null,"Director Title / Position Held - 14",{"$f":"'Schedule V(a)'!G25","v":0}]
["Sch Va","Governance",null,"Director Title / Position Held - 15",{"$f":"'Schedule V(a)'!G26","v":0}]
["Sch Va","Governance",null,"Director Title / Position Held - 16",{"$f":"'Schedule V(a)'!G27","v":0}]
["Sch Va","Governance",null,"Director Title / Position Held - 17",{"$f":"'Schedule V(a)'!G28","v":0}]
["Sch Va","Governance",null,"Director Title / Position Held - 18",{"$f":"'Schedule V(a)'!G29","v":0}]
["Sch Va","Governance",null,"Director Title / Position Held - 19",{"$f":"'Schedule V(a)'!G30","v":0}]
["Sch Va","Governance",null,"Director Title / Position Held - 20",{"$f":"'Schedule V(a)'!G31","v":0}]
["Sch Va","Governance",null,"Director Work Experience - 1"]
["Sch Va","Governance",null,"Director Work Experience - 2"]
["Sch Va","Governance",null,"Director Work Experience - 3"]
["Sch Va","Governance",null,"Director Work Experience - 4"]
["Sch Va","Governance",null,"Director Work Experience - 5"]
["Sch Va","Governance",null,"Director Work Experience - 6"]
["Sch Va","Governance",null,"Director Work Experience - 7"]
["Sch Va","Governance",null,"Director Work Experience - 8"]
["Sch Va","Governance",null,"Director Work Experience - 9"]
["Sch Va","Governance",null,"Director Work Experience - 10"]
["Sch Va","Governance",null,"Director Work Experience - 11"]
["Sch Va","Governance",null,"Director Work Experience - 12"]
["Sch Va","Governance",null,"Director Work Experience - 13"]
["Sch Va","Governance",null,"Director Work Experience - 14"]
["Sch Va","Governance",null,"Director Work Experience - 15"]
["Sch Va","Governance",null,"Director Work Experience - 16"]
["Sch Va","Governance",null,"Director Work Experience - 17"]
["Sch Va","Governance",null,"Director Work Experience - 18"]
["Sch Va","Governance",null,"Director Work Experience - 19"]
["Sch Va","Governance",null,"Director Work Experience - 20"]
["Sch Va","Governance",null,"Director Status on Board - 1",{"$f":"'Schedule V(a)'!H12","v":"Select"}]
["Sch Va","Governance",null,"Director Status on Board - 2",{"$f":"'Schedule V(a)'!H13","v":"Select"}]
["Sch Va","Governance",null,"Director Status on Board - 3",{"$f":"'Schedule V(a)'!H14","v":"Select"}]
["Sch Va","Governance",null,"Director Status on Board - 4",{"$f":"'Schedule V(a)'!H15","v":"Select"}]
["Sch Va","Governance",null,"Director Status on Board - 5",{"$f":"'Schedule V(a)'!H16","v":"Select"}]
["Sch Va","Governance",null,"Director Status on Board - 6",{"$f":"'Schedule V(a)'!H17","v":"Select"}]
["Sch Va","Governance",null,"Director Status on Board - 7",{"$f":"'Schedule V(a)'!H18","v":"Select"}]
["Sch Va","Governance",null,"Director Status on Board - 8",{"$f":"'Schedule V(a)'!H19","v":"Select"}]
["Sch Va","Governance",null,"Director Status on Board - 9",{"$f":"'Schedule V(a)'!H20","v":"Select"}]
["Sch Va","Governance",null,"Director Status on Board - 10",{"$f":"'Schedule V(a)'!H21","v":"Select"}]
["Sch Va","Governance",null,"Director Status on Board - 11",{"$f":"'Schedule V(a)'!H22","v":"Select"}]
["Sch Va","Governance",null,"Director Status on Board - 12",{"$f":"'Schedule V(a)'!H23","v":"Select"}]
["Sch Va","Governance",null,"Director Status on Board - 13",{"$f":"'Schedule V(a)'!H24","v":"Select"}]
["Sch Va","Governance",null,"Director Status on Board - 14",{"$f":"'Schedule V(a)'!H25","v":"Select"}]
["Sch Va","Governance",null,"Director Status on Board - 15",{"$f":"'Schedule V(a)'!H26","v":"Select"}]
["Sch Va","Governance",null,"Director Status on Board - 16",{"$f":"'Schedule V(a)'!H27","v":"Select"}]
["Sch Va","Governance",null,"Director Status on Board - 17",{"$f":"'Schedule V(a)'!H28","v":"Select"}]
["Sch Va","Governance",null,"Director Status on Board - 18",{"$f":"'Schedule V(a)'!H29","v":"Select"}]
["Sch Va","Governance",null,"Director Status on Board - 19",{"$f":"'Schedule V(a)'!H30","v":"Select"}]
["Sch Va","Governance",null,"Director Status on Board - 20",{"$f":"'Schedule V(a)'!H31","v":"Select"}]
["Sch Va","Governance",null,"# of Executives",{"$f":"'Schedule V(a)'!D33","v":0}]
["Sch Va","Governance",null,"Executive Name - 1",{"$f":"'Schedule V(a)'!C37","v":0}]
["Sch Va","Governance",null,"Executive Name - 2",{"$f":"'Schedule V(a)'!C38","v":0}]
["Sch Va","Governance",null,"Executive Name - 3",{"$f":"'Schedule V(a)'!C39","v":0}]
["Sch Va","Governance",null,"Executive Name - 4",{"$f":"'Schedule V(a)'!C40","v":0}]
["Sch Va","Governance",null,"Executive Name - 5",{"$f":"'Schedule V(a)'!C41","v":0}]
["Sch Va","Governance",null,"Executive Name - 6",{"$f":"'Schedule V(a)'!C42","v":0}]
["Sch Va","Governance",null,"Executive Name - 7",{"$f":"'Schedule V(a)'!C43","v":0}]
["Sch Va","Governance",null,"Executive Name - 8",{"$f":"'Schedule V(a)'!C44","v":0}]
["Sch Va","Governance",null,"Executive Name - 9",{"$f":"'Schedule V(a)'!C45","v":0}]
["Sch Va","Governance",null,"Executive Name - 10",{"$f":"'Schedule V(a)'!C46","v":0}]
["Sch Va","Governance",null,"Executive Name - 11",{"$f":"'Schedule V(a)'!C47","v":0}]
["Sch Va","Governance",null,"Executive Name - 12",{"$f":"'Schedule V(a)'!C48","v":0}]
["Sch Va","Governance",null,"Executive Name - 13",{"$f":"'Schedule V(a)'!C49","v":0}]
["Sch Va","Governance",null,"Executive Name - 14",{"$f":"'Schedule V(a)'!C50","v":0}]
["Sch Va","Governance",null,"Executive Name - 15",{"$f":"'Schedule V(a)'!C51","v":0}]
["Sch Va","Governance",null,"Executive Name - 16",{"$f":"'Schedule V(a)'!C52","v":0}]
["Sch Va","Governance",null,"Executive Name - 17",{"$f":"'Schedule V(a)'!C53","v":0}]
["Sch Va","Governance",null,"Executive Name - 18",{"$f":"'Schedule V(a)'!C54","v":0}]
["Sch Va","Governance",null,"Executive Name - 19",{"$f":"'Schedule V(a)'!C55","v":0}]
["Sch Va","Governance",null,"Executive Name - 20",{"$f":"'Schedule V(a)'!C56","v":0}]
["Sch Va","Governance",null,"Executive Date of Appointment - 1",{"$f":"'Schedule V(a)'!D37","v":"00:00:00"}]
["Sch Va","Governance",null,"Executive Date of Appointment - 2",{"$f":"'Schedule V(a)'!D38","v":"00:00:00"}]
["Sch Va","Governance",null,"Executive Date of Appointment - 3",{"$f":"'Schedule V(a)'!D39","v":"00:00:00"}]
["Sch Va","Governance",null,"Executive Date of Appointment - 4",{"$f":"'Schedule V(a)'!D40","v":"00:00:00"}]
["Sch Va","Governance",null,"Executive Date of Appointment - 5",{"$f":"'Schedule V(a)'!D41","v":"00:00:00"}]
["Sch Va","Governance",null,"Executive Date of Appointment - 6",{"$f":"'Schedule V(a)'!D42","v":"00:00:00"}]
["Sch Va","Governance",null,"Executive Date of Appointment - 7",{"$f":"'Schedule V(a)'!D43","v":"00:00:00"}]
["Sch Va","Governance",null,"Executive Date of Appointment - 8",{"$f":"'Schedule V(a)'!D44","v":"00:00:00"}]
["Sch Va","Governance",null,"Executive Date of Appointment - 9",{"$f":"'Schedule V(a)'!D45","v":"00:00:00"}]
["Sch Va","Governance",null,"Executive Date of Appointment - 10",{"$f":"'Schedule V(a)'!D46","v":"00:00:00"}]
["Sch Va","Governance",null,"Executive Date of Appointment - 11",{"$f":"'Schedule V(a)'!D47","v":"00:00:00"}]
["Sch Va","Governance",null,"Executive Date of Appointment - 12",{"$f":"'Schedule V(a)'!D48","v":"00:00:00"}]
["Sch Va","Governance",null,"Executive Date of Appointment - 13",{"$f":"'Schedule V(a)'!D49","v":"00:00:00"}]
["Sch Va","Governance",null,"Executive Date of Appointment - 14",{"$f":"'Schedule V(a)'!D50","v":"00:00:00"}]
["Sch Va","Governance",null,"Executive Date of Appointment - 15",{"$f":"'Schedule V(a)'!D51","v":"00:00:00"}]
["Sch Va","Governance",null,"Executive Date of Appointment - 16",{"$f":"'Schedule V(a)'!D52","v":"00:00:00"}]
["Sch Va","Governance",null,"Executive Date of Appointment - 17",{"$f":"'Schedule V(a)'!D53","v":"00:00:00"}]
["Sch Va","Governance",null,"Executive Date of Appointment - 18",{"$f":"'Schedule V(a)'!D54","v":"00:00:00"}]
["Sch Va","Governance",null,"Executive Date of Appointment - 19",{"$f":"'Schedule V(a)'!D55","v":"00:00:00"}]
["Sch Va","Governance",null,"Executive Date of Appointment - 20",{"$f":"'Schedule V(a)'!D56","v":"00:00:00"}]
["Sch Va","Governance",null,"Executive Date of Cease to Act - 1",{"$f":"'Schedule V(a)'!E37","v":"00:00:00"}]
["Sch Va","Governance",null,"Executive Date of Cease to Act - 2",{"$f":"'Schedule V(a)'!E38","v":"00:00:00"}]
["Sch Va","Governance",null,"Executive Date of Cease to Act - 3",{"$f":"'Schedule V(a)'!E39","v":"00:00:00"}]
["Sch Va","Governance",null,"Executive Date of Cease to Act - 4",{"$f":"'Schedule V(a)'!E40","v":"00:00:00"}]
["Sch Va","Governance",null,"Executive Date of Cease to Act - 5",{"$f":"'Schedule V(a)'!E41","v":"00:00:00"}]
["Sch Va","Governance",null,"Executive Date of Cease to Act - 6",{"$f":"'Schedule V(a)'!E42","v":"00:00:00"}]
["Sch Va","Governance",null,"Executive Date of Cease to Act - 7",{"$f":"'Schedule V(a)'!E43","v":"00:00:00"}]
["Sch Va","Governance",null,"Executive Date of Cease to Act - 8",{"$f":"'Schedule V(a)'!E44","v":"00:00:00"}]
["Sch Va","Governance",null,"Executive Date of Cease to Act - 9",{"$f":"'Schedule V(a)'!E45","v":"00:00:00"}]
["Sch Va","Governance",null,"Executive Date of Cease to Act - 10",{"$f":"'Schedule V(a)'!E46","v":"00:00:00"}]
["Sch Va","Governance",null,"Executive Date of Cease to Act - 11",{"$f":"'Schedule V(a)'!E47","v":"00:00:00"}]
["Sch Va","Governance",null,"Executive Date of Cease to Act - 12",{"$f":"'Schedule V(a)'!E48","v":"00:00:00"}]
["Sch Va","Governance",null,"Executive Date of Cease to Act - 13",{"$f":"'Schedule V(a)'!E49","v":"00:00:00"}]
["Sch Va","Governance",null,"Executive Date of Cease to Act - 14",{"$f":"'Schedule V(a)'!E50","v":"00:00:00"}]
["Sch Va","Governance",null,"Executive Date of Cease to Act - 15",{"$f":"'Schedule V(a)'!E51","v":"00:00:00"}]
["Sch Va","Governance",null,"Executive Date of Cease to Act - 16",{"$f":"'Schedule V(a)'!E52","v":"00:00:00"}]
["Sch Va","Governance",null,"Executive Date of Cease to Act - 17",{"$f":"'Schedule V(a)'!E53","v":"00:00:00"}]
["Sch Va","Governance",null,"Executive Date of Cease to Act - 18",{"$f":"'Schedule V(a)'!E54","v":"00:00:00"}]
["Sch Va","Governance",null,"Executive Date of Cease to Act - 19",{"$f":"'Schedule V(a)'!E55","v":"00:00:00"}]
["Sch Va","Governance",null,"Executive Date of Cease to Act - 20",{"$f":"'Schedule V(a)'!E56","v":"00:00:00"}]
["Sch Va","Governance",null,"Executive Position - 1",{"$f":"'Schedule V(a)'!D37","v":0}]
["Sch Va","Governance",null,"Executive Position - 2",{"$f":"'Schedule V(a)'!D38","v":0}]
["Sch Va","Governance",null,"Executive Position - 3",{"$f":"'Schedule V(a)'!D39","v":0}]
["Sch Va","Governance",null,"Executive Position - 4",{"$f":"'Schedule V(a)'!D40","v":0}]
["Sch Va","Governance",null,"Executive Position - 5",{"$f":"'Schedule V(a)'!D41","v":0}]
["Sch Va","Governance",null,"Executive Position - 6",{"$f":"'Schedule V(a)'!D42","v":0}]
["Sch Va","Governance",null,"Executive Position - 7",{"$f":"'Schedule V(a)'!D43","v":0}]
["Sch Va","Governance",null,"Executive Position - 8",{"$f":"'Schedule V(a)'!D44","v":0}]
["Sch Va","Governance",null,"Executive Position - 9",{"$f":"'Schedule V(a)'!D45","v":0}]
["Sch Va","Governance",null,"Executive Position - 10",{"$f":"'Schedule V(a)'!D46","v":0}]
["Sch Va","Governance",null,"Executive Position - 11",{"$f":"'Schedule V(a)'!D47","v":0}]
["Sch Va","Governance",null,"Executive Position - 12",{"$f":"'Schedule V(a)'!D48","v":0}]
["Sch Va","Governance",null,"Executive Position - 13",{"$f":"'Schedule V(a)'!D49","v":0}]
["Sch Va","Governance",null,"Executive Position - 14",{"$f":"'Schedule V(a)'!D50","v":0}]
["Sch Va","Governance",null,"Executive Position - 15",{"$f":"'Schedule V(a)'!D51","v":0}]
["Sch Va","Governance",null,"Executive Position - 16",{"$f":"'Schedule V(a)'!D52","v":0}]
["Sch Va","Governance",null,"Executive Position - 17",{"$f":"'Schedule V(a)'!D53","v":0}]
["Sch Va","Governance",null,"Executive Position - 18",{"$f":"'Schedule V(a)'!D54","v":0}]
["Sch Va","Governance",null,"Executive Position - 19",{"$f":"'Schedule V(a)'!D55","v":0}]
["Sch Va","Governance",null,"Executive Position - 20",{"$f":"'Schedule V(a)'!D56","v":0}]
["Sch Va","Governance",null,"Executive Residence - 1",{"$f":"'Schedule V(a)'!F37","v":0}]
["Sch Va","Governance",null,"Executive Residence - 2",{"$f":"'Schedule V(a)'!F38","v":0}]
["Sch Va","Governance",null,"Executive Residence - 3",{"$f":"'Schedule V(a)'!F39","v":0}]
["Sch Va","Governance",null,"Executive Residence - 4",{"$f":"'Schedule V(a)'!F40","v":0}]
["Sch Va","Governance",null,"Executive Residence - 5",{"$f":"'Schedule V(a)'!F41","v":0}]
["Sch Va","Governance",null,"Executive Residence - 6",{"$f":"'Schedule V(a)'!F42","v":0}]
["Sch Va","Governance",null,"Executive Residence - 7",{"$f":"'Schedule V(a)'!F43","v":0}]
["Sch Va","Governance",null,"Executive Residence - 8",{"$f":"'Schedule V(a)'!F44","v":0}]
["Sch Va","Governance",null,"Executive Residence - 9",{"$f":"'Schedule V(a)'!F45","v":0}]
["Sch Va","Governance",null,"Executive Residence - 10",{"$f":"'Schedule V(a)'!F46","v":0}]
["Sch Va","Governance",null,"Executive Residence - 11",{"$f":"'Schedule V(a)'!F47","v":0}]
["Sch Va","Governance",null,"Executive Residence - 12",{"$f":"'Schedule V(a)'!F48","v":0}]
["Sch Va","Governance",null,"Executive Residence - 13",{"$f":"'Schedule V(a)'!F49","v":0}]
["Sch Va","Governance",null,"Executive Residence - 14",{"$f":"'Schedule V(a)'!F50","v":0}]
["Sch Va","Governance",null,"Executive Residence - 15",{"$f":"'Schedule V(a)'!F51","v":0}]
["Sch Va","Governance",null,"Executive Residence - 16",{"$f":"'Schedule V(a)'!F52","v":0}]
["Sch Va","Governance",null,"Executive Residence - 17",{"$f":"'Schedule V(a)'!F53","v":0}]
["Sch Va","Governance",null,"Executive Residence - 18",{"$f":"'Schedule V(a)'!F54","v":0}]
["Sch Va","Governance",null,"Executive Residence - 19",{"$f":"'Schedule V(a)'!F55","v":0}]
["Sch Va","Governance",null,"Executive Residence - 20",{"$f":"'Schedule V(a)'!F56","v":0}]
["Sch Va","Governance",null,"Director Title / Position Held - 1",{"$f":"'Schedule V(a)'!G37","v":0}]
["Sch Va","Governance",null,"Director Title / Position Held - 2",{"$f":"'Schedule V(a)'!G38","v":0}]
["Sch Va","Governance",null,"Director Title / Position Held - 3",{"$f":"'Schedule V(a)'!G39","v":0}]
["Sch Va","Governance",null,"Director Title / Position Held - 4",{"$f":"'Schedule V(a)'!G40","v":0}]
["Sch Va","Governance",null,"Director Title / Position Held - 5",{"$f":"'Schedule V(a)'!G41","v":0}]
["Sch Va","Governance",null,"Director Title / Position Held - 6",{"$f":"'Schedule V(a)'!G42","v":0}]
["Sch Va","Governance",null,"Director Title / Position Held - 7",{"$f":"'Schedule V(a)'!G43","v":0}]
["Sch Va","Governance",null,"Director Title / Position Held - 8",{"$f":"'Schedule V(a)'!G44","v":0}]
["Sch Va","Governance",null,"Director Title / Position Held - 9",{"$f":"'Schedule V(a)'!G45","v":0}]
["Sch Va","Governance",null,"Director Title / Position Held - 10",{"$f":"'Schedule V(a)'!G46","v":0}]
["Sch Va","Governance",null,"Director Title / Position Held - 11",{"$f":"'Schedule V(a)'!G47","v":0}]
["Sch Va","Governance",null,"Director Title / Position Held - 12",{"$f":"'Schedule V(a)'!G48","v":0}]
["Sch Va","Governance",null,"Director Title / Position Held - 13",{"$f":"'Schedule V(a)'!G49","v":0}]
["Sch Va","Governance",null,"Director Title / Position Held - 14",{"$f":"'Schedule V(a)'!G50","v":0}]
["Sch Va","Governance",null,"Director Title / Position Held - 15",{"$f":"'Schedule V(a)'!G51","v":0}]
["Sch Va","Governance",null,"Director Title / Position Held - 16",{"$f":"'Schedule V(a)'!G52","v":0}]
["Sch Va","Governance",null,"Director Title / Position Held - 17",{"$f":"'Schedule V(a)'!G53","v":0}]
["Sch Va","Governance",null,"Director Title / Position Held - 18",{"$f":"'Schedule V(a)'!G54","v":0}]
["Sch Va","Governance",null,"Director Title / Position Held - 19",{"$f":"'Schedule V(a)'!G55","v":0}]
["Sch Va","Governance",null,"Director Title / Position Held - 20",{"$f":"'Schedule V(a)'!G56","v":0}]
["Sch Va","Governance",null,"Executive Work Experience - 1"]
["Sch Va","Governance",null,"Executive Work Experience - 2"]
["Sch Va","Governance",null,"Executive Work Experience - 3"]
["Sch Va","Governance",null,"Executive Work Experience - 4"]
["Sch Va","Governance",null,"Executive Work Experience - 5"]
["Sch Va","Governance",null,"Executive Work Experience - 6"]
["Sch Va","Governance",null,"Executive Work Experience - 7"]
["Sch Va","Governance",null,"Executive Work Experience - 8"]
["Sch Va","Governance",null,"Executive Work Experience - 9"]
["Sch Va","Governance",null,"Executive Work Experience - 10"]
["Sch Va","Governance",null,"Executive Work Experience - 11"]
["Sch Va","Governance",null,"Executive Work Experience - 12"]
["Sch Va","Governance",null,"Executive Work Experience - 13"]
["Sch Va","Governance",null,"Executive Work Experience - 14"]
["Sch Va","Governance",null,"Executive Work Experience - 15"]
["Sch Va","Governance",null,"Executive Work Experience - 16"]
["Sch Va","Governance",null,"Executive Work Experience - 17"]
["Sch Va","Governance",null,"Executive Work Experience - 18"]
["Sch Va","Governance",null,"Executive Work Experience - 19"]
["Sch Va","Governance",null,"Executive Work Experience - 20"]
["Sch Va","Governance",null,"Executive Employee Arrangement - 1",{"$f":"'Schedule V(a)'!H37","v":"Select"}]
["Sch Va","Governance",null,"Executive Employee Arrangement - 2",{"$f":"'Schedule V(a)'!H38","v":"Select"}]
["Sch Va","Governance",null,"Executive Employee Arrangement - 3",{"$f":"'Schedule V(a)'!H39","v":"Select"}]
["Sch Va","Governance",null,"Executive Employee Arrangement - 4",{"$f":"'Schedule V(a)'!H40","v":"Select"}]
["Sch Va","Governance",null,"Executive Employee Arrangement - 5",{"$f":"'Schedule V(a)'!H41","v":"Select"}]
["Sch Va","Governance",null,"Executive Employee Arrangement - 6",{"$f":"'Schedule V(a)'!H42","v":"Select"}]
["Sch Va","Governance",null,"Executive Employee Arrangement - 7",{"$f":"'Schedule V(a)'!H43","v":"Select"}]
["Sch Va","Governance",null,"Executive Employee Arrangement - 8",{"$f":"'Schedule V(a)'!H44","v":"Select"}]
["Sch Va","Governance",null,"Executive Employee Arrangement - 9",{"$f":"'Schedule V(a)'!H45","v":"Select"}]
["Sch Va","Governance",null,"Executive Employee Arrangement - 10",{"$f":"'Schedule V(a)'!H46","v":"Select"}]
["Sch Va","Governance",null,"Executive Employee Arrangement - 11",{"$f":"'Schedule V(a)'!H47","v":"Select"}]
["Sch Va","Governance",null,"Executive Employee Arrangement - 12",{"$f":"'Schedule V(a)'!H48","v":"Select"}]
["Sch Va","Governance",null,"Executive Employee Arrangement - 13",{"$f":"'Schedule V(a)'!H49","v":"Select"}]
["Sch Va","Governance",null,"Executive Employee Arrangement - 14",{"$f":"'Schedule V(a)'!H50","v":"Select"}]
["Sch Va","Governance",null,"Executive Employee Arrangement - 15",{"$f":"'Schedule V(a)'!H51","v":"Select"}]
["Sch Va","Governance",null,"Executive Employee Arrangement - 16",{"$f":"'Schedule V(a)'!H52","v":"Select"}]
["Sch Va","Governance",null,"Executive Employee Arrangement - 17",{"$f":"'Schedule V(a)'!H53","v":"Select"}]
["Sch Va","Governance",null,"Executive Employee Arrangement - 18",{"$f":"'Schedule V(a)'!H54","v":"Select"}]
["Sch Va","Governance",null,"Executive Employee Arrangement - 19",{"$f":"'Schedule V(a)'!H55","v":"Select"}]
["Sch Va","Governance",null,"Executive Employee Arrangement - 20",{"$f":"'Schedule V(a)'!H56","v":"Select"}]
["Sch Va","Governance",null,"Executive Responsibilities - 1",{"$f":"'Schedule V(a)'!I37","v":"Select"}]
["Sch Va","Governance",null,"Executive Responsibilities - 2",{"$f":"'Schedule V(a)'!I38","v":"Select"}]
["Sch Va","Governance",null,"Executive Responsibilities - 3",{"$f":"'Schedule V(a)'!I39","v":"Select"}]
["Sch Va","Governance",null,"Executive Responsibilities - 4",{"$f":"'Schedule V(a)'!I40","v":"Select"}]
["Sch Va","Governance",null,"Executive Responsibilities - 5",{"$f":"'Schedule V(a)'!I41","v":"Select"}]
["Sch Va","Governance",null,"Executive Responsibilities - 6",{"$f":"'Schedule V(a)'!I42","v":"Select"}]
["Sch Va","Governance",null,"Executive Responsibilities - 7",{"$f":"'Schedule V(a)'!I43","v":"Select"}]
["Sch Va","Governance",null,"Executive Responsibilities - 8",{"$f":"'Schedule V(a)'!I44","v":"Select"}]
["Sch Va","Governance",null,"Executive Responsibilities - 9",{"$f":"'Schedule V(a)'!I45","v":"Select"}]
["Sch Va","Governance",null,"Executive Responsibilities - 10",{"$f":"'Schedule V(a)'!I46","v":"Select"}]
["Sch Va","Governance",null,"Executive Responsibilities - 11",{"$f":"'Schedule V(a)'!I47","v":"Select"}]
["Sch Va","Governance",null,"Executive Responsibilities - 12",{"$f":"'Schedule V(a)'!I48","v":"Select"}]
["Sch Va","Governance",null,"Executive Responsibilities - 13",{"$f":"'Schedule V(a)'!I49","v":"Select"}]
["Sch Va","Governance",null,"Executive Responsibilities - 14",{"$f":"'Schedule V(a)'!I50","v":"Select"}]
["Sch Va","Governance",null,"Executive Responsibilities - 15",{"$f":"'Schedule V(a)'!I51","v":"Select"}]
["Sch Va","Governance",null,"Executive Responsibilities - 16",{"$f":"'Schedule V(a)'!I52","v":"Select"}]
["Sch Va","Governance",null,"Executive Responsibilities - 17",{"$f":"'Schedule V(a)'!I53","v":"Select"}]
["Sch Va","Governance",null,"Executive Responsibilities - 18",{"$f":"'Schedule V(a)'!I54","v":"Select"}]
["Sch Va","Governance",null,"Executive Responsibilities - 19",{"$f":"'Schedule V(a)'!I55","v":"Select"}]
["Sch Va","Governance",null,"Executive Responsibilities - 20",{"$f":"'Schedule V(a)'!I56","v":"Select"}]
["Sch Va","Governance",null,"Tax Residency outside of Bermuda",{"$f":"'Schedule V(a)'!H61","v":"Select Yes/No"}]
["Sch Va","Governance",null,"If Yes, Tax Residency Jurisdiction",{"$f":"'Schedule V(a)'!I61","v":"Select"}]
["Sch Va","Governance",null,"BOD Activity - Strategic Direction",{"$f":"'Schedule V(a)'!E65","v":"Select Yes/No"}]
["Sch Va","Governance",null,"BOD Activity - Risk Appetite",{"$f":"'Schedule V(a)'!E66","v":"Select Yes/No"}]
["Sch Va","Governance",null,"BOD Activity - LOB Decisions",{"$f":"'Schedule V(a)'!E67","v":"Select Yes/No"}]
["Sch Va","Governance",null,"BOD Activity - Solvency Req.",{"$f":"'Schedule V(a)'!E68","v":"Select Yes/No"}]
["Sch Va","Governance",null,"BOD Location - Strategic Direction",{"$f":"IF('Schedule V(a)'!F65=\"\",\"Bermuda\",'Schedule V(a)'!F65)","v":0}]
["Sch Va","Governance",null,"BOD Location - Risk Appetite",{"$f":"IF('Schedule V(a)'!F66=\"\",\"Bermuda\",'Schedule V(a)'!F66)","v":0}]
["Sch Va","Governance",null,"BOD Location - LOB Decisions",{"$f":"IF('Schedule V(a)'!F67=\"\",\"Bermuda\",'Schedule V(a)'!F67)","v":0}]
["Sch Va","Governance",null,"BOD Location - Solvency Req.",{"$f":"IF('Schedule V(a)'!F68=\"\",\"Bermuda\",'Schedule V(a)'!F68)","v":0}]
["Sch Va","Governance",null,"U/W - Operation in Bermuda",{"$f":"'Schedule V(a)'!E72","v":"Select Yes/No"}]
["Sch Va","Governance",null,"Risk Mgmt. - Operation in Bermuda",{"$f":"'Schedule V(a)'!E73","v":"Select Yes/No"}]
["Sch Va","Governance",null,"Inv. Strategy - Operation in Bermuda",{"$f":"'Schedule V(a)'!E74","v":"Select Yes/No"}]
["Sch Va","Governance",null,"Actuarial - Operation in Bermuda",{"$f":"'Schedule V(a)'!E75","v":"Select Yes/No"}]
["Sch Va","Governance",null,"Compliance - Operation in Bermuda",{"$f":"'Schedule V(a)'!E76","v":"Select Yes/No"}]
["Sch Va","Governance",null,"Int. Audit - Operation in Bermuda",{"$f":"'Schedule V(a)'!E77","v":"Select Yes/No"}]
["Sch Va","Governance",null,"U/W - Operation Location",{"$f":"IF('Schedule V(a)'!F72=\"\",\"Bermuda\",'Schedule V(a)'!F72)","v":0}]
["Sch Va","Governance",null,"Risk Mgmt. - Operation Location",{"$f":"IF('Schedule V(a)'!F73=\"\",\"Bermuda\",'Schedule V(a)'!F73)","v":0}]
["Sch Va","Governance",null,"Inv. Strategy - Operation Location",{"$f":"IF('Schedule V(a)'!F74=\"\",\"Bermuda\",'Schedule V(a)'!F74)","v":0}]
["Sch Va","Governance",null,"Actuarial - Operation Location",{"$f":"IF('Schedule V(a)'!F75=\"\",\"Bermuda\",'Schedule V(a)'!F75)","v":0}]
["Sch Va","Governance",null,"Compliance - Operation Location",{"$f":"IF('Schedule V(a)'!F76=\"\",\"Bermuda\",'Schedule V(a)'!F76)","v":0}]
["Sch Va","Governance",null,"Int. Audit - Operation Location",{"$f":"IF('Schedule V(a)'!F77=\"\",\"Bermuda\",'Schedule V(a)'!F77)","v":0}]
["Sch Va","Governance",null,"U/W - Outsourced",{"$f":"'Schedule V(a)'!H72","v":"Select Yes/No"}]
["Sch Va","Governance",null,"Risk Mgmt. - Outsourced",{"$f":"'Schedule V(a)'!H73","v":"Select Yes/No"}]
["Sch Va","Governance",null,"Inv. Strategy - Outsourced",{"$f":"'Schedule V(a)'!H74","v":"Select Yes/No"}]
["Sch Va","Governance",null,"Actuarial - Outsourced",{"$f":"'Schedule V(a)'!H75","v":"Select Yes/No"}]
["Sch Va","Governance",null,"Compliance - Outsourced",{"$f":"'Schedule V(a)'!H76","v":"Select Yes/No"}]
["Sch Va","Governance",null,"Int. Audit - Outsourced",{"$f":"'Schedule V(a)'!H77","v":"Select Yes/No"}]
["Sch Va","Governance",null,"U/W - Provider Type",{"$f":"'Schedule V(a)'!I72","v":"Select"}]
["Sch Va","Governance",null,"Risk Mgmt. - Provider Type",{"$f":"'Schedule V(a)'!I73","v":"Select"}]
["Sch Va","Governance",null,"Inv. Strategy - Provider Type",{"$f":"'Schedule V(a)'!I74","v":"Select"}]
["Sch Va","Governance",null,"Actuarial - Provider Type",{"$f":"'Schedule V(a)'!I75","v":"Select"}]
["Sch Va","Governance",null,"Compliance - Provider Type",{"$f":"'Schedule V(a)'!I76","v":"Select"}]
["Sch Va","Governance",null,"Int. Audit - Provider Type",{"$f":"'Schedule V(a)'!I77","v":"Select"}]
["Sch Va","Governance",null,"U/W - Name of Provider",{"$f":"'Schedule V(a)'!J72","v":0}]
["Sch Va","Governance",null,"Risk Mgmt. - Name of Provider",{"$f":"'Schedule V(a)'!J73","v":0}]
["Sch Va","Governance",null,"Inv. Strategy - Name of Provider",{"$f":"'Schedule V(a)'!J74","v":0}]
["Sch Va","Governance",null,"Actuarial - Name of Provider",{"$f":"'Schedule V(a)'!J75","v":0}]
["Sch Va","Governance",null,"Compliance - Name of Provider",{"$f":"'Schedule V(a)'!J76","v":0}]
["Sch Va","Governance",null,"Int. Audit - Name of Provider",{"$f":"'Schedule V(a)'!J77","v":0}]
["Sch Va","Governance",null,"Services Outsourced - Principal Rep.",{"$f":"'Schedule V(a)'!F81","v":"Select Yes/No"}]
["Sch Va","Governance",null,"Services Outsourced - Director/Board Member",{"$f":"'Schedule V(a)'!F82","v":"Select Yes/No"}]
["Sch Va","Governance",null,"Services Outsourced - Senior Officer",{"$f":"'Schedule V(a)'!F83","v":"Select Yes/No"}]
["Sch Va","Governance",null,"Services Outsourced - Accounting",{"$f":"'Schedule V(a)'!F84","v":"Select Yes/No"}]
["Sch Va","Governance",null,"Services Outsourced - Prep. SFR/Prudential",{"$f":"'Schedule V(a)'!F85","v":"Select Yes/No"}]
["Sch Va","Governance",null,"Services Outsourced - Underwriting",{"$f":"'Schedule V(a)'!F86","v":"Select Yes/No"}]
["Sch Va","Governance",null,"Services Outsourced - Claims Handling",{"$f":"'Schedule V(a)'!F87","v":"Select Yes/No"}]
["Sch Va","Governance",null,"Services Outsourced - Risk Mgmt.",{"$f":"'Schedule V(a)'!F88","v":"Select Yes/No"}]
["Sch Va","Governance",null,"Services Outsourced - Investment",{"$f":"'Schedule V(a)'!F89","v":"Select Yes/No"}]
["Sch Va","Governance",null,"Services Outsourced - Treasury",{"$f":"'Schedule V(a)'!F90","v":"Select Yes/No"}]
["Sch Va","Governance",null,"Services Outsourced - Actuarial",{"$f":"'Schedule V(a)'!F91","v":"Select Yes/No"}]
["Sch Va","Governance",null,"Services Outsourced - Internal Audit",{"$f":"'Schedule V(a)'!F92","v":"Select Yes/No"}]
["Sch Va","Governance",null,"Services Outsourced - Compliance",{"$f":"'Schedule V(a)'!F93","v":"Select Yes/No"}]
["Sch Va","Governance",null,"Services Outsourced - AML/ATF/Sanctions",{"$f":"'Schedule V(a)'!F94","v":"Select Yes/No"}]
["Sch Va","Governance",null,"Services Outsourced - Money Laundering Officer",{"$f":"'Schedule V(a)'!F95","v":"Select Yes/No"}]
["Sch Va","Governance",null,"Services Outsourced - Other",{"$f":"'Schedule V(a)'!D96","v":0}]
["Sch Va","Governance",null,"Services in BDA - Principal Rep.",{"$f":"'Schedule V(a)'!G81","v":"Select Yes/No"}]
["Sch Va","Governance",null,"Services in BDA - Director/Board Member",{"$f":"'Schedule V(a)'!G82","v":"Select Yes/No"}]
["Sch Va","Governance",null,"Services in BDA - Senior Officer",{"$f":"'Schedule V(a)'!G83","v":"Select Yes/No"}]
["Sch Va","Governance",null,"Services in BDA - Accounting",{"$f":"'Schedule V(a)'!G84","v":"Select Yes/No"}]
["Sch Va","Governance",null,"Services in BDA - Prep. SFR/Prudential",{"$f":"'Schedule V(a)'!G85","v":"Select Yes/No"}]
["Sch Va","Governance",null,"Services in BDA - Underwriting",{"$f":"'Schedule V(a)'!G86","v":"Select Yes/No"}]
["Sch Va","Governance",null,"Services in BDA - Claims Handling",{"$f":"'Schedule V(a)'!G87","v":"Select Yes/No"}]
["Sch Va","Governance",null,"Services in BDA - Risk Mgmt.",{"$f":"'Schedule V(a)'!G88","v":"Select Yes/No"}]
["Sch Va","Governance",null,"Services in BDA - Investment",{"$f":"'Schedule V(a)'!G89","v":"Select Yes/No"}]
["Sch Va","Governance",null,"Services in BDA - Treasury",{"$f":"'Schedule V(a)'!G90","v":"Select Yes/No"}]
["Sch Va","Governance",null,"Services in BDA - Actuarial",{"$f":"'Schedule V(a)'!G91","v":"Select Yes/No"}]
["Sch Va","Governance",null,"Services in BDA - Internal Audit",{"$f":"'Schedule V(a)'!G92","v":"Select Yes/No"}]
["Sch Va","Governance",null,"Services in BDA - Compliance",{"$f":"'Schedule V(a)'!G93","v":"Select Yes/No"}]
["Sch Va","Governance",null,"Services in BDA - AML/ATF/Sanctions",{"$f":"'Schedule V(a)'!G94","v":"Select Yes/No"}]
["Sch Va","Governance",null,"Services in BDA - Money Laundering Officer",{"$f":"'Schedule V(a)'!G95","v":"Select Yes/No"}]
["Sch Va","Governance",null,"Employees in BDA",{"$f":"'Schedule V(a)'!G98","v":0}]
["Sch Va","Governance",null,"Number of Employes in BDA - Senior Executive",{"$f":"'Schedule V(a)'!G101","v":0}]
["Sch Va","Governance",null,"Number of Employes in BDA - Senior Manager",{"$f":"'Schedule V(a)'!G102","v":0}]
["Sch Va","Governance",null,"Number of Employes in BDA - Technical Officer",{"$f":"'Schedule V(a)'!G103","v":0}]
["Sch Va","Governance",null,"Number of Employes in BDA - Admnistrative",{"$f":"'Schedule V(a)'!G104","v":0}]
["Sch Va","Governance",null,"7a Group BOD-Strat. Decision- Location",null,null,null,null,null,null,null,null,null,null,null,null,null,null,null,null,null,null,null,{"$f":"'Schedule V(a)'!G110","v":0}]
["Sch Va","Governance",null,"7b Group BOD-Risk Appet.- Location",null,null,null,null,null,null,null,null,null,null,null,null,null,null,null,null,null,null,null,{"$f":"'Schedule V(a)'!G111","v":0}]
["Sch Va","Governance",null,"7c Group BOD-Corp. Struct.- Location",null,null,null,null,null,null,null,null,null,null,null,null,null,null,null,null,null,null,null,{"$f":"'Schedule V(a)'!G112","v":0}]
["Sch Va","Governance",null,"7d Group BOD-LOB, Prod. & Mkt.- Location",null,null,null,null,null,null,null,null,null,null,null,null,null,null,null,null,null,null,null,{"$f":"'Schedule V(a)'!G113","v":0}]
["Sch Va","Governance",null,"7e Group BOD-Assess Solvency- Location",null,null,null,null,null,null,null,null,null,null,null,null,null,null,null,null,null,null,null,{"$f":"'Schedule V(a)'!G114","v":0}]
["Sch Va","Governance",null,"8. Group BOD - Reside",null,null,null,null,null,null,null,null,null,null,null,null,null,null,null,null,null,null,null,{"$f":"'Schedule V(a)'!G117","v":0}]
["Sch Va","Governance",null,"9. Group Control Function - Reside",null,null,null,null,null,null,null,null,null,null,null,null,null,null,null,null,null,null,null,{"$f":"'Schedule V(a)'!G120","v":0}]
["Sch Va","Governance",null,"10a Group's Total Assets",null,null,null,null,null,null,null,null,null,null,null,null,null,null,null,null,null,null,null,{"$f":"'Schedule V(a)'!G123","v":0}]
["Sch Va","Governance",null,"10b Group's Total Reserves",null,null,null,null,null,null,null,null,null,null,null,null,null,null,null,null,null,null,null,{"$f":"'Schedule V(a)'!G124","v":0}]
["Sch Va","Governance",null,"10c Group's Total Capital & Surplus",null,null,null,null,null,null,null,null,null,null,null,null,null,null,null,null,null,null,null,{"$f":"'Schedule V(a)'!G125","v":0}]
["Sch Va","Governance",null,"Name of Insurer - 1",null,null,null,null,null,null,null,null,null,null,null,null,null,null,null,null,null,null,null,{"$f":"'Schedule V(a)'!C130","v":0}]
["Sch Va","Governance",null,"Name of Insurer - 2",null,null,null,null,null,null,null,null,null,null,null,null,null,null,null,null,null,null,null,{"$f":"'Schedule V(a)'!C131","v":0}]
["Sch Va","Governance",null,"Name of Insurer - 3",null,null,null,null,null,null,null,null,null,null,null,null,null,null,null,null,null,null,null,{"$f":"'Schedule V(a)'!C132","v":0}]
["Sch Va","Governance",null,"Name of Insurer - 4",null,null,null,null,null,null,null,null,null,null,null,null,null,null,null,null,null,null,null,{"$f":"'Schedule V(a)'!C133","v":0}]
["Sch Va","Governance",null,"Name of Insurer - 5",null,null,null,null,null,null,null,null,null,null,null,null,null,null,null,null,null,null,null,{"$f":"'Schedule V(a)'!C134","v":0}]
["Sch Va","Governance",null,"Name of Insurer - 6",null,null,null,null,null,null,null,null,null,null,null,null,null,null,null,null,null,null,null,{"$f":"'Schedule V(a)'!C135","v":0}]
["Sch Va","Governance",null,"Name of Insurer - 7",null,null,null,null,null,null,null,null,null,null,null,null,null,null,null,null,null,null,null,{"$f":"'Schedule V(a)'!C136","v":0}]
["Sch Va","Governance",null,"Name of Insurer - 8",null,null,null,null,null,null,null,null,null,null,null,null,null,null,null,null,null,null,null,{"$f":"'Schedule V(a)'!C137","v":0}]
["Sch Va","Governance",null,"Name of Insurer - 9",null,null,null,null,null,null,null,null,null,null,null,null,null,null,null,null,null,null,null,{"$f":"'Schedule V(a)'!C138","v":0}]
["Sch Va","Governance",null,"Insurer Location - 1",null,null,null,null,null,null,null,null,null,null,null,null,null,null,null,null,null,null,null,{"$f":"'Schedule V(a)'!D130","v":0}]
["Sch Va","Governance",null,"Insurer Location - 2",null,null,null,null,null,null,null,null,null,null,null,null,null,null,null,null,null,null,null,{"$f":"'Schedule V(a)'!D131","v":0}]
["Sch Va","Governance",null,"Insurer Location - 3",null,null,null,null,null,null,null,null,null,null,null,null,null,null,null,null,null,null,null,{"$f":"'Schedule V(a)'!D132","v":0}]
["Sch Va","Governance",null,"Insurer Location - 4",null,null,null,null,null,null,null,null,null,null,null,null,null,null,null,null,null,null,null,{"$f":"'Schedule V(a)'!D133","v":0}]
["Sch Va","Governance",null,"Insurer Location - 5",null,null,null,null,null,null,null,null,null,null,null,null,null,null,null,null,null,null,null,{"$f":"'Schedule V(a)'!D134","v":0}]
["Sch Va","Governance",null,"Insurer Location - 6",null,null,null,null,null,null,null,null,null,null,null,null,null,null,null,null,null,null,null,{"$f":"'Schedule V(a)'!D135","v":0}]
["Sch Va","Governance",null,"Insurer Location - 7",null,null,null,null,null,null,null,null,null,null,null,null,null,null,null,null,null,null,null,{"$f":"'Schedule V(a)'!D136","v":0}]
["Sch Va","Governance",null,"Insurer Location - 8",null,null,null,null,null,null,null,null,null,null,null,null,null,null,null,null,null,null,null,{"$f":"'Schedule V(a)'!D137","v":0}]
["Sch Va","Governance",null,"Insurer Location - 9",null,null,null,null,null,null,null,null,null,null,null,null,null,null,null,null,null,null,null,{"$f":"'Schedule V(a)'!D138","v":{"$error":"#REF!"}}]
["Sch Va","Governance",null,"Insurer Asset - 1",null,null,null,null,null,null,null,null,null,null,null,null,null,null,null,null,null,null,null,{"$f":"'Schedule V(a)'!E130","v":{"$error":"#REF!"}}]
["Sch Va","Governance",null,"Insurer Asset - 2",null,null,null,null,null,null,null,null,null,null,null,null,null,null,null,null,null,null,null,{"$f":"'Schedule V(a)'!E131","v":{"$error":"#REF!"}}]
["Sch Va","Governance",null,"Insurer Asset - 3",null,null,null,null,null,null,null,null,null,null,null,null,null,null,null,null,null,null,null,{"$f":"'Schedule V(a)'!E132","v":{"$error":"#REF!"}}]
["Sch Va","Governance",null,"Insurer Asset - 4",null,null,null,null,null,null,null,null,null,null,null,null,null,null,null,null,null,null,null,{"$f":"'Schedule V(a)'!E133","v":{"$error":"#REF!"}}]
["Sch Va","Governance",null,"Insurer Asset - 5",null,null,null,null,null,null,null,null,null,null,null,null,null,null,null,null,null,null,null,{"$f":"'Schedule V(a)'!E134","v":{"$error":"#REF!"}}]
["Sch Va","Governance",null,"Insurer Asset - 6",null,null,null,null,null,null,null,null,null,null,null,null,null,null,null,null,null,null,null,{"$f":"'Schedule V(a)'!E135","v":{"$error":"#REF!"}}]
["Sch Va","Governance",null,"Insurer Asset - 7",null,null,null,null,null,null,null,null,null,null,null,null,null,null,null,null,null,null,null,{"$f":"'Schedule V(a)'!E136","v":{"$error":"#REF!"}}]
["Sch Va","Governance",null,"Insurer Asset - 8",null,null,null,null,null,null,null,null,null,null,null,null,null,null,null,null,null,null,null,{"$f":"'Schedule V(a)'!E137","v":{"$error":"#REF!"}}]
["Sch Va","Governance",null,"Insurer Asset - 9",null,null,null,null,null,null,null,null,null,null,null,null,null,null,null,null,null,null,null,{"$f":"'Schedule V(a)'!E138","v":{"$error":"#REF!"}}]
["Sch Va","Governance",null,"Insurer Reserve - 1",null,null,null,null,null,null,null,null,null,null,null,null,null,null,null,null,null,null,null,{"$f":"'Schedule V(a)'!F130","v":{"$error":"#REF!"}}]
["Sch Va","Governance",null,"Insurer Reserve - 2",null,null,null,null,null,null,null,null,null,null,null,null,null,null,null,null,null,null,null,{"$f":"'Schedule V(a)'!F131","v":{"$error":"#REF!"}}]
["Sch Va","Governance",null,"Insurer Reserve - 3",null,null,null,null,null,null,null,null,null,null,null,null,null,null,null,null,null,null,null,{"$f":"'Schedule V(a)'!F132","v":{"$error":"#REF!"}}]
["Sch Va","Governance",null,"Insurer Reserve - 4",null,null,null,null,null,null,null,null,null,null,null,null,null,null,null,null,null,null,null,{"$f":"'Schedule V(a)'!F133","v":{"$error":"#REF!"}}]
["Sch Va","Governance",null,"Insurer Reserve - 5",null,null,null,null,null,null,null,null,null,null,null,null,null,null,null,null,null,null,null,{"$f":"'Schedule V(a)'!F134","v":{"$error":"#REF!"}}]
["Sch Va","Governance",null,"Insurer Reserve - 6",null,null,null,null,null,null,null,null,null,null,null,null,null,null,null,null,null,null,null,{"$f":"'Schedule V(a)'!F135","v":{"$error":"#REF!"}}]
["Sch Va","Governance",null,"Insurer Reserve - 7",null,null,null,null,null,null,null,null,null,null,null,null,null,null,null,null,null,null,null,{"$f":"'Schedule V(a)'!F136","v":{"$error":"#REF!"}}]
["Sch Va","Governance",null,"Insurer Reserve - 8",null,null,null,null,null,null,null,null,null,null,null,null,null,null,null,null,null,null,null,{"$f":"'Schedule V(a)'!F137","v":{"$error":"#REF!"}}]
["Sch Va","Governance",null,"Insurer Reserve - 9",null,null,null,null,null,null,null,null,null,null,null,null,null,null,null,null,null,null,null,{"$f":"'Schedule V(a)'!F138","v":{"$error":"#REF!"}}]
["Sch Va","Governance",null,"Insurer Capital & Surplus - 1",null,null,null,null,null,null,null,null,null,null,null,null,null,null,null,null,null,null,null,{"$f":"'Schedule V(a)'!G130","v":{"$error":"#REF!"}}]
["Sch Va","Governance",null,"Insurer Capital & Surplus - 2",null,null,null,null,null,null,null,null,null,null,null,null,null,null,null,null,null,null,null,{"$f":"'Schedule V(a)'!G131","v":{"$error":"#REF!"}}]
["Sch Va","Governance",null,"Insurer Capital & Surplus - 3",null,null,null,null,null,null,null,null,null,null,null,null,null,null,null,null,null,null,null,{"$f":"'Schedule V(a)'!G132","v":{"$error":"#REF!"}}]
["Sch Va","Governance",null,"Insurer Capital & Surplus - 4",null,null,null,null,null,null,null,null,null,null,null,null,null,null,null,null,null,null,null,{"$f":"'Schedule V(a)'!G133","v":{"$error":"#REF!"}}]
["Sch Va","Governance",null,"Insurer Capital & Surplus - 5",null,null,null,null,null,null,null,null,null,null,null,null,null,null,null,null,null,null,null,{"$f":"'Schedule V(a)'!G134","v":{"$error":"#REF!"}}]
["Sch Va","Governance",null,"Insurer Capital & Surplus - 6",null,null,null,null,null,null,null,null,null,null,null,null,null,null,null,null,null,null,null,{"$f":"'Schedule V(a)'!G135","v":{"$error":"#REF!"}}]
["Sch Va","Governance",null,"Insurer Capital & Surplus - 7",null,null,null,null,null,null,null,null,null,null,null,null,null,null,null,null,null,null,null,{"$f":"'Schedule V(a)'!G136","v":{"$error":"#REF!"}}]
["Sch Va","Governance",null,"Insurer Capital & Surplus - 8",null,null,null,null,null,null,null,null,null,null,null,null,null,null,null,null,null,null,null,{"$f":"'Schedule V(a)'!G137","v":{"$error":"#REF!"}}]
["Sch Va","Governance",null,"Insurer Capital & Surplus - 9",null,null,null,null,null,null,null,null,null,null,null,null,null,null,null,null,null,null,null,{"$f":"'Schedule V(a)'!G138","v":{"$error":"#REF!"}}]
["Sch Va","Governance",null,"12 Subsequent Events",{"$f":"'Schedule V(a)'!C142","v":0}]
[]
["Sch Ve","Scenario Tests",null,"R1 Scenario - Assets",null,null,null,null,null,null,null,null,null,null,null,null,null,null,null,null,null,null,null,{"$f":"'Schedule V(e)'!F12","v":0}]
["Sch Ve","Scenario Tests",null,"R2 Scenario - Assets",null,null,null,null,null,null,null,null,null,null,null,null,null,null,null,null,null,null,null,{"$f":"'Schedule V(e)'!F13","v":0}]
["Sch Ve","Scenario Tests",null,"R3 Scenario - Assets",null,null,null,null,null,null,null,null,null,null,null,null,null,null,null,null,null,null,null,{"$f":"'Schedule V(e)'!F14","v":0}]
["Sch Ve","Scenario Tests",null,"R4 Scenario - Assets",null,null,null,null,null,null,null,null,null,null,null,null,null,null,null,null,null,null,null,{"$f":"'Schedule V(e)'!F15","v":0}]
["Sch Ve","Scenario Tests",null,"R5 Scenario - Assets",null,null,null,null,null,null,null,null,null,null,null,null,null,null,null,null,null,null,null,{"$f":"'Schedule V(e)'!F16","v":0}]
["Sch Ve","Scenario Tests",null,"R6 Scenario - Assets",null,null,null,null,null,null,null,null,null,null,null,null,null,null,null,null,null,null,null,{"$f":"'Schedule V(e)'!F17","v":0}]
["Sch Ve","Scenario Tests",null,"R7 Scenario - Assets",null,null,null,null,null,null,null,null,null,null,null,null,null,null,null,null,null,null,null,{"$f":"'Schedule V(e)'!F18","v":0}]
["Sch Ve","Scenario Tests",null,"R8 Scenario - Assets",null,null,null,null,null,null,null,null,null,null,null,null,null,null,null,null,null,null,null,{"$f":"'Schedule V(e)'!F19","v":0}]
["Sch Ve","Scenario Tests",null,"R1 Scenario - Liabilities",null,null,null,null,null,null,null,null,null,null,null,null,null,null,null,null,null,null,null,{"$f":"'Schedule V(e)'!G12","v":0}]
["Sch Ve","Scenario Tests",null,"R2 Scenario - Liabilities",null,null,null,null,null,null,null,null,null,null,null,null,null,null,null,null,null,null,null,{"$f":"'Schedule V(e)'!G13","v":0}]
["Sch Ve","Scenario Tests",null,"R3 Scenario - Liabilities",null,null,null,null,null,null,null,null,null,null,null,null,null,null,null,null,null,null,null,{"$f":"'Schedule V(e)'!G14","v":0}]
["Sch Ve","Scenario Tests",null,"R4 Scenario - Liabilities",null,null,null,null,null,null,null,null,null,null,null,null,null,null,null,null,null,null,null,{"$f":"'Schedule V(e)'!G15","v":0}]
["Sch Ve","Scenario Tests",null,"R5 Scenario - Liabilities",null,null,null,null,null,null,null,null,null,null,null,null,null,null,null,null,null,null,null,{"$f":"'Schedule V(e)'!G16","v":0}]
["Sch Ve","Scenario Tests",null,"R6 Scenario - Liabilities",null,null,null,null,null,null,null,null,null,null,null,null,null,null,null,null,null,null,null,{"$f":"'Schedule V(e)'!G17","v":0}]
["Sch Ve","Scenario Tests",null,"R7 Scenario - Liabilities",null,null,null,null,null,null,null,null,null,null,null,null,null,null,null,null,null,null,null,{"$f":"'Schedule V(e)'!G18","v":0}]
["Sch Ve","Scenario Tests",null,"R8 Scenario - Liabilities",null,null,null,null,null,null,null,null,null,null,null,null,null,null,null,null,null,null,null,{"$f":"'Schedule V(e)'!G19","v":0}]
["Sch Ve","Scenario Tests",null,"R5 - Greece",null,null,null,null,null,null,null,null,null,null,null,null,null,null,null,null,null,null,null,{"$f":"'Schedule V(e)'!E22","v":0}]
["Sch Ve","Scenario Tests",null,"R5 - Italy",null,null,null,null,null,null,null,null,null,null,null,null,null,null,null,null,null,null,null,{"$f":"'Schedule V(e)'!F22","v":0}]
["Sch Ve","Scenario Tests",null,"R5 - Portugal",null,null,null,null,null,null,null,null,null,null,null,null,null,null,null,null,null,null,null,{"$f":"'Schedule V(e)'!G22","v":0}]
["Sch Ve","Scenario Tests",null,"R5 - Ukraine",null,null,null,null,null,null,null,null,null,null,null,null,null,null,null,null,null,null,null,{"$f":"'Schedule V(e)'!H22","v":0}]
["Sch Ve","Scenario Tests",null,"R5 - Argentina",null,null,null,null,null,null,null,null,null,null,null,null,null,null,null,null,null,null,null,{"$f":"'Schedule V(e)'!I22","v":0}]
["Sch Ve","Scenario Tests",null,"R5 - Turkey",null,null,null,null,null,null,null,null,null,null,null,null,null,null,null,null,null,null,null,{"$f":"'Schedule V(e)'!J22","v":0}]
["Sch Ve","Scenario Tests",null,"Mortgage Loan - Shock 1 Rate",null,null,null,null,null,null,null,null,null,null,null,null,null,null,null,null,null,null,null,{"$f":"'Schedule V(e)'!D26","v":"Select"}]
["Sch Ve","Scenario Tests",null,"Mortgage Loan - Shock 2 Rate",null,null,null,null,null,null,null,null,null,null,null,null,null,null,null,null,null,null,null,{"$f":"'Schedule V(e)'!D27","v":"Select"}]
["Sch Ve","Scenario Tests",null,"Mortgage Loan - Shock 1 Assets",null,null,null,null,null,null,null,null,null,null,null,null,null,null,null,null,null,null,null,{"$f":"'Schedule V(e)'!F26","v":0}]
["Sch Ve","Scenario Tests",null,"Mortgage Loan - Shock 2 Assets",null,null,null,null,null,null,null,null,null,null,null,null,null,null,null,null,null,null,null,{"$f":"'Schedule V(e)'!F27","v":0}]
["Sch Ve","Scenario Tests",null,"Mortgage Loan - Shock 1 Liabilities",null,null,null,null,null,null,null,null,null,null,null,null,null,null,null,null,null,null,null,{"$f":"'Schedule V(e)'!G26","v":0}]
["Sch Ve","Scenario Tests",null,"Mortgage Loan - Shock 2 Liabilities",null,null,null,null,null,null,null,null,null,null,null,null,null,null,null,null,null,null,null,{"$f":"'Schedule V(e)'!G27","v":0}]
["Sch Ve","Scenario Tests",null,"Mortgage Loan - GPW - Related - Insurance - US",null,null,null,null,null,null,null,null,null,null,null,null,null,null,null,null,null,null,null,{"$f":"'Schedule V(e)'!D31","v":0}]
["Sch Ve","Scenario Tests",null,"Mortgage Loan - GPW - Related - R/I - US",null,null,null,null,null,null,null,null,null,null,null,null,null,null,null,null,null,null,null,{"$f":"'Schedule V(e)'!D32","v":0}]
["Sch Ve","Scenario Tests",null,"Mortgage Loan - GPW - Related - Insurance - Other",null,null,null,null,null,null,null,null,null,null,null,null,null,null,null,null,null,null,null,{"$f":"'Schedule V(e)'!D33","v":0}]
["Sch Ve","Scenario Tests",null,"Mortgage Loan - GPW - Related - R/I - Other",null,null,null,null,null,null,null,null,null,null,null,null,null,null,null,null,null,null,null,{"$f":"'Schedule V(e)'!D34","v":0}]
["Sch Ve","Scenario Tests",null,"Mortgage Loan - GPW - Related - Total",null,null,null,null,null,null,null,null,null,null,null,null,null,null,null,null,null,null,null,{"$f":"'Schedule V(e)'!D35","v":0}]
["Sch Ve","Scenario Tests",null,"Mortgage Loan - GPW - Unrelated - Insurance - US",null,null,null,null,null,null,null,null,null,null,null,null,null,null,null,null,null,null,null,{"$f":"'Schedule V(e)'!E31","v":0}]
["Sch Ve","Scenario Tests",null,"Mortgage Loan - GPW - Unrelated - R/I - US",null,null,null,null,null,null,null,null,null,null,null,null,null,null,null,null,null,null,null,{"$f":"'Schedule V(e)'!E32","v":0}]
["Sch Ve","Scenario Tests",null,"Mortgage Loan - GPW - Unrelated - Insurance - Other",null,null,null,null,null,null,null,null,null,null,null,null,null,null,null,null,null,null,null,{"$f":"'Schedule V(e)'!E33","v":0}]
["Sch Ve","Scenario Tests",null,"Mortgage Loan - GPW - Unrelated - R/I - Other",null,null,null,null,null,null,null,null,null,null,null,null,null,null,null,null,null,null,null,{"$f":"'Schedule V(e)'!E34","v":0}]
["Sch Ve","Scenario Tests",null,"Mortgage Loan - GPW - Unrelated - Total",null,null,null,null,null,null,null,null,null,null,null,null,null,null,null,null,null,null,null,{"$f":"'Schedule V(e)'!E35","v":0}]
["Sch Ve","Scenario Tests",null,"Mortgage Loan - NPW - Related - Insurance - US",null,null,null,null,null,null,null,null,null,null,null,null,null,null,null,null,null,null,null,{"$f":"'Schedule V(e)'!F31","v":0}]
["Sch Ve","Scenario Tests",null,"Mortgage Loan - NPW - Related - R/I - US",null,null,null,null,null,null,null,null,null,null,null,null,null,null,null,null,null,null,null,{"$f":"'Schedule V(e)'!F32","v":0}]
["Sch Ve","Scenario Tests",null,"Mortgage Loan - NPW - Related - Insurance - Other",null,null,null,null,null,null,null,null,null,null,null,null,null,null,null,null,null,null,null,{"$f":"'Schedule V(e)'!F33","v":0}]
["Sch Ve","Scenario Tests",null,"Mortgage Loan - NPW - Related - R/I - Other",null,null,null,null,null,null,null,null,null,null,null,null,null,null,null,null,null,null,null,{"$f":"'Schedule V(e)'!F34","v":0}]
["Sch Ve","Scenario Tests",null,"Mortgage Loan - NPW - Related - Total",null,null,null,null,null,null,null,null,null,null,null,null,null,null,null,null,null,null,null,{"$f":"'Schedule V(e)'!F35","v":0}]
["Sch Ve","Scenario Tests",null,"Mortgage Loan - NPW - Unrelated - Insurance - US",null,null,null,null,null,null,null,null,null,null,null,null,null,null,null,null,null,null,null,{"$f":"'Schedule V(e)'!G31","v":0}]
["Sch Ve","Scenario Tests",null,"Mortgage Loan - NPW - Unrelated - R/I - US",null,null,null,null,null,null,null,null,null,null,null,null,null,null,null,null,null,null,null,{"$f":"'Schedule V(e)'!G32","v":0}]
["Sch Ve","Scenario Tests",null,"Mortgage Loan - NPW - Unrelated - Insurance - Other",null,null,null,null,null,null,null,null,null,null,null,null,null,null,null,null,null,null,null,{"$f":"'Schedule V(e)'!G33","v":0}]
["Sch Ve","Scenario Tests",null,"Mortgage Loan - NPW - Unrelated - R/I - Other",null,null,null,null,null,null,null,null,null,null,null,null,null,null,null,null,null,null,null,{"$f":"'Schedule V(e)'!G34","v":0}]
["Sch Ve","Scenario Tests",null,"Mortgage Loan - NPW - Unrelated - Total",null,null,null,null,null,null,null,null,null,null,null,null,null,null,null,null,null,null,null,{"$f":"'Schedule V(e)'!G35","v":0}]
["Sch Ve","Scenario Tests",null,"Mortgage Loan - Claims - Related - Insurance - US",null,null,null,null,null,null,null,null,null,null,null,null,null,null,null,null,null,null,null,{"$f":"'Schedule V(e)'!H31","v":0}]
["Sch Ve","Scenario Tests",null,"Mortgage Loan - Claims - Related - R/I - US",null,null,null,null,null,null,null,null,null,null,null,null,null,null,null,null,null,null,null,{"$f":"'Schedule V(e)'!H32","v":0}]
["Sch Ve","Scenario Tests",null,"Mortgage Loan - Claims - Related - Insurance - Other",null,null,null,null,null,null,null,null,null,null,null,null,null,null,null,null,null,null,null,{"$f":"'Schedule V(e)'!H33","v":0}]
["Sch Ve","Scenario Tests",null,"Mortgage Loan - Claims - Related - R/I - Other",null,null,null,null,null,null,null,null,null,null,null,null,null,null,null,null,null,null,null,{"$f":"'Schedule V(e)'!H34","v":0}]
["Sch Ve","Scenario Tests",null,"Mortgage Loan - Claims - Related - Total",null,null,null,null,null,null,null,null,null,null,null,null,null,null,null,null,null,null,null,{"$f":"'Schedule V(e)'!H35","v":0}]
["Sch Ve","Scenario Tests",null,"Mortgage Loan - Claims - Unrelated - Insurance - US",null,null,null,null,null,null,null,null,null,null,null,null,null,null,null,null,null,null,null,{"$f":"'Schedule V(e)'!I31","v":0}]
["Sch Ve","Scenario Tests",null,"Mortgage Loan - Claims - Unrelated - R/I - US",null,null,null,null,null,null,null,null,null,null,null,null,null,null,null,null,null,null,null,{"$f":"'Schedule V(e)'!I32","v":0}]
["Sch Ve","Scenario Tests",null,"Mortgage Loan - Claims - Unrelated - Insurance - Other",null,null,null,null,null,null,null,null,null,null,null,null,null,null,null,null,null,null,null,{"$f":"'Schedule V(e)'!I33","v":0}]
["Sch Ve","Scenario Tests",null,"Mortgage Loan - Claims - Unrelated - R/I - Other",null,null,null,null,null,null,null,null,null,null,null,null,null,null,null,null,null,null,null,{"$f":"'Schedule V(e)'!I34","v":0}]
["Sch Ve","Scenario Tests",null,"Mortgage Loan - Claims - Unrelated - Total",null,null,null,null,null,null,null,null,null,null,null,null,null,null,null,null,null,null,null,{"$f":"'Schedule V(e)'!I35","v":0}]
["Sch Ve","Scenario Tests",null,"Mortgage Loan - Reserves - Related - Insurance - US",null,null,null,null,null,null,null,null,null,null,null,null,null,null,null,null,null,null,null,{"$f":"'Schedule V(e)'!J31","v":0}]
["Sch Ve","Scenario Tests",null,"Mortgage Loan - Reserves - Related - R/I - US",null,null,null,null,null,null,null,null,null,null,null,null,null,null,null,null,null,null,null,{"$f":"'Schedule V(e)'!J32","v":0}]
["Sch Ve","Scenario Tests",null,"Mortgage Loan - Reserves - Related - Insurance - Other",null,null,null,null,null,null,null,null,null,null,null,null,null,null,null,null,null,null,null,{"$f":"'Schedule V(e)'!J33","v":0}]
["Sch Ve","Scenario Tests",null,"Mortgage Loan - Reserves - Related - R/I - Other",null,null,null,null,null,null,null,null,null,null,null,null,null,null,null,null,null,null,null,{"$f":"'Schedule V(e)'!J34","v":0}]
["Sch Ve","Scenario Tests",null,"Mortgage Loan - Reserves - Related - Total",null,null,null,null,null,null,null,null,null,null,null,null,null,null,null,null,null,null,null,{"$f":"'Schedule V(e)'!J35","v":0}]
["Sch Ve","Scenario Tests",null,"Mortgage Loan - Reserves - Unrelated - Insurance - US",null,null,null,null,null,null,null,null,null,null,null,null,null,null,null,null,null,null,null,{"$f":"'Schedule V(e)'!K31","v":0}]
["Sch Ve","Scenario Tests",null,"Mortgage Loan - Reserves - Unrelated - R/I - US",null,null,null,null,null,null,null,null,null,null,null,null,null,null,null,null,null,null,null,{"$f":"'Schedule V(e)'!K32","v":0}]
["Sch Ve","Scenario Tests",null,"Mortgage Loan - Reserves - Unrelated - Insurance - Other",null,null,null,null,null,null,null,null,null,null,null,null,null,null,null,null,null,null,null,{"$f":"'Schedule V(e)'!K33","v":0}]
["Sch Ve","Scenario Tests",null,"Mortgage Loan - Reserves - Unrelated - R/I - Other",null,null,null,null,null,null,null,null,null,null,null,null,null,null,null,null,null,null,null,{"$f":"'Schedule V(e)'!K34","v":0}]
["Sch Ve","Scenario Tests",null,"Mortgage Loan - Reserves - Unrelated - Total",null,null,null,null,null,null,null,null,null,null,null,null,null,null,null,null,null,null,null,{"$f":"'Schedule V(e)'!K35","v":0}]
["Sch Ve","Scenario Tests",null,"Mortgage Loan - Insurance in Force",null,null,null,null,null,null,null,null,null,null,null,null,null,null,null,null,null,null,null,{"$f":"'Schedule V(e)'!D39","v":0}]
["Sch Ve","Scenario Tests",null,"Mortgage Loan - Risk in Force",null,null,null,null,null,null,null,null,null,null,null,null,null,null,null,null,null,null,null,{"$f":"'Schedule V(e)'!E39","v":0}]
["Sch Ve","Scenario Tests",null,"Mortgage Loan - Capital Held - Internal",null,null,null,null,null,null,null,null,null,null,null,null,null,null,null,null,null,null,null,{"$f":"'Schedule V(e)'!F39","v":0}]
["Sch Ve","Scenario Tests",null,"Mortgage Loan - Capital Held - External",null,null,null,null,null,null,null,null,null,null,null,null,null,null,null,null,null,null,null,{"$f":"'Schedule V(e)'!G39","v":0}]
["Sch Ve","Scenario Tests",null,"Mortgage Loan - Collateral Posted",null,null,null,null,null,null,null,null,null,null,null,null,null,null,null,null,null,null,null,{"$f":"'Schedule V(e)'!I39","v":0}]
["Sch Ve","Scenario Tests",null,"Mortgage Loan - # of Policies in Force",null,null,null,null,null,null,null,null,null,null,null,null,null,null,null,null,null,null,null,{"$f":"'Schedule V(e)'!J39","v":0}]
["Sch Ve","Scenario Tests",null,"Mortgage Loan - Loss Ratio",null,null,null,null,null,null,null,null,null,null,null,null,null,null,null,null,null,null,null,{"$f":"'Schedule V(e)'!K39","v":0}]
["Sch Ve","Scenario Tests",null,"Mortgage Loan - Combined Ratio",null,null,null,null,null,null,null,null,null,null,null,null,null,null,null,null,null,null,null,{"$f":"'Schedule V(e)'!L39","v":0}]
["Sch Ve","Scenario Tests",null,"Mortgage Loan - Weighted Average LTV",null,null,null,null,null,null,null,null,null,null,null,null,null,null,null,null,null,null,null,{"$f":"'Schedule V(e)'!M39","v":0}]
["Sch Ve","Scenario Tests",null,"Mortgage Loan - Weighted Average FICO Score",null,null,null,null,null,null,null,null,null,null,null,null,null,null,null,null,null,null,null,{"$f":"'Schedule V(e)'!N39","v":0}]
["Sch Ve","Scenario Tests",null,"UW1. Gross Loss ",null,null,null,null,null,null,null,null,null,null,null,null,null,null,null,null,null,null,null,{"$f":"Import!P1052","v":0}]
["Sch Ve","Scenario Tests",null,"UW2. Gross Loss ",null,null,null,null,null,null,null,null,null,null,null,null,null,null,null,null,null,null,null,{"$f":"Import!P1053","v":0}]
["Sch Ve","Scenario Tests",null,"UW3. Gross Loss ",null,null,null,null,null,null,null,null,null,null,null,null,null,null,null,null,null,null,null,{"$f":"Import!P1054","v":0}]
["Sch Ve","Scenario Tests",null,"UW4. Gross Loss ",null,null,null,null,null,null,null,null,null,null,null,null,null,null,null,null,null,null,null,{"$f":"Import!P1055","v":0}]
["Sch Ve","Scenario Tests",null,"UW5. Gross Loss ",null,null,null,null,null,null,null,null,null,null,null,null,null,null,null,null,null,null,null,{"$f":"Import!P1056","v":0}]
["Sch Ve","Scenario Tests",null,"UE1. Gross Loss ",null,null,null,null,null,null,null,null,null,null,null,null,null,null,null,null,null,null,null,{"$f":"Import!P1057","v":0}]
["Sch Ve","Scenario Tests",null,"UE2. Gross Loss ",null,null,null,null,null,null,null,null,null,null,null,null,null,null,null,null,null,null,null,{"$f":"Import!P1058","v":0}]
["Sch Ve","Scenario Tests",null,"UE3. Gross Loss ",null,null,null,null,null,null,null,null,null,null,null,null,null,null,null,null,null,null,null,{"$f":"Import!P1059","v":0}]
["Sch Ve","Scenario Tests",null,"IW1. Gross Loss ",null,null,null,null,null,null,null,null,null,null,null,null,null,null,null,null,null,null,null,{"$f":"Import!P1060","v":0}]
["Sch Ve","Scenario Tests",null,"IW2. Gross Loss ",null,null,null,null,null,null,null,null,null,null,null,null,null,null,null,null,null,null,null,{"$f":"Import!P1061","v":0}]
["Sch Ve","Scenario Tests",null,"IE1. Gross Loss ",null,null,null,null,null,null,null,null,null,null,null,null,null,null,null,null,null,null,null,{"$f":"Import!P1062","v":0}]
["Sch Ve","Scenario Tests",null,"A1. Gross Loss ",null,null,null,null,null,null,null,null,null,null,null,null,null,null,null,null,null,null,null,{"$f":"Import!P1063","v":0}]
["Sch Ve","Scenario Tests",null,"M1. Gross Loss ",null,null,null,null,null,null,null,null,null,null,null,null,null,null,null,null,null,null,null,{"$f":"Import!P1064","v":0}]
["Sch Ve","Scenario Tests",null,"M2. Gross Loss ",null,null,null,null,null,null,null,null,null,null,null,null,null,null,null,null,null,null,null,{"$f":"Import!P1065","v":0}]
["Sch Ve","Scenario Tests",null,"N1. Gross Loss ",null,null,null,null,null,null,null,null,null,null,null,null,null,null,null,null,null,null,null,{"$f":"Import!P1066","v":0}]
["Sch Ve","Scenario Tests",null,"N2. Gross Loss ",null,null,null,null,null,null,null,null,null,null,null,null,null,null,null,null,null,null,null,{"$f":"Import!P1067","v":0}]
["Sch Ve","Scenario Tests",null,"N3. Gross Loss ",null,null,null,null,null,null,null,null,null,null,null,null,null,null,null,null,null,null,null,{"$f":"Import!P1068","v":0}]
["Sch Ve","Scenario Tests",null,"N4. Gross Loss ",null,null,null,null,null,null,null,null,null,null,null,null,null,null,null,null,null,null,null,{"$f":"Import!P1069","v":0}]
["Sch Ve","Scenario Tests",null,"P1. Gross Loss ",null,null,null,null,null,null,null,null,null,null,null,null,null,null,null,null,null,null,null,{"$f":"Import!P1070","v":0}]
["Sch Ve","Scenario Tests",null,"UW1. Net Loss - After Reinsurance",null,null,null,null,null,null,null,null,null,null,null,null,null,null,null,null,null,null,null,{"$f":"'Schedule V(e)'!F51","v":0}]
["Sch Ve","Scenario Tests",null,"UW2. Net Loss - After Reinsurance",null,null,null,null,null,null,null,null,null,null,null,null,null,null,null,null,null,null,null,{"$f":"'Schedule V(e)'!F52","v":0}]
["Sch Ve","Scenario Tests",null,"UW3. Net Loss - After Reinsurance",null,null,null,null,null,null,null,null,null,null,null,null,null,null,null,null,null,null,null,{"$f":"'Schedule V(e)'!F53","v":0}]
["Sch Ve","Scenario Tests",null,"UW4. Net Loss - After Reinsurance",null,null,null,null,null,null,null,null,null,null,null,null,null,null,null,null,null,null,null,{"$f":"'Schedule V(e)'!F54","v":0}]
["Sch Ve","Scenario Tests",null,"UW5. Net Loss - After Reinsurance",null,null,null,null,null,null,null,null,null,null,null,null,null,null,null,null,null,null,null,{"$f":"'Schedule V(e)'!F55","v":0}]
["Sch Ve","Scenario Tests",null,"UE1. Net Loss - After Reinsurance",null,null,null,null,null,null,null,null,null,null,null,null,null,null,null,null,null,null,null,{"$f":"'Schedule V(e)'!F56","v":0}]
["Sch Ve","Scenario Tests",null,"UE2. Net Loss - After Reinsurance",null,null,null,null,null,null,null,null,null,null,null,null,null,null,null,null,null,null,null,{"$f":"'Schedule V(e)'!F57","v":0}]
["Sch Ve","Scenario Tests",null,"UE3. Net Loss - After Reinsurance",null,null,null,null,null,null,null,null,null,null,null,null,null,null,null,null,null,null,null,{"$f":"'Schedule V(e)'!F58","v":0}]
["Sch Ve","Scenario Tests",null,"IW1. Net Loss - After Reinsurance",null,null,null,null,null,null,null,null,null,null,null,null,null,null,null,null,null,null,null,{"$f":"'Schedule V(e)'!F59","v":0}]
["Sch Ve","Scenario Tests",null,"IW2. Net Loss - After Reinsurance",null,null,null,null,null,null,null,null,null,null,null,null,null,null,null,null,null,null,null,{"$f":"'Schedule V(e)'!F60","v":0}]
["Sch Ve","Scenario Tests",null,"IE1. Net Loss - After Reinsurance",null,null,null,null,null,null,null,null,null,null,null,null,null,null,null,null,null,null,null,{"$f":"'Schedule V(e)'!F61","v":0}]
["Sch Ve","Scenario Tests",null,"A1. Net Loss - After Reinsurance",null,null,null,null,null,null,null,null,null,null,null,null,null,null,null,null,null,null,null,{"$f":"'Schedule V(e)'!F62","v":0}]
["Sch Ve","Scenario Tests",null,"M1. Net Loss - After Reinsurance",null,null,null,null,null,null,null,null,null,null,null,null,null,null,null,null,null,null,null,{"$f":"'Schedule V(e)'!F63","v":0}]
["Sch Ve","Scenario Tests",null,"M2. Net Loss - After Reinsurance",null,null,null,null,null,null,null,null,null,null,null,null,null,null,null,null,null,null,null,{"$f":"'Schedule V(e)'!F64","v":0}]
["Sch Ve","Scenario Tests",null,"N1. Net Loss - After Reinsurance",null,null,null,null,null,null,null,null,null,null,null,null,null,null,null,null,null,null,null,{"$f":"'Schedule V(e)'!F65","v":0}]
["Sch Ve","Scenario Tests",null,"N2. Net Loss - After Reinsurance",null,null,null,null,null,null,null,null,null,null,null,null,null,null,null,null,null,null,null,{"$f":"'Schedule V(e)'!F66","v":0}]
["Sch Ve","Scenario Tests",null,"N3. Net Loss - After Reinsurance",null,null,null,null,null,null,null,null,null,null,null,null,null,null,null,null,null,null,null,{"$f":"'Schedule V(e)'!F67","v":0}]
["Sch Ve","Scenario Tests",null,"N4. Net Loss - After Reinsurance",null,null,null,null,null,null,null,null,null,null,null,null,null,null,null,null,null,null,null,{"$f":"'Schedule V(e)'!F68","v":0}]
["Sch Ve","Scenario Tests",null,"P1. Net Loss - After Reinsurance",null,null,null,null,null,null,null,null,null,null,null,null,null,null,null,null,null,null,null,{"$f":"'Schedule V(e)'!F69","v":0}]
["Sch Ve","Scenario Tests",null,"UW1. Net Loss - Cat Mitigation Tech.",null,null,null,null,null,null,null,null,null,null,null,null,null,null,null,null,null,null,null,{"$f":"'Schedule V(e)'!G51","v":0}]
["Sch Ve","Scenario Tests",null,"UW2. Net Loss - Cat Mitigation Tech.",null,null,null,null,null,null,null,null,null,null,null,null,null,null,null,null,null,null,null,{"$f":"'Schedule V(e)'!G52","v":0}]
["Sch Ve","Scenario Tests",null,"UW3. Net Loss - Cat Mitigation Tech.",null,null,null,null,null,null,null,null,null,null,null,null,null,null,null,null,null,null,null,{"$f":"'Schedule V(e)'!G53","v":0}]
["Sch Ve","Scenario Tests",null,"UW4. Net Loss - Cat Mitigation Tech.",null,null,null,null,null,null,null,null,null,null,null,null,null,null,null,null,null,null,null,{"$f":"'Schedule V(e)'!G54","v":0}]
["Sch Ve","Scenario Tests",null,"UW5. Net Loss - Cat Mitigation Tech.",null,null,null,null,null,null,null,null,null,null,null,null,null,null,null,null,null,null,null,{"$f":"'Schedule V(e)'!G55","v":0}]
["Sch Ve","Scenario Tests",null,"UE1. Net Loss - Cat Mitigation Tech.",null,null,null,null,null,null,null,null,null,null,null,null,null,null,null,null,null,null,null,{"$f":"'Schedule V(e)'!G56","v":0}]
["Sch Ve","Scenario Tests",null,"UE2. Net Loss - Cat Mitigation Tech.",null,null,null,null,null,null,null,null,null,null,null,null,null,null,null,null,null,null,null,{"$f":"'Schedule V(e)'!G57","v":0}]
["Sch Ve","Scenario Tests",null,"UE3. Net Loss - Cat Mitigation Tech.",null,null,null,null,null,null,null,null,null,null,null,null,null,null,null,null,null,null,null,{"$f":"'Schedule V(e)'!G58","v":0}]
["Sch Ve","Scenario Tests",null,"IW1. Net Loss - Cat Mitigation Tech.",null,null,null,null,null,null,null,null,null,null,null,null,null,null,null,null,null,null,null,{"$f":"'Schedule V(e)'!G59","v":0}]
["Sch Ve","Scenario Tests",null,"IW2. Net Loss - Cat Mitigation Tech.",null,null,null,null,null,null,null,null,null,null,null,null,null,null,null,null,null,null,null,{"$f":"'Schedule V(e)'!G60","v":0}]
["Sch Ve","Scenario Tests",null,"IE1. Net Loss - Cat Mitigation Tech.",null,null,null,null,null,null,null,null,null,null,null,null,null,null,null,null,null,null,null,{"$f":"'Schedule V(e)'!G61","v":0}]
["Sch Ve","Scenario Tests",null,"A1. Net Loss - Cat Mitigation Tech.",null,null,null,null,null,null,null,null,null,null,null,null,null,null,null,null,null,null,null,{"$f":"'Schedule V(e)'!G62","v":0}]
["Sch Ve","Scenario Tests",null,"M1. Net Loss - Cat Mitigation Tech.",null,null,null,null,null,null,null,null,null,null,null,null,null,null,null,null,null,null,null,{"$f":"'Schedule V(e)'!G63","v":0}]
["Sch Ve","Scenario Tests",null,"M2. Net Loss - Cat Mitigation Tech.",null,null,null,null,null,null,null,null,null,null,null,null,null,null,null,null,null,null,null,{"$f":"'Schedule V(e)'!G64","v":0}]
["Sch Ve","Scenario Tests",null,"N1. Net Loss - Cat Mitigation Tech.",null,null,null,null,null,null,null,null,null,null,null,null,null,null,null,null,null,null,null,{"$f":"'Schedule V(e)'!G65","v":0}]
["Sch Ve","Scenario Tests",null,"N2. Net Loss - Cat Mitigation Tech.",null,null,null,null,null,null,null,null,null,null,null,null,null,null,null,null,null,null,null,{"$f":"'Schedule V(e)'!G66","v":0}]
["Sch Ve","Scenario Tests",null,"N3. Net Loss - Cat Mitigation Tech.",null,null,null,null,null,null,null,null,null,null,null,null,null,null,null,null,null,null,null,{"$f":"'Schedule V(e)'!G67","v":0}]
["Sch Ve","Scenario Tests",null,"N4. Net Loss - Cat Mitigation Tech.",null,null,null,null,null,null,null,null,null,null,null,null,null,null,null,null,null,null,null,{"$f":"'Schedule V(e)'!G68","v":0}]
["Sch Ve","Scenario Tests",null,"P1. Net Loss - Cat Mitigation Tech.",null,null,null,null,null,null,null,null,null,null,null,null,null,null,null,null,null,null,null,{"$f":"'Schedule V(e)'!G69","v":0}]
["Sch Ve","Scenario Tests",null,"UW1. Return Period 1",null,null,null,null,null,null,null,null,null,null,null,null,null,null,null,null,null,null,null,{"$f":"'Schedule V(e)'!J51","v":0}]
["Sch Ve","Scenario Tests",null,"UW2. Return Period 1",null,null,null,null,null,null,null,null,null,null,null,null,null,null,null,null,null,null,null,{"$f":"'Schedule V(e)'!J52","v":0}]
["Sch Ve","Scenario Tests",null,"UW3. Return Period 1",null,null,null,null,null,null,null,null,null,null,null,null,null,null,null,null,null,null,null,{"$f":"'Schedule V(e)'!J53","v":0}]
["Sch Ve","Scenario Tests",null,"UW4. Return Period 1",null,null,null,null,null,null,null,null,null,null,null,null,null,null,null,null,null,null,null,{"$f":"'Schedule V(e)'!J54","v":0}]
["Sch Ve","Scenario Tests",null,"UW5. Return Period 1",null,null,null,null,null,null,null,null,null,null,null,null,null,null,null,null,null,null,null,{"$f":"'Schedule V(e)'!J55","v":0}]
["Sch Ve","Scenario Tests",null,"UE1. Return Period 1",null,null,null,null,null,null,null,null,null,null,null,null,null,null,null,null,null,null,null,{"$f":"'Schedule V(e)'!J56","v":0}]
["Sch Ve","Scenario Tests",null,"UE2. Return Period 1",null,null,null,null,null,null,null,null,null,null,null,null,null,null,null,null,null,null,null,{"$f":"'Schedule V(e)'!J57","v":0}]
["Sch Ve","Scenario Tests",null,"UE3. Return Period 1",null,null,null,null,null,null,null,null,null,null,null,null,null,null,null,null,null,null,null,{"$f":"'Schedule V(e)'!J58","v":0}]
["Sch Ve","Scenario Tests",null,"IW1. Return Period 1",null,null,null,null,null,null,null,null,null,null,null,null,null,null,null,null,null,null,null,{"$f":"'Schedule V(e)'!J59","v":0}]
["Sch Ve","Scenario Tests",null,"IW2. Return Period 1",null,null,null,null,null,null,null,null,null,null,null,null,null,null,null,null,null,null,null,{"$f":"'Schedule V(e)'!J60","v":0}]
["Sch Ve","Scenario Tests",null,"IE1. Return Period 1",null,null,null,null,null,null,null,null,null,null,null,null,null,null,null,null,null,null,null,{"$f":"'Schedule V(e)'!J61","v":0}]
["Sch Ve","Scenario Tests",null,"A1. Return Period 1",null,null,null,null,null,null,null,null,null,null,null,null,null,null,null,null,null,null,null,{"$f":"'Schedule V(e)'!J62","v":0}]
["Sch Ve","Scenario Tests",null,"M1. Return Period 1",null,null,null,null,null,null,null,null,null,null,null,null,null,null,null,null,null,null,null,{"$f":"'Schedule V(e)'!J63","v":0}]
["Sch Ve","Scenario Tests",null,"M2. Return Period 1",null,null,null,null,null,null,null,null,null,null,null,null,null,null,null,null,null,null,null,{"$f":"'Schedule V(e)'!J64","v":0}]
["Sch Ve","Scenario Tests",null,"N1. Return Period 1",null,null,null,null,null,null,null,null,null,null,null,null,null,null,null,null,null,null,null,{"$f":"'Schedule V(e)'!J65","v":0}]
["Sch Ve","Scenario Tests",null,"N2. Return Period 1",null,null,null,null,null,null,null,null,null,null,null,null,null,null,null,null,null,null,null,{"$f":"'Schedule V(e)'!J66","v":0}]
["Sch Ve","Scenario Tests",null,"N3. Return Period 1",null,null,null,null,null,null,null,null,null,null,null,null,null,null,null,null,null,null,null,{"$f":"'Schedule V(e)'!J67","v":0}]
["Sch Ve","Scenario Tests",null,"N4. Return Period 1",null,null,null,null,null,null,null,null,null,null,null,null,null,null,null,null,null,null,null,{"$f":"'Schedule V(e)'!J68","v":0}]
["Sch Ve","Scenario Tests",null,"UW1. Return Period 2",null,null,null,null,null,null,null,null,null,null,null,null,null,null,null,null,null,null,null,{"$f":"'Schedule V(e)'!K51","v":0}]
["Sch Ve","Scenario Tests",null,"UW2. Return Period 2",null,null,null,null,null,null,null,null,null,null,null,null,null,null,null,null,null,null,null,{"$f":"'Schedule V(e)'!K52","v":0}]
["Sch Ve","Scenario Tests",null,"UW3. Return Period 2",null,null,null,null,null,null,null,null,null,null,null,null,null,null,null,null,null,null,null,{"$f":"'Schedule V(e)'!K53","v":0}]
["Sch Ve","Scenario Tests",null,"UW4. Return Period 2",null,null,null,null,null,null,null,null,null,null,null,null,null,null,null,null,null,null,null,{"$f":"'Schedule V(e)'!K54","v":0}]
["Sch Ve","Scenario Tests",null,"UW5. Return Period 2",null,null,null,null,null,null,null,null,null,null,null,null,null,null,null,null,null,null,null,{"$f":"'Schedule V(e)'!K55","v":0}]
["Sch Ve","Scenario Tests",null,"UE1. Return Period 2",null,null,null,null,null,null,null,null,null,null,null,null,null,null,null,null,null,null,null,{"$f":"'Schedule V(e)'!K56","v":0}]
["Sch Ve","Scenario Tests",null,"UE2. Return Period 2",null,null,null,null,null,null,null,null,null,null,null,null,null,null,null,null,null,null,null,{"$f":"'Schedule V(e)'!K57","v":0}]
["Sch Ve","Scenario Tests",null,"UE3. Return Period 2",null,null,null,null,null,null,null,null,null,null,null,null,null,null,null,null,null,null,null,{"$f":"'Schedule V(e)'!K58","v":0}]
["Sch Ve","Scenario Tests",null,"IW1. Return Period 2",null,null,null,null,null,null,null,null,null,null,null,null,null,null,null,null,null,null,null,{"$f":"'Schedule V(e)'!K59","v":0}]
["Sch Ve","Scenario Tests",null,"IW2. Return Period 2",null,null,null,null,null,null,null,null,null,null,null,null,null,null,null,null,null,null,null,{"$f":"'Schedule V(e)'!K60","v":0}]
["Sch Ve","Scenario Tests",null,"IE1. Return Period 2",null,null,null,null,null,null,null,null,null,null,null,null,null,null,null,null,null,null,null,{"$f":"'Schedule V(e)'!K61","v":0}]
["Sch Ve","Scenario Tests",null,"A1. Return Period 2",null,null,null,null,null,null,null,null,null,null,null,null,null,null,null,null,null,null,null,{"$f":"'Schedule V(e)'!K62","v":0}]
["Sch Ve","Scenario Tests",null,"M1. Return Period 2",null,null,null,null,null,null,null,null,null,null,null,null,null,null,null,null,null,null,null,{"$f":"'Schedule V(e)'!K63","v":0}]
["Sch Ve","Scenario Tests",null,"M2. Return Period 2",null,null,null,null,null,null,null,null,null,null,null,null,null,null,null,null,null,null,null,{"$f":"'Schedule V(e)'!K64","v":0}]
["Sch Ve","Scenario Tests",null,"N1. Return Period 2",null,null,null,null,null,null,null,null,null,null,null,null,null,null,null,null,null,null,null,{"$f":"'Schedule V(e)'!K65","v":0}]
["Sch Ve","Scenario Tests",null,"N2. Return Period 2",null,null,null,null,null,null,null,null,null,null,null,null,null,null,null,null,null,null,null,{"$f":"'Schedule V(e)'!K66","v":0}]
["Sch Ve","Scenario Tests",null,"N3. Return Period 2",null,null,null,null,null,null,null,null,null,null,null,null,null,null,null,null,null,null,null,{"$f":"'Schedule V(e)'!K67","v":0}]
["Sch Ve","Scenario Tests",null,"N4. Return Period 2",null,null,null,null,null,null,null,null,null,null,null,null,null,null,null,null,null,null,null,{"$f":"'Schedule V(e)'!K68","v":0}]
["Sch Ve","Scenario Tests",null,"UW1. Catastrophe Model",null,null,null,null,null,null,null,null,null,null,null,null,null,null,null,null,null,null,null,{"$f":"'Schedule V(e)'!L51","v":0}]
["Sch Ve","Scenario Tests",null,"UW2. Catastrophe Model",null,null,null,null,null,null,null,null,null,null,null,null,null,null,null,null,null,null,null,{"$f":"'Schedule V(e)'!L52","v":0}]
["Sch Ve","Scenario Tests",null,"UW3. Catastrophe Model",null,null,null,null,null,null,null,null,null,null,null,null,null,null,null,null,null,null,null,{"$f":"'Schedule V(e)'!L53","v":0}]
["Sch Ve","Scenario Tests",null,"UW4. Catastrophe Model",null,null,null,null,null,null,null,null,null,null,null,null,null,null,null,null,null,null,null,{"$f":"'Schedule V(e)'!L54","v":0}]
["Sch Ve","Scenario Tests",null,"UW5. Catastrophe Model",null,null,null,null,null,null,null,null,null,null,null,null,null,null,null,null,null,null,null,{"$f":"'Schedule V(e)'!L55","v":0}]
["Sch Ve","Scenario Tests",null,"UE1. Catastrophe Model",null,null,null,null,null,null,null,null,null,null,null,null,null,null,null,null,null,null,null,{"$f":"'Schedule V(e)'!L56","v":0}]
["Sch Ve","Scenario Tests",null,"UE2. Catastrophe Model",null,null,null,null,null,null,null,null,null,null,null,null,null,null,null,null,null,null,null,{"$f":"'Schedule V(e)'!L57","v":0}]
["Sch Ve","Scenario Tests",null,"UE3. Catastrophe Model",null,null,null,null,null,null,null,null,null,null,null,null,null,null,null,null,null,null,null,{"$f":"'Schedule V(e)'!L58","v":0}]
["Sch Ve","Scenario Tests",null,"IW1. Catastrophe Model",null,null,null,null,null,null,null,null,null,null,null,null,null,null,null,null,null,null,null,{"$f":"'Schedule V(e)'!L59","v":0}]
["Sch Ve","Scenario Tests",null,"IW2. Catastrophe Model",null,null,null,null,null,null,null,null,null,null,null,null,null,null,null,null,null,null,null,{"$f":"'Schedule V(e)'!L60","v":0}]
["Sch Ve","Scenario Tests",null,"IE1. Catastrophe Model",null,null,null,null,null,null,null,null,null,null,null,null,null,null,null,null,null,null,null,{"$f":"'Schedule V(e)'!L61","v":0}]
["Sch Ve","Scenario Tests",null,"A1. Catastrophe Model",null,null,null,null,null,null,null,null,null,null,null,null,null,null,null,null,null,null,null,{"$f":"'Schedule V(e)'!L62","v":0}]
["Sch Ve","Scenario Tests",null,"M1. Catastrophe Model",null,null,null,null,null,null,null,null,null,null,null,null,null,null,null,null,null,null,null,{"$f":"'Schedule V(e)'!L63","v":0}]
["Sch Ve","Scenario Tests",null,"M2. Catastrophe Model",null,null,null,null,null,null,null,null,null,null,null,null,null,null,null,null,null,null,null,{"$f":"'Schedule V(e)'!L64","v":0}]
["Sch Ve","Scenario Tests",null,"N1. Catastrophe Model",null,null,null,null,null,null,null,null,null,null,null,null,null,null,null,null,null,null,null,{"$f":"'Schedule V(e)'!L65","v":0}]
["Sch Ve","Scenario Tests",null,"N2. Catastrophe Model",null,null,null,null,null,null,null,null,null,null,null,null,null,null,null,null,null,null,null,{"$f":"'Schedule V(e)'!L66","v":0}]
["Sch Ve","Scenario Tests",null,"N3. Catastrophe Model",null,null,null,null,null,null,null,null,null,null,null,null,null,null,null,null,null,null,null,{"$f":"'Schedule V(e)'!L67","v":0}]
["Sch Ve","Scenario Tests",null,"N4. Catastrophe Model",null,null,null,null,null,null,null,null,null,null,null,null,null,null,null,null,null,null,null,{"$f":"'Schedule V(e)'!L68","v":0}]
["Sch Ve","Scenario Tests",null,"P1. Catastrophe Model",null,null,null,null,null,null,null,null,null,null,null,null,null,null,null,null,null,null,null,{"$f":"'Schedule V(e)'!L69","v":0}]
["Sch Ve","Scenario Tests",null," Other Scenario - Name 1",null,null,null,null,null,null,null,null,null,null,null,null,null,null,null,null,null,null,null,{"$f":"'Schedule V(e)'!B79","v":0}]
["Sch Ve","Scenario Tests",null," Other Scenario - Name 2",null,null,null,null,null,null,null,null,null,null,null,null,null,null,null,null,null,null,null,{"$f":"'Schedule V(e)'!B80","v":0}]
["Sch Ve","Scenario Tests",null," Other Scenario - Name 3",null,null,null,null,null,null,null,null,null,null,null,null,null,null,null,null,null,null,null,{"$f":"'Schedule V(e)'!B81","v":0}]
["Sch Ve","Scenario Tests",null," Other - Gross Loss 1",null,null,null,null,null,null,null,null,null,null,null,null,null,null,null,null,null,null,null,{"$f":"'Schedule V(e)'!G79","v":0}]
["Sch Ve","Scenario Tests",null," Other - Gross Loss 2",null,null,null,null,null,null,null,null,null,null,null,null,null,null,null,null,null,null,null,{"$f":"'Schedule V(e)'!G80","v":0}]
["Sch Ve","Scenario Tests",null," Other - Gross Loss 3",null,null,null,null,null,null,null,null,null,null,null,null,null,null,null,null,null,null,null,{"$f":"'Schedule V(e)'!G81","v":0}]
["Sch Ve","Scenario Tests",null," Other - Net Loss 1 - After Reinsurance",null,null,null,null,null,null,null,null,null,null,null,null,null,null,null,null,null,null,null,{"$f":"'Schedule V(e)'!I79","v":0}]
["Sch Ve","Scenario Tests",null," Other - Net Loss 2 - After Reinsurance",null,null,null,null,null,null,null,null,null,null,null,null,null,null,null,null,null,null,null,{"$f":"'Schedule V(e)'!I80","v":0}]
["Sch Ve","Scenario Tests",null," Other - Net Loss 3 - After Reinsurance",null,null,null,null,null,null,null,null,null,null,null,null,null,null,null,null,null,null,null,{"$f":"'Schedule V(e)'!I81","v":0}]
["Sch Ve","Scenario Tests",null," Other - Net Loss 1 - Cat. Mitigation Tech.",null,null,null,null,null,null,null,null,null,null,null,null,null,null,null,null,null,null,null,{"$f":"'Schedule V(e)'!J79","v":0}]
["Sch Ve","Scenario Tests",null," Other - Net Loss 1 - Cat. Mitigation Tech.",null,null,null,null,null,null,null,null,null,null,null,null,null,null,null,null,null,null,null,{"$f":"'Schedule V(e)'!J80","v":0}]
["Sch Ve","Scenario Tests",null," Other - Net Loss 1 - Cat. Mitigation Tech.",null,null,null,null,null,null,null,null,null,null,null,null,null,null,null,null,null,null,null,{"$f":"'Schedule V(e)'!J81","v":0}]
["Sch Ve","Scenario Tests",null," Other - Return Period 1 -  1",null,null,null,null,null,null,null,null,null,null,null,null,null,null,null,null,null,null,null,{"$f":"'Schedule V(e)'!M79","v":0}]
["Sch Ve","Scenario Tests",null," Other - Return Period 1 -  2",null,null,null,null,null,null,null,null,null,null,null,null,null,null,null,null,null,null,null,{"$f":"'Schedule V(e)'!M80","v":0}]
["Sch Ve","Scenario Tests",null," Other - Return Period 1 -  3",null,null,null,null,null,null,null,null,null,null,null,null,null,null,null,null,null,null,null,{"$f":"'Schedule V(e)'!M81","v":0}]
["Sch Ve","Scenario Tests",null," Other - Return Period 2 -  1",null,null,null,null,null,null,null,null,null,null,null,null,null,null,null,null,null,null,null,{"$f":"'Schedule V(e)'!N79","v":0}]
["Sch Ve","Scenario Tests",null," Other - Return Period 2 -  2",null,null,null,null,null,null,null,null,null,null,null,null,null,null,null,null,null,null,null,{"$f":"'Schedule V(e)'!N80","v":0}]
["Sch Ve","Scenario Tests",null," Other - Return Period 2 -  3",null,null,null,null,null,null,null,null,null,null,null,null,null,null,null,null,null,null,null,{"$f":"'Schedule V(e)'!N81","v":0}]
["Sch Ve","Scenario Tests",null," Other - Catastrophe Model -  1",null,null,null,null,null,null,null,null,null,null,null,null,null,null,null,null,null,null,null,{"$f":"'Schedule V(e)'!O79","v":0}]
["Sch Ve","Scenario Tests",null," Other - Catastrophe Model -  2",null,null,null,null,null,null,null,null,null,null,null,null,null,null,null,null,null,null,null,{"$f":"'Schedule V(e)'!O80","v":0}]
["Sch Ve","Scenario Tests",null," Other - Catastrophe Model -  3",null,null,null,null,null,null,null,null,null,null,null,null,null,null,null,null,null,null,null,{"$f":"'Schedule V(e)'!O81","v":0}]
["Sch Ve","Scenario Tests",null,"Latent Liab - Scen 1 - NPW - Product Liab - Pro - EEA & Switzerland",null,null,null,null,null,null,null,null,null,null,null,null,null,null,null,null,null,null,null,{"$f":"'Schedule V(e)'!D97","v":0}]
["Sch Ve","Scenario Tests",null,"Latent Liab - Scen 1 - NPW - Product Liab - Pro - US/Canada",null,null,null,null,null,null,null,null,null,null,null,null,null,null,null,null,null,null,null,{"$f":"'Schedule V(e)'!D98","v":0}]
["Sch Ve","Scenario Tests",null,"Latent Liab - Scen 1 - NPW - Product Liab - Pro - Japan",null,null,null,null,null,null,null,null,null,null,null,null,null,null,null,null,null,null,null,{"$f":"'Schedule V(e)'!D99","v":0}]
["Sch Ve","Scenario Tests",null,"Latent Liab - Scen 1 - NPW - Product Liab - Pro - China",null,null,null,null,null,null,null,null,null,null,null,null,null,null,null,null,null,null,null,{"$f":"'Schedule V(e)'!D100","v":0}]
["Sch Ve","Scenario Tests",null,"Latent Liab - Scen 1 - NPW - Product Liab - Pro - Other Developed Mkts",null,null,null,null,null,null,null,null,null,null,null,null,null,null,null,null,null,null,null,{"$f":"'Schedule V(e)'!D101","v":0}]
["Sch Ve","Scenario Tests",null,"Latent Liab - Scen 1 - NPW - Product Liab - Pro - Emerging Mkts",null,null,null,null,null,null,null,null,null,null,null,null,null,null,null,null,null,null,null,{"$f":"'Schedule V(e)'!D102","v":0}]
["Sch Ve","Scenario Tests",null,"Latent Liab - Scen 1 - NPW - Product Liab - Non Pro - EEA & Switzerland",null,null,null,null,null,null,null,null,null,null,null,null,null,null,null,null,null,null,null,{"$f":"'Schedule V(e)'!E97","v":0}]
["Sch Ve","Scenario Tests",null,"Latent Liab - Scen 1 - NPW - Product Liab - Non Pro - US/Canada",null,null,null,null,null,null,null,null,null,null,null,null,null,null,null,null,null,null,null,{"$f":"'Schedule V(e)'!E98","v":0}]
["Sch Ve","Scenario Tests",null,"Latent Liab - Scen 1 - NPW - Product Liab - Non Pro - Japan",null,null,null,null,null,null,null,null,null,null,null,null,null,null,null,null,null,null,null,{"$f":"'Schedule V(e)'!E99","v":0}]
["Sch Ve","Scenario Tests",null,"Latent Liab - Scen 1 - NPW - Product Liab - Non Pro - China",null,null,null,null,null,null,null,null,null,null,null,null,null,null,null,null,null,null,null,{"$f":"'Schedule V(e)'!E100","v":0}]
["Sch Ve","Scenario Tests",null,"Latent Liab - Scen 1 - NPW - Product Liab - Non Pro - Other Developed Mkts",null,null,null,null,null,null,null,null,null,null,null,null,null,null,null,null,null,null,null,{"$f":"'Schedule V(e)'!E101","v":0}]
["Sch Ve","Scenario Tests",null,"Latent Liab - Scen 1 - NPW - Product Liab - Non Pro - Emerging Mkts",null,null,null,null,null,null,null,null,null,null,null,null,null,null,null,null,null,null,null,{"$f":"'Schedule V(e)'!E102","v":0}]
["Sch Ve","Scenario Tests",null,"Latent Liab - Scen 1 - NPW - Gen Comm Liab - Pro - EEA & Switzerland",null,null,null,null,null,null,null,null,null,null,null,null,null,null,null,null,null,null,null,{"$f":"'Schedule V(e)'!F97","v":0}]
["Sch Ve","Scenario Tests",null,"Latent Liab - Scen 1 - NPW - Gen Comm Liab - Pro - US/Canada",null,null,null,null,null,null,null,null,null,null,null,null,null,null,null,null,null,null,null,{"$f":"'Schedule V(e)'!F98","v":0}]
["Sch Ve","Scenario Tests",null,"Latent Liab - Scen 1 - NPW - Gen Comm Liab - Pro - Japan",null,null,null,null,null,null,null,null,null,null,null,null,null,null,null,null,null,null,null,{"$f":"'Schedule V(e)'!F99","v":0}]
["Sch Ve","Scenario Tests",null,"Latent Liab - Scen 1 - NPW - Gen Comm Liab - Pro - China",null,null,null,null,null,null,null,null,null,null,null,null,null,null,null,null,null,null,null,{"$f":"'Schedule V(e)'!F100","v":0}]
["Sch Ve","Scenario Tests",null,"Latent Liab - Scen 1 - NPW - Gen Comm Liab - Pro - Other Developed Mkts",null,null,null,null,null,null,null,null,null,null,null,null,null,null,null,null,null,null,null,{"$f":"'Schedule V(e)'!F101","v":0}]
["Sch Ve","Scenario Tests",null,"Latent Liab - Scen 1 - NPW - Gen Comm Liab - Pro - Emerging Mkts",null,null,null,null,null,null,null,null,null,null,null,null,null,null,null,null,null,null,null,{"$f":"'Schedule V(e)'!F102","v":0}]
["Sch Ve","Scenario Tests",null,"Latent Liab - Scen 1 - NPW - Gen Comm Liab - Non Pro - EEA & Switzerland",null,null,null,null,null,null,null,null,null,null,null,null,null,null,null,null,null,null,null,{"$f":"'Schedule V(e)'!G97","v":0}]
["Sch Ve","Scenario Tests",null,"Latent Liab - Scen 1 - NPW - Gen Comm Liab - Non Pro - US/Canada",null,null,null,null,null,null,null,null,null,null,null,null,null,null,null,null,null,null,null,{"$f":"'Schedule V(e)'!G98","v":0}]
["Sch Ve","Scenario Tests",null,"Latent Liab - Scen 1 - NPW - Gen Comm Liab - Non Pro - Japan",null,null,null,null,null,null,null,null,null,null,null,null,null,null,null,null,null,null,null,{"$f":"'Schedule V(e)'!G99","v":0}]
["Sch Ve","Scenario Tests",null,"Latent Liab - Scen 1 - NPW - Gen Comm Liab - Non Pro - China",null,null,null,null,null,null,null,null,null,null,null,null,null,null,null,null,null,null,null,{"$f":"'Schedule V(e)'!G100","v":0}]
["Sch Ve","Scenario Tests",null,"Latent Liab - Scen 1 - NPW - Gen Comm Liab - Non Pro - Other Developed Mkts",null,null,null,null,null,null,null,null,null,null,null,null,null,null,null,null,null,null,null,{"$f":"'Schedule V(e)'!G101","v":0}]
["Sch Ve","Scenario Tests",null,"Latent Liab - Scen 1 - NPW - Gen Comm Liab - Non Pro - Emerging Mkts",null,null,null,null,null,null,null,null,null,null,null,null,null,null,null,null,null,null,null,{"$f":"'Schedule V(e)'!G102","v":0}]
["Sch Ve","Scenario Tests",null,"Latent Liab - Scen 1 - NPW - Empl. Liab/Workers Comp - Pro - EEA & Switzerland",null,null,null,null,null,null,null,null,null,null,null,null,null,null,null,null,null,null,null,{"$f":"'Schedule V(e)'!H97","v":0}]
["Sch Ve","Scenario Tests",null,"Latent Liab - Scen 1 - NPW - Empl. Liab/Workers Comp - Pro - US/Canada",null,null,null,null,null,null,null,null,null,null,null,null,null,null,null,null,null,null,null,{"$f":"'Schedule V(e)'!H98","v":0}]
["Sch Ve","Scenario Tests",null,"Latent Liab - Scen 1 - NPW - Empl. Liab/Workers Comp - Pro - Japan",null,null,null,null,null,null,null,null,null,null,null,null,null,null,null,null,null,null,null,{"$f":"'Schedule V(e)'!H99","v":0}]
["Sch Ve","Scenario Tests",null,"Latent Liab - Scen 1 - NPW - Empl. Liab/Workers Comp - Pro - China",null,null,null,null,null,null,null,null,null,null,null,null,null,null,null,null,null,null,null,{"$f":"'Schedule V(e)'!H100","v":0}]
["Sch Ve","Scenario Tests",null,"Latent Liab - Scen 1 - NPW - Empl. Liab/Workers Comp - Pro - Other Developed Mkts",null,null,null,null,null,null,null,null,null,null,null,null,null,null,null,null,null,null,null,{"$f":"'Schedule V(e)'!H101","v":0}]
["Sch Ve","Scenario Tests",null,"Latent Liab - Scen 1 - NPW - Empl. Liab/Workers Comp - Pro - Emerging Mkts",null,null,null,null,null,null,null,null,null,null,null,null,null,null,null,null,null,null,null,{"$f":"'Schedule V(e)'!H102","v":0}]
["Sch Ve","Scenario Tests",null,"Latent Liab - Scen 1 - NPW - Empl. Liab/Workers Comp - Non Pro - EEA & Switzerland",null,null,null,null,null,null,null,null,null,null,null,null,null,null,null,null,null,null,null,{"$f":"'Schedule V(e)'!I97","v":0}]
["Sch Ve","Scenario Tests",null,"Latent Liab - Scen 1 - NPW - Empl. Liab/Workers Comp - Non Pro - US/Canada",null,null,null,null,null,null,null,null,null,null,null,null,null,null,null,null,null,null,null,{"$f":"'Schedule V(e)'!I98","v":0}]
["Sch Ve","Scenario Tests",null,"Latent Liab - Scen 1 - NPW - Empl. Liab/Workers Comp - Non Pro - Japan",null,null,null,null,null,null,null,null,null,null,null,null,null,null,null,null,null,null,null,{"$f":"'Schedule V(e)'!I99","v":0}]
["Sch Ve","Scenario Tests",null,"Latent Liab - Scen 1 - NPW - Empl. Liab/Workers Comp - Non Pro - China",null,null,null,null,null,null,null,null,null,null,null,null,null,null,null,null,null,null,null,{"$f":"'Schedule V(e)'!I100","v":0}]
["Sch Ve","Scenario Tests",null,"Latent Liab - Scen 1 - NPW - Empl. Liab/Workers Comp - Non Pro - Other Developed Mkts",null,null,null,null,null,null,null,null,null,null,null,null,null,null,null,null,null,null,null,{"$f":"'Schedule V(e)'!I101","v":0}]
["Sch Ve","Scenario Tests",null,"Latent Liab - Scen 1 - NPW - Empl. Liab/Workers Comp - Non Pro - Emerging Mkts",null,null,null,null,null,null,null,null,null,null,null,null,null,null,null,null,null,null,null,{"$f":"'Schedule V(e)'!I102","v":0}]
["Sch Ve","Scenario Tests",null,"Latent Liab - Scen 1 - Prem. Growth - Product Liab - Pro - EEA & Switzerland",null,null,null,null,null,null,null,null,null,null,null,null,null,null,null,null,null,null,null,{"$f":"'Schedule V(e)'!D106","v":0}]
["Sch Ve","Scenario Tests",null,"Latent Liab - Scen 1 - Prem. Growth - Product Liab - Pro - US/Canada",null,null,null,null,null,null,null,null,null,null,null,null,null,null,null,null,null,null,null,{"$f":"'Schedule V(e)'!D107","v":0}]
["Sch Ve","Scenario Tests",null,"Latent Liab - Scen 1 - Prem. Growth - Product Liab - Pro - Japan",null,null,null,null,null,null,null,null,null,null,null,null,null,null,null,null,null,null,null,{"$f":"'Schedule V(e)'!D108","v":0}]
["Sch Ve","Scenario Tests",null,"Latent Liab - Scen 1 - Prem. Growth - Product Liab - Pro - China",null,null,null,null,null,null,null,null,null,null,null,null,null,null,null,null,null,null,null,{"$f":"'Schedule V(e)'!D109","v":0}]
["Sch Ve","Scenario Tests",null,"Latent Liab - Scen 1 - Prem. Growth - Product Liab - Pro - Other Developed Mkts",null,null,null,null,null,null,null,null,null,null,null,null,null,null,null,null,null,null,null,{"$f":"'Schedule V(e)'!D110","v":0}]
["Sch Ve","Scenario Tests",null,"Latent Liab - Scen 1 - Prem. Growth - Product Liab - Pro - Emerging Mkts",null,null,null,null,null,null,null,null,null,null,null,null,null,null,null,null,null,null,null,{"$f":"'Schedule V(e)'!D111","v":0}]
["Sch Ve","Scenario Tests",null,"Latent Liab - Scen 1 - Prem. Growth - Product Liab - Non Pro - EEA & Switzerland",null,null,null,null,null,null,null,null,null,null,null,null,null,null,null,null,null,null,null,{"$f":"'Schedule V(e)'!E106","v":0}]
["Sch Ve","Scenario Tests",null,"Latent Liab - Scen 1 - Prem. Growth - Product Liab - Non Pro - US/Canada",null,null,null,null,null,null,null,null,null,null,null,null,null,null,null,null,null,null,null,{"$f":"'Schedule V(e)'!E107","v":0}]
["Sch Ve","Scenario Tests",null,"Latent Liab - Scen 1 - Prem. Growth - Product Liab - Non Pro - Japan",null,null,null,null,null,null,null,null,null,null,null,null,null,null,null,null,null,null,null,{"$f":"'Schedule V(e)'!E108","v":0}]
["Sch Ve","Scenario Tests",null,"Latent Liab - Scen 1 - Prem. Growth - Product Liab - Non Pro - China",null,null,null,null,null,null,null,null,null,null,null,null,null,null,null,null,null,null,null,{"$f":"'Schedule V(e)'!E109","v":0}]
["Sch Ve","Scenario Tests",null,"Latent Liab - Scen 1 - Prem. Growth - Product Liab - Non Pro - Other Developed Mkts",null,null,null,null,null,null,null,null,null,null,null,null,null,null,null,null,null,null,null,{"$f":"'Schedule V(e)'!E110","v":0}]
["Sch Ve","Scenario Tests",null,"Latent Liab - Scen 1 - Prem. Growth - Product Liab - Non Pro - Emerging Mkts",null,null,null,null,null,null,null,null,null,null,null,null,null,null,null,null,null,null,null,{"$f":"'Schedule V(e)'!E111","v":0}]
["Sch Ve","Scenario Tests",null,"Latent Liab - Scen 1 - Prem. Growth - Gen Comm Liab - Pro - EEA & Switzerland",null,null,null,null,null,null,null,null,null,null,null,null,null,null,null,null,null,null,null,{"$f":"'Schedule V(e)'!F106","v":0}]
["Sch Ve","Scenario Tests",null,"Latent Liab - Scen 1 - Prem. Growth - Gen Comm Liab - Pro - US/Canada",null,null,null,null,null,null,null,null,null,null,null,null,null,null,null,null,null,null,null,{"$f":"'Schedule V(e)'!F107","v":0}]
["Sch Ve","Scenario Tests",null,"Latent Liab - Scen 1 - Prem. Growth - Gen Comm Liab - Pro - Japan",null,null,null,null,null,null,null,null,null,null,null,null,null,null,null,null,null,null,null,{"$f":"'Schedule V(e)'!F108","v":0}]
["Sch Ve","Scenario Tests",null,"Latent Liab - Scen 1 - Prem. Growth - Gen Comm Liab - Pro - China",null,null,null,null,null,null,null,null,null,null,null,null,null,null,null,null,null,null,null,{"$f":"'Schedule V(e)'!F109","v":0}]
["Sch Ve","Scenario Tests",null,"Latent Liab - Scen 1 - Prem. Growth - Gen Comm Liab - Pro - Other Developed Mkts",null,null,null,null,null,null,null,null,null,null,null,null,null,null,null,null,null,null,null,{"$f":"'Schedule V(e)'!F110","v":0}]
["Sch Ve","Scenario Tests",null,"Latent Liab - Scen 1 - Prem. Growth - Gen Comm Liab - Pro - Emerging Mkts",null,null,null,null,null,null,null,null,null,null,null,null,null,null,null,null,null,null,null,{"$f":"'Schedule V(e)'!F111","v":0}]
["Sch Ve","Scenario Tests",null,"Latent Liab - Scen 1 - Prem. Growth - Gen Comm Liab - Non Pro - EEA & Switzerland",null,null,null,null,null,null,null,null,null,null,null,null,null,null,null,null,null,null,null,{"$f":"'Schedule V(e)'!G106","v":0}]
["Sch Ve","Scenario Tests",null,"Latent Liab - Scen 1 - Prem. Growth - Gen Comm Liab - Non Pro - US/Canada",null,null,null,null,null,null,null,null,null,null,null,null,null,null,null,null,null,null,null,{"$f":"'Schedule V(e)'!G107","v":0}]
["Sch Ve","Scenario Tests",null,"Latent Liab - Scen 1 - Prem. Growth - Gen Comm Liab - Non Pro - Japan",null,null,null,null,null,null,null,null,null,null,null,null,null,null,null,null,null,null,null,{"$f":"'Schedule V(e)'!G108","v":0}]
["Sch Ve","Scenario Tests",null,"Latent Liab - Scen 1 - Prem. Growth - Gen Comm Liab - Non Pro - China",null,null,null,null,null,null,null,null,null,null,null,null,null,null,null,null,null,null,null,{"$f":"'Schedule V(e)'!G109","v":0}]
["Sch Ve","Scenario Tests",null,"Latent Liab - Scen 1 - Prem. Growth - Gen Comm Liab - Non Pro - Other Developed Mkts",null,null,null,null,null,null,null,null,null,null,null,null,null,null,null,null,null,null,null,{"$f":"'Schedule V(e)'!G110","v":0}]
["Sch Ve","Scenario Tests",null,"Latent Liab - Scen 1 - Prem. Growth - Gen Comm Liab - Non Pro - Emerging Mkts",null,null,null,null,null,null,null,null,null,null,null,null,null,null,null,null,null,null,null,{"$f":"'Schedule V(e)'!G111","v":0}]
["Sch Ve","Scenario Tests",null,"Latent Liab - Scen 1 - Prem. Growth - Empl. Liab/Workers Comp - Pro - EEA & Switzerland",null,null,null,null,null,null,null,null,null,null,null,null,null,null,null,null,null,null,null,{"$f":"'Schedule V(e)'!H106","v":0}]
["Sch Ve","Scenario Tests",null,"Latent Liab - Scen 1 - Prem. Growth - Empl. Liab/Workers Comp - Pro - US/Canada",null,null,null,null,null,null,null,null,null,null,null,null,null,null,null,null,null,null,null,{"$f":"'Schedule V(e)'!H107","v":0}]
["Sch Ve","Scenario Tests",null,"Latent Liab - Scen 1 - Prem. Growth - Empl. Liab/Workers Comp - Pro - Japan",null,null,null,null,null,null,null,null,null,null,null,null,null,null,null,null,null,null,null,{"$f":"'Schedule V(e)'!H108","v":0}]
["Sch Ve","Scenario Tests",null,"Latent Liab - Scen 1 - Prem. Growth - Empl. Liab/Workers Comp - Pro - China",null,null,null,null,null,null,null,null,null,null,null,null,null,null,null,null,null,null,null,{"$f":"'Schedule V(e)'!H109","v":0}]
["Sch Ve","Scenario Tests",null,"Latent Liab - Scen 1 - Prem. Growth - Empl. Liab/Workers Comp - Pro - Other Developed Mkts",null,null,null,null,null,null,null,null,null,null,null,null,null,null,null,null,null,null,null,{"$f":"'Schedule V(e)'!H110","v":0}]
["Sch Ve","Scenario Tests",null,"Latent Liab - Scen 1 - Prem. Growth - Empl. Liab/Workers Comp - Pro - Emerging Mkts",null,null,null,null,null,null,null,null,null,null,null,null,null,null,null,null,null,null,null,{"$f":"'Schedule V(e)'!H111","v":0}]
["Sch Ve","Scenario Tests",null,"Latent Liab - Scen 1 - Prem. Growth - Empl. Liab/Workers Comp - Non Pro - EEA & Switzerland",null,null,null,null,null,null,null,null,null,null,null,null,null,null,null,null,null,null,null,{"$f":"'Schedule V(e)'!I106","v":0}]
["Sch Ve","Scenario Tests",null,"Latent Liab - Scen 1 - Prem. Growth - Empl. Liab/Workers Comp - Non Pro - US/Canada",null,null,null,null,null,null,null,null,null,null,null,null,null,null,null,null,null,null,null,{"$f":"'Schedule V(e)'!I107","v":0}]
["Sch Ve","Scenario Tests",null,"Latent Liab - Scen 1 - Prem. Growth - Empl. Liab/Workers Comp - Non Pro - Japan",null,null,null,null,null,null,null,null,null,null,null,null,null,null,null,null,null,null,null,{"$f":"'Schedule V(e)'!I108","v":0}]
["Sch Ve","Scenario Tests",null,"Latent Liab - Scen 1 - Prem. Growth - Empl. Liab/Workers Comp - Non Pro - China",null,null,null,null,null,null,null,null,null,null,null,null,null,null,null,null,null,null,null,{"$f":"'Schedule V(e)'!I109","v":0}]
["Sch Ve","Scenario Tests",null,"Latent Liab - Scen 1 - Prem. Growth - Empl. Liab/Workers Comp - Non Pro - Other Developed Mkts",null,null,null,null,null,null,null,null,null,null,null,null,null,null,null,null,null,null,null,{"$f":"'Schedule V(e)'!I110","v":0}]
["Sch Ve","Scenario Tests",null,"Latent Liab - Scen 1 - Prem. Growth - Empl. Liab/Workers Comp - Non Pro - Emerging Mkts",null,null,null,null,null,null,null,null,null,null,null,null,null,null,null,null,null,null,null,{"$f":"'Schedule V(e)'!I111","v":0}]
["Sch Ve","Scenario Tests",null,"Latent Liab - Scen 1 - Yr Growth - Product Liab - Pro - EEA & Switzerland",null,null,null,null,null,null,null,null,null,null,null,null,null,null,null,null,null,null,null,{"$f":"'Schedule V(e)'!L106","v":0}]
["Sch Ve","Scenario Tests",null,"Latent Liab - Scen 1 - Yr Growth - Product Liab - Pro - US/Canada",null,null,null,null,null,null,null,null,null,null,null,null,null,null,null,null,null,null,null,{"$f":"'Schedule V(e)'!L107","v":0}]
["Sch Ve","Scenario Tests",null,"Latent Liab - Scen 1 - Yr Growth - Product Liab - Pro - Japan",null,null,null,null,null,null,null,null,null,null,null,null,null,null,null,null,null,null,null,{"$f":"'Schedule V(e)'!L108","v":0}]
["Sch Ve","Scenario Tests",null,"Latent Liab - Scen 1 - Yr Growth - Product Liab - Pro - China",null,null,null,null,null,null,null,null,null,null,null,null,null,null,null,null,null,null,null,{"$f":"'Schedule V(e)'!L109","v":0}]
["Sch Ve","Scenario Tests",null,"Latent Liab - Scen 1 - Yr Growth - Product Liab - Pro - Other Developed Mkts",null,null,null,null,null,null,null,null,null,null,null,null,null,null,null,null,null,null,null,{"$f":"'Schedule V(e)'!L110","v":0}]
["Sch Ve","Scenario Tests",null,"Latent Liab - Scen 1 - Yr Growth - Product Liab - Pro - Emerging Mkts",null,null,null,null,null,null,null,null,null,null,null,null,null,null,null,null,null,null,null,{"$f":"'Schedule V(e)'!L111","v":0}]
["Sch Ve","Scenario Tests",null,"Latent Liab - Scen 1 - Yr Growth - Product Liab - Non Pro - EEA & Switzerland",null,null,null,null,null,null,null,null,null,null,null,null,null,null,null,null,null,null,null,{"$f":"'Schedule V(e)'!M106","v":0}]
["Sch Ve","Scenario Tests",null,"Latent Liab - Scen 1 - Yr Growth - Product Liab - Non Pro - US/Canada",null,null,null,null,null,null,null,null,null,null,null,null,null,null,null,null,null,null,null,{"$f":"'Schedule V(e)'!M107","v":0}]
["Sch Ve","Scenario Tests",null,"Latent Liab - Scen 1 - Yr Growth - Product Liab - Non Pro - Japan",null,null,null,null,null,null,null,null,null,null,null,null,null,null,null,null,null,null,null,{"$f":"'Schedule V(e)'!M108","v":0}]
["Sch Ve","Scenario Tests",null,"Latent Liab - Scen 1 - Yr Growth - Product Liab - Non Pro - China",null,null,null,null,null,null,null,null,null,null,null,null,null,null,null,null,null,null,null,{"$f":"'Schedule V(e)'!M109","v":0}]
["Sch Ve","Scenario Tests",null,"Latent Liab - Scen 1 - Yr Growth - Product Liab - Non Pro - Other Developed Mkts",null,null,null,null,null,null,null,null,null,null,null,null,null,null,null,null,null,null,null,{"$f":"'Schedule V(e)'!M110","v":0}]
["Sch Ve","Scenario Tests",null,"Latent Liab - Scen 1 - Yr Growth - Product Liab - Non Pro - Emerging Mkts",null,null,null,null,null,null,null,null,null,null,null,null,null,null,null,null,null,null,null,{"$f":"'Schedule V(e)'!M111","v":0}]
["Sch Ve","Scenario Tests",null,"Latent Liab - Scen 1 - Yr Growth - Gen Comm Liab - Pro - EEA & Switzerland",null,null,null,null,null,null,null,null,null,null,null,null,null,null,null,null,null,null,null,{"$f":"'Schedule V(e)'!N106","v":0}]
["Sch Ve","Scenario Tests",null,"Latent Liab - Scen 1 - Yr Growth - Gen Comm Liab - Pro - US/Canada",null,null,null,null,null,null,null,null,null,null,null,null,null,null,null,null,null,null,null,{"$f":"'Schedule V(e)'!N107","v":0}]
["Sch Ve","Scenario Tests",null,"Latent Liab - Scen 1 - Yr Growth - Gen Comm Liab - Pro - Japan",null,null,null,null,null,null,null,null,null,null,null,null,null,null,null,null,null,null,null,{"$f":"'Schedule V(e)'!N108","v":0}]
["Sch Ve","Scenario Tests",null,"Latent Liab - Scen 1 - Yr Growth - Gen Comm Liab - Pro - China",null,null,null,null,null,null,null,null,null,null,null,null,null,null,null,null,null,null,null,{"$f":"'Schedule V(e)'!N109","v":0}]
["Sch Ve","Scenario Tests",null,"Latent Liab - Scen 1 - Yr Growth - Gen Comm Liab - Pro - Other Developed Mkts",null,null,null,null,null,null,null,null,null,null,null,null,null,null,null,null,null,null,null,{"$f":"'Schedule V(e)'!N110","v":0}]
["Sch Ve","Scenario Tests",null,"Latent Liab - Scen 1 - Yr Growth - Gen Comm Liab - Pro - Emerging Mkts",null,null,null,null,null,null,null,null,null,null,null,null,null,null,null,null,null,null,null,{"$f":"'Schedule V(e)'!N111","v":0}]
["Sch Ve","Scenario Tests",null,"Latent Liab - Scen 1 - Yr Growth - Gen Comm Liab - Non Pro - EEA & Switzerland",null,null,null,null,null,null,null,null,null,null,null,null,null,null,null,null,null,null,null,{"$f":"'Schedule V(e)'!O106","v":0}]
["Sch Ve","Scenario Tests",null,"Latent Liab - Scen 1 - Yr Growth - Gen Comm Liab - Non Pro - US/Canada",null,null,null,null,null,null,null,null,null,null,null,null,null,null,null,null,null,null,null,{"$f":"'Schedule V(e)'!O107","v":0}]
["Sch Ve","Scenario Tests",null,"Latent Liab - Scen 1 - Yr Growth - Gen Comm Liab - Non Pro - Japan",null,null,null,null,null,null,null,null,null,null,null,null,null,null,null,null,null,null,null,{"$f":"'Schedule V(e)'!O108","v":0}]
["Sch Ve","Scenario Tests",null,"Latent Liab - Scen 1 - Yr Growth - Gen Comm Liab - Non Pro - China",null,null,null,null,null,null,null,null,null,null,null,null,null,null,null,null,null,null,null,{"$f":"'Schedule V(e)'!O109","v":0}]
["Sch Ve","Scenario Tests",null,"Latent Liab - Scen 1 - Yr Growth - Gen Comm Liab - Non Pro - Other Developed Mkts",null,null,null,null,null,null,null,null,null,null,null,null,null,null,null,null,null,null,null,{"$f":"'Schedule V(e)'!O110","v":0}]
["Sch Ve","Scenario Tests",null,"Latent Liab - Scen 1 - Yr Growth - Gen Comm Liab - Non Pro - Emerging Mkts",null,null,null,null,null,null,null,null,null,null,null,null,null,null,null,null,null,null,null,{"$f":"'Schedule V(e)'!O111","v":0}]
["Sch Ve","Scenario Tests",null,"Latent Liab - Scen 1 - Yr Growth - Empl. Liab/Workers Comp - Pro - EEA & Switzerland",null,null,null,null,null,null,null,null,null,null,null,null,null,null,null,null,null,null,null,{"$f":"'Schedule V(e)'!P106","v":0}]
["Sch Ve","Scenario Tests",null,"Latent Liab - Scen 1 - Yr Growth - Empl. Liab/Workers Comp - Pro - US/Canada",null,null,null,null,null,null,null,null,null,null,null,null,null,null,null,null,null,null,null,{"$f":"'Schedule V(e)'!P107","v":0}]
["Sch Ve","Scenario Tests",null,"Latent Liab - Scen 1 - Yr Growth - Empl. Liab/Workers Comp - Pro - Japan",null,null,null,null,null,null,null,null,null,null,null,null,null,null,null,null,null,null,null,{"$f":"'Schedule V(e)'!P108","v":0}]
["Sch Ve","Scenario Tests",null,"Latent Liab - Scen 1 - Yr Growth - Empl. Liab/Workers Comp - Pro - China",null,null,null,null,null,null,null,null,null,null,null,null,null,null,null,null,null,null,null,{"$f":"'Schedule V(e)'!P109","v":0}]
["Sch Ve","Scenario Tests",null,"Latent Liab - Scen 1 - Yr Growth - Empl. Liab/Workers Comp - Pro - Other Developed Mkts",null,null,null,null,null,null,null,null,null,null,null,null,null,null,null,null,null,null,null,{"$f":"'Schedule V(e)'!P110","v":0}]
["Sch Ve","Scenario Tests",null,"Latent Liab - Scen 1 - Yr Growth - Empl. Liab/Workers Comp - Pro - Emerging Mkts",null,null,null,null,null,null,null,null,null,null,null,null,null,null,null,null,null,null,null,{"$f":"'Schedule V(e)'!P111","v":0}]
["Sch Ve","Scenario Tests",null,"Latent Liab - Scen 1 - Yr Growth - Empl. Liab/Workers Comp - Non Pro - EEA & Switzerland",null,null,null,null,null,null,null,null,null,null,null,null,null,null,null,null,null,null,null,{"$f":"'Schedule V(e)'!Q106","v":0}]
["Sch Ve","Scenario Tests",null,"Latent Liab - Scen 1 - Yr Growth - Empl. Liab/Workers Comp - Non Pro - US/Canada",null,null,null,null,null,null,null,null,null,null,null,null,null,null,null,null,null,null,null,{"$f":"'Schedule V(e)'!Q107","v":0}]
["Sch Ve","Scenario Tests",null,"Latent Liab - Scen 1 - Yr Growth - Empl. Liab/Workers Comp - Non Pro - Japan",null,null,null,null,null,null,null,null,null,null,null,null,null,null,null,null,null,null,null,{"$f":"'Schedule V(e)'!Q108","v":0}]
["Sch Ve","Scenario Tests",null,"Latent Liab - Scen 1 - Yr Growth - Empl. Liab/Workers Comp - Non Pro - China",null,null,null,null,null,null,null,null,null,null,null,null,null,null,null,null,null,null,null,{"$f":"'Schedule V(e)'!Q109","v":0}]
["Sch Ve","Scenario Tests",null,"Latent Liab - Scen 1 - Yr Growth - Empl. Liab/Workers Comp - Non Pro - Other Developed Mkts",null,null,null,null,null,null,null,null,null,null,null,null,null,null,null,null,null,null,null,{"$f":"'Schedule V(e)'!Q110","v":0}]
["Sch Ve","Scenario Tests",null,"Latent Liab - Scen 1 - Yr Growth - Empl. Liab/Workers Comp - Non Pro - Emerging Mkts",null,null,null,null,null,null,null,null,null,null,null,null,null,null,null,null,null,null,null,{"$f":"'Schedule V(e)'!Q111","v":0}]
["Sch Ve","Scenario Tests",null,"Latent Liab - Scen 2 - US Asbestos - Cur Yr - GAAP Reserves",null,null,null,null,null,null,null,null,null,null,null,null,null,null,null,null,null,null,null,{"$f":"'Schedule V(e)'!E134","v":0}]
["Sch Ve","Scenario Tests",null,"Latent Liab - Scen 2 - US Asbestos - Cur Yr - Net Paid",null,null,null,null,null,null,null,null,null,null,null,null,null,null,null,null,null,null,null,{"$f":"'Schedule V(e)'!E135","v":0}]
["Sch Ve","Scenario Tests",null,"Latent Liab - Scen 2 - US Asbestos - Cur Yr - Survival Ratio",null,null,null,null,null,null,null,null,null,null,null,null,null,null,null,null,null,null,null,{"$f":"'Schedule V(e)'!E136","v":0}]
["Sch Ve","Scenario Tests",null,"Latent Liab - Scen 2 - US Asbestos - Cur Yr - loading for future medical advances",null,null,null,null,null,null,null,null,null,null,null,null,null,null,null,null,null,null,null,{"$f":"'Schedule V(e)'!E139","v":0}]
["Sch Ve","Scenario Tests",null,"Latent Liab - Scen 2 - US Asbestos - Cur Yr - Liability Duration",null,null,null,null,null,null,null,null,null,null,null,null,null,null,null,null,null,null,null,{"$f":"'Schedule V(e)'!E141","v":0}]
["Sch Ve","Scenario Tests",null,"Latent Liab - Scen 2 - US Asbestos - Cur Yr - Reserves after Inflation",null,null,null,null,null,null,null,null,null,null,null,null,null,null,null,null,null,null,null,{"$f":"'Schedule V(e)'!E143","v":0}]
["Sch Ve","Scenario Tests",null,"Latent Liab - Scen 2 - US Asbestos - Cur Yr - 1yr emergence factor",null,null,null,null,null,null,null,null,null,null,null,null,null,null,null,null,null,null,null,{"$f":"'Schedule V(e)'!E145","v":0}]
["Sch Ve","Scenario Tests",null,"Latent Liab - Scen 2 - US Asbestos - PY Yr - GAAP Reserves",null,null,null,null,null,null,null,null,null,null,null,null,null,null,null,null,null,null,null,{"$f":"'Schedule V(e)'!F134","v":0}]
["Sch Ve","Scenario Tests",null,"Latent Liab - Scen 2 - US Asbestos - PY Yr - Net Paid",null,null,null,null,null,null,null,null,null,null,null,null,null,null,null,null,null,null,null,{"$f":"'Schedule V(e)'!F135","v":0}]
["Sch Ve","Scenario Tests",null,"Latent Liab - Scen 2 - US Asbestos - PY+1 Yr - GAAP Reserves",null,null,null,null,null,null,null,null,null,null,null,null,null,null,null,null,null,null,null,{"$f":"'Schedule V(e)'!G134","v":0}]
["Sch Ve","Scenario Tests",null,"Latent Liab - Scen 2 - US Asbestos - PY+1 Yr - Net Paid",null,null,null,null,null,null,null,null,null,null,null,null,null,null,null,null,null,null,null,{"$f":"'Schedule V(e)'!G135","v":0}]
["Sch Ve","Scenario Tests",null,"Latent Liab - Scen 2 - US Enviro - Cur Yr - GAAP Reserves",null,null,null,null,null,null,null,null,null,null,null,null,null,null,null,null,null,null,null,{"$f":"'Schedule V(e)'!H134","v":0}]
["Sch Ve","Scenario Tests",null,"Latent Liab - Scen 2 - US Enviro - Cur Yr - Net Paid",null,null,null,null,null,null,null,null,null,null,null,null,null,null,null,null,null,null,null,{"$f":"'Schedule V(e)'!H135","v":0}]
["Sch Ve","Scenario Tests",null,"Latent Liab - Scen 2 - US Enviro - Cur Yr - Survival Ratio",null,null,null,null,null,null,null,null,null,null,null,null,null,null,null,null,null,null,null,{"$f":"'Schedule V(e)'!H136","v":0}]
["Sch Ve","Scenario Tests",null,"Latent Liab - Scen 2 - US Enviro - Cur Yr - Liability Duration",null,null,null,null,null,null,null,null,null,null,null,null,null,null,null,null,null,null,null,{"$f":"'Schedule V(e)'!H141","v":0}]
["Sch Ve","Scenario Tests",null,"Latent Liab - Scen 2 - US Enviro - Cur Yr - Reserves after Inflation",null,null,null,null,null,null,null,null,null,null,null,null,null,null,null,null,null,null,null,{"$f":"'Schedule V(e)'!H143","v":0}]
["Sch Ve","Scenario Tests",null,"Latent Liab - Scen 2 - US Enviro - Cur Yr - 1yr emergence factor",null,null,null,null,null,null,null,null,null,null,null,null,null,null,null,null,null,null,null,{"$f":"'Schedule V(e)'!H145","v":0}]
["Sch Ve","Scenario Tests",null,"Latent Liab - Scen 2 - US Enviro - PY Yr - GAAP Reserves",null,null,null,null,null,null,null,null,null,null,null,null,null,null,null,null,null,null,null,{"$f":"'Schedule V(e)'!I134","v":0}]
["Sch Ve","Scenario Tests",null,"Latent Liab - Scen 2 - US Enviro - PY Yr - Net Paid",null,null,null,null,null,null,null,null,null,null,null,null,null,null,null,null,null,null,null,{"$f":"'Schedule V(e)'!I135","v":0}]
["Sch Ve","Scenario Tests",null,"Latent Liab - Scen 2 - US Enviro - PY+1 Yr - GAAP Reserves",null,null,null,null,null,null,null,null,null,null,null,null,null,null,null,null,null,null,null,{"$f":"'Schedule V(e)'!J134","v":0}]
["Sch Ve","Scenario Tests",null,"Latent Liab - Scen 2 - US Enviro - PY+1 Yr - Net Paid",null,null,null,null,null,null,null,null,null,null,null,null,null,null,null,null,null,null,null,{"$f":"'Schedule V(e)'!J135","v":0}]
["Sch Ve","Scenario Tests",null,"Latent Liab - Scen 2 - UK Asbestos - Cur Yr - GAAP Reserves",null,null,null,null,null,null,null,null,null,null,null,null,null,null,null,null,null,null,null,{"$f":"'Schedule V(e)'!E150","v":0}]
["Sch Ve","Scenario Tests",null,"Latent Liab - Scen 2 - UK Asbestos - Cur Yr - Reserve post claims",null,null,null,null,null,null,null,null,null,null,null,null,null,null,null,null,null,null,null,{"$f":"'Schedule V(e)'!E151","v":0}]
["Sch Ve","Scenario Tests",null,"Latent Liab - Scen 2 - UK Asbestos - Cur Yr - loading for future medical advances",null,null,null,null,null,null,null,null,null,null,null,null,null,null,null,null,null,null,null,{"$f":"'Schedule V(e)'!E154","v":0}]
["Sch Ve","Scenario Tests",null,"Latent Liab - Scen 2 - UK Asbestos - Cur Yr - Liability Duration",null,null,null,null,null,null,null,null,null,null,null,null,null,null,null,null,null,null,null,{"$f":"'Schedule V(e)'!E156","v":0}]
["Sch Ve","Scenario Tests",null,"Latent Liab - Scen 2 - UK Asbestos - Cur Yr - Reserves after Inflation",null,null,null,null,null,null,null,null,null,null,null,null,null,null,null,null,null,null,null,{"$f":"'Schedule V(e)'!E158","v":0}]
["Sch Ve","Scenario Tests",null,"Latent Liab - Scen 2 - UK Asbestos - Cur Yr - 1yr emergence factor",null,null,null,null,null,null,null,null,null,null,null,null,null,null,null,null,null,null,null,{"$f":"'Schedule V(e)'!E160","v":0}]
["Sch Ve","Scenario Tests",null,"Rating Downgrade Details",null,null,null,null,null,null,null,null,null,null,null,null,null,null,null,null,null,null,null,{"$f":"'Schedule V(e)'!B165","v":0}]
["Sch Ve","Scenario Tests",null," Worst Case Scenario - RP 1",null,null,null,null,null,null,null,null,null,null,null,null,null,null,null,null,null,null,null,{"$f":"'Schedule V(e)'!D178","v":0}]
["Sch Ve","Scenario Tests",null," Worst Case Scenario - RP 2",null,null,null,null,null,null,null,null,null,null,null,null,null,null,null,null,null,null,null,{"$f":"'Schedule V(e)'!D179","v":0}]
["Sch Ve","Scenario Tests",null," 2a. Series of Loss - Gross Loss",null,null,null,null,null,null,null,null,null,null,null,null,null,null,null,null,null,null,null,{"$f":"'Schedule V(e)'!D186","v":0}]
["Sch Ve","Scenario Tests",null," 2a. Series of Loss - Net Loss",null,null,null,null,null,null,null,null,null,null,null,null,null,null,null,null,null,null,null,{"$f":"'Schedule V(e)'!D187","v":0}]
["Sch Ve","Scenario Tests",null," 2a. Series of Loss - Risk Measure",null,null,null,null,null,null,null,null,null,null,null,null,null,null,null,null,null,null,null,{"$f":"'Schedule V(e)'!D188","v":0}]
["Sch Ve","Scenario Tests",null," 2a. Series of Loss - Time Horizon",null,null,null,null,null,null,null,null,null,null,null,null,null,null,null,null,null,null,null,{"$f":"'Schedule V(e)'!D189","v":0}]
["Sch Ve","Scenario Tests",null," 2a. Series of Loss - Return Period 1",null,null,null,null,null,null,null,null,null,null,null,null,null,null,null,null,null,null,null,{"$f":"'Schedule V(e)'!D190","v":0}]
["Sch Ve","Scenario Tests",null," 2a. Series of Loss - Return Period 2",null,null,null,null,null,null,null,null,null,null,null,null,null,null,null,null,null,null,null,{"$f":"'Schedule V(e)'!D191","v":0}]
["Sch Ve","Scenario Tests",null," 2a. Series of Loss - Cat. Model",null,null,null,null,null,null,null,null,null,null,null,null,null,null,null,null,null,null,null,{"$f":"'Schedule V(e)'!D192","v":0}]
["Sch Ve","Scenario Tests",null,"2b. Specific Worst Case Scen.- Details",null,null,null,null,null,null,null,null,null,null,null,null,null,null,null,null,null,null,null,{"$f":"'Schedule V(e)'!D197","v":0}]
["Sch Ve","Scenario Tests",null,"2b. Specific WC Scen.- Gross Loss",null,null,null,null,null,null,null,null,null,null,null,null,null,null,null,null,null,null,null,{"$f":"'Schedule V(e)'!D199","v":0}]
["Sch Ve","Scenario Tests",null,"2b. Specific WC Scen.- Net Loss",null,null,null,null,null,null,null,null,null,null,null,null,null,null,null,null,null,null,null,{"$f":"'Schedule V(e)'!D200","v":0}]
["Sch Ve","Scenario Tests",null,"2b. Specific WC Scen.- RP 1",null,null,null,null,null,null,null,null,null,null,null,null,null,null,null,null,null,null,null,{"$f":"'Schedule V(e)'!D201","v":0}]
["Sch Ve","Scenario Tests",null,"2b. Specific WC Scen.- RP 2",null,null,null,null,null,null,null,null,null,null,null,null,null,null,null,null,null,null,null,{"$f":"'Schedule V(e)'!D202","v":0}]
["Sch Ve","Scenario Tests",null," Reserve Stress Test - Details",null,null,null,null,null,null,null,null,null,null,null,null,null,null,null,null,null,null,null,{"$f":"'Schedule V(e)'!D207","v":0}]
["Sch Ve","Scenario Tests",null," Reserve Stress Test - Gross Loss",null,null,null,null,null,null,null,null,null,null,null,null,null,null,null,null,null,null,null,{"$f":"'Schedule V(e)'!D209","v":0}]
["Sch Ve","Scenario Tests",null," Reserve Stress Test - Net Loss",null,null,null,null,null,null,null,null,null,null,null,null,null,null,null,null,null,null,null,{"$f":"'Schedule V(e)'!D210","v":0}]
["Sch Ve","Scenario Tests",null," Reserve Stress Test - RP 1",null,null,null,null,null,null,null,null,null,null,null,null,null,null,null,null,null,null,null,{"$f":"'Schedule V(e)'!D211","v":0}]
["Sch Ve","Scenario Tests",null," Reserve Stress Test - RP 2",null,null,null,null,null,null,null,null,null,null,null,null,null,null,null,null,null,null,null,{"$f":"'Schedule V(e)'!D212","v":0}]
["Sch Ve","Scenario Tests",null," Terrorism Vendor Model",null,null,null,null,null,null,null,null,null,null,null,null,null,null,null,null,null,null,null,{"$f":"'Schedule V(e)'!D225","v":0}]
["Sch Ve","Scenario Tests",null," Terrorism Loss 1 - State",null,null,null,null,null,null,null,null,null,null,null,null,null,null,null,null,null,null,null,{"$f":"'Schedule V(e)'!D218","v":0}]
["Sch Ve","Scenario Tests",null," Terrorism Loss 1 - Country",null,null,null,null,null,null,null,null,null,null,null,null,null,null,null,null,null,null,null,{"$f":"'Schedule V(e)'!D219","v":0}]
["Sch Ve","Scenario Tests",null," Terrorism Loss 1 - Gross Loss",null,null,null,null,null,null,null,null,null,null,null,null,null,null,null,null,null,null,null,{"$f":"'Schedule V(e)'!D220","v":0}]
["Sch Ve","Scenario Tests",null," Terrorism Loss 1 - TRIP",null,null,null,null,null,null,null,null,null,null,null,null,null,null,null,null,null,null,null,{"$f":"'Schedule V(e)'!D221","v":0}]
["Sch Ve","Scenario Tests",null," Terrorism Loss 1 - R/I Recoverable",null,null,null,null,null,null,null,null,null,null,null,null,null,null,null,null,null,null,null,{"$f":"'Schedule V(e)'!D222","v":0}]
["Sch Ve","Scenario Tests",null," Terrorism Loss 1 - Net Loss",null,null,null,null,null,null,null,null,null,null,null,null,null,null,null,null,null,null,null,{"$f":"'Schedule V(e)'!D223","v":0}]
["Sch Ve","Scenario Tests",null," Terrorism Loss 1 - Location",null,null,null,null,null,null,null,null,null,null,null,null,null,null,null,null,null,null,null,{"$f":"'Schedule V(e)'!D224","v":0}]
["Sch Ve","Scenario Tests",null," Terrorism Loss 2 - State",null,null,null,null,null,null,null,null,null,null,null,null,null,null,null,null,null,null,null,{"$f":"'Schedule V(e)'!E218","v":0}]
["Sch Ve","Scenario Tests",null," Terrorism Loss 2 - Country",null,null,null,null,null,null,null,null,null,null,null,null,null,null,null,null,null,null,null,{"$f":"'Schedule V(e)'!E219","v":0}]
["Sch Ve","Scenario Tests",null," Terrorism Loss 2 - Gross Loss",null,null,null,null,null,null,null,null,null,null,null,null,null,null,null,null,null,null,null,{"$f":"'Schedule V(e)'!E220","v":0}]
["Sch Ve","Scenario Tests",null," Terrorism Loss 2 - TRIP",null,null,null,null,null,null,null,null,null,null,null,null,null,null,null,null,null,null,null,{"$f":"'Schedule V(e)'!E221","v":0}]
["Sch Ve","Scenario Tests",null," Terrorism Loss 2 - R/I Recoverable",null,null,null,null,null,null,null,null,null,null,null,null,null,null,null,null,null,null,null,{"$f":"'Schedule V(e)'!E222","v":0}]
["Sch Ve","Scenario Tests",null," Terrorism Loss 2 - Net Loss",null,null,null,null,null,null,null,null,null,null,null,null,null,null,null,null,null,null,null,{"$f":"'Schedule V(e)'!E223","v":0}]
["Sch Ve","Scenario Tests",null," Terrorism Loss 2 - Location",null,null,null,null,null,null,null,null,null,null,null,null,null,null,null,null,null,null,null,{"$f":"'Schedule V(e)'!E224","v":0}]
["Sch Ve","Scenario Tests",null," Terrorism Loss 3 - State",null,null,null,null,null,null,null,null,null,null,null,null,null,null,null,null,null,null,null,{"$f":"'Schedule V(e)'!F218","v":0}]
["Sch Ve","Scenario Tests",null," Terrorism Loss 3 - Country",null,null,null,null,null,null,null,null,null,null,null,null,null,null,null,null,null,null,null,{"$f":"'Schedule V(e)'!F219","v":0}]
["Sch Ve","Scenario Tests",null," Terrorism Loss 3 - Gross Loss",null,null,null,null,null,null,null,null,null,null,null,null,null,null,null,null,null,null,null,{"$f":"'Schedule V(e)'!F220","v":0}]
["Sch Ve","Scenario Tests",null," Terrorism Loss 3 - TRIP",null,null,null,null,null,null,null,null,null,null,null,null,null,null,null,null,null,null,null,{"$f":"'Schedule V(e)'!F221","v":0}]
["Sch Ve","Scenario Tests",null," Terrorism Loss 3 - R/I Recoverable",null,null,null,null,null,null,null,null,null,null,null,null,null,null,null,null,null,null,null,{"$f":"'Schedule V(e)'!F222","v":0}]
["Sch Ve","Scenario Tests",null," Terrorism Loss 3 - Net Loss",null,null,null,null,null,null,null,null,null,null,null,null,null,null,null,null,null,null,null,{"$f":"'Schedule V(e)'!F223","v":0}]
["Sch Ve","Scenario Tests",null," Terrorism Loss 3 - Location",null,null,null,null,null,null,null,null,null,null,null,null,null,null,null,null,null,null,null,{"$f":"'Schedule V(e)'!F224","v":0}]
["Sch Ve","Scenario Tests",null," Terrorism Loss 4 - State",null,null,null,null,null,null,null,null,null,null,null,null,null,null,null,null,null,null,null,{"$f":"'Schedule V(e)'!G218","v":0}]
["Sch Ve","Scenario Tests",null," Terrorism Loss 4 - Country",null,null,null,null,null,null,null,null,null,null,null,null,null,null,null,null,null,null,null,{"$f":"'Schedule V(e)'!G219","v":0}]
["Sch Ve","Scenario Tests",null," Terrorism Loss 4 - Gross Loss",null,null,null,null,null,null,null,null,null,null,null,null,null,null,null,null,null,null,null,{"$f":"'Schedule V(e)'!G220","v":0}]
["Sch Ve","Scenario Tests",null," Terrorism Loss 4 - TRIP",null,null,null,null,null,null,null,null,null,null,null,null,null,null,null,null,null,null,null,{"$f":"'Schedule V(e)'!G221","v":0}]
["Sch Ve","Scenario Tests",null," Terrorism Loss 4 - R/I Recoverable",null,null,null,null,null,null,null,null,null,null,null,null,null,null,null,null,null,null,null,{"$f":"'Schedule V(e)'!G222","v":0}]
["Sch Ve","Scenario Tests",null," Terrorism Loss 4 - Net Loss",null,null,null,null,null,null,null,null,null,null,null,null,null,null,null,null,null,null,null,{"$f":"'Schedule V(e)'!G223","v":0}]
["Sch Ve","Scenario Tests",null," Terrorism Loss 4 - Location",null,null,null,null,null,null,null,null,null,null,null,null,null,null,null,null,null,null,null,{"$f":"'Schedule V(e)'!G224","v":0}]
["Sch Ve","Scenario Tests",null," Terrorism Loss 5 - State",null,null,null,null,null,null,null,null,null,null,null,null,null,null,null,null,null,null,null,{"$f":"'Schedule V(e)'!H218","v":0}]
["Sch Ve","Scenario Tests",null," Terrorism Loss 5 - Country",null,null,null,null,null,null,null,null,null,null,null,null,null,null,null,null,null,null,null,{"$f":"'Schedule V(e)'!H219","v":0}]
["Sch Ve","Scenario Tests",null," Terrorism Loss 5 - Gross Loss",null,null,null,null,null,null,null,null,null,null,null,null,null,null,null,null,null,null,null,{"$f":"'Schedule V(e)'!H220","v":0}]
["Sch Ve","Scenario Tests",null," Terrorism Loss 5 - TRIP",null,null,null,null,null,null,null,null,null,null,null,null,null,null,null,null,null,null,null,{"$f":"'Schedule V(e)'!H221","v":0}]
["Sch Ve","Scenario Tests",null," Terrorism Loss 5 - R/I Recoverable",null,null,null,null,null,null,null,null,null,null,null,null,null,null,null,null,null,null,null,{"$f":"'Schedule V(e)'!H222","v":0}]
["Sch Ve","Scenario Tests",null," Terrorism Loss 5 - Net Loss",null,null,null,null,null,null,null,null,null,null,null,null,null,null,null,null,null,null,null,{"$f":"'Schedule V(e)'!H223","v":0}]
["Sch Ve","Scenario Tests",null," Terrorism Loss 5 - Location",null,null,null,null,null,null,null,null,null,null,null,null,null,null,null,null,null,null,null,{"$f":"'Schedule V(e)'!H224","v":0}]
["Sch Ve","Scenario Tests",null," Terrorism Loss 6 - State",null,null,null,null,null,null,null,null,null,null,null,null,null,null,null,null,null,null,null,{"$f":"'Schedule V(e)'!I218","v":0}]
["Sch Ve","Scenario Tests",null," Terrorism Loss 6 - Country",null,null,null,null,null,null,null,null,null,null,null,null,null,null,null,null,null,null,null,{"$f":"'Schedule V(e)'!I219","v":0}]
["Sch Ve","Scenario Tests",null," Terrorism Loss 6 - Gross Loss",null,null,null,null,null,null,null,null,null,null,null,null,null,null,null,null,null,null,null,{"$f":"'Schedule V(e)'!I220","v":0}]
["Sch Ve","Scenario Tests",null," Terrorism Loss 6 - TRIP",null,null,null,null,null,null,null,null,null,null,null,null,null,null,null,null,null,null,null,{"$f":"'Schedule V(e)'!I221","v":0}]
["Sch Ve","Scenario Tests",null," Terrorism Loss 6 - R/I Recoverable",null,null,null,null,null,null,null,null,null,null,null,null,null,null,null,null,null,null,null,{"$f":"'Schedule V(e)'!I222","v":0}]
["Sch Ve","Scenario Tests",null," Terrorism Loss 6 - Net Loss",null,null,null,null,null,null,null,null,null,null,null,null,null,null,null,null,null,null,null,{"$f":"'Schedule V(e)'!I223","v":0}]
["Sch Ve","Scenario Tests",null," Terrorism Loss 6 - Location",null,null,null,null,null,null,null,null,null,null,null,null,null,null,null,null,null,null,null,{"$f":"'Schedule V(e)'!I224","v":0}]
["Sch Ve","Scenario Tests",null," Terrorism Loss 7 - State",null,null,null,null,null,null,null,null,null,null,null,null,null,null,null,null,null,null,null,{"$f":"'Schedule V(e)'!J218","v":0}]
["Sch Ve","Scenario Tests",null," Terrorism Loss 7 - Country",null,null,null,null,null,null,null,null,null,null,null,null,null,null,null,null,null,null,null,{"$f":"'Schedule V(e)'!J219","v":0}]
["Sch Ve","Scenario Tests",null," Terrorism Loss 7 - Gross Loss",null,null,null,null,null,null,null,null,null,null,null,null,null,null,null,null,null,null,null,{"$f":"'Schedule V(e)'!J220","v":0}]
["Sch Ve","Scenario Tests",null," Terrorism Loss 7 - TRIP",null,null,null,null,null,null,null,null,null,null,null,null,null,null,null,null,null,null,null,{"$f":"'Schedule V(e)'!J221","v":0}]
["Sch Ve","Scenario Tests",null," Terrorism Loss 7 - R/I Recoverable",null,null,null,null,null,null,null,null,null,null,null,null,null,null,null,null,null,null,null,{"$f":"'Schedule V(e)'!J222","v":0}]
["Sch Ve","Scenario Tests",null," Terrorism Loss 7 - Net Loss",null,null,null,null,null,null,null,null,null,null,null,null,null,null,null,null,null,null,null,{"$f":"'Schedule V(e)'!J223","v":0}]
["Sch Ve","Scenario Tests",null," Terrorism Loss 7 - Location",null,null,null,null,null,null,null,null,null,null,null,null,null,null,null,null,null,null,null,{"$f":"'Schedule V(e)'!J224","v":0}]
["Sch Ve","Scenario Tests",null," Terrorism Loss 8 - State",null,null,null,null,null,null,null,null,null,null,null,null,null,null,null,null,null,null,null,{"$f":"'Schedule V(e)'!K218","v":0}]
["Sch Ve","Scenario Tests",null," Terrorism Loss 8 - Country",null,null,null,null,null,null,null,null,null,null,null,null,null,null,null,null,null,null,null,{"$f":"'Schedule V(e)'!K219","v":0}]
["Sch Ve","Scenario Tests",null," Terrorism Loss 8 - Gross Loss",null,null,null,null,null,null,null,null,null,null,null,null,null,null,null,null,null,null,null,{"$f":"'Schedule V(e)'!K220","v":0}]
["Sch Ve","Scenario Tests",null," Terrorism Loss 8 - TRIP",null,null,null,null,null,null,null,null,null,null,null,null,null,null,null,null,null,null,null,{"$f":"'Schedule V(e)'!K221","v":0}]
["Sch Ve","Scenario Tests",null," Terrorism Loss 8 - R/I Recoverable",null,null,null,null,null,null,null,null,null,null,null,null,null,null,null,null,null,null,null,{"$f":"'Schedule V(e)'!K222","v":0}]
["Sch Ve","Scenario Tests",null," Terrorism Loss 8 - Net Loss",null,null,null,null,null,null,null,null,null,null,null,null,null,null,null,null,null,null,null,{"$f":"'Schedule V(e)'!K223","v":0}]
["Sch Ve","Scenario Tests",null," Terrorism Loss 8 - Location",null,null,null,null,null,null,null,null,null,null,null,null,null,null,null,null,null,null,null,{"$f":"'Schedule V(e)'!K224","v":0}]
["Sch Ve","Scenario Tests",null," Terrorism Loss 9 - State",null,null,null,null,null,null,null,null,null,null,null,null,null,null,null,null,null,null,null,{"$f":"'Schedule V(e)'!L218","v":0}]
["Sch Ve","Scenario Tests",null," Terrorism Loss 9 - Country",null,null,null,null,null,null,null,null,null,null,null,null,null,null,null,null,null,null,null,{"$f":"'Schedule V(e)'!L219","v":0}]
["Sch Ve","Scenario Tests",null," Terrorism Loss 9 - Gross Loss",null,null,null,null,null,null,null,null,null,null,null,null,null,null,null,null,null,null,null,{"$f":"'Schedule V(e)'!L220","v":0}]
["Sch Ve","Scenario Tests",null," Terrorism Loss 9 - TRIP",null,null,null,null,null,null,null,null,null,null,null,null,null,null,null,null,null,null,null,{"$f":"'Schedule V(e)'!L221","v":0}]
["Sch Ve","Scenario Tests",null," Terrorism Loss 9 - R/I Recoverable",null,null,null,null,null,null,null,null,null,null,null,null,null,null,null,null,null,null,null,{"$f":"'Schedule V(e)'!L222","v":0}]
["Sch Ve","Scenario Tests",null," Terrorism Loss 9 - Net Loss",null,null,null,null,null,null,null,null,null,null,null,null,null,null,null,null,null,null,null,{"$f":"'Schedule V(e)'!L223","v":0}]
["Sch Ve","Scenario Tests",null," Terrorism Loss 9 - Location",null,null,null,null,null,null,null,null,null,null,null,null,null,null,null,null,null,null,null,{"$f":"'Schedule V(e)'!L224","v":0}]
["Sch Ve","Scenario Tests",null," Terrorism Loss 1 - State",null,null,null,null,null,null,null,null,null,null,null,null,null,null,null,null,null,null,null,{"$f":"'Schedule V(e)'!M218","v":0}]
["Sch Ve","Scenario Tests",null," Terrorism Loss 1 - Country",null,null,null,null,null,null,null,null,null,null,null,null,null,null,null,null,null,null,null,{"$f":"'Schedule V(e)'!M219","v":0}]
["Sch Ve","Scenario Tests",null," Terrorism Loss 1 - Gross Loss",null,null,null,null,null,null,null,null,null,null,null,null,null,null,null,null,null,null,null,{"$f":"'Schedule V(e)'!M220","v":0}]
["Sch Ve","Scenario Tests",null," Terrorism Loss 1 - TRIP",null,null,null,null,null,null,null,null,null,null,null,null,null,null,null,null,null,null,null,{"$f":"'Schedule V(e)'!M221","v":0}]
["Sch Ve","Scenario Tests",null," Terrorism Loss 1 - R/I Recoverable",null,null,null,null,null,null,null,null,null,null,null,null,null,null,null,null,null,null,null,{"$f":"'Schedule V(e)'!M222","v":0}]
["Sch Ve","Scenario Tests",null," Terrorism Loss 1 - Net Loss",null,null,null,null,null,null,null,null,null,null,null,null,null,null,null,null,null,null,null,{"$f":"'Schedule V(e)'!M223","v":0}]
["Sch Ve","Scenario Tests",null," Terrorism Loss 1 - Location",null,null,null,null,null,null,null,null,null,null,null,null,null,null,null,null,null,null,null,{"$f":"'Schedule V(e)'!M224","v":0}]
["Sch Ve","Scenario Tests",null,"Results consolidated by a Bermuda (re)insurer",null,null,null,null,null,null,null,null,null,null,null,null,null,null,null,null,null,null,null,{"$f":"'Schedule V(e)'!D235","v":"Select"}]
["Sch Ve","Scenario Tests",null,"Name of the Parent Bermuda (re)insurer",null,null,null,null,null,null,null,null,null,null,null,null,null,null,null,null,null,null,null,{"$f":"'Schedule V(e)'!D236","v":0}]
["Sch Ve","Scenario Tests",null,"Cyber - 1. Cyber Policies in Force - No - Direct",{"$f":"'Schedule V(e)'!D258","v":0},null,{"$f":"'Schedule V(e)'!E258","v":0},null,null,null,null,null,null,null,null,null,null,null,null,null,null,null,null,{"$f":"'Schedule V(e)'!D241","v":0},null,{"$f":"'Schedule V(e)'!E241","v":0}]
["Sch Ve","Scenario Tests",null,"Cyber - 1. Gross Exp. in Force - Direct",{"$f":"'Schedule V(e)'!D259","v":0},null,{"$f":"'Schedule V(e)'!E259","v":0},null,null,null,null,null,null,null,null,null,null,null,null,null,null,null,null,{"$f":"'Schedule V(e)'!D242","v":0},null,{"$f":"'Schedule V(e)'!E242","v":0}]
["Sch Ve","Scenario Tests",null,"Cyber - 1. Net Exp. in Force - Direct",{"$f":"'Schedule V(e)'!D260","v":0},null,{"$f":"'Schedule V(e)'!E260","v":0},null,null,null,null,null,null,null,null,null,null,null,null,null,null,null,null,{"$f":"'Schedule V(e)'!D243","v":0},null,{"$f":"'Schedule V(e)'!E243","v":0}]
["Sch Ve","Scenario Tests",null,"Cyber - 1. Cyber GPW - Direct",{"$f":"'Schedule V(e)'!D261","v":0},null,{"$f":"'Schedule V(e)'!E261","v":0},null,null,null,null,null,null,null,null,null,null,null,null,null,null,null,null,{"$f":"'Schedule V(e)'!D244","v":0},null,{"$f":"'Schedule V(e)'!E244","v":0}]
["Sch Ve","Scenario Tests",null,"Cyber - 1. Cyber NPW - Direct",{"$f":"'Schedule V(e)'!D262","v":0},null,{"$f":"'Schedule V(e)'!E262","v":0},null,null,null,null,null,null,null,null,null,null,null,null,null,null,null,null,{"$f":"'Schedule V(e)'!D245","v":0},null,{"$f":"'Schedule V(e)'!E245","v":0}]
["Sch Ve","Scenario Tests",null,"Cyber - 1. Gross Reserves - Direct",{"$f":"'Schedule V(e)'!D263","v":0},null,{"$f":"'Schedule V(e)'!E263","v":0},null,null,null,null,null,null,null,null,null,null,null,null,null,null,null,null,{"$f":"'Schedule V(e)'!D246","v":0},null,{"$f":"'Schedule V(e)'!E246","v":0}]
["Sch Ve","Scenario Tests",null,"Cyber - 1. Net Reserves - Direct",{"$f":"'Schedule V(e)'!D264","v":0},null,{"$f":"'Schedule V(e)'!E264","v":0},null,null,null,null,null,null,null,null,null,null,null,null,null,null,null,null,{"$f":"'Schedule V(e)'!D247","v":0},null,{"$f":"'Schedule V(e)'!E247","v":0}]
["Sch Ve","Scenario Tests",null,"Cyber - 1. No. Reported Claims - Direct",{"$f":"'Schedule V(e)'!D265","v":0},null,{"$f":"'Schedule V(e)'!E265","v":0},null,null,null,null,null,null,null,null,null,null,null,null,null,null,null,null,{"$f":"'Schedule V(e)'!D248","v":0},null,{"$f":"'Schedule V(e)'!E248","v":0}]
["Sch Ve","Scenario Tests",null,"Cyber - 1. Claims Paid - Direct",{"$f":"'Schedule V(e)'!D266","v":0},null,{"$f":"'Schedule V(e)'!E266","v":0},null,null,null,null,null,null,null,null,null,null,null,null,null,null,null,null,{"$f":"'Schedule V(e)'!D249","v":0},null,{"$f":"'Schedule V(e)'!E249","v":0}]
["Sch Ve","Scenario Tests",null,"Cyber - 1. Claims Incur - Direct",{"$f":"'Schedule V(e)'!D267","v":0},null,{"$f":"'Schedule V(e)'!E267","v":0},null,null,null,null,null,null,null,null,null,null,null,null,null,null,null,null,{"$f":"'Schedule V(e)'!D250","v":0},null,{"$f":"'Schedule V(e)'!E250","v":0}]
["Sch Ve","Scenario Tests",null,"Cyber - 1. Cyber Avg. Claims - Direct",{"$f":"'Schedule V(e)'!D268","v":0},null,{"$f":"'Schedule V(e)'!E268","v":0},null,null,null,null,null,null,null,null,null,null,null,null,null,null,null,null,{"$f":"'Schedule V(e)'!D251","v":0},null,{"$f":"'Schedule V(e)'!E251","v":0}]
["Sch Ve","Scenario Tests",null,"Cyber - 1. Cyber Lrg Claims - Direct",{"$f":"'Schedule V(e)'!D269","v":0},null,{"$f":"'Schedule V(e)'!E269","v":0},null,null,null,null,null,null,null,null,null,null,null,null,null,null,null,null,{"$f":"'Schedule V(e)'!D252","v":0},null,{"$f":"'Schedule V(e)'!E252","v":0}]
["Sch Ve","Scenario Tests",null,"Cyber - 1. Cyber - Descr. - Direct",{"$f":"'Schedule V(e)'!D270","v":0},null,null,null,null,null,null,null,null,null,null,null,null,null,null,null,null,null,null,{"$f":"'Schedule V(e)'!D253","v":0}]
["Sch Ve","Scenario Tests",null,"Cyber - 1. Cyber Policies in Force - No - R/I",{"$f":"'Schedule V(e)'!G258","v":0},null,{"$f":"'Schedule V(e)'!H258","v":0},null,null,null,null,null,null,null,null,null,null,null,null,null,null,null,null,{"$f":"'Schedule V(e)'!G241","v":0},null,{"$f":"'Schedule V(e)'!H241","v":0}]
["Sch Ve","Scenario Tests",null,"Cyber - 1. Gross Exp. in Force - R/I",{"$f":"'Schedule V(e)'!G259","v":0},null,{"$f":"'Schedule V(e)'!H259","v":0},null,null,null,null,null,null,null,null,null,null,null,null,null,null,null,null,{"$f":"'Schedule V(e)'!G242","v":0},null,{"$f":"'Schedule V(e)'!H242","v":0}]
["Sch Ve","Scenario Tests",null,"Cyber - 1. Net Exp. in Force - R/I",{"$f":"'Schedule V(e)'!G260","v":0},null,{"$f":"'Schedule V(e)'!H260","v":0},null,null,null,null,null,null,null,null,null,null,null,null,null,null,null,null,{"$f":"'Schedule V(e)'!G243","v":0},null,{"$f":"'Schedule V(e)'!H243","v":0}]
["Sch Ve","Scenario Tests",null,"Cyber - 1. Cyber GPW - R/I",{"$f":"'Schedule V(e)'!G261","v":0},null,{"$f":"'Schedule V(e)'!H261","v":0},null,null,null,null,null,null,null,null,null,null,null,null,null,null,null,null,{"$f":"'Schedule V(e)'!G244","v":0},null,{"$f":"'Schedule V(e)'!H244","v":0}]
["Sch Ve","Scenario Tests",null,"Cyber - 1. Cyber NPW - R/I",{"$f":"'Schedule V(e)'!G262","v":0},null,{"$f":"'Schedule V(e)'!H262","v":0},null,null,null,null,null,null,null,null,null,null,null,null,null,null,null,null,{"$f":"'Schedule V(e)'!G245","v":0},null,{"$f":"'Schedule V(e)'!H245","v":0}]
["Sch Ve","Scenario Tests",null,"Cyber - 1. Gross Reserves - R/I",{"$f":"'Schedule V(e)'!G263","v":0},null,{"$f":"'Schedule V(e)'!H263","v":0},null,null,null,null,null,null,null,null,null,null,null,null,null,null,null,null,{"$f":"'Schedule V(e)'!G246","v":0},null,{"$f":"'Schedule V(e)'!H246","v":0}]
["Sch Ve","Scenario Tests",null,"Cyber - 1. Net Reserves - R/I",{"$f":"'Schedule V(e)'!G264","v":0},null,{"$f":"'Schedule V(e)'!H264","v":0},null,null,null,null,null,null,null,null,null,null,null,null,null,null,null,null,{"$f":"'Schedule V(e)'!G247","v":0},null,{"$f":"'Schedule V(e)'!H247","v":0}]
["Sch Ve","Scenario Tests",null,"Cyber - 1. No. Reported Claims - R/I",{"$f":"'Schedule V(e)'!G265","v":0},null,{"$f":"'Schedule V(e)'!H265","v":0},null,null,null,null,null,null,null,null,null,null,null,null,null,null,null,null,{"$f":"'Schedule V(e)'!G248","v":0},null,{"$f":"'Schedule V(e)'!H248","v":0}]
["Sch Ve","Scenario Tests",null,"Cyber - 1. Claims Paid - R/I",{"$f":"'Schedule V(e)'!G266","v":0},null,{"$f":"'Schedule V(e)'!H266","v":0},null,null,null,null,null,null,null,null,null,null,null,null,null,null,null,null,{"$f":"'Schedule V(e)'!G249","v":0},null,{"$f":"'Schedule V(e)'!H249","v":0}]
["Sch Ve","Scenario Tests",null,"Cyber - 1. Claims Incur - R/I",{"$f":"'Schedule V(e)'!G267","v":0},null,{"$f":"'Schedule V(e)'!H267","v":0},null,null,null,null,null,null,null,null,null,null,null,null,null,null,null,null,{"$f":"'Schedule V(e)'!G250","v":0},null,{"$f":"'Schedule V(e)'!H250","v":0}]
["Sch Ve","Scenario Tests",null,"Cyber - 1. Cyber Avg. Claims - R/I",{"$f":"'Schedule V(e)'!G268","v":0},null,{"$f":"'Schedule V(e)'!H268","v":0},null,null,null,null,null,null,null,null,null,null,null,null,null,null,null,null,{"$f":"'Schedule V(e)'!G251","v":0},null,{"$f":"'Schedule V(e)'!H251","v":0}]
["Sch Ve","Scenario Tests",null,"Cyber - 1. Cyber Lrg Claims - R/I",{"$f":"'Schedule V(e)'!G269","v":0},null,{"$f":"'Schedule V(e)'!H269","v":0},null,null,null,null,null,null,null,null,null,null,null,null,null,null,null,null,{"$f":"'Schedule V(e)'!G252","v":0},null,{"$f":"'Schedule V(e)'!H252","v":0}]
["Sch Ve","Scenario Tests",null,"Cyber - 1. Cyber - Descr.- R/I",{"$f":"'Schedule V(e)'!G270","v":0},null,null,null,null,null,null,null,null,null,null,null,null,null,null,null,null,null,null,{"$f":"'Schedule V(e)'!G253","v":0}]
["Sch Ve","Scenario Tests",null,"Cyber - 1. Cyber Policies in Force - No - Package",{"$f":"'Schedule V(e)'!J258","v":0},null,{"$f":"'Schedule V(e)'!K258","v":0},null,null,null,null,null,null,null,null,null,null,null,null,null,null,null,null,{"$f":"'Schedule V(e)'!J241","v":0},null,{"$f":"'Schedule V(e)'!K241","v":0}]
["Sch Ve","Scenario Tests",null,"Cyber - 1. Gross Exp. in Force - Package",{"$f":"'Schedule V(e)'!J259","v":0},null,{"$f":"'Schedule V(e)'!K259","v":0},null,null,null,null,null,null,null,null,null,null,null,null,null,null,null,null,{"$f":"'Schedule V(e)'!J242","v":0},null,{"$f":"'Schedule V(e)'!K242","v":0}]
["Sch Ve","Scenario Tests",null,"Cyber - 1. Net Exp. in Force - Package",{"$f":"'Schedule V(e)'!J260","v":0},null,{"$f":"'Schedule V(e)'!K260","v":0},null,null,null,null,null,null,null,null,null,null,null,null,null,null,null,null,{"$f":"'Schedule V(e)'!J243","v":0},null,{"$f":"'Schedule V(e)'!K243","v":0}]
["Sch Ve","Scenario Tests",null,"Cyber - 1. Cyber GPW - Package",{"$f":"'Schedule V(e)'!J261","v":0},null,{"$f":"'Schedule V(e)'!K261","v":0},null,null,null,null,null,null,null,null,null,null,null,null,null,null,null,null,{"$f":"'Schedule V(e)'!J244","v":0},null,{"$f":"'Schedule V(e)'!K244","v":0}]
["Sch Ve","Scenario Tests",null,"Cyber - 1. Cyber NPW - Package",{"$f":"'Schedule V(e)'!J262","v":0},null,{"$f":"'Schedule V(e)'!K262","v":0},null,null,null,null,null,null,null,null,null,null,null,null,null,null,null,null,{"$f":"'Schedule V(e)'!J245","v":0},null,{"$f":"'Schedule V(e)'!K245","v":0}]
["Sch Ve","Scenario Tests",null,"Cyber - 1. Gross Reserves - Package",{"$f":"'Schedule V(e)'!J263","v":0},null,{"$f":"'Schedule V(e)'!K263","v":0},null,null,null,null,null,null,null,null,null,null,null,null,null,null,null,null,{"$f":"'Schedule V(e)'!J246","v":0},null,{"$f":"'Schedule V(e)'!K246","v":0}]
["Sch Ve","Scenario Tests",null,"Cyber - 1. Net Reserves - Package",{"$f":"'Schedule V(e)'!J264","v":0},null,{"$f":"'Schedule V(e)'!K264","v":0},null,null,null,null,null,null,null,null,null,null,null,null,null,null,null,null,{"$f":"'Schedule V(e)'!J247","v":0},null,{"$f":"'Schedule V(e)'!K247","v":0}]
["Sch Ve","Scenario Tests",null,"Cyber - 1. No. Reported Claims - Package",{"$f":"'Schedule V(e)'!J265","v":0},null,{"$f":"'Schedule V(e)'!K265","v":0},null,null,null,null,null,null,null,null,null,null,null,null,null,null,null,null,{"$f":"'Schedule V(e)'!J248","v":0},null,{"$f":"'Schedule V(e)'!K248","v":0}]
["Sch Ve","Scenario Tests",null,"Cyber - 1. Claims Paid - Package",{"$f":"'Schedule V(e)'!J266","v":0},null,{"$f":"'Schedule V(e)'!K266","v":0},null,null,null,null,null,null,null,null,null,null,null,null,null,null,null,null,{"$f":"'Schedule V(e)'!J249","v":0},null,{"$f":"'Schedule V(e)'!K249","v":0}]
["Sch Ve","Scenario Tests",null,"Cyber - 1. Claims Incur - Package",{"$f":"'Schedule V(e)'!J267","v":0},null,{"$f":"'Schedule V(e)'!K267","v":0},null,null,null,null,null,null,null,null,null,null,null,null,null,null,null,null,{"$f":"'Schedule V(e)'!J250","v":0},null,{"$f":"'Schedule V(e)'!K250","v":0}]
["Sch Ve","Scenario Tests",null,"Cyber - 1. Cyber Avg. Claims - Package",{"$f":"'Schedule V(e)'!J268","v":0},null,{"$f":"'Schedule V(e)'!K268","v":0},null,null,null,null,null,null,null,null,null,null,null,null,null,null,null,null,{"$f":"'Schedule V(e)'!J251","v":0},null,{"$f":"'Schedule V(e)'!K251","v":0}]
["Sch Ve","Scenario Tests",null,"Cyber - 1. Cyber Lrg Claims - Package",{"$f":"'Schedule V(e)'!J269","v":0},null,{"$f":"'Schedule V(e)'!K269","v":0},null,null,null,null,null,null,null,null,null,null,null,null,null,null,null,null,{"$f":"'Schedule V(e)'!J252","v":0},null,{"$f":"'Schedule V(e)'!K252","v":0}]
["Sch Ve","Scenario Tests",null,"Cyber - 1. Cyber - Descr.- Package",{"$f":"'Schedule V(e)'!J270","v":0},null,null,null,null,null,null,null,null,null,null,null,null,null,null,null,null,null,null,{"$f":"'Schedule V(e)'!J253","v":0}]
["Sch Ve","Scenario Tests",null,"Cyber - 1. Cyber Policies in Force - No - Related",{"$f":"'Schedule V(e)'!M258","v":0},null,{"$f":"'Schedule V(e)'!N258","v":0}]
["Sch Ve","Scenario Tests",null,"Cyber - 1. Gross Exp. in Force - Related",{"$f":"'Schedule V(e)'!M259","v":0},null,{"$f":"'Schedule V(e)'!N259","v":0}]
["Sch Ve","Scenario Tests",null,"Cyber - 1. Net Exp. in Force - Related",{"$f":"'Schedule V(e)'!M260","v":0},null,{"$f":"'Schedule V(e)'!N260","v":0}]
["Sch Ve","Scenario Tests",null,"Cyber - 1. Cyber GPW - Related",{"$f":"'Schedule V(e)'!M261","v":0},null,{"$f":"'Schedule V(e)'!N261","v":0}]
["Sch Ve","Scenario Tests",null,"Cyber - 1. Cyber NPW - Related",{"$f":"'Schedule V(e)'!M262","v":0},null,{"$f":"'Schedule V(e)'!N262","v":0}]
["Sch Ve","Scenario Tests",null,"Cyber - 1. Gross Reserves - Related",{"$f":"'Schedule V(e)'!M263","v":0},null,{"$f":"'Schedule V(e)'!N263","v":0}]
["Sch Ve","Scenario Tests",null,"Cyber - 1. Net Reserves - Related",{"$f":"'Schedule V(e)'!M264","v":0},null,{"$f":"'Schedule V(e)'!N264","v":0}]
["Sch Ve","Scenario Tests",null,"Cyber - 1. No. Reported Claims - Related",{"$f":"'Schedule V(e)'!M265","v":0},null,{"$f":"'Schedule V(e)'!N265","v":0}]
["Sch Ve","Scenario Tests",null,"Cyber - 1. Claims Paid - Related",{"$f":"'Schedule V(e)'!M266","v":0},null,{"$f":"'Schedule V(e)'!N266","v":0}]
["Sch Ve","Scenario Tests",null,"Cyber - 1. Claims Incur - Related",{"$f":"'Schedule V(e)'!M267","v":0},null,{"$f":"'Schedule V(e)'!N267","v":0}]
["Sch Ve","Scenario Tests",null,"Cyber - 1. Cyber Avg. Claims - Related",{"$f":"'Schedule V(e)'!M268","v":0},null,{"$f":"'Schedule V(e)'!N268","v":0}]
["Sch Ve","Scenario Tests",null,"Cyber - 1. Cyber Lrg Claims - Related",{"$f":"'Schedule V(e)'!M269","v":0},null,{"$f":"'Schedule V(e)'!N269","v":0}]
["Sch Ve","Scenario Tests",null,"Cyber - 1. Cyber - Descr.- Related",{"$f":"'Schedule V(e)'!M270","v":0}]
["Sch Ve","Scenario Tests",null,"Cyber - 1. Cyber Policies in Force - No - Unrelated",{"$f":"'Schedule V(e)'!P258","v":0},null,{"$f":"'Schedule V(e)'!Q258","v":0}]
["Sch Ve","Scenario Tests",null,"Cyber - 1. Gross Exp. in Force - Unrelated",{"$f":"'Schedule V(e)'!P259","v":0},null,{"$f":"'Schedule V(e)'!Q259","v":0}]
["Sch Ve","Scenario Tests",null,"Cyber - 1. Net Exp. in Force - Unrelated",{"$f":"'Schedule V(e)'!P260","v":0},null,{"$f":"'Schedule V(e)'!Q260","v":0}]
["Sch Ve","Scenario Tests",null,"Cyber - 1. Cyber GPW - Unrelated",{"$f":"'Schedule V(e)'!P261","v":0},null,{"$f":"'Schedule V(e)'!Q261","v":0}]
["Sch Ve","Scenario Tests",null,"Cyber - 1. Cyber NPW - Unrelated",{"$f":"'Schedule V(e)'!P262","v":0},null,{"$f":"'Schedule V(e)'!Q262","v":0}]
["Sch Ve","Scenario Tests",null,"Cyber - 1. Gross Reserves - Unrelated",{"$f":"'Schedule V(e)'!P263","v":0},null,{"$f":"'Schedule V(e)'!Q263","v":0}]
["Sch Ve","Scenario Tests",null,"Cyber - 1. Net Reserves - Unrelated",{"$f":"'Schedule V(e)'!P264","v":0},null,{"$f":"'Schedule V(e)'!Q264","v":0}]
["Sch Ve","Scenario Tests",null,"Cyber - 1. No. Reported Claims - Unrelated",{"$f":"'Schedule V(e)'!P265","v":0},null,{"$f":"'Schedule V(e)'!Q265","v":0}]
["Sch Ve","Scenario Tests",null,"Cyber - 1. Claims Paid - Unrelated",{"$f":"'Schedule V(e)'!P266","v":0},null,{"$f":"'Schedule V(e)'!Q266","v":0}]
["Sch Ve","Scenario Tests",null,"Cyber - 1. Claims Incur - Unrelated",{"$f":"'Schedule V(e)'!P267","v":0},null,{"$f":"'Schedule V(e)'!Q267","v":0}]
["Sch Ve","Scenario Tests",null,"Cyber - 1. Cyber Avg. Claims - Unrelated",{"$f":"'Schedule V(e)'!P268","v":0},null,{"$f":"'Schedule V(e)'!Q268","v":0}]
["Sch Ve","Scenario Tests",null,"Cyber - 1. Cyber Lrg Claims - Unrelated",{"$f":"'Schedule V(e)'!P269","v":0},null,{"$f":"'Schedule V(e)'!Q269","v":0}]
["Sch Ve","Scenario Tests",null,"Cyber - 1. Cyber - Descr.- Unrelated",{"$f":"'Schedule V(e)'!P270","v":0}]
["Sch Ve","Scenario Tests",null,"Cyber - 1. # of Policies Direct - US",{"$f":"'Schedule V(e)'!D291","v":0},null,null,null,null,null,null,null,null,null,null,null,null,null,null,null,null,null,null,{"$f":"'Schedule V(e)'!D277","v":0}]
["Sch Ve","Scenario Tests",null,"Cyber - 1. # of Policies Direct - Canada",{"$f":"'Schedule V(e)'!D292","v":0},null,null,null,null,null,null,null,null,null,null,null,null,null,null,null,null,null,null,{"$f":"'Schedule V(e)'!D278","v":0}]
["Sch Ve","Scenario Tests",null,"Cyber - 1. # of Policies Direct - UK & Europe",{"$f":"'Schedule V(e)'!D293","v":0},null,null,null,null,null,null,null,null,null,null,null,null,null,null,null,null,null,null,{"$f":"'Schedule V(e)'!D279","v":0}]
["Sch Ve","Scenario Tests",null,"Cyber - 1. # of Policies Direct - Australia & New Zealand",{"$f":"'Schedule V(e)'!D294","v":0},null,null,null,null,null,null,null,null,null,null,null,null,null,null,null,null,null,null,{"$f":"'Schedule V(e)'!D280","v":0}]
["Sch Ve","Scenario Tests",null,"Cyber - 1. # of Policies Direct - Japan",{"$f":"'Schedule V(e)'!D295","v":0},null,null,null,null,null,null,null,null,null,null,null,null,null,null,null,null,null,null,{"$f":"'Schedule V(e)'!D281","v":0}]
["Sch Ve","Scenario Tests",null,"Cyber - 1. # of Policies Direct - Worldwide",{"$f":"'Schedule V(e)'!D296","v":0},null,null,null,null,null,null,null,null,null,null,null,null,null,null,null,null,null,null,{"$f":"'Schedule V(e)'!D282","v":0}]
["Sch Ve","Scenario Tests",null,"Cyber - 1. # of Policies Direct - Other",{"$f":"'Schedule V(e)'!D297","v":0},null,null,null,null,null,null,null,null,null,null,null,null,null,null,null,null,null,null,{"$f":"'Schedule V(e)'!D283","v":0}]
["Sch Ve","Scenario Tests",null,"Cyber - 1. Cyber GPW-Direct - US",{"$f":"'Schedule V(e)'!E291","v":0},null,null,null,null,null,null,null,null,null,null,null,null,null,null,null,null,null,null,{"$f":"'Schedule V(e)'!E277","v":0}]
["Sch Ve","Scenario Tests",null,"Cyber - 1. Cyber GPW-Direct - Canada",{"$f":"'Schedule V(e)'!E292","v":0},null,null,null,null,null,null,null,null,null,null,null,null,null,null,null,null,null,null,{"$f":"'Schedule V(e)'!E278","v":0}]
["Sch Ve","Scenario Tests",null,"Cyber - 1. Cyber GPW-Direct - UK & Europe",{"$f":"'Schedule V(e)'!E293","v":0},null,null,null,null,null,null,null,null,null,null,null,null,null,null,null,null,null,null,{"$f":"'Schedule V(e)'!E279","v":0}]
["Sch Ve","Scenario Tests",null,"Cyber - 1. Cyber GPW-Direct - Australia & New Zealand",{"$f":"'Schedule V(e)'!E294","v":0},null,null,null,null,null,null,null,null,null,null,null,null,null,null,null,null,null,null,{"$f":"'Schedule V(e)'!E280","v":0}]
["Sch Ve","Scenario Tests",null,"Cyber - 1. Cyber GPW-Direct - Japan",{"$f":"'Schedule V(e)'!E295","v":0},null,null,null,null,null,null,null,null,null,null,null,null,null,null,null,null,null,null,{"$f":"'Schedule V(e)'!E281","v":0}]
["Sch Ve","Scenario Tests",null,"Cyber - 1. Cyber GPW-Direct - Worldwide",{"$f":"'Schedule V(e)'!E296","v":0},null,null,null,null,null,null,null,null,null,null,null,null,null,null,null,null,null,null,{"$f":"'Schedule V(e)'!E282","v":0}]
["Sch Ve","Scenario Tests",null,"Cyber - 1. Cyber GPW-Direct - Other",{"$f":"'Schedule V(e)'!E297","v":0},null,null,null,null,null,null,null,null,null,null,null,null,null,null,null,null,null,null,{"$f":"'Schedule V(e)'!E283","v":0}]
["Sch Ve","Scenario Tests",null,"Cyber - 1. Cyber NPW-Direct - US",{"$f":"'Schedule V(e)'!F291","v":0},null,null,null,null,null,null,null,null,null,null,null,null,null,null,null,null,null,null,{"$f":"'Schedule V(e)'!F277","v":0}]
["Sch Ve","Scenario Tests",null,"Cyber - 1. Cyber NPW-Direct - Canada",{"$f":"'Schedule V(e)'!F292","v":0},null,null,null,null,null,null,null,null,null,null,null,null,null,null,null,null,null,null,{"$f":"'Schedule V(e)'!F278","v":0}]
["Sch Ve","Scenario Tests",null,"Cyber - 1. Cyber NPW-Direct - UK & Europe",{"$f":"'Schedule V(e)'!F293","v":0},null,null,null,null,null,null,null,null,null,null,null,null,null,null,null,null,null,null,{"$f":"'Schedule V(e)'!F279","v":0}]
["Sch Ve","Scenario Tests",null,"Cyber - 1. Cyber NPW-Direct - Australia & New Zealand",{"$f":"'Schedule V(e)'!F294","v":0},null,null,null,null,null,null,null,null,null,null,null,null,null,null,null,null,null,null,{"$f":"'Schedule V(e)'!F280","v":0}]
["Sch Ve","Scenario Tests",null,"Cyber - 1. Cyber NPW-Direct - Japan",{"$f":"'Schedule V(e)'!F295","v":0},null,null,null,null,null,null,null,null,null,null,null,null,null,null,null,null,null,null,{"$f":"'Schedule V(e)'!F281","v":0}]
["Sch Ve","Scenario Tests",null,"Cyber - 1. Cyber NPW-Direct - Worldwide",{"$f":"'Schedule V(e)'!F296","v":0},null,null,null,null,null,null,null,null,null,null,null,null,null,null,null,null,null,null,{"$f":"'Schedule V(e)'!F282","v":0}]
["Sch Ve","Scenario Tests",null,"Cyber - 1. Cyber NPW-Direct - Other",{"$f":"'Schedule V(e)'!F297","v":0},null,null,null,null,null,null,null,null,null,null,null,null,null,null,null,null,null,null,{"$f":"'Schedule V(e)'!F283","v":0}]
["Sch Ve","Scenario Tests",null,"Cyber - 1. Cyber Gross Exposure-Direct - US",{"$f":"'Schedule V(e)'!G291","v":0},null,null,null,null,null,null,null,null,null,null,null,null,null,null,null,null,null,null,{"$f":"'Schedule V(e)'!G277","v":0}]
["Sch Ve","Scenario Tests",null,"Cyber - 1. Cyber Gross Exposure-Direct - Canada",{"$f":"'Schedule V(e)'!G292","v":0},null,null,null,null,null,null,null,null,null,null,null,null,null,null,null,null,null,null,{"$f":"'Schedule V(e)'!G278","v":0}]
["Sch Ve","Scenario Tests",null,"Cyber - 1. Cyber Gross Exposure-Direct - UK & Europe",{"$f":"'Schedule V(e)'!G293","v":0},null,null,null,null,null,null,null,null,null,null,null,null,null,null,null,null,null,null,{"$f":"'Schedule V(e)'!G279","v":0}]
["Sch Ve","Scenario Tests",null,"Cyber - 1. Cyber Gross Exposure-Direct - Australia & New Zealand",{"$f":"'Schedule V(e)'!G294","v":0},null,null,null,null,null,null,null,null,null,null,null,null,null,null,null,null,null,null,{"$f":"'Schedule V(e)'!G280","v":0}]
["Sch Ve","Scenario Tests",null,"Cyber - 1. Cyber Gross Exposure-Direct - Japan",{"$f":"'Schedule V(e)'!G295","v":0},null,null,null,null,null,null,null,null,null,null,null,null,null,null,null,null,null,null,{"$f":"'Schedule V(e)'!G281","v":0}]
["Sch Ve","Scenario Tests",null,"Cyber - 1. Cyber Gross Exposure-Direct - Worldwide",{"$f":"'Schedule V(e)'!G296","v":0},null,null,null,null,null,null,null,null,null,null,null,null,null,null,null,null,null,null,{"$f":"'Schedule V(e)'!G282","v":0}]
["Sch Ve","Scenario Tests",null,"Cyber - 1. Cyber Gross Exposure-Direct - Other",{"$f":"'Schedule V(e)'!G297","v":0},null,null,null,null,null,null,null,null,null,null,null,null,null,null,null,null,null,null,{"$f":"'Schedule V(e)'!G283","v":0}]
["Sch Ve","Scenario Tests",null,"Cyber - 1. Cyber Net Exposure-Direct - US",{"$f":"'Schedule V(e)'!H291","v":0},null,null,null,null,null,null,null,null,null,null,null,null,null,null,null,null,null,null,{"$f":"'Schedule V(e)'!H277","v":0}]
["Sch Ve","Scenario Tests",null,"Cyber - 1. Cyber Net Exposure-Direct - Canada",{"$f":"'Schedule V(e)'!H292","v":0},null,null,null,null,null,null,null,null,null,null,null,null,null,null,null,null,null,null,{"$f":"'Schedule V(e)'!H278","v":0}]
["Sch Ve","Scenario Tests",null,"Cyber - 1. Cyber Net Exposure-Direct - UK & Europe",{"$f":"'Schedule V(e)'!H293","v":0},null,null,null,null,null,null,null,null,null,null,null,null,null,null,null,null,null,null,{"$f":"'Schedule V(e)'!H279","v":0}]
["Sch Ve","Scenario Tests",null,"Cyber - 1. Cyber Net Exposure-Direct - Australia & New Zealand",{"$f":"'Schedule V(e)'!H294","v":0},null,null,null,null,null,null,null,null,null,null,null,null,null,null,null,null,null,null,{"$f":"'Schedule V(e)'!H280","v":0}]
["Sch Ve","Scenario Tests",null,"Cyber - 1. Cyber Net Exposure-Direct - Japan",{"$f":"'Schedule V(e)'!H295","v":0},null,null,null,null,null,null,null,null,null,null,null,null,null,null,null,null,null,null,{"$f":"'Schedule V(e)'!H281","v":0}]
["Sch Ve","Scenario Tests",null,"Cyber - 1. Cyber Net Exposure-Direct - Worldwide",{"$f":"'Schedule V(e)'!H296","v":0},null,null,null,null,null,null,null,null,null,null,null,null,null,null,null,null,null,null,{"$f":"'Schedule V(e)'!H282","v":0}]
["Sch Ve","Scenario Tests",null,"Cyber - 1. Cyber Net Exposure-Direct - Other",{"$f":"'Schedule V(e)'!H297","v":0},null,null,null,null,null,null,null,null,null,null,null,null,null,null,null,null,null,null,{"$f":"'Schedule V(e)'!H283","v":0}]
["Sch Ve","Scenario Tests",null,"Cyber - 1. # of Policies R/I - US",{"$f":"'Schedule V(e)'!I291","v":0},null,null,null,null,null,null,null,null,null,null,null,null,null,null,null,null,null,null,{"$f":"'Schedule V(e)'!I277","v":0}]
["Sch Ve","Scenario Tests",null,"Cyber - 1. # of Policies R/I - Canada",{"$f":"'Schedule V(e)'!I292","v":0},null,null,null,null,null,null,null,null,null,null,null,null,null,null,null,null,null,null,{"$f":"'Schedule V(e)'!I278","v":0}]
["Sch Ve","Scenario Tests",null,"Cyber - 1. # of Policies R/I - UK & Europe",{"$f":"'Schedule V(e)'!I293","v":0},null,null,null,null,null,null,null,null,null,null,null,null,null,null,null,null,null,null,{"$f":"'Schedule V(e)'!I279","v":0}]
["Sch Ve","Scenario Tests",null,"Cyber - 1. # of Policies R/I - Australia & New Zealand",{"$f":"'Schedule V(e)'!I294","v":0},null,null,null,null,null,null,null,null,null,null,null,null,null,null,null,null,null,null,{"$f":"'Schedule V(e)'!I280","v":0}]
["Sch Ve","Scenario Tests",null,"Cyber - 1. # of Policies R/I - Japan",{"$f":"'Schedule V(e)'!I295","v":0},null,null,null,null,null,null,null,null,null,null,null,null,null,null,null,null,null,null,{"$f":"'Schedule V(e)'!I281","v":0}]
["Sch Ve","Scenario Tests",null,"Cyber - 1. # of Policies R/I - Worldwide",{"$f":"'Schedule V(e)'!I296","v":0},null,null,null,null,null,null,null,null,null,null,null,null,null,null,null,null,null,null,{"$f":"'Schedule V(e)'!I282","v":0}]
["Sch Ve","Scenario Tests",null,"Cyber - 1. # of Policies R/I - Other",{"$f":"'Schedule V(e)'!I297","v":0},null,null,null,null,null,null,null,null,null,null,null,null,null,null,null,null,null,null,{"$f":"'Schedule V(e)'!I283","v":0}]
["Sch Ve","Scenario Tests",null,"Cyber - 1. Cyber GPW-R/I - US",{"$f":"'Schedule V(e)'!J291","v":0},null,null,null,null,null,null,null,null,null,null,null,null,null,null,null,null,null,null,{"$f":"'Schedule V(e)'!J277","v":0}]
["Sch Ve","Scenario Tests",null,"Cyber - 1. Cyber GPW-R/I - Canada",{"$f":"'Schedule V(e)'!J292","v":0},null,null,null,null,null,null,null,null,null,null,null,null,null,null,null,null,null,null,{"$f":"'Schedule V(e)'!J278","v":0}]
["Sch Ve","Scenario Tests",null,"Cyber - 1. Cyber GPW-R/I - UK & Europe",{"$f":"'Schedule V(e)'!J293","v":0},null,null,null,null,null,null,null,null,null,null,null,null,null,null,null,null,null,null,{"$f":"'Schedule V(e)'!J279","v":0}]
["Sch Ve","Scenario Tests",null,"Cyber - 1. Cyber GPW-R/I - Australia & New Zealand",{"$f":"'Schedule V(e)'!J294","v":0},null,null,null,null,null,null,null,null,null,null,null,null,null,null,null,null,null,null,{"$f":"'Schedule V(e)'!J280","v":0}]
["Sch Ve","Scenario Tests",null,"Cyber - 1. Cyber GPW-R/I - Japan",{"$f":"'Schedule V(e)'!J295","v":0},null,null,null,null,null,null,null,null,null,null,null,null,null,null,null,null,null,null,{"$f":"'Schedule V(e)'!J281","v":0}]
["Sch Ve","Scenario Tests",null,"Cyber - 1. Cyber GPW-R/I - Worldwide",{"$f":"'Schedule V(e)'!J296","v":0},null,null,null,null,null,null,null,null,null,null,null,null,null,null,null,null,null,null,{"$f":"'Schedule V(e)'!J282","v":0}]
["Sch Ve","Scenario Tests",null,"Cyber - 1. Cyber GPW-R/I - Other",{"$f":"'Schedule V(e)'!J297","v":0},null,null,null,null,null,null,null,null,null,null,null,null,null,null,null,null,null,null,{"$f":"'Schedule V(e)'!J283","v":0}]
["Sch Ve","Scenario Tests",null,"Cyber - 1. Cyber NPW-R/I - US",{"$f":"'Schedule V(e)'!K291","v":0},null,null,null,null,null,null,null,null,null,null,null,null,null,null,null,null,null,null,{"$f":"'Schedule V(e)'!K277","v":0}]
["Sch Ve","Scenario Tests",null,"Cyber - 1. Cyber NPW-R/I - Canada",{"$f":"'Schedule V(e)'!K292","v":0},null,null,null,null,null,null,null,null,null,null,null,null,null,null,null,null,null,null,{"$f":"'Schedule V(e)'!K278","v":0}]
["Sch Ve","Scenario Tests",null,"Cyber - 1. Cyber NPW-R/I - UK & Europe",{"$f":"'Schedule V(e)'!K293","v":0},null,null,null,null,null,null,null,null,null,null,null,null,null,null,null,null,null,null,{"$f":"'Schedule V(e)'!K279","v":0}]
["Sch Ve","Scenario Tests",null,"Cyber - 1. Cyber NPW-R/I - Australia & New Zealand",{"$f":"'Schedule V(e)'!K294","v":0},null,null,null,null,null,null,null,null,null,null,null,null,null,null,null,null,null,null,{"$f":"'Schedule V(e)'!K280","v":0}]
["Sch Ve","Scenario Tests",null,"Cyber - 1. Cyber NPW-R/I - Japan",{"$f":"'Schedule V(e)'!K295","v":0},null,null,null,null,null,null,null,null,null,null,null,null,null,null,null,null,null,null,{"$f":"'Schedule V(e)'!K281","v":0}]
["Sch Ve","Scenario Tests",null,"Cyber - 1. Cyber NPW-R/I - Worldwide",{"$f":"'Schedule V(e)'!K296","v":0},null,null,null,null,null,null,null,null,null,null,null,null,null,null,null,null,null,null,{"$f":"'Schedule V(e)'!K282","v":0}]
["Sch Ve","Scenario Tests",null,"Cyber - 1. Cyber NPW-R/I - Other",{"$f":"'Schedule V(e)'!K297","v":0},null,null,null,null,null,null,null,null,null,null,null,null,null,null,null,null,null,null,{"$f":"'Schedule V(e)'!K283","v":0}]
["Sch Ve","Scenario Tests",null,"Cyber - 1. Cyber Gross Exposure-R/I - US",{"$f":"'Schedule V(e)'!L291","v":0},null,null,null,null,null,null,null,null,null,null,null,null,null,null,null,null,null,null,{"$f":"'Schedule V(e)'!L277","v":0}]
["Sch Ve","Scenario Tests",null,"Cyber - 1. Cyber Gross Exposure-R/I - Canada",{"$f":"'Schedule V(e)'!L292","v":0},null,null,null,null,null,null,null,null,null,null,null,null,null,null,null,null,null,null,{"$f":"'Schedule V(e)'!L278","v":0}]
["Sch Ve","Scenario Tests",null,"Cyber - 1. Cyber Gross Exposure-R/I - UK & Europe",{"$f":"'Schedule V(e)'!L293","v":0},null,null,null,null,null,null,null,null,null,null,null,null,null,null,null,null,null,null,{"$f":"'Schedule V(e)'!L279","v":0}]
["Sch Ve","Scenario Tests",null,"Cyber - 1. Cyber Gross Exposure-R/I - Australia & New Zealand",{"$f":"'Schedule V(e)'!L294","v":0},null,null,null,null,null,null,null,null,null,null,null,null,null,null,null,null,null,null,{"$f":"'Schedule V(e)'!L280","v":0}]
["Sch Ve","Scenario Tests",null,"Cyber - 1. Cyber Gross Exposure-R/I - Japan",{"$f":"'Schedule V(e)'!L295","v":0},null,null,null,null,null,null,null,null,null,null,null,null,null,null,null,null,null,null,{"$f":"'Schedule V(e)'!L281","v":0}]
["Sch Ve","Scenario Tests",null,"Cyber - 1. Cyber Gross Exposure-R/I - Worldwide",{"$f":"'Schedule V(e)'!L296","v":0},null,null,null,null,null,null,null,null,null,null,null,null,null,null,null,null,null,null,{"$f":"'Schedule V(e)'!L282","v":0}]
["Sch Ve","Scenario Tests",null,"Cyber - 1. Cyber Gross Exposure-R/I - Other",{"$f":"'Schedule V(e)'!L297","v":0},null,null,null,null,null,null,null,null,null,null,null,null,null,null,null,null,null,null,{"$f":"'Schedule V(e)'!L283","v":0}]
["Sch Ve","Scenario Tests",null,"Cyber - 1. Cyber Net Exposure-R/I - US",{"$f":"'Schedule V(e)'!M291","v":0},null,null,null,null,null,null,null,null,null,null,null,null,null,null,null,null,null,null,{"$f":"'Schedule V(e)'!M277","v":0}]
["Sch Ve","Scenario Tests",null,"Cyber - 1. Cyber Net Exposure-R/I - Canada",{"$f":"'Schedule V(e)'!M292","v":0},null,null,null,null,null,null,null,null,null,null,null,null,null,null,null,null,null,null,{"$f":"'Schedule V(e)'!M278","v":0}]
["Sch Ve","Scenario Tests",null,"Cyber - 1. Cyber Net Exposure-R/I - UK & Europe",{"$f":"'Schedule V(e)'!M293","v":0},null,null,null,null,null,null,null,null,null,null,null,null,null,null,null,null,null,null,{"$f":"'Schedule V(e)'!M279","v":0}]
["Sch Ve","Scenario Tests",null,"Cyber - 1. Cyber Net Exposure-R/I - Australia & New Zealand",{"$f":"'Schedule V(e)'!M294","v":0},null,null,null,null,null,null,null,null,null,null,null,null,null,null,null,null,null,null,{"$f":"'Schedule V(e)'!M280","v":0}]
["Sch Ve","Scenario Tests",null,"Cyber - 1. Cyber Net Exposure-R/I - Japan",{"$f":"'Schedule V(e)'!M295","v":0},null,null,null,null,null,null,null,null,null,null,null,null,null,null,null,null,null,null,{"$f":"'Schedule V(e)'!M281","v":0}]
["Sch Ve","Scenario Tests",null,"Cyber - 1. Cyber Net Exposure-R/I - Worldwide",{"$f":"'Schedule V(e)'!M296","v":0},null,null,null,null,null,null,null,null,null,null,null,null,null,null,null,null,null,null,{"$f":"'Schedule V(e)'!M282","v":0}]
["Sch Ve","Scenario Tests",null,"Cyber - 1. Cyber Net Exposure-R/I - Other",{"$f":"'Schedule V(e)'!M297","v":0},null,null,null,null,null,null,null,null,null,null,null,null,null,null,null,null,null,null,{"$f":"'Schedule V(e)'!M283","v":0}]
["Sch Ve","Scenario Tests",null,"Cyber - 1. # of Policies Package - US",{"$f":"'Schedule V(e)'!N291","v":0},null,null,null,null,null,null,null,null,null,null,null,null,null,null,null,null,null,null,{"$f":"'Schedule V(e)'!N277","v":0}]
["Sch Ve","Scenario Tests",null,"Cyber - 1. # of Policies Package - Canada",{"$f":"'Schedule V(e)'!N292","v":0},null,null,null,null,null,null,null,null,null,null,null,null,null,null,null,null,null,null,{"$f":"'Schedule V(e)'!N278","v":0}]
["Sch Ve","Scenario Tests",null,"Cyber - 1. # of Policies Package - UK & Europe",{"$f":"'Schedule V(e)'!N293","v":0},null,null,null,null,null,null,null,null,null,null,null,null,null,null,null,null,null,null,{"$f":"'Schedule V(e)'!N279","v":0}]
["Sch Ve","Scenario Tests",null,"Cyber - 1. # of Policies Package - Australia & New Zealand",{"$f":"'Schedule V(e)'!N294","v":0},null,null,null,null,null,null,null,null,null,null,null,null,null,null,null,null,null,null,{"$f":"'Schedule V(e)'!N280","v":0}]
["Sch Ve","Scenario Tests",null,"Cyber - 1. # of Policies Package - Japan",{"$f":"'Schedule V(e)'!N295","v":0},null,null,null,null,null,null,null,null,null,null,null,null,null,null,null,null,null,null,{"$f":"'Schedule V(e)'!N281","v":0}]
["Sch Ve","Scenario Tests",null,"Cyber - 1. # of Policies Package - Worldwide",{"$f":"'Schedule V(e)'!N296","v":0},null,null,null,null,null,null,null,null,null,null,null,null,null,null,null,null,null,null,{"$f":"'Schedule V(e)'!N282","v":0}]
["Sch Ve","Scenario Tests",null,"Cyber - 1. # of Policies Package - Other",{"$f":"'Schedule V(e)'!N297","v":0},null,null,null,null,null,null,null,null,null,null,null,null,null,null,null,null,null,null,{"$f":"'Schedule V(e)'!N283","v":0}]
["Sch Ve","Scenario Tests",null,"Cyber - 1. Cyber GPW-Package - US",{"$f":"'Schedule V(e)'!O291","v":0},null,null,null,null,null,null,null,null,null,null,null,null,null,null,null,null,null,null,{"$f":"'Schedule V(e)'!O277","v":0}]
["Sch Ve","Scenario Tests",null,"Cyber - 1. Cyber GPW-Package - Canada",{"$f":"'Schedule V(e)'!O292","v":0},null,null,null,null,null,null,null,null,null,null,null,null,null,null,null,null,null,null,{"$f":"'Schedule V(e)'!O278","v":0}]
["Sch Ve","Scenario Tests",null,"Cyber - 1. Cyber GPW-Package - UK & Europe",{"$f":"'Schedule V(e)'!O293","v":0},null,null,null,null,null,null,null,null,null,null,null,null,null,null,null,null,null,null,{"$f":"'Schedule V(e)'!O279","v":0}]
["Sch Ve","Scenario Tests",null,"Cyber - 1. Cyber GPW-Package - Australia & New Zealand",{"$f":"'Schedule V(e)'!O294","v":0},null,null,null,null,null,null,null,null,null,null,null,null,null,null,null,null,null,null,{"$f":"'Schedule V(e)'!O280","v":0}]
["Sch Ve","Scenario Tests",null,"Cyber - 1. Cyber GPW-Package - Japan",{"$f":"'Schedule V(e)'!O295","v":0},null,null,null,null,null,null,null,null,null,null,null,null,null,null,null,null,null,null,{"$f":"'Schedule V(e)'!O281","v":0}]
["Sch Ve","Scenario Tests",null,"Cyber - 1. Cyber GPW-Package - Worldwide",{"$f":"'Schedule V(e)'!O296","v":0},null,null,null,null,null,null,null,null,null,null,null,null,null,null,null,null,null,null,{"$f":"'Schedule V(e)'!O282","v":0}]
["Sch Ve","Scenario Tests",null,"Cyber - 1. Cyber GPW-Package - Other",{"$f":"'Schedule V(e)'!O297","v":0},null,null,null,null,null,null,null,null,null,null,null,null,null,null,null,null,null,null,{"$f":"'Schedule V(e)'!O283","v":0}]
["Sch Ve","Scenario Tests",null,"Cyber - 1. Cyber NPW-Package - US",{"$f":"'Schedule V(e)'!P291","v":0},null,null,null,null,null,null,null,null,null,null,null,null,null,null,null,null,null,null,{"$f":"'Schedule V(e)'!P277","v":0}]
["Sch Ve","Scenario Tests",null,"Cyber - 1. Cyber NPW-Package - Canada",{"$f":"'Schedule V(e)'!P292","v":0},null,null,null,null,null,null,null,null,null,null,null,null,null,null,null,null,null,null,{"$f":"'Schedule V(e)'!P278","v":0}]
["Sch Ve","Scenario Tests",null,"Cyber - 1. Cyber NPW-Package - UK & Europe",{"$f":"'Schedule V(e)'!P293","v":0},null,null,null,null,null,null,null,null,null,null,null,null,null,null,null,null,null,null,{"$f":"'Schedule V(e)'!P279","v":0}]
["Sch Ve","Scenario Tests",null,"Cyber - 1. Cyber NPW-Package - Australia & New Zealand",{"$f":"'Schedule V(e)'!P294","v":0},null,null,null,null,null,null,null,null,null,null,null,null,null,null,null,null,null,null,{"$f":"'Schedule V(e)'!P280","v":0}]
["Sch Ve","Scenario Tests",null,"Cyber - 1. Cyber NPW-Package - Japan",{"$f":"'Schedule V(e)'!P295","v":0},null,null,null,null,null,null,null,null,null,null,null,null,null,null,null,null,null,null,{"$f":"'Schedule V(e)'!P281","v":0}]
["Sch Ve","Scenario Tests",null,"Cyber - 1. Cyber NPW-Package - Worldwide",{"$f":"'Schedule V(e)'!P296","v":0},null,null,null,null,null,null,null,null,null,null,null,null,null,null,null,null,null,null,{"$f":"'Schedule V(e)'!P282","v":0}]
["Sch Ve","Scenario Tests",null,"Cyber - 1. Cyber NPW-Package - Other",{"$f":"'Schedule V(e)'!P297","v":0},null,null,null,null,null,null,null,null,null,null,null,null,null,null,null,null,null,null,{"$f":"'Schedule V(e)'!P283","v":0}]
["Sch Ve","Scenario Tests",null,"Cyber - 1. Cyber Gross Exposure-Package - US",{"$f":"'Schedule V(e)'!Q291","v":0},null,null,null,null,null,null,null,null,null,null,null,null,null,null,null,null,null,null,{"$f":"'Schedule V(e)'!Q277","v":0}]
["Sch Ve","Scenario Tests",null,"Cyber - 1. Cyber Gross Exposure-Package - Canada",{"$f":"'Schedule V(e)'!Q292","v":0},null,null,null,null,null,null,null,null,null,null,null,null,null,null,null,null,null,null,{"$f":"'Schedule V(e)'!Q278","v":0}]
["Sch Ve","Scenario Tests",null,"Cyber - 1. Cyber Gross Exposure-Package - UK & Europe",{"$f":"'Schedule V(e)'!Q293","v":0},null,null,null,null,null,null,null,null,null,null,null,null,null,null,null,null,null,null,{"$f":"'Schedule V(e)'!Q279","v":0}]
["Sch Ve","Scenario Tests",null,"Cyber - 1. Cyber Gross Exposure-Package - Australia & New Zealand",{"$f":"'Schedule V(e)'!Q294","v":0},null,null,null,null,null,null,null,null,null,null,null,null,null,null,null,null,null,null,{"$f":"'Schedule V(e)'!Q280","v":0}]
["Sch Ve","Scenario Tests",null,"Cyber - 1. Cyber Gross Exposure-Package - Japan",{"$f":"'Schedule V(e)'!Q295","v":0},null,null,null,null,null,null,null,null,null,null,null,null,null,null,null,null,null,null,{"$f":"'Schedule V(e)'!Q281","v":0}]
["Sch Ve","Scenario Tests",null,"Cyber - 1. Cyber Gross Exposure-Package - Worldwide",{"$f":"'Schedule V(e)'!Q296","v":0},null,null,null,null,null,null,null,null,null,null,null,null,null,null,null,null,null,null,{"$f":"'Schedule V(e)'!Q282","v":0}]
["Sch Ve","Scenario Tests",null,"Cyber - 1. Cyber Gross Exposure-Package - Other",{"$f":"'Schedule V(e)'!Q297","v":0},null,null,null,null,null,null,null,null,null,null,null,null,null,null,null,null,null,null,{"$f":"'Schedule V(e)'!Q283","v":0}]
["Sch Ve","Scenario Tests",null,"Cyber - 1. Cyber Net Exposure-Package - US",{"$f":"'Schedule V(e)'!R291","v":0},null,null,null,null,null,null,null,null,null,null,null,null,null,null,null,null,null,null,{"$f":"'Schedule V(e)'!R277","v":0}]
["Sch Ve","Scenario Tests",null,"Cyber - 1. Cyber Net Exposure-Package - Canada",{"$f":"'Schedule V(e)'!R292","v":0},null,null,null,null,null,null,null,null,null,null,null,null,null,null,null,null,null,null,{"$f":"'Schedule V(e)'!R278","v":0}]
["Sch Ve","Scenario Tests",null,"Cyber - 1. Cyber Net Exposure-Package - UK & Europe",{"$f":"'Schedule V(e)'!R293","v":0},null,null,null,null,null,null,null,null,null,null,null,null,null,null,null,null,null,null,{"$f":"'Schedule V(e)'!R279","v":0}]
["Sch Ve","Scenario Tests",null,"Cyber - 1. Cyber Net Exposure-Package - Australia & New Zealand",{"$f":"'Schedule V(e)'!R294","v":0},null,null,null,null,null,null,null,null,null,null,null,null,null,null,null,null,null,null,{"$f":"'Schedule V(e)'!R280","v":0}]
["Sch Ve","Scenario Tests",null,"Cyber - 1. Cyber Net Exposure-Package - Japan",{"$f":"'Schedule V(e)'!R295","v":0},null,null,null,null,null,null,null,null,null,null,null,null,null,null,null,null,null,null,{"$f":"'Schedule V(e)'!R281","v":0}]
["Sch Ve","Scenario Tests",null,"Cyber - 1. Cyber Net Exposure-Package - Worldwide",{"$f":"'Schedule V(e)'!R296","v":0},null,null,null,null,null,null,null,null,null,null,null,null,null,null,null,null,null,null,{"$f":"'Schedule V(e)'!R282","v":0}]
["Sch Ve","Scenario Tests",null,"Cyber - 1. Cyber Net Exposure-Package - Other",{"$f":"'Schedule V(e)'!R297","v":0},null,null,null,null,null,null,null,null,null,null,null,null,null,null,null,null,null,null,{"$f":"'Schedule V(e)'!R283","v":0}]
["Sch Ve","Scenario Tests",null,"Cyber - 2. Yes/No Property",null,null,null,null,null,null,null,null,null,null,null,null,null,null,null,null,null,null,null,{"$f":"'Schedule V(e)'!F310","v":"Select Yes/No"}]
["Sch Ve","Scenario Tests",null,"Cyber - 2. Yes/No Property Non-Proportional",null,null,null,null,null,null,null,null,null,null,null,null,null,null,null,null,null,null,null,{"$f":"'Schedule V(e)'!F311","v":"Select Yes/No"}]
["Sch Ve","Scenario Tests",null,"Cyber - 2. Yes/No Personal Accident",null,null,null,null,null,null,null,null,null,null,null,null,null,null,null,null,null,null,null,{"$f":"'Schedule V(e)'!F312","v":"Select Yes/No"}]
["Sch Ve","Scenario Tests",null,"Cyber - 2. Yes/No Personal Accident Non-Proportional",null,null,null,null,null,null,null,null,null,null,null,null,null,null,null,null,null,null,null,{"$f":"'Schedule V(e)'!F313","v":"Select Yes/No"}]
["Sch Ve","Scenario Tests",null,"Cyber - 2. Yes/No Aviation",null,null,null,null,null,null,null,null,null,null,null,null,null,null,null,null,null,null,null,{"$f":"'Schedule V(e)'!F314","v":"Select Yes/No"}]
["Sch Ve","Scenario Tests",null,"Cyber - 2. Yes/No Aviation Non-Proportional",null,null,null,null,null,null,null,null,null,null,null,null,null,null,null,null,null,null,null,{"$f":"'Schedule V(e)'!F315","v":"Select Yes/No"}]
["Sch Ve","Scenario Tests",null,"Cyber - 2. Yes/No Credit/Surety",null,null,null,null,null,null,null,null,null,null,null,null,null,null,null,null,null,null,null,{"$f":"'Schedule V(e)'!F316","v":"Select Yes/No"}]
["Sch Ve","Scenario Tests",null,"Cyber - 2. Yes/No Credit/Surety - Non-Proportional",null,null,null,null,null,null,null,null,null,null,null,null,null,null,null,null,null,null,null,{"$f":"'Schedule V(e)'!F317","v":"Select Yes/No"}]
["Sch Ve","Scenario Tests",null,"Cyber - 2. Yes/No Energy Offshore/Marine",null,null,null,null,null,null,null,null,null,null,null,null,null,null,null,null,null,null,null,{"$f":"'Schedule V(e)'!F318","v":"Select Yes/No"}]
["Sch Ve","Scenario Tests",null,"Cyber - 2. Yes/No Energy offshore/Marine Non-Proportional",null,null,null,null,null,null,null,null,null,null,null,null,null,null,null,null,null,null,null,{"$f":"'Schedule V(e)'!F319","v":"Select Yes/No"}]
["Sch Ve","Scenario Tests",null,"Cyber - 2. Yes/No US Casualty",null,null,null,null,null,null,null,null,null,null,null,null,null,null,null,null,null,null,null,{"$f":"'Schedule V(e)'!F320","v":"Select Yes/No"}]
["Sch Ve","Scenario Tests",null,"Cyber - 2. Yes/No US Casualty Non-Proportional",null,null,null,null,null,null,null,null,null,null,null,null,null,null,null,null,null,null,null,{"$f":"'Schedule V(e)'!F321","v":"Select Yes/No"}]
["Sch Ve","Scenario Tests",null,"Cyber - 2. Yes/No US Professional",null,null,null,null,null,null,null,null,null,null,null,null,null,null,null,null,null,null,null,{"$f":"'Schedule V(e)'!F322","v":"Select Yes/No"}]
["Sch Ve","Scenario Tests",null,"Cyber - 2. Yes/No US Professional Non-Proportional",null,null,null,null,null,null,null,null,null,null,null,null,null,null,null,null,null,null,null,{"$f":"'Schedule V(e)'!F323","v":"Select Yes/No"}]
["Sch Ve","Scenario Tests",null,"Cyber - 2. Yes/No US Specialty",null,null,null,null,null,null,null,null,null,null,null,null,null,null,null,null,null,null,null,{"$f":"'Schedule V(e)'!F324","v":"Select Yes/No"}]
["Sch Ve","Scenario Tests",null,"Cyber - 2. Yes/No US Specialty Non-Proportional",null,null,null,null,null,null,null,null,null,null,null,null,null,null,null,null,null,null,null,{"$f":"'Schedule V(e)'!F325","v":"Select Yes/No"}]
["Sch Ve","Scenario Tests",null,"Cyber - 2. Yes/No International Motor",null,null,null,null,null,null,null,null,null,null,null,null,null,null,null,null,null,null,null,{"$f":"'Schedule V(e)'!F326","v":"Select Yes/No"}]
["Sch Ve","Scenario Tests",null,"Cyber - 2. Yes/No International Motor Non-Proportional",null,null,null,null,null,null,null,null,null,null,null,null,null,null,null,null,null,null,null,{"$f":"'Schedule V(e)'!F327","v":"Select Yes/No"}]
["Sch Ve","Scenario Tests",null,"Cyber - 2. Yes/No International Casualty Non-Motor",null,null,null,null,null,null,null,null,null,null,null,null,null,null,null,null,null,null,null,{"$f":"'Schedule V(e)'!F328","v":"Select Yes/No"}]
["Sch Ve","Scenario Tests",null,"Cyber - 2. Yes/No International Casualty Non-Motor Non-Proportional",null,null,null,null,null,null,null,null,null,null,null,null,null,null,null,null,null,null,null,{"$f":"'Schedule V(e)'!F329","v":"Select Yes/No"}]
["Sch Ve","Scenario Tests",null,"Cyber - 2. Yes/No Retro Property",null,null,null,null,null,null,null,null,null,null,null,null,null,null,null,null,null,null,null,{"$f":"'Schedule V(e)'!F330","v":"Select Yes/No"}]
["Sch Ve","Scenario Tests",null,"Cyber - 2. Yes/No Structured/Finite reinsurance",null,null,null,null,null,null,null,null,null,null,null,null,null,null,null,null,null,null,null,{"$f":"'Schedule V(e)'!F331","v":"Select Yes/No"}]
["Sch Ve","Scenario Tests",null,"Cyber - 2. Yes/No Health",null,null,null,null,null,null,null,null,null,null,null,null,null,null,null,null,null,null,null,{"$f":"'Schedule V(e)'!F332","v":"Select Yes/No"}]
["Sch Ve","Scenario Tests",null,"Cyber - 2. Current Yr Property",null,null,null,null,null,null,null,null,null,null,null,null,null,null,null,null,null,null,null,{"$f":"'Schedule V(e)'!G310","v":0}]
["Sch Ve","Scenario Tests",null,"Cyber - 2. Current Yr Property Non-Proportional",null,null,null,null,null,null,null,null,null,null,null,null,null,null,null,null,null,null,null,{"$f":"'Schedule V(e)'!G311","v":0}]
["Sch Ve","Scenario Tests",null,"Cyber - 2. Current Yr Personal Accident",null,null,null,null,null,null,null,null,null,null,null,null,null,null,null,null,null,null,null,{"$f":"'Schedule V(e)'!G312","v":0}]
["Sch Ve","Scenario Tests",null,"Cyber - 2. Current Yr Personal Accident Non-Proportional",null,null,null,null,null,null,null,null,null,null,null,null,null,null,null,null,null,null,null,{"$f":"'Schedule V(e)'!G313","v":0}]
["Sch Ve","Scenario Tests",null,"Cyber - 2. Current Yr Aviation",null,null,null,null,null,null,null,null,null,null,null,null,null,null,null,null,null,null,null,{"$f":"'Schedule V(e)'!G314","v":0}]
["Sch Ve","Scenario Tests",null,"Cyber - 2. Current Yr Aviation Non-Proportional",null,null,null,null,null,null,null,null,null,null,null,null,null,null,null,null,null,null,null,{"$f":"'Schedule V(e)'!G315","v":0}]
["Sch Ve","Scenario Tests",null,"Cyber - 2. Current Yr Credit/Surety",null,null,null,null,null,null,null,null,null,null,null,null,null,null,null,null,null,null,null,{"$f":"'Schedule V(e)'!G316","v":0}]
["Sch Ve","Scenario Tests",null,"Cyber - 2. Current Yr Credit/Surety - Non-Proportional",null,null,null,null,null,null,null,null,null,null,null,null,null,null,null,null,null,null,null,{"$f":"'Schedule V(e)'!G317","v":0}]
["Sch Ve","Scenario Tests",null,"Cyber - 2. Current Yr Energy Offshore/Marine",null,null,null,null,null,null,null,null,null,null,null,null,null,null,null,null,null,null,null,{"$f":"'Schedule V(e)'!G318","v":0}]
["Sch Ve","Scenario Tests",null,"Cyber - 2. Current Yr Energy offshore/Marine Non-Proportional",null,null,null,null,null,null,null,null,null,null,null,null,null,null,null,null,null,null,null,{"$f":"'Schedule V(e)'!G319","v":0}]
["Sch Ve","Scenario Tests",null,"Cyber - 2. Current Yr US Casualty",null,null,null,null,null,null,null,null,null,null,null,null,null,null,null,null,null,null,null,{"$f":"'Schedule V(e)'!G320","v":0}]
["Sch Ve","Scenario Tests",null,"Cyber - 2. Current Yr US Casualty Non-Proportional",null,null,null,null,null,null,null,null,null,null,null,null,null,null,null,null,null,null,null,{"$f":"'Schedule V(e)'!G321","v":0}]
["Sch Ve","Scenario Tests",null,"Cyber - 2. Current Yr US Professional",null,null,null,null,null,null,null,null,null,null,null,null,null,null,null,null,null,null,null,{"$f":"'Schedule V(e)'!G322","v":0}]
["Sch Ve","Scenario Tests",null,"Cyber - 2. Current Yr US Professional Non-Proportional",null,null,null,null,null,null,null,null,null,null,null,null,null,null,null,null,null,null,null,{"$f":"'Schedule V(e)'!G323","v":0}]
["Sch Ve","Scenario Tests",null,"Cyber - 2. Current Yr US Specialty",null,null,null,null,null,null,null,null,null,null,null,null,null,null,null,null,null,null,null,{"$f":"'Schedule V(e)'!G324","v":0}]
["Sch Ve","Scenario Tests",null,"Cyber - 2. Current Yr US Specialty Non-Proportional",null,null,null,null,null,null,null,null,null,null,null,null,null,null,null,null,null,null,null,{"$f":"'Schedule V(e)'!G325","v":0}]
["Sch Ve","Scenario Tests",null,"Cyber - 2. Current Yr International Motor",null,null,null,null,null,null,null,null,null,null,null,null,null,null,null,null,null,null,null,{"$f":"'Schedule V(e)'!G326","v":0}]
["Sch Ve","Scenario Tests",null,"Cyber - 2. Current Yr International Motor Non-Proportional",null,null,null,null,null,null,null,null,null,null,null,null,null,null,null,null,null,null,null,{"$f":"'Schedule V(e)'!G327","v":0}]
["Sch Ve","Scenario Tests",null,"Cyber - 2. Current Yr International Casualty Non-Motor",null,null,null,null,null,null,null,null,null,null,null,null,null,null,null,null,null,null,null,{"$f":"'Schedule V(e)'!G328","v":0}]
["Sch Ve","Scenario Tests",null,"Cyber - 2. Current Yr International Casualty Non-Motor Non-Proportional",null,null,null,null,null,null,null,null,null,null,null,null,null,null,null,null,null,null,null,{"$f":"'Schedule V(e)'!G329","v":0}]
["Sch Ve","Scenario Tests",null,"Cyber - 2. Current Yr Retro Property",null,null,null,null,null,null,null,null,null,null,null,null,null,null,null,null,null,null,null,{"$f":"'Schedule V(e)'!G330","v":0}]
["Sch Ve","Scenario Tests",null,"Cyber - 2. Current Yr Structured/Finite reinsurance",null,null,null,null,null,null,null,null,null,null,null,null,null,null,null,null,null,null,null,{"$f":"'Schedule V(e)'!G331","v":0}]
["Sch Ve","Scenario Tests",null,"Cyber - 2. Current Yr Health",null,null,null,null,null,null,null,null,null,null,null,null,null,null,null,null,null,null,null,{"$f":"'Schedule V(e)'!G332","v":0}]
["Sch Ve","Scenario Tests",null,"Cyber - 2. Prior Yr Property",null,null,null,null,null,null,null,null,null,null,null,null,null,null,null,null,null,null,null,{"$f":"'Schedule V(e)'!H310","v":0}]
["Sch Ve","Scenario Tests",null,"Cyber - 2. Prior Yr Property Non-Proportional",null,null,null,null,null,null,null,null,null,null,null,null,null,null,null,null,null,null,null,{"$f":"'Schedule V(e)'!H311","v":0}]
["Sch Ve","Scenario Tests",null,"Cyber - 2. Prior Yr Personal Accident",null,null,null,null,null,null,null,null,null,null,null,null,null,null,null,null,null,null,null,{"$f":"'Schedule V(e)'!H312","v":0}]
["Sch Ve","Scenario Tests",null,"Cyber - 2. Prior Yr Personal Accident Non-Proportional",null,null,null,null,null,null,null,null,null,null,null,null,null,null,null,null,null,null,null,{"$f":"'Schedule V(e)'!H313","v":0}]
["Sch Ve","Scenario Tests",null,"Cyber - 2. Prior Yr Aviation",null,null,null,null,null,null,null,null,null,null,null,null,null,null,null,null,null,null,null,{"$f":"'Schedule V(e)'!H314","v":0}]
["Sch Ve","Scenario Tests",null,"Cyber - 2. Prior Yr Aviation Non-Proportional",null,null,null,null,null,null,null,null,null,null,null,null,null,null,null,null,null,null,null,{"$f":"'Schedule V(e)'!H315","v":0}]
["Sch Ve","Scenario Tests",null,"Cyber - 2. Prior Yr Credit/Surety",null,null,null,null,null,null,null,null,null,null,null,null,null,null,null,null,null,null,null,{"$f":"'Schedule V(e)'!H316","v":0}]
["Sch Ve","Scenario Tests",null,"Cyber - 2. Prior Yr Credit/Surety - Non-Proportional",null,null,null,null,null,null,null,null,null,null,null,null,null,null,null,null,null,null,null,{"$f":"'Schedule V(e)'!H317","v":0}]
["Sch Ve","Scenario Tests",null,"Cyber - 2. Prior Yr Energy Offshore/Marine",null,null,null,null,null,null,null,null,null,null,null,null,null,null,null,null,null,null,null,{"$f":"'Schedule V(e)'!H318","v":0}]
["Sch Ve","Scenario Tests",null,"Cyber - 2. Prior Yr Energy offshore/Marine Non-Proportional",null,null,null,null,null,null,null,null,null,null,null,null,null,null,null,null,null,null,null,{"$f":"'Schedule V(e)'!H319","v":0}]
["Sch Ve","Scenario Tests",null,"Cyber - 2. Prior Yr US Casualty",null,null,null,null,null,null,null,null,null,null,null,null,null,null,null,null,null,null,null,{"$f":"'Schedule V(e)'!H320","v":0}]
["Sch Ve","Scenario Tests",null,"Cyber - 2. Prior Yr US Casualty Non-Proportional",null,null,null,null,null,null,null,null,null,null,null,null,null,null,null,null,null,null,null,{"$f":"'Schedule V(e)'!H321","v":0}]
["Sch Ve","Scenario Tests",null,"Cyber - 2. Prior Yr US Professional",null,null,null,null,null,null,null,null,null,null,null,null,null,null,null,null,null,null,null,{"$f":"'Schedule V(e)'!H322","v":0}]
["Sch Ve","Scenario Tests",null,"Cyber - 2. Prior Yr US Professional Non-Proportional",null,null,null,null,null,null,null,null,null,null,null,null,null,null,null,null,null,null,null,{"$f":"'Schedule V(e)'!H323","v":0}]
["Sch Ve","Scenario Tests",null,"Cyber - 2. Prior Yr US Specialty",null,null,null,null,null,null,null,null,null,null,null,null,null,null,null,null,null,null,null,{"$f":"'Schedule V(e)'!H324","v":0}]
["Sch Ve","Scenario Tests",null,"Cyber - 2. Prior Yr US Specialty Non-Proportional",null,null,null,null,null,null,null,null,null,null,null,null,null,null,null,null,null,null,null,{"$f":"'Schedule V(e)'!H325","v":0}]
["Sch Ve","Scenario Tests",null,"Cyber - 2. Prior Yr International Motor",null,null,null,null,null,null,null,null,null,null,null,null,null,null,null,null,null,null,null,{"$f":"'Schedule V(e)'!H326","v":0}]
["Sch Ve","Scenario Tests",null,"Cyber - 2. Prior Yr International Motor Non-Proportional",null,null,null,null,null,null,null,null,null,null,null,null,null,null,null,null,null,null,null,{"$f":"'Schedule V(e)'!H327","v":0}]
["Sch Ve","Scenario Tests",null,"Cyber - 2. Prior Yr International Casualty Non-Motor",null,null,null,null,null,null,null,null,null,null,null,null,null,null,null,null,null,null,null,{"$f":"'Schedule V(e)'!H328","v":0}]
["Sch Ve","Scenario Tests",null,"Cyber - 2. Prior Yr International Casualty Non-Motor Non-Proportional",null,null,null,null,null,null,null,null,null,null,null,null,null,null,null,null,null,null,null,{"$f":"'Schedule V(e)'!H329","v":0}]
["Sch Ve","Scenario Tests",null,"Cyber - 2. Prior Yr Retro Property",null,null,null,null,null,null,null,null,null,null,null,null,null,null,null,null,null,null,null,{"$f":"'Schedule V(e)'!H330","v":0}]
["Sch Ve","Scenario Tests",null,"Cyber - 2. Prior Yr Structured/Finite reinsurance",null,null,null,null,null,null,null,null,null,null,null,null,null,null,null,null,null,null,null,{"$f":"'Schedule V(e)'!H331","v":0}]
["Sch Ve","Scenario Tests",null,"Cyber - 2. Prior Yr Health",null,null,null,null,null,null,null,null,null,null,null,null,null,null,null,null,null,null,null,{"$f":"'Schedule V(e)'!H332","v":0}]
["Sch Ve","Scenario Tests",null,"Cyber - 2. Claims Made or Occurrence -  Property",null,null,null,null,null,null,null,null,null,null,null,null,null,null,null,null,null,null,null,{"$f":"'Schedule V(e)'!I310","v":"Select from Drop-down"}]
["Sch Ve","Scenario Tests",null,"Cyber - 2. Claims Made or Occurrence -  Property Non-Proportional",null,null,null,null,null,null,null,null,null,null,null,null,null,null,null,null,null,null,null,{"$f":"'Schedule V(e)'!I311","v":"Select from Drop-down"}]
["Sch Ve","Scenario Tests",null,"Cyber - 2. Claims Made or Occurrence -  Personal Accident",null,null,null,null,null,null,null,null,null,null,null,null,null,null,null,null,null,null,null,{"$f":"'Schedule V(e)'!I312","v":"Select from Drop-down"}]
["Sch Ve","Scenario Tests",null,"Cyber - 2. Claims Made or Occurrence -  Personal Accident Non-Proportional",null,null,null,null,null,null,null,null,null,null,null,null,null,null,null,null,null,null,null,{"$f":"'Schedule V(e)'!I313","v":"Select from Drop-down"}]
["Sch Ve","Scenario Tests",null,"Cyber - 2. Claims Made or Occurrence -  Aviation",null,null,null,null,null,null,null,null,null,null,null,null,null,null,null,null,null,null,null,{"$f":"'Schedule V(e)'!I314","v":"Select from Drop-down"}]
["Sch Ve","Scenario Tests",null,"Cyber - 2. Claims Made or Occurrence -  Aviation Non-Proportional",null,null,null,null,null,null,null,null,null,null,null,null,null,null,null,null,null,null,null,{"$f":"'Schedule V(e)'!I315","v":"Select from Drop-down"}]
["Sch Ve","Scenario Tests",null,"Cyber - 2. Claims Made or Occurrence -  Credit/Surety",null,null,null,null,null,null,null,null,null,null,null,null,null,null,null,null,null,null,null,{"$f":"'Schedule V(e)'!I316","v":"Select from Drop-down"}]
["Sch Ve","Scenario Tests",null,"Cyber - 2. Claims Made or Occurrence -  Credit/Surety - Non-Proportional",null,null,null,null,null,null,null,null,null,null,null,null,null,null,null,null,null,null,null,{"$f":"'Schedule V(e)'!I317","v":"Select from Drop-down"}]
["Sch Ve","Scenario Tests",null,"Cyber - 2. Claims Made or Occurrence -  Energy Offshore/Marine",null,null,null,null,null,null,null,null,null,null,null,null,null,null,null,null,null,null,null,{"$f":"'Schedule V(e)'!I318","v":"Select from Drop-down"}]
["Sch Ve","Scenario Tests",null,"Cyber - 2. Claims Made or Occurrence -  Energy offshore/Marine Non-Proportional",null,null,null,null,null,null,null,null,null,null,null,null,null,null,null,null,null,null,null,{"$f":"'Schedule V(e)'!I319","v":"Select from Drop-down"}]
["Sch Ve","Scenario Tests",null,"Cyber - 2. Claims Made or Occurrence -  US Casualty",null,null,null,null,null,null,null,null,null,null,null,null,null,null,null,null,null,null,null,{"$f":"'Schedule V(e)'!I320","v":"Select from Drop-down"}]
["Sch Ve","Scenario Tests",null,"Cyber - 2. Claims Made or Occurrence -  US Casualty Non-Proportional",null,null,null,null,null,null,null,null,null,null,null,null,null,null,null,null,null,null,null,{"$f":"'Schedule V(e)'!I321","v":"Select from Drop-down"}]
["Sch Ve","Scenario Tests",null,"Cyber - 2. Claims Made or Occurrence -  US Professional",null,null,null,null,null,null,null,null,null,null,null,null,null,null,null,null,null,null,null,{"$f":"'Schedule V(e)'!I322","v":"Select from Drop-down"}]
["Sch Ve","Scenario Tests",null,"Cyber - 2. Claims Made or Occurrence -  US Professional Non-Proportional",null,null,null,null,null,null,null,null,null,null,null,null,null,null,null,null,null,null,null,{"$f":"'Schedule V(e)'!I323","v":"Select from Drop-down"}]
["Sch Ve","Scenario Tests",null,"Cyber - 2. Claims Made or Occurrence -  US Specialty",null,null,null,null,null,null,null,null,null,null,null,null,null,null,null,null,null,null,null,{"$f":"'Schedule V(e)'!I324","v":"Select from Drop-down"}]
["Sch Ve","Scenario Tests",null,"Cyber - 2. Claims Made or Occurrence -  US Specialty Non-Proportional",null,null,null,null,null,null,null,null,null,null,null,null,null,null,null,null,null,null,null,{"$f":"'Schedule V(e)'!I325","v":"Select from Drop-down"}]
["Sch Ve","Scenario Tests",null,"Cyber - 2. Claims Made or Occurrence -  International Motor",null,null,null,null,null,null,null,null,null,null,null,null,null,null,null,null,null,null,null,{"$f":"'Schedule V(e)'!I326","v":"Select from Drop-down"}]
["Sch Ve","Scenario Tests",null,"Cyber - 2. Claims Made or Occurrence -  International Motor Non-Proportional",null,null,null,null,null,null,null,null,null,null,null,null,null,null,null,null,null,null,null,{"$f":"'Schedule V(e)'!I327","v":"Select from Drop-down"}]
["Sch Ve","Scenario Tests",null,"Cyber - 2. Claims Made or Occurrence -  International Casualty Non-Motor",null,null,null,null,null,null,null,null,null,null,null,null,null,null,null,null,null,null,null,{"$f":"'Schedule V(e)'!I328","v":"Select from Drop-down"}]
["Sch Ve","Scenario Tests",null,"Cyber - 2. Claims Made or Occurrence -  International Casualty Non-Motor Non-Proportional",null,null,null,null,null,null,null,null,null,null,null,null,null,null,null,null,null,null,null,{"$f":"'Schedule V(e)'!I329","v":"Select from Drop-down"}]
["Sch Ve","Scenario Tests",null,"Cyber - 2. Claims Made or Occurrence -  Retro Property",null,null,null,null,null,null,null,null,null,null,null,null,null,null,null,null,null,null,null,{"$f":"'Schedule V(e)'!I330","v":"Select from Drop-down"}]
["Sch Ve","Scenario Tests",null,"Cyber - 2. Claims Made or Occurrence -  Structured/Finite reinsurance",null,null,null,null,null,null,null,null,null,null,null,null,null,null,null,null,null,null,null,{"$f":"'Schedule V(e)'!I331","v":"Select from Drop-down"}]
["Sch Ve","Scenario Tests",null,"Cyber - 2. Claims Made or Occurrence -  Health",null,null,null,null,null,null,null,null,null,null,null,null,null,null,null,null,null,null,null,{"$f":"'Schedule V(e)'!I332","v":"Select from Drop-down"}]
["Sch Ve","Scenario Tests",null,"Cyber - 2. No Cyber Exclusion -  Property",null,null,null,null,null,null,null,null,null,null,null,null,null,null,null,null,null,null,null,{"$f":"'Schedule V(e)'!K310","v":"Select Yes/No"}]
["Sch Ve","Scenario Tests",null,"Cyber - 2. No Cyber Exclusion -  Property Non-Proportional",null,null,null,null,null,null,null,null,null,null,null,null,null,null,null,null,null,null,null,{"$f":"'Schedule V(e)'!K311","v":"Select Yes/No"}]
["Sch Ve","Scenario Tests",null,"Cyber - 2. No Cyber Exclusion -  Personal Accident",null,null,null,null,null,null,null,null,null,null,null,null,null,null,null,null,null,null,null,{"$f":"'Schedule V(e)'!K312","v":"Select Yes/No"}]
["Sch Ve","Scenario Tests",null,"Cyber - 2. No Cyber Exclusion -  Personal Accident Non-Proportional",null,null,null,null,null,null,null,null,null,null,null,null,null,null,null,null,null,null,null,{"$f":"'Schedule V(e)'!K313","v":"Select Yes/No"}]
["Sch Ve","Scenario Tests",null,"Cyber - 2. No Cyber Exclusion -  Aviation",null,null,null,null,null,null,null,null,null,null,null,null,null,null,null,null,null,null,null,{"$f":"'Schedule V(e)'!K314","v":"Select Yes/No"}]
["Sch Ve","Scenario Tests",null,"Cyber - 2. No Cyber Exclusion -  Aviation Non-Proportional",null,null,null,null,null,null,null,null,null,null,null,null,null,null,null,null,null,null,null,{"$f":"'Schedule V(e)'!K315","v":"Select Yes/No"}]
["Sch Ve","Scenario Tests",null,"Cyber - 2. No Cyber Exclusion -  Credit/Surety",null,null,null,null,null,null,null,null,null,null,null,null,null,null,null,null,null,null,null,{"$f":"'Schedule V(e)'!K316","v":"Select Yes/No"}]
["Sch Ve","Scenario Tests",null,"Cyber - 2. No Cyber Exclusion -  Credit/Surety - Non-Proportional",null,null,null,null,null,null,null,null,null,null,null,null,null,null,null,null,null,null,null,{"$f":"'Schedule V(e)'!K317","v":"Select Yes/No"}]
["Sch Ve","Scenario Tests",null,"Cyber - 2. No Cyber Exclusion -  Energy Offshore/Marine",null,null,null,null,null,null,null,null,null,null,null,null,null,null,null,null,null,null,null,{"$f":"'Schedule V(e)'!K318","v":"Select Yes/No"}]
["Sch Ve","Scenario Tests",null,"Cyber - 2. No Cyber Exclusion -  Energy offshore/Marine Non-Proportional",null,null,null,null,null,null,null,null,null,null,null,null,null,null,null,null,null,null,null,{"$f":"'Schedule V(e)'!K319","v":"Select Yes/No"}]
["Sch Ve","Scenario Tests",null,"Cyber - 2. No Cyber Exclusion -  US Casualty",null,null,null,null,null,null,null,null,null,null,null,null,null,null,null,null,null,null,null,{"$f":"'Schedule V(e)'!K320","v":"Select Yes/No"}]
["Sch Ve","Scenario Tests",null,"Cyber - 2. No Cyber Exclusion -  US Casualty Non-Proportional",null,null,null,null,null,null,null,null,null,null,null,null,null,null,null,null,null,null,null,{"$f":"'Schedule V(e)'!K321","v":"Select Yes/No"}]
["Sch Ve","Scenario Tests",null,"Cyber - 2. No Cyber Exclusion -  US Professional",null,null,null,null,null,null,null,null,null,null,null,null,null,null,null,null,null,null,null,{"$f":"'Schedule V(e)'!K322","v":"Select Yes/No"}]
["Sch Ve","Scenario Tests",null,"Cyber - 2. No Cyber Exclusion -  US Professional Non-Proportional",null,null,null,null,null,null,null,null,null,null,null,null,null,null,null,null,null,null,null,{"$f":"'Schedule V(e)'!K323","v":"Select Yes/No"}]
["Sch Ve","Scenario Tests",null,"Cyber - 2. No Cyber Exclusion -  US Specialty",null,null,null,null,null,null,null,null,null,null,null,null,null,null,null,null,null,null,null,{"$f":"'Schedule V(e)'!K324","v":"Select Yes/No"}]
["Sch Ve","Scenario Tests",null,"Cyber - 2. No Cyber Exclusion -  US Specialty Non-Proportional",null,null,null,null,null,null,null,null,null,null,null,null,null,null,null,null,null,null,null,{"$f":"'Schedule V(e)'!K325","v":"Select Yes/No"}]
["Sch Ve","Scenario Tests",null,"Cyber - 2. No Cyber Exclusion -  International Motor",null,null,null,null,null,null,null,null,null,null,null,null,null,null,null,null,null,null,null,{"$f":"'Schedule V(e)'!K326","v":"Select Yes/No"}]
["Sch Ve","Scenario Tests",null,"Cyber - 2. No Cyber Exclusion -  International Motor Non-Proportional",null,null,null,null,null,null,null,null,null,null,null,null,null,null,null,null,null,null,null,{"$f":"'Schedule V(e)'!K327","v":"Select Yes/No"}]
["Sch Ve","Scenario Tests",null,"Cyber - 2. No Cyber Exclusion -  International Casualty Non-Motor",null,null,null,null,null,null,null,null,null,null,null,null,null,null,null,null,null,null,null,{"$f":"'Schedule V(e)'!K328","v":"Select Yes/No"}]
["Sch Ve","Scenario Tests",null,"Cyber - 2. No Cyber Exclusion -  International Casualty Non-Motor Non-Proportional",null,null,null,null,null,null,null,null,null,null,null,null,null,null,null,null,null,null,null,{"$f":"'Schedule V(e)'!K329","v":"Select Yes/No"}]
["Sch Ve","Scenario Tests",null,"Cyber - 2. No Cyber Exclusion -  Retro Property",null,null,null,null,null,null,null,null,null,null,null,null,null,null,null,null,null,null,null,{"$f":"'Schedule V(e)'!K330","v":"Select Yes/No"}]
["Sch Ve","Scenario Tests",null,"Cyber - 2. No Cyber Exclusion -  Structured/Finite reinsurance",null,null,null,null,null,null,null,null,null,null,null,null,null,null,null,null,null,null,null,{"$f":"'Schedule V(e)'!K331","v":"Select Yes/No"}]
["Sch Ve","Scenario Tests",null,"Cyber - 2. No Cyber Exclusion -  Health",null,null,null,null,null,null,null,null,null,null,null,null,null,null,null,null,null,null,null,{"$f":"'Schedule V(e)'!K332","v":"Select Yes/No"}]
["Sch Ve","Scenario Tests",null,"Cyber - 3. Worst Case Description",null,null,null,null,null,null,null,null,null,null,null,null,null,null,null,null,null,null,null,{"$f":"'Schedule V(e)'!D337","v":0}]
["Sch Ve","Scenario Tests",null,"Cyber - 3. Gross Policy Limits",null,null,null,null,null,null,null,null,null,null,null,null,null,null,null,null,null,null,null,{"$f":"'Schedule V(e)'!D339","v":0}]
["Sch Ve","Scenario Tests",null,"Cyber - 3. Net Policy Limits",null,null,null,null,null,null,null,null,null,null,null,null,null,null,null,null,null,null,null,{"$f":"'Schedule V(e)'!D340","v":0}]
["Sch Ve","Scenario Tests",null,"Cyber - 3. Gross Loss",null,null,null,null,null,null,null,null,null,null,null,null,null,null,null,null,null,null,null,{"$f":"'Schedule V(e)'!D341","v":0}]
["Sch Ve","Scenario Tests",null,"Cyber - 3. Net Loss",null,null,null,null,null,null,null,null,null,null,null,null,null,null,null,null,null,null,null,{"$f":"'Schedule V(e)'!D342","v":0}]
["Sch Ve","Scenario Tests",null,"Cyber - 3. Occurrence Return Limit",null,null,null,null,null,null,null,null,null,null,null,null,null,null,null,null,null,null,null,{"$f":"'Schedule V(e)'!D343","v":0}]
["Sch Ve","Scenario Tests",null,"Cyber - 3. Relative Return Limit",null,null,null,null,null,null,null,null,null,null,null,null,null,null,null,null,null,null,null,{"$f":"'Schedule V(e)'!D344","v":0}]
["Sch Ve","Scenario Tests",null,"A1) Headquarters in Bermuda?",{"$f":"'Schedule V(e)'!L360","v":"Select Yes/No"}]
["Sch Ve","Scenario Tests",null,"A2) Number of users located in Bermuda",{"$f":"'Schedule V(e)'!L361","v":"Select Amount"}]
["Sch Ve","Scenario Tests",null,"A3) Number of users globally",{"$f":"'Schedule V(e)'!L362","v":"Select Amount"}]
["Sch Ve","Scenario Tests",null,"A4) Data centre in Bermuda to host servers",{"$f":"'Schedule V(e)'!L363","v":"Select Yes/No"}]
["Sch Ve","Scenario Tests",null,"A5) Utilize a cloud hosting company to host servers",{"$f":"'Schedule V(e)'!L364","v":"Select Yes/No"}]
["Sch Ve","Scenario Tests",null,"A6) Cybersecurity insurance coverage",{"$f":"'Schedule V(e)'!L365","v":"Select Yes/No"}]
["Sch Ve","Scenario Tests",null,"A7) Personal data of customers stored/processed",{"$f":"'Schedule V(e)'!L367","v":"Select Yes/No"}]
["Sch Ve","Scenario Tests",null,"A8) # of Credit card data stored/processed",{"$f":"'Schedule V(e)'!L368","v":"Select Yes/No"}]
["Sch Ve","Scenario Tests",null,"A9) Personal data stored/processed",{"$f":"'Schedule V(e)'!L369","v":"Select Yes/No"}]
["Sch Ve","Scenario Tests",null,"A10) Brochureware",{"$f":"'Schedule V(e)'!L371","v":"Select Yes/No"}]
["Sch Ve","Scenario Tests",null,"A11) Web applications",{"$f":"'Schedule V(e)'!L372","v":"Select Yes/No"}]
["Sch Ve","Scenario Tests",null,"A12) Web applications that processes",{"$f":"'Schedule V(e)'!L373","v":"Select Yes/No"}]
["Sch Ve","Scenario Tests",null,"A13) Dedicated IT Risk Manager",{"$f":"'Schedule V(e)'!L375","v":"Select Yes/No"}]
["Sch Ve","Scenario Tests",null,"A13a) Dedicated IT Risk Manager Details",{"$f":"'Schedule V(e)'!N375","v":"Confirm role holder's name"}]
["Sch Ve","Scenario Tests",null,"A14) Dedicated IT Security Manager",{"$f":"'Schedule V(e)'!L376","v":"Select Yes/No"}]
["Sch Ve","Scenario Tests",null,"A14a) Dedicated IT Security Manager",{"$f":"'Schedule V(e)'!N376","v":"Confirm role holder's name"}]
["Sch Ve","Scenario Tests",null,"A15) Dedicated IT Disaster Recovery Manager",{"$f":"'Schedule V(e)'!L377","v":"Select Yes/No"}]
["Sch Ve","Scenario Tests",null,"A15a) Dedicated IT Disaster Recovery Manager details",{"$f":"'Schedule V(e)'!N377","v":"Confirm role holder's name"}]
["Sch Ve","Scenario Tests",null,"A16) Dedicated Business Continuity Manager",{"$f":"'Schedule V(e)'!L378","v":"Select Yes/No"}]
["Sch Ve","Scenario Tests",null,"A16a) Dedicated Business Continuity Manager details",{"$f":"'Schedule V(e)'!N378","v":"Confirm role holder's name"}]
["Sch Ve","Scenario Tests",null,"A17) Designated Data Privacy Officer",{"$f":"'Schedule V(e)'!L379","v":"Select Yes/No"}]
["Sch Ve","Scenario Tests",null,"A17a) Designated Data Privacy Officer details",{"$f":"'Schedule V(e)'!N379","v":"Confirm role holder's name"}]
["Sch Ve","Scenario Tests",null,"A18) IT Audit completed annually",{"$f":"'Schedule V(e)'!L380","v":"Select Yes/No"}]
["Sch Ve","Scenario Tests",null,"A18a) IT Audit completed annually details",{"$f":"'Schedule V(e)'!N380","v":"Date of last internal/external IT audit"}]
["Sch Ve","Scenario Tests",null,"B1) Cyber security programme in place",{"$f":"'Schedule V(e)'!L384","v":"Select Yes/No"}]
["Sch Ve","Scenario Tests",null,"B2) Cyber programme status communicated to Senior Mgmt",{"$f":"'Schedule V(e)'!L385","v":"Select Yes/No"}]
["Sch Ve","Scenario Tests",null,"B3) Cyber Risk Policy approved by Board annually",{"$f":"'Schedule V(e)'!L386","v":"Select Yes/No"}]
["Sch Ve","Scenario Tests",null,"B4) 3 lines of defence clearly defined",{"$f":"'Schedule V(e)'!L387","v":"Select Yes/No"}]
["Sch Ve","Scenario Tests",null,"B5) Compliance with Data Protection requirements",{"$f":"'Schedule V(e)'!L388","v":"Select Yes/No"}]
["Sch Ve","Scenario Tests",null,"B6) Asset Management inventoried",{"$f":"'Schedule V(e)'!L389","v":"Select Yes/No"}]
["Sch Ve","Scenario Tests",null,"B7) Classified all data",{"$f":"'Schedule V(e)'!L390","v":"Select Yes/No"}]
["Sch Ve","Scenario Tests",null,"B8) 3rd Party security assessment in past year",{"$f":"'Schedule V(e)'!L391","v":"Select Yes/No"}]
["Sch Ve","Scenario Tests",null,"B9) Classed Data by sensitivity",{"$f":"'Schedule V(e)'!L393","v":"Select Yes/No"}]
["Sch Ve","Scenario Tests",null,"B10) Formal Process for software and hardware maintenance",{"$f":"'Schedule V(e)'!L394","v":"Select Yes/No"}]
["Sch Ve","Scenario Tests",null,"B11) Logical Assess Management Standard",{"$f":"'Schedule V(e)'!L395","v":"Select Yes/No"}]
["Sch Ve","Scenario Tests",null,"B12) Staff complete cybersecurity training",{"$f":"'Schedule V(e)'!L396","v":"Select Yes/No"}]
["Sch Ve","Scenario Tests",null,"B13) Penetration Testing completed within 1 yr",{"$f":"'Schedule V(e)'!L397","v":"Select Yes/No"}]
["Sch Ve","Scenario Tests",null,"B14) Segment enterprise network",{"$f":"'Schedule V(e)'!L398","v":"Select Yes/No"}]
["Sch Ve","Scenario Tests",null,"B15) Formal process for software changes",{"$f":"'Schedule V(e)'!L399","v":"Select Yes/No"}]
["Sch Ve","Scenario Tests",null,"B16) Security configuration standards",{"$f":"'Schedule V(e)'!L400","v":"Select Yes/No"}]
["Sch Ve","Scenario Tests",null,"B17) Detect-Process for threat alerting",{"$f":"'Schedule V(e)'!L402","v":"Select Yes/No"}]
["Sch Ve","Scenario Tests",null,"B18) Process to Monitor Info Systems",{"$f":"'Schedule V(e)'!L403","v":"Select Yes/No"}]
["Sch Ve","Scenario Tests",null,"B19) Centrally stores & archives logs",{"$f":"'Schedule V(e)'!L404","v":"Select Yes/No"}]
["Sch Ve","Scenario Tests",null,"B20) Doc. Incident Response Plan",{"$f":"'Schedule V(e)'!L406","v":"Select Yes/No"}]
["Sch Ve","Scenario Tests",null,"B21) 4th Line Expertise service for major incident",{"$f":"'Schedule V(e)'!L407","v":"Select Yes/No"}]
["Sch Ve","Scenario Tests",null,"B22) Business Continuity Plan tested last 12 months",{"$f":"'Schedule V(e)'!L409","v":"Select Yes/No"}]
["Sch Ve","Scenario Tests",null,"B23) Cyber Incident last 12 months",{"$f":"'Schedule V(e)'!L410","v":"Select Yes/No"}]
["Sch Ve","Scenario Tests",null,"C1) Antivirus software installed",{"$f":"'Schedule V(e)'!L414","v":"Select Yes/No"}]
["Sch Ve","Scenario Tests",null,"C2) APT Control in place",{"$f":"'Schedule V(e)'!L415","v":"Select Yes/No"}]
["Sch Ve","Scenario Tests",null,"C3) DLP controls in place",{"$f":"'Schedule V(e)'!L416","v":"Select Yes/No"}]
["Sch Ve","Scenario Tests",null,"C4) Internal Vulnerability scanning conducted",{"$f":"'Schedule V(e)'!L417","v":"Select Yes/No"}]
["Sch Ve","Scenario Tests",null,"C4a) Internal Vulnerability scanning frequency",{"$f":"'Schedule V(e)'!N417","v":"Select Frequency"}]
["Sch Ve","Scenario Tests",null,"C5) External Vulnerability scanning conducted",{"$f":"'Schedule V(e)'!L418","v":"Select Yes/No"}]
["Sch Ve","Scenario Tests",null,"C5a) External Vulnerability scanning frequency",{"$f":"'Schedule V(e)'!N418","v":"Select Frequency"}]
["Sch Ve","Scenario Tests",null,"C6) Regular Firewall Ruleset Reviews",{"$f":"'Schedule V(e)'!L419","v":"Select Yes/No"}]
["Sch Ve","Scenario Tests",null,"C7) Network IDS/IPS control",{"$f":"'Schedule V(e)'!L420","v":"Select Yes/No"}]
["Sch Ve","Scenario Tests",null,"C8) Internet borne DDOS defence in place",{"$f":"'Schedule V(e)'!L421","v":"Select Yes/No"}]
[]
["Sch V(m)","Alternative Capital",null,"Structure of Insurer",{"$f":"'Schedule V(m)'!C3","v":0}]
["Sch V(m)","Alternative Capital",null,"Number of Rows",{"$f":"'Schedule V(m)'!C6","v":0}]
["Sch V(m)","Alternative Capital",null,"Name of Cedant - 1",{"$f":"'Schedule V(m)'!B11","v":0}]
["Sch V(m)","Alternative Capital",null,"Name of Cedant - 2",{"$f":"'Schedule V(m)'!B12","v":0}]
["Sch V(m)","Alternative Capital",null,"Name of Cedant - 3",{"$f":"'Schedule V(m)'!B13","v":0}]
["Sch V(m)","Alternative Capital",null,"Name of Cedant - 4",{"$f":"'Schedule V(m)'!B14","v":0}]
["Sch V(m)","Alternative Capital",null,"Name of Cedant - 5",{"$f":"'Schedule V(m)'!B15","v":0}]
["Sch V(m)","Alternative Capital",null,"Name of Cedant - 6",{"$f":"'Schedule V(m)'!B16","v":0}]
["Sch V(m)","Alternative Capital",null,"Name of Cedant - 7",{"$f":"'Schedule V(m)'!B17","v":0}]
["Sch V(m)","Alternative Capital",null,"Name of Cedant - 8",{"$f":"'Schedule V(m)'!B18","v":0}]
["Sch V(m)","Alternative Capital",null,"Name of Cedant - 9",{"$f":"'Schedule V(m)'!B19","v":0}]
["Sch V(m)","Alternative Capital",null,"Name of Cedant - 10",{"$f":"'Schedule V(m)'!B20","v":0}]
["Sch V(m)","Alternative Capital",null,"Name of Cedant - 11",{"$f":"'Schedule V(m)'!B21","v":0}]
["Sch V(m)","Alternative Capital",null,"Name of Cedant - 12",{"$f":"'Schedule V(m)'!B22","v":0}]
["Sch V(m)","Alternative Capital",null,"Name of Cedant - 13",{"$f":"'Schedule V(m)'!B23","v":0}]
["Sch V(m)","Alternative Capital",null,"Name of Cedant - 14",{"$f":"'Schedule V(m)'!B24","v":0}]
["Sch V(m)","Alternative Capital",null,"Name of Cedant - 15",{"$f":"'Schedule V(m)'!B25","v":0}]
["Sch V(m)","Alternative Capital",null,"Name of Cedant - 16",{"$f":"'Schedule V(m)'!B26","v":0}]
["Sch V(m)","Alternative Capital",null,"Name of Cedant - 17",{"$f":"'Schedule V(m)'!B27","v":0}]
["Sch V(m)","Alternative Capital",null,"Name of Cedant - 18",{"$f":"'Schedule V(m)'!B28","v":0}]
["Sch V(m)","Alternative Capital",null,"Name of Cedant - 19",{"$f":"'Schedule V(m)'!B29","v":0}]
["Sch V(m)","Alternative Capital",null,"Name of Cedant - 20",{"$f":"'Schedule V(m)'!B30","v":0}]
["Sch V(m)","Alternative Capital",null,"Name of Cedant - 21",{"$f":"'Schedule V(m)'!B31","v":0}]
["Sch V(m)","Alternative Capital",null,"Name of Cedant - 22",{"$f":"'Schedule V(m)'!B32","v":0}]
["Sch V(m)","Alternative Capital",null,"Name of Cedant - 23",{"$f":"'Schedule V(m)'!B33","v":0}]
["Sch V(m)","Alternative Capital",null,"Name of Cedant - 24",{"$f":"'Schedule V(m)'!B34","v":0}]
["Sch V(m)","Alternative Capital",null,"Name of Cedant - 25",{"$f":"'Schedule V(m)'!B35","v":0}]
["Sch V(m)","Alternative Capital",null,"Contract Reference - 1",{"$f":"'Schedule V(m)'!C11","v":0}]
["Sch V(m)","Alternative Capital",null,"Contract Reference - 2",{"$f":"'Schedule V(m)'!C12","v":0}]
["Sch V(m)","Alternative Capital",null,"Contract Reference - 3",{"$f":"'Schedule V(m)'!C13","v":0}]
["Sch V(m)","Alternative Capital",null,"Contract Reference - 4",{"$f":"'Schedule V(m)'!C14","v":0}]
["Sch V(m)","Alternative Capital",null,"Contract Reference - 5",{"$f":"'Schedule V(m)'!C15","v":0}]
["Sch V(m)","Alternative Capital",null,"Contract Reference - 6",{"$f":"'Schedule V(m)'!C16","v":0}]
["Sch V(m)","Alternative Capital",null,"Contract Reference - 7",{"$f":"'Schedule V(m)'!C17","v":0}]
["Sch V(m)","Alternative Capital",null,"Contract Reference - 8",{"$f":"'Schedule V(m)'!C18","v":0}]
["Sch V(m)","Alternative Capital",null,"Contract Reference - 9",{"$f":"'Schedule V(m)'!C19","v":0}]
["Sch V(m)","Alternative Capital",null,"Contract Reference - 10",{"$f":"'Schedule V(m)'!C20","v":0}]
["Sch V(m)","Alternative Capital",null,"Contract Reference - 11",{"$f":"'Schedule V(m)'!C21","v":0}]
["Sch V(m)","Alternative Capital",null,"Contract Reference - 12",{"$f":"'Schedule V(m)'!C22","v":0}]
["Sch V(m)","Alternative Capital",null,"Contract Reference - 13",{"$f":"'Schedule V(m)'!C23","v":0}]
["Sch V(m)","Alternative Capital",null,"Contract Reference - 14",{"$f":"'Schedule V(m)'!C24","v":0}]
["Sch V(m)","Alternative Capital",null,"Contract Reference - 15",{"$f":"'Schedule V(m)'!C25","v":0}]
["Sch V(m)","Alternative Capital",null,"Contract Reference - 16",{"$f":"'Schedule V(m)'!C26","v":0}]
["Sch V(m)","Alternative Capital",null,"Contract Reference - 17",{"$f":"'Schedule V(m)'!C27","v":0}]
["Sch V(m)","Alternative Capital",null,"Contract Reference - 18",{"$f":"'Schedule V(m)'!C28","v":0}]
["Sch V(m)","Alternative Capital",null,"Contract Reference - 19",{"$f":"'Schedule V(m)'!C29","v":0}]
["Sch V(m)","Alternative Capital",null,"Contract Reference - 20",{"$f":"'Schedule V(m)'!C30","v":0}]
["Sch V(m)","Alternative Capital",null,"Contract Reference - 21",{"$f":"'Schedule V(m)'!C31","v":0}]
["Sch V(m)","Alternative Capital",null,"Contract Reference - 22",{"$f":"'Schedule V(m)'!C32","v":0}]
["Sch V(m)","Alternative Capital",null,"Contract Reference - 23",{"$f":"'Schedule V(m)'!C33","v":0}]
["Sch V(m)","Alternative Capital",null,"Contract Reference - 24",{"$f":"'Schedule V(m)'!C34","v":0}]
["Sch V(m)","Alternative Capital",null,"Contract Reference - 25",{"$f":"'Schedule V(m)'!C35","v":0}]
["Sch V(m)","Alternative Capital",null,"Type of Coverage - 1",{"$f":"'Schedule V(m)'!D11","v":"Select from Drop Down"}]
["Sch V(m)","Alternative Capital",null,"Type of Coverage - 2",{"$f":"'Schedule V(m)'!D12","v":"Select from Drop Down"}]
["Sch V(m)","Alternative Capital",null,"Type of Coverage - 3",{"$f":"'Schedule V(m)'!D13","v":"Select from Drop Down"}]
["Sch V(m)","Alternative Capital",null,"Type of Coverage - 4",{"$f":"'Schedule V(m)'!D14","v":"Select from Drop Down"}]
["Sch V(m)","Alternative Capital",null,"Type of Coverage - 5",{"$f":"'Schedule V(m)'!D15","v":"Select from Drop Down"}]
["Sch V(m)","Alternative Capital",null,"Type of Coverage - 6",{"$f":"'Schedule V(m)'!D16","v":"Select from Drop Down"}]
["Sch V(m)","Alternative Capital",null,"Type of Coverage - 7",{"$f":"'Schedule V(m)'!D17","v":"Select from Drop Down"}]
["Sch V(m)","Alternative Capital",null,"Type of Coverage - 8",{"$f":"'Schedule V(m)'!D18","v":"Select from Drop Down"}]
["Sch V(m)","Alternative Capital",null,"Type of Coverage - 9",{"$f":"'Schedule V(m)'!D19","v":"Select from Drop Down"}]
["Sch V(m)","Alternative Capital",null,"Type of Coverage - 10",{"$f":"'Schedule V(m)'!D20","v":"Select from Drop Down"}]
["Sch V(m)","Alternative Capital",null,"Type of Coverage - 11",{"$f":"'Schedule V(m)'!D21","v":"Select from Drop Down"}]
["Sch V(m)","Alternative Capital",null,"Type of Coverage - 12",{"$f":"'Schedule V(m)'!D22","v":"Select from Drop Down"}]
["Sch V(m)","Alternative Capital",null,"Type of Coverage - 13",{"$f":"'Schedule V(m)'!D23","v":"Select from Drop Down"}]
["Sch V(m)","Alternative Capital",null,"Type of Coverage - 14",{"$f":"'Schedule V(m)'!D24","v":"Select from Drop Down"}]
["Sch V(m)","Alternative Capital",null,"Type of Coverage - 15",{"$f":"'Schedule V(m)'!D25","v":"Select from Drop Down"}]
["Sch V(m)","Alternative Capital",null,"Type of Coverage - 16",{"$f":"'Schedule V(m)'!D26","v":"Select from Drop Down"}]
["Sch V(m)","Alternative Capital",null,"Type of Coverage - 17",{"$f":"'Schedule V(m)'!D27","v":"Select from Drop Down"}]
["Sch V(m)","Alternative Capital",null,"Type of Coverage - 18",{"$f":"'Schedule V(m)'!D28","v":"Select from Drop Down"}]
["Sch V(m)","Alternative Capital",null,"Type of Coverage - 19",{"$f":"'Schedule V(m)'!D29","v":"Select from Drop Down"}]
["Sch V(m)","Alternative Capital",null,"Type of Coverage - 20",{"$f":"'Schedule V(m)'!D30","v":"Select from Drop Down"}]
["Sch V(m)","Alternative Capital",null,"Type of Coverage - 21",{"$f":"'Schedule V(m)'!D31","v":"Select from Drop Down"}]
["Sch V(m)","Alternative Capital",null,"Type of Coverage - 22",{"$f":"'Schedule V(m)'!D32","v":"Select from Drop Down"}]
["Sch V(m)","Alternative Capital",null,"Type of Coverage - 23",{"$f":"'Schedule V(m)'!D33","v":"Select from Drop Down"}]
["Sch V(m)","Alternative Capital",null,"Type of Coverage - 24",{"$f":"'Schedule V(m)'!D34","v":"Select from Drop Down"}]
["Sch V(m)","Alternative Capital",null,"Type of Coverage - 25",{"$f":"'Schedule V(m)'!D35","v":"Select from Drop Down"}]
["Sch V(m)","Alternative Capital",null,"Statutory Line of Business - 1",{"$f":"'Schedule V(m)'!E11","v":"Select from Drop Down"}]
["Sch V(m)","Alternative Capital",null,"Statutory Line of Business - 2",{"$f":"'Schedule V(m)'!E12","v":"Select from Drop Down"}]
["Sch V(m)","Alternative Capital",null,"Statutory Line of Business - 3",{"$f":"'Schedule V(m)'!E13","v":"Select from Drop Down"}]
["Sch V(m)","Alternative Capital",null,"Statutory Line of Business - 4",{"$f":"'Schedule V(m)'!E14","v":"Select from Drop Down"}]
["Sch V(m)","Alternative Capital",null,"Statutory Line of Business - 5",{"$f":"'Schedule V(m)'!E15","v":"Select from Drop Down"}]
["Sch V(m)","Alternative Capital",null,"Statutory Line of Business - 6",{"$f":"'Schedule V(m)'!E16","v":"Select from Drop Down"}]
["Sch V(m)","Alternative Capital",null,"Statutory Line of Business - 7",{"$f":"'Schedule V(m)'!E17","v":"Select from Drop Down"}]
["Sch V(m)","Alternative Capital",null,"Statutory Line of Business - 8",{"$f":"'Schedule V(m)'!E18","v":"Select from Drop Down"}]
["Sch V(m)","Alternative Capital",null,"Statutory Line of Business - 9",{"$f":"'Schedule V(m)'!E19","v":"Select from Drop Down"}]
["Sch V(m)","Alternative Capital",null,"Statutory Line of Business - 10",{"$f":"'Schedule V(m)'!E20","v":"Select from Drop Down"}]
["Sch V(m)","Alternative Capital",null,"Statutory Line of Business - 11",{"$f":"'Schedule V(m)'!E21","v":"Select from Drop Down"}]
["Sch V(m)","Alternative Capital",null,"Statutory Line of Business - 12",{"$f":"'Schedule V(m)'!E22","v":"Select from Drop Down"}]
["Sch V(m)","Alternative Capital",null,"Statutory Line of Business - 13",{"$f":"'Schedule V(m)'!E23","v":"Select from Drop Down"}]
["Sch V(m)","Alternative Capital",null,"Statutory Line of Business - 14",{"$f":"'Schedule V(m)'!E24","v":"Select from Drop Down"}]
["Sch V(m)","Alternative Capital",null,"Statutory Line of Business - 15",{"$f":"'Schedule V(m)'!E25","v":"Select from Drop Down"}]
["Sch V(m)","Alternative Capital",null,"Statutory Line of Business - 16",{"$f":"'Schedule V(m)'!E26","v":"Select from Drop Down"}]
["Sch V(m)","Alternative Capital",null,"Statutory Line of Business - 17",{"$f":"'Schedule V(m)'!E27","v":"Select from Drop Down"}]
["Sch V(m)","Alternative Capital",null,"Statutory Line of Business - 18",{"$f":"'Schedule V(m)'!E28","v":"Select from Drop Down"}]
["Sch V(m)","Alternative Capital",null,"Statutory Line of Business - 19",{"$f":"'Schedule V(m)'!E29","v":"Select from Drop Down"}]
["Sch V(m)","Alternative Capital",null,"Statutory Line of Business - 20",{"$f":"'Schedule V(m)'!E30","v":"Select from Drop Down"}]
["Sch V(m)","Alternative Capital",null,"Statutory Line of Business - 21",{"$f":"'Schedule V(m)'!E31","v":"Select from Drop Down"}]
["Sch V(m)","Alternative Capital",null,"Statutory Line of Business - 22",{"$f":"'Schedule V(m)'!E32","v":"Select from Drop Down"}]
["Sch V(m)","Alternative Capital",null,"Statutory Line of Business - 23",{"$f":"'Schedule V(m)'!E33","v":"Select from Drop Down"}]
["Sch V(m)","Alternative Capital",null,"Statutory Line of Business - 24",{"$f":"'Schedule V(m)'!E34","v":"Select from Drop Down"}]
["Sch V(m)","Alternative Capital",null,"Statutory Line of Business - 25",{"$f":"'Schedule V(m)'!E35","v":"Select from Drop Down"}]
["Sch V(m)","Alternative Capital",null,"Location of Coverage - 1",{"$f":"'Schedule V(m)'!F11","v":"Select from Drop Down"}]
["Sch V(m)","Alternative Capital",null,"Location of Coverage - 2",{"$f":"'Schedule V(m)'!F12","v":"Select from Drop Down"}]
["Sch V(m)","Alternative Capital",null,"Location of Coverage - 3",{"$f":"'Schedule V(m)'!F13","v":"Select from Drop Down"}]
["Sch V(m)","Alternative Capital",null,"Location of Coverage - 4",{"$f":"'Schedule V(m)'!F14","v":"Select from Drop Down"}]
["Sch V(m)","Alternative Capital",null,"Location of Coverage - 5",{"$f":"'Schedule V(m)'!F15","v":"Select from Drop Down"}]
["Sch V(m)","Alternative Capital",null,"Location of Coverage - 6",{"$f":"'Schedule V(m)'!F16","v":"Select from Drop Down"}]
["Sch V(m)","Alternative Capital",null,"Location of Coverage - 7",{"$f":"'Schedule V(m)'!F17","v":"Select from Drop Down"}]
["Sch V(m)","Alternative Capital",null,"Location of Coverage - 8",{"$f":"'Schedule V(m)'!F18","v":"Select from Drop Down"}]
["Sch V(m)","Alternative Capital",null,"Location of Coverage - 9",{"$f":"'Schedule V(m)'!F19","v":"Select from Drop Down"}]
["Sch V(m)","Alternative Capital",null,"Location of Coverage - 10",{"$f":"'Schedule V(m)'!F20","v":"Select from Drop Down"}]
["Sch V(m)","Alternative Capital",null,"Location of Coverage - 11",{"$f":"'Schedule V(m)'!F21","v":"Select from Drop Down"}]
["Sch V(m)","Alternative Capital",null,"Location of Coverage - 12",{"$f":"'Schedule V(m)'!F22","v":"Select from Drop Down"}]
["Sch V(m)","Alternative Capital",null,"Location of Coverage - 13",{"$f":"'Schedule V(m)'!F23","v":"Select from Drop Down"}]
["Sch V(m)","Alternative Capital",null,"Location of Coverage - 14",{"$f":"'Schedule V(m)'!F24","v":"Select from Drop Down"}]
["Sch V(m)","Alternative Capital",null,"Location of Coverage - 15",{"$f":"'Schedule V(m)'!F25","v":"Select from Drop Down"}]
["Sch V(m)","Alternative Capital",null,"Location of Coverage - 16",{"$f":"'Schedule V(m)'!F26","v":"Select from Drop Down"}]
["Sch V(m)","Alternative Capital",null,"Location of Coverage - 17",{"$f":"'Schedule V(m)'!F27","v":"Select from Drop Down"}]
["Sch V(m)","Alternative Capital",null,"Location of Coverage - 18",{"$f":"'Schedule V(m)'!F28","v":"Select from Drop Down"}]
["Sch V(m)","Alternative Capital",null,"Location of Coverage - 19",{"$f":"'Schedule V(m)'!F29","v":"Select from Drop Down"}]
["Sch V(m)","Alternative Capital",null,"Location of Coverage - 20",{"$f":"'Schedule V(m)'!F30","v":"Select from Drop Down"}]
["Sch V(m)","Alternative Capital",null,"Location of Coverage - 21",{"$f":"'Schedule V(m)'!F31","v":"Select from Drop Down"}]
["Sch V(m)","Alternative Capital",null,"Location of Coverage - 22",{"$f":"'Schedule V(m)'!F32","v":"Select from Drop Down"}]
["Sch V(m)","Alternative Capital",null,"Location of Coverage - 23",{"$f":"'Schedule V(m)'!F33","v":"Select from Drop Down"}]
["Sch V(m)","Alternative Capital",null,"Location of Coverage - 24",{"$f":"'Schedule V(m)'!F34","v":"Select from Drop Down"}]
["Sch V(m)","Alternative Capital",null,"Location of Coverage - 25",{"$f":"'Schedule V(m)'!F35","v":"Select from Drop Down"}]
["Sch V(m)","Alternative Capital",null,"Agg. Max. Limit at Inception - 1",{"$f":"'Schedule V(m)'!G11","v":0}]
["Sch V(m)","Alternative Capital",null,"Agg. Max. Limit at Inception - 2",{"$f":"'Schedule V(m)'!G12","v":0}]
["Sch V(m)","Alternative Capital",null,"Agg. Max. Limit at Inception - 3",{"$f":"'Schedule V(m)'!G13","v":0}]
["Sch V(m)","Alternative Capital",null,"Agg. Max. Limit at Inception - 4",{"$f":"'Schedule V(m)'!G14","v":0}]
["Sch V(m)","Alternative Capital",null,"Agg. Max. Limit at Inception - 5",{"$f":"'Schedule V(m)'!G15","v":0}]
["Sch V(m)","Alternative Capital",null,"Agg. Max. Limit at Inception - 6",{"$f":"'Schedule V(m)'!G16","v":0}]
["Sch V(m)","Alternative Capital",null,"Agg. Max. Limit at Inception - 7",{"$f":"'Schedule V(m)'!G17","v":0}]
["Sch V(m)","Alternative Capital",null,"Agg. Max. Limit at Inception - 8",{"$f":"'Schedule V(m)'!G18","v":0}]
["Sch V(m)","Alternative Capital",null,"Agg. Max. Limit at Inception - 9",{"$f":"'Schedule V(m)'!G19","v":0}]
["Sch V(m)","Alternative Capital",null,"Agg. Max. Limit at Inception - 10",{"$f":"'Schedule V(m)'!G20","v":0}]
["Sch V(m)","Alternative Capital",null,"Agg. Max. Limit at Inception - 11",{"$f":"'Schedule V(m)'!G21","v":0}]
["Sch V(m)","Alternative Capital",null,"Agg. Max. Limit at Inception - 12",{"$f":"'Schedule V(m)'!G22","v":0}]
["Sch V(m)","Alternative Capital",null,"Agg. Max. Limit at Inception - 13",{"$f":"'Schedule V(m)'!G23","v":0}]
["Sch V(m)","Alternative Capital",null,"Agg. Max. Limit at Inception - 14",{"$f":"'Schedule V(m)'!G24","v":0}]
["Sch V(m)","Alternative Capital",null,"Agg. Max. Limit at Inception - 15",{"$f":"'Schedule V(m)'!G25","v":0}]
["Sch V(m)","Alternative Capital",null,"Agg. Max. Limit at Inception - 16",{"$f":"'Schedule V(m)'!G26","v":0}]
["Sch V(m)","Alternative Capital",null,"Agg. Max. Limit at Inception - 17",{"$f":"'Schedule V(m)'!G27","v":0}]
["Sch V(m)","Alternative Capital",null,"Agg. Max. Limit at Inception - 18",{"$f":"'Schedule V(m)'!G28","v":0}]
["Sch V(m)","Alternative Capital",null,"Agg. Max. Limit at Inception - 19",{"$f":"'Schedule V(m)'!G29","v":0}]
["Sch V(m)","Alternative Capital",null,"Agg. Max. Limit at Inception - 20",{"$f":"'Schedule V(m)'!G30","v":0}]
["Sch V(m)","Alternative Capital",null,"Agg. Max. Limit at Inception - 21",{"$f":"'Schedule V(m)'!G31","v":0}]
["Sch V(m)","Alternative Capital",null,"Agg. Max. Limit at Inception - 22",{"$f":"'Schedule V(m)'!G32","v":0}]
["Sch V(m)","Alternative Capital",null,"Agg. Max. Limit at Inception - 23",{"$f":"'Schedule V(m)'!G33","v":0}]
["Sch V(m)","Alternative Capital",null,"Agg. Max. Limit at Inception - 24",{"$f":"'Schedule V(m)'!G34","v":0}]
["Sch V(m)","Alternative Capital",null,"Agg. Max. Limit at Inception - 25",{"$f":"'Schedule V(m)'!G35","v":0}]
["Sch V(m)","Alternative Capital",null,"Agg. Max. Limit at Inception - Total",{"$f":"'Schedule V(m)'!G1512","v":0}]
["Sch V(m)","Alternative Capital",null,"Net Agg. Max. Limit at End of Year - 1",{"$f":"'Schedule V(m)'!H11","v":0}]
["Sch V(m)","Alternative Capital",null,"Net Agg. Max. Limit at End of Year - 2",{"$f":"'Schedule V(m)'!H12","v":0}]
["Sch V(m)","Alternative Capital",null,"Net Agg. Max. Limit at End of Year - 3",{"$f":"'Schedule V(m)'!H13","v":0}]
["Sch V(m)","Alternative Capital",null,"Net Agg. Max. Limit at End of Year - 4",{"$f":"'Schedule V(m)'!H14","v":0}]
["Sch V(m)","Alternative Capital",null,"Net Agg. Max. Limit at End of Year - 5",{"$f":"'Schedule V(m)'!H15","v":0}]
["Sch V(m)","Alternative Capital",null,"Net Agg. Max. Limit at End of Year - 6",{"$f":"'Schedule V(m)'!H16","v":0}]
["Sch V(m)","Alternative Capital",null,"Net Agg. Max. Limit at End of Year - 7",{"$f":"'Schedule V(m)'!H17","v":0}]
["Sch V(m)","Alternative Capital",null,"Net Agg. Max. Limit at End of Year - 8",{"$f":"'Schedule V(m)'!H18","v":0}]
["Sch V(m)","Alternative Capital",null,"Net Agg. Max. Limit at End of Year - 9",{"$f":"'Schedule V(m)'!H19","v":0}]
["Sch V(m)","Alternative Capital",null,"Net Agg. Max. Limit at End of Year - 10",{"$f":"'Schedule V(m)'!H20","v":0}]
["Sch V(m)","Alternative Capital",null,"Net Agg. Max. Limit at End of Year - 11",{"$f":"'Schedule V(m)'!H21","v":0}]
["Sch V(m)","Alternative Capital",null,"Net Agg. Max. Limit at End of Year - 12",{"$f":"'Schedule V(m)'!H22","v":0}]
["Sch V(m)","Alternative Capital",null,"Net Agg. Max. Limit at End of Year - 13",{"$f":"'Schedule V(m)'!H23","v":0}]
["Sch V(m)","Alternative Capital",null,"Net Agg. Max. Limit at End of Year - 14",{"$f":"'Schedule V(m)'!H24","v":0}]
["Sch V(m)","Alternative Capital",null,"Net Agg. Max. Limit at End of Year - 15",{"$f":"'Schedule V(m)'!H25","v":0}]
["Sch V(m)","Alternative Capital",null,"Net Agg. Max. Limit at End of Year - 16",{"$f":"'Schedule V(m)'!H26","v":0}]
["Sch V(m)","Alternative Capital",null,"Net Agg. Max. Limit at End of Year - 17",{"$f":"'Schedule V(m)'!H27","v":0}]
["Sch V(m)","Alternative Capital",null,"Net Agg. Max. Limit at End of Year - 18",{"$f":"'Schedule V(m)'!H28","v":0}]
["Sch V(m)","Alternative Capital",null,"Net Agg. Max. Limit at End of Year - 19",{"$f":"'Schedule V(m)'!H29","v":0}]
["Sch V(m)","Alternative Capital",null,"Net Agg. Max. Limit at End of Year - 20",{"$f":"'Schedule V(m)'!H30","v":0}]
["Sch V(m)","Alternative Capital",null,"Net Agg. Max. Limit at End of Year - 21",{"$f":"'Schedule V(m)'!H31","v":0}]
["Sch V(m)","Alternative Capital",null,"Net Agg. Max. Limit at End of Year - 22",{"$f":"'Schedule V(m)'!H32","v":0}]
["Sch V(m)","Alternative Capital",null,"Net Agg. Max. Limit at End of Year - 23",{"$f":"'Schedule V(m)'!H33","v":0}]
["Sch V(m)","Alternative Capital",null,"Net Agg. Max. Limit at End of Year - 24",{"$f":"'Schedule V(m)'!H34","v":0}]
["Sch V(m)","Alternative Capital",null,"Net Agg. Max. Limit at End of Year - 25",{"$f":"'Schedule V(m)'!H35","v":0}]
["Sch V(m)","Alternative Capital",null,"Net Agg. Max. Limit at End of Year - Total",{"$f":"'Schedule V(m)'!H1512","v":0}]
["Sch V(m)","Alternative Capital",null,"Inception Date of Cover Period - 1",{"$f":"'Schedule V(m)'!I11","v":""}]
["Sch V(m)","Alternative Capital",null,"Inception Date of Cover Period - 2",{"$f":"'Schedule V(m)'!I12","v":""}]
["Sch V(m)","Alternative Capital",null,"Inception Date of Cover Period - 3",{"$f":"'Schedule V(m)'!I13","v":""}]
["Sch V(m)","Alternative Capital",null,"Inception Date of Cover Period - 4",{"$f":"'Schedule V(m)'!I14","v":""}]
["Sch V(m)","Alternative Capital",null,"Inception Date of Cover Period - 5",{"$f":"'Schedule V(m)'!I15","v":""}]
["Sch V(m)","Alternative Capital",null,"Inception Date of Cover Period - 6",{"$f":"'Schedule V(m)'!I16","v":""}]
["Sch V(m)","Alternative Capital",null,"Inception Date of Cover Period - 7",{"$f":"'Schedule V(m)'!I17","v":""}]
["Sch V(m)","Alternative Capital",null,"Inception Date of Cover Period - 8",{"$f":"'Schedule V(m)'!I18","v":""}]
["Sch V(m)","Alternative Capital",null,"Inception Date of Cover Period - 9",{"$f":"'Schedule V(m)'!I19","v":""}]
["Sch V(m)","Alternative Capital",null,"Inception Date of Cover Period - 10",{"$f":"'Schedule V(m)'!I20","v":""}]
["Sch V(m)","Alternative Capital",null,"Inception Date of Cover Period - 11",{"$f":"'Schedule V(m)'!I21","v":""}]
["Sch V(m)","Alternative Capital",null,"Inception Date of Cover Period - 12",{"$f":"'Schedule V(m)'!I22","v":""}]
["Sch V(m)","Alternative Capital",null,"Inception Date of Cover Period - 13",{"$f":"'Schedule V(m)'!I23","v":""}]
["Sch V(m)","Alternative Capital",null,"Inception Date of Cover Period - 14",{"$f":"'Schedule V(m)'!I24","v":""}]
["Sch V(m)","Alternative Capital",null,"Inception Date of Cover Period - 15",{"$f":"'Schedule V(m)'!I25","v":""}]
["Sch V(m)","Alternative Capital",null,"Inception Date of Cover Period - 16",{"$f":"'Schedule V(m)'!I26","v":""}]
["Sch V(m)","Alternative Capital",null,"Inception Date of Cover Period - 17",{"$f":"'Schedule V(m)'!I27","v":""}]
["Sch V(m)","Alternative Capital",null,"Inception Date of Cover Period - 18",{"$f":"'Schedule V(m)'!I28","v":""}]
["Sch V(m)","Alternative Capital",null,"Inception Date of Cover Period - 19",{"$f":"'Schedule V(m)'!I29","v":""}]
["Sch V(m)","Alternative Capital",null,"Inception Date of Cover Period - 20",{"$f":"'Schedule V(m)'!I30","v":""}]
["Sch V(m)","Alternative Capital",null,"Inception Date of Cover Period - 21",{"$f":"'Schedule V(m)'!I31","v":""}]
["Sch V(m)","Alternative Capital",null,"Inception Date of Cover Period - 22",{"$f":"'Schedule V(m)'!I32","v":""}]
["Sch V(m)","Alternative Capital",null,"Inception Date of Cover Period - 23",{"$f":"'Schedule V(m)'!I33","v":""}]
["Sch V(m)","Alternative Capital",null,"Inception Date of Cover Period - 24",{"$f":"'Schedule V(m)'!I34","v":""}]
["Sch V(m)","Alternative Capital",null,"Inception Date of Cover Period - 25",{"$f":"'Schedule V(m)'!I35","v":""}]
["Sch V(m)","Alternative Capital",null,"Effective Date of Contract - 1",{"$f":"'Schedule V(m)'!J11","v":""}]
["Sch V(m)","Alternative Capital",null,"Effective Date of Contract - 2",{"$f":"'Schedule V(m)'!J12","v":""}]
["Sch V(m)","Alternative Capital",null,"Effective Date of Contract - 3",{"$f":"'Schedule V(m)'!J13","v":""}]
["Sch V(m)","Alternative Capital",null,"Effective Date of Contract - 4",{"$f":"'Schedule V(m)'!J14","v":""}]
["Sch V(m)","Alternative Capital",null,"Effective Date of Contract - 5",{"$f":"'Schedule V(m)'!J15","v":""}]
["Sch V(m)","Alternative Capital",null,"Effective Date of Contract - 6",{"$f":"'Schedule V(m)'!J16","v":""}]
["Sch V(m)","Alternative Capital",null,"Effective Date of Contract - 7",{"$f":"'Schedule V(m)'!J17","v":""}]
["Sch V(m)","Alternative Capital",null,"Effective Date of Contract - 8",{"$f":"'Schedule V(m)'!J18","v":""}]
["Sch V(m)","Alternative Capital",null,"Effective Date of Contract - 9",{"$f":"'Schedule V(m)'!J19","v":""}]
["Sch V(m)","Alternative Capital",null,"Effective Date of Contract - 10",{"$f":"'Schedule V(m)'!J20","v":""}]
["Sch V(m)","Alternative Capital",null,"Effective Date of Contract - 11",{"$f":"'Schedule V(m)'!J21","v":""}]
["Sch V(m)","Alternative Capital",null,"Effective Date of Contract - 12",{"$f":"'Schedule V(m)'!J22","v":""}]
["Sch V(m)","Alternative Capital",null,"Effective Date of Contract - 13",{"$f":"'Schedule V(m)'!J23","v":""}]
["Sch V(m)","Alternative Capital",null,"Effective Date of Contract - 14",{"$f":"'Schedule V(m)'!J24","v":""}]
["Sch V(m)","Alternative Capital",null,"Effective Date of Contract - 15",{"$f":"'Schedule V(m)'!J25","v":""}]
["Sch V(m)","Alternative Capital",null,"Effective Date of Contract - 16",{"$f":"'Schedule V(m)'!J26","v":""}]
["Sch V(m)","Alternative Capital",null,"Effective Date of Contract - 17",{"$f":"'Schedule V(m)'!J27","v":""}]
["Sch V(m)","Alternative Capital",null,"Effective Date of Contract - 18",{"$f":"'Schedule V(m)'!J28","v":""}]
["Sch V(m)","Alternative Capital",null,"Effective Date of Contract - 19",{"$f":"'Schedule V(m)'!J29","v":""}]
["Sch V(m)","Alternative Capital",null,"Effective Date of Contract - 20",{"$f":"'Schedule V(m)'!J30","v":""}]
["Sch V(m)","Alternative Capital",null,"Effective Date of Contract - 21",{"$f":"'Schedule V(m)'!J31","v":""}]
["Sch V(m)","Alternative Capital",null,"Effective Date of Contract - 22",{"$f":"'Schedule V(m)'!J32","v":""}]
["Sch V(m)","Alternative Capital",null,"Effective Date of Contract - 23",{"$f":"'Schedule V(m)'!J33","v":""}]
["Sch V(m)","Alternative Capital",null,"Effective Date of Contract - 24",{"$f":"'Schedule V(m)'!J34","v":""}]
["Sch V(m)","Alternative Capital",null,"Effective Date of Contract - 25",{"$f":"'Schedule V(m)'!J35","v":""}]
["Sch V(m)","Alternative Capital",null,"Expiry Date of Cover - 1",{"$f":"'Schedule V(m)'!K11","v":""}]
["Sch V(m)","Alternative Capital",null,"Expiry Date of Cover - 2",{"$f":"'Schedule V(m)'!K12","v":""}]
["Sch V(m)","Alternative Capital",null,"Expiry Date of Cover - 3",{"$f":"'Schedule V(m)'!K13","v":""}]
["Sch V(m)","Alternative Capital",null,"Expiry Date of Cover - 4",{"$f":"'Schedule V(m)'!K14","v":""}]
["Sch V(m)","Alternative Capital",null,"Expiry Date of Cover - 5",{"$f":"'Schedule V(m)'!K15","v":""}]
["Sch V(m)","Alternative Capital",null,"Expiry Date of Cover - 6",{"$f":"'Schedule V(m)'!K16","v":""}]
["Sch V(m)","Alternative Capital",null,"Expiry Date of Cover - 7",{"$f":"'Schedule V(m)'!K17","v":""}]
["Sch V(m)","Alternative Capital",null,"Expiry Date of Cover - 8",{"$f":"'Schedule V(m)'!K18","v":""}]
["Sch V(m)","Alternative Capital",null,"Expiry Date of Cover - 9",{"$f":"'Schedule V(m)'!K19","v":""}]
["Sch V(m)","Alternative Capital",null,"Expiry Date of Cover - 10",{"$f":"'Schedule V(m)'!K20","v":""}]
["Sch V(m)","Alternative Capital",null,"Expiry Date of Cover - 11",{"$f":"'Schedule V(m)'!K21","v":""}]
["Sch V(m)","Alternative Capital",null,"Expiry Date of Cover - 12",{"$f":"'Schedule V(m)'!K22","v":""}]
["Sch V(m)","Alternative Capital",null,"Expiry Date of Cover - 13",{"$f":"'Schedule V(m)'!K23","v":""}]
["Sch V(m)","Alternative Capital",null,"Expiry Date of Cover - 14",{"$f":"'Schedule V(m)'!K24","v":""}]
["Sch V(m)","Alternative Capital",null,"Expiry Date of Cover - 15",{"$f":"'Schedule V(m)'!K25","v":""}]
["Sch V(m)","Alternative Capital",null,"Expiry Date of Cover - 16",{"$f":"'Schedule V(m)'!K26","v":""}]
["Sch V(m)","Alternative Capital",null,"Expiry Date of Cover - 17",{"$f":"'Schedule V(m)'!K27","v":""}]
["Sch V(m)","Alternative Capital",null,"Expiry Date of Cover - 18",{"$f":"'Schedule V(m)'!K28","v":""}]
["Sch V(m)","Alternative Capital",null,"Expiry Date of Cover - 19",{"$f":"'Schedule V(m)'!K29","v":""}]
["Sch V(m)","Alternative Capital",null,"Expiry Date of Cover - 20",{"$f":"'Schedule V(m)'!K30","v":""}]
["Sch V(m)","Alternative Capital",null,"Expiry Date of Cover - 21",{"$f":"'Schedule V(m)'!K31","v":""}]
["Sch V(m)","Alternative Capital",null,"Expiry Date of Cover - 22",{"$f":"'Schedule V(m)'!K32","v":""}]
["Sch V(m)","Alternative Capital",null,"Expiry Date of Cover - 23",{"$f":"'Schedule V(m)'!K33","v":""}]
["Sch V(m)","Alternative Capital",null,"Expiry Date of Cover - 24",{"$f":"'Schedule V(m)'!K34","v":""}]
["Sch V(m)","Alternative Capital",null,"Expiry Date of Cover - 25",{"$f":"'Schedule V(m)'!K35","v":""}]
["Sch V(m)","Alternative Capital",null,"Cover Period GPW - 1",{"$f":"'Schedule V(m)'!L11","v":0}]
["Sch V(m)","Alternative Capital",null,"Cover Period GPW - 2",{"$f":"'Schedule V(m)'!L12","v":0}]
["Sch V(m)","Alternative Capital",null,"Cover Period GPW - 3",{"$f":"'Schedule V(m)'!L13","v":0}]
["Sch V(m)","Alternative Capital",null,"Cover Period GPW - 4",{"$f":"'Schedule V(m)'!L14","v":0}]
["Sch V(m)","Alternative Capital",null,"Cover Period GPW - 5",{"$f":"'Schedule V(m)'!L15","v":0}]
["Sch V(m)","Alternative Capital",null,"Cover Period GPW - 6",{"$f":"'Schedule V(m)'!L16","v":0}]
["Sch V(m)","Alternative Capital",null,"Cover Period GPW - 7",{"$f":"'Schedule V(m)'!L17","v":0}]
["Sch V(m)","Alternative Capital",null,"Cover Period GPW - 8",{"$f":"'Schedule V(m)'!L18","v":0}]
["Sch V(m)","Alternative Capital",null,"Cover Period GPW - 9",{"$f":"'Schedule V(m)'!L19","v":0}]
["Sch V(m)","Alternative Capital",null,"Cover Period GPW - 10",{"$f":"'Schedule V(m)'!L20","v":0}]
["Sch V(m)","Alternative Capital",null,"Cover Period GPW - 11",{"$f":"'Schedule V(m)'!L21","v":0}]
["Sch V(m)","Alternative Capital",null,"Cover Period GPW - 12",{"$f":"'Schedule V(m)'!L22","v":0}]
["Sch V(m)","Alternative Capital",null,"Cover Period GPW - 13",{"$f":"'Schedule V(m)'!L23","v":0}]
["Sch V(m)","Alternative Capital",null,"Cover Period GPW - 14",{"$f":"'Schedule V(m)'!L24","v":0}]
["Sch V(m)","Alternative Capital",null,"Cover Period GPW - 15",{"$f":"'Schedule V(m)'!L25","v":0}]
["Sch V(m)","Alternative Capital",null,"Cover Period GPW - 16",{"$f":"'Schedule V(m)'!L26","v":0}]
["Sch V(m)","Alternative Capital",null,"Cover Period GPW - 17",{"$f":"'Schedule V(m)'!L27","v":0}]
["Sch V(m)","Alternative Capital",null,"Cover Period GPW - 18",{"$f":"'Schedule V(m)'!L28","v":0}]
["Sch V(m)","Alternative Capital",null,"Cover Period GPW - 19",{"$f":"'Schedule V(m)'!L29","v":0}]
["Sch V(m)","Alternative Capital",null,"Cover Period GPW - 20",{"$f":"'Schedule V(m)'!L30","v":0}]
["Sch V(m)","Alternative Capital",null,"Cover Period GPW - 21",{"$f":"'Schedule V(m)'!L31","v":0}]
["Sch V(m)","Alternative Capital",null,"Cover Period GPW - 22",{"$f":"'Schedule V(m)'!L32","v":0}]
["Sch V(m)","Alternative Capital",null,"Cover Period GPW - 23",{"$f":"'Schedule V(m)'!L33","v":0}]
["Sch V(m)","Alternative Capital",null,"Cover Period GPW - 24",{"$f":"'Schedule V(m)'!L34","v":0}]
["Sch V(m)","Alternative Capital",null,"Cover Period GPW - 25",{"$f":"'Schedule V(m)'!L35","v":0}]
["Sch V(m)","Alternative Capital",null,"Cover Period GPW - Total",{"$f":"'Schedule V(m)'!L1512","v":0}]
["Sch V(m)","Alternative Capital",null,"Cover Period NPW - 1",{"$f":"'Schedule V(m)'!M11","v":0}]
["Sch V(m)","Alternative Capital",null,"Cover Period NPW - 2",{"$f":"'Schedule V(m)'!M12","v":0}]
["Sch V(m)","Alternative Capital",null,"Cover Period NPW - 3",{"$f":"'Schedule V(m)'!M13","v":0}]
["Sch V(m)","Alternative Capital",null,"Cover Period NPW - 4",{"$f":"'Schedule V(m)'!M14","v":0}]
["Sch V(m)","Alternative Capital",null,"Cover Period NPW - 5",{"$f":"'Schedule V(m)'!M15","v":0}]
["Sch V(m)","Alternative Capital",null,"Cover Period NPW - 6",{"$f":"'Schedule V(m)'!M16","v":0}]
["Sch V(m)","Alternative Capital",null,"Cover Period NPW - 7",{"$f":"'Schedule V(m)'!M17","v":0}]
["Sch V(m)","Alternative Capital",null,"Cover Period NPW - 8",{"$f":"'Schedule V(m)'!M18","v":0}]
["Sch V(m)","Alternative Capital",null,"Cover Period NPW - 9",{"$f":"'Schedule V(m)'!M19","v":0}]
["Sch V(m)","Alternative Capital",null,"Cover Period NPW - 10",{"$f":"'Schedule V(m)'!M20","v":0}]
["Sch V(m)","Alternative Capital",null,"Cover Period NPW - 11",{"$f":"'Schedule V(m)'!M21","v":0}]
["Sch V(m)","Alternative Capital",null,"Cover Period NPW - 12",{"$f":"'Schedule V(m)'!M22","v":0}]
["Sch V(m)","Alternative Capital",null,"Cover Period NPW - 13",{"$f":"'Schedule V(m)'!M23","v":0}]
["Sch V(m)","Alternative Capital",null,"Cover Period NPW - 14",{"$f":"'Schedule V(m)'!M24","v":0}]
["Sch V(m)","Alternative Capital",null,"Cover Period NPW - 15",{"$f":"'Schedule V(m)'!M25","v":0}]
["Sch V(m)","Alternative Capital",null,"Cover Period NPW - 16",{"$f":"'Schedule V(m)'!M26","v":0}]
["Sch V(m)","Alternative Capital",null,"Cover Period NPW - 17",{"$f":"'Schedule V(m)'!M27","v":0}]
["Sch V(m)","Alternative Capital",null,"Cover Period NPW - 18",{"$f":"'Schedule V(m)'!M28","v":0}]
["Sch V(m)","Alternative Capital",null,"Cover Period NPW - 19",{"$f":"'Schedule V(m)'!M29","v":0}]
["Sch V(m)","Alternative Capital",null,"Cover Period NPW - 20",{"$f":"'Schedule V(m)'!M30","v":0}]
["Sch V(m)","Alternative Capital",null,"Cover Period NPW - 21",{"$f":"'Schedule V(m)'!M31","v":0}]
["Sch V(m)","Alternative Capital",null,"Cover Period NPW - 22",{"$f":"'Schedule V(m)'!M32","v":0}]
["Sch V(m)","Alternative Capital",null,"Cover Period NPW - 23",{"$f":"'Schedule V(m)'!M33","v":0}]
["Sch V(m)","Alternative Capital",null,"Cover Period NPW - 24",{"$f":"'Schedule V(m)'!M34","v":0}]
["Sch V(m)","Alternative Capital",null,"Cover Period NPW - 25",{"$f":"'Schedule V(m)'!M35","v":0}]
["Sch V(m)","Alternative Capital",null,"Cover Period NPW - Total",{"$f":"'Schedule V(m)'!M1512","v":0}]
["Sch V(m)","Alternative Capital",null,"Attachment Point - 1",{"$f":"'Schedule V(m)'!N11","v":0}]
["Sch V(m)","Alternative Capital",null,"Attachment Point - 2",{"$f":"'Schedule V(m)'!N12","v":0}]
["Sch V(m)","Alternative Capital",null,"Attachment Point - 3",{"$f":"'Schedule V(m)'!N13","v":0}]
["Sch V(m)","Alternative Capital",null,"Attachment Point - 4",{"$f":"'Schedule V(m)'!N14","v":0}]
["Sch V(m)","Alternative Capital",null,"Attachment Point - 5",{"$f":"'Schedule V(m)'!N15","v":0}]
["Sch V(m)","Alternative Capital",null,"Attachment Point - 6",{"$f":"'Schedule V(m)'!N16","v":0}]
["Sch V(m)","Alternative Capital",null,"Attachment Point - 7",{"$f":"'Schedule V(m)'!N17","v":0}]
["Sch V(m)","Alternative Capital",null,"Attachment Point - 8",{"$f":"'Schedule V(m)'!N18","v":0}]
["Sch V(m)","Alternative Capital",null,"Attachment Point - 9",{"$f":"'Schedule V(m)'!N19","v":0}]
["Sch V(m)","Alternative Capital",null,"Attachment Point - 10",{"$f":"'Schedule V(m)'!N20","v":0}]
["Sch V(m)","Alternative Capital",null,"Attachment Point - 11",{"$f":"'Schedule V(m)'!N21","v":0}]
["Sch V(m)","Alternative Capital",null,"Attachment Point - 12",{"$f":"'Schedule V(m)'!N22","v":0}]
["Sch V(m)","Alternative Capital",null,"Attachment Point - 13",{"$f":"'Schedule V(m)'!N23","v":0}]
["Sch V(m)","Alternative Capital",null,"Attachment Point - 14",{"$f":"'Schedule V(m)'!N24","v":0}]
["Sch V(m)","Alternative Capital",null,"Attachment Point - 15",{"$f":"'Schedule V(m)'!N25","v":0}]
["Sch V(m)","Alternative Capital",null,"Attachment Point - 16",{"$f":"'Schedule V(m)'!N26","v":0}]
["Sch V(m)","Alternative Capital",null,"Attachment Point - 17",{"$f":"'Schedule V(m)'!N27","v":0}]
["Sch V(m)","Alternative Capital",null,"Attachment Point - 18",{"$f":"'Schedule V(m)'!N28","v":0}]
["Sch V(m)","Alternative Capital",null,"Attachment Point - 19",{"$f":"'Schedule V(m)'!N29","v":0}]
["Sch V(m)","Alternative Capital",null,"Attachment Point - 20",{"$f":"'Schedule V(m)'!N30","v":0}]
["Sch V(m)","Alternative Capital",null,"Attachment Point - 21",{"$f":"'Schedule V(m)'!N31","v":0}]
["Sch V(m)","Alternative Capital",null,"Attachment Point - 22",{"$f":"'Schedule V(m)'!N32","v":0}]
["Sch V(m)","Alternative Capital",null,"Attachment Point - 23",{"$f":"'Schedule V(m)'!N33","v":0}]
["Sch V(m)","Alternative Capital",null,"Attachment Point - 24",{"$f":"'Schedule V(m)'!N34","v":0}]
["Sch V(m)","Alternative Capital",null,"Attachment Point - 25",{"$f":"'Schedule V(m)'!N35","v":0}]
["Sch V(m)","Alternative Capital",null,"Attachment Point - Total",{"$f":"'Schedule V(m)'!N1512","v":0}]
["Sch V(m)","Alternative Capital",null,"Aggregate Losses Beg. Of Year - 1",{"$f":"'Schedule V(m)'!O11","v":0}]
["Sch V(m)","Alternative Capital",null,"Aggregate Losses Beg. Of Year - 2",{"$f":"'Schedule V(m)'!O12","v":0}]
["Sch V(m)","Alternative Capital",null,"Aggregate Losses Beg. Of Year - 3",{"$f":"'Schedule V(m)'!O13","v":0}]
["Sch V(m)","Alternative Capital",null,"Aggregate Losses Beg. Of Year - 4",{"$f":"'Schedule V(m)'!O14","v":0}]
["Sch V(m)","Alternative Capital",null,"Aggregate Losses Beg. Of Year - 5",{"$f":"'Schedule V(m)'!O15","v":0}]
["Sch V(m)","Alternative Capital",null,"Aggregate Losses Beg. Of Year - 6",{"$f":"'Schedule V(m)'!O16","v":0}]
["Sch V(m)","Alternative Capital",null,"Aggregate Losses Beg. Of Year - 7",{"$f":"'Schedule V(m)'!O17","v":0}]
["Sch V(m)","Alternative Capital",null,"Aggregate Losses Beg. Of Year - 8",{"$f":"'Schedule V(m)'!O18","v":0}]
["Sch V(m)","Alternative Capital",null,"Aggregate Losses Beg. Of Year - 9",{"$f":"'Schedule V(m)'!O19","v":0}]
["Sch V(m)","Alternative Capital",null,"Aggregate Losses Beg. Of Year - 10",{"$f":"'Schedule V(m)'!O20","v":0}]
["Sch V(m)","Alternative Capital",null,"Aggregate Losses Beg. Of Year - 11",{"$f":"'Schedule V(m)'!O21","v":0}]
["Sch V(m)","Alternative Capital",null,"Aggregate Losses Beg. Of Year - 12",{"$f":"'Schedule V(m)'!O22","v":0}]
["Sch V(m)","Alternative Capital",null,"Aggregate Losses Beg. Of Year - 13",{"$f":"'Schedule V(m)'!O23","v":0}]
["Sch V(m)","Alternative Capital",null,"Aggregate Losses Beg. Of Year - 14",{"$f":"'Schedule V(m)'!O24","v":0}]
["Sch V(m)","Alternative Capital",null,"Aggregate Losses Beg. Of Year - 15",{"$f":"'Schedule V(m)'!O25","v":0}]
["Sch V(m)","Alternative Capital",null,"Aggregate Losses Beg. Of Year - 16",{"$f":"'Schedule V(m)'!O26","v":0}]
["Sch V(m)","Alternative Capital",null,"Aggregate Losses Beg. Of Year - 17",{"$f":"'Schedule V(m)'!O27","v":0}]
["Sch V(m)","Alternative Capital",null,"Aggregate Losses Beg. Of Year - 18",{"$f":"'Schedule V(m)'!O28","v":0}]
["Sch V(m)","Alternative Capital",null,"Aggregate Losses Beg. Of Year - 19",{"$f":"'Schedule V(m)'!O29","v":0}]
["Sch V(m)","Alternative Capital",null,"Aggregate Losses Beg. Of Year - 20",{"$f":"'Schedule V(m)'!O30","v":0}]
["Sch V(m)","Alternative Capital",null,"Aggregate Losses Beg. Of Year - 21",{"$f":"'Schedule V(m)'!O31","v":0}]
["Sch V(m)","Alternative Capital",null,"Aggregate Losses Beg. Of Year - 22",{"$f":"'Schedule V(m)'!O32","v":0}]
["Sch V(m)","Alternative Capital",null,"Aggregate Losses Beg. Of Year - 23",{"$f":"'Schedule V(m)'!O33","v":0}]
["Sch V(m)","Alternative Capital",null,"Aggregate Losses Beg. Of Year - 24",{"$f":"'Schedule V(m)'!O34","v":0}]
["Sch V(m)","Alternative Capital",null,"Aggregate Losses Beg. Of Year - 25",{"$f":"'Schedule V(m)'!O35","v":0}]
["Sch V(m)","Alternative Capital",null,"Aggregate Losses Beg. Of Year - Total",{"$f":"'Schedule V(m)'!O1512","v":0}]
["Sch V(m)","Alternative Capital",null,"Aggregate Losses Incurred - 1",{"$f":"'Schedule V(m)'!P11","v":0}]
["Sch V(m)","Alternative Capital",null,"Aggregate Losses Incurred - 2",{"$f":"'Schedule V(m)'!P12","v":0}]
["Sch V(m)","Alternative Capital",null,"Aggregate Losses Incurred - 3",{"$f":"'Schedule V(m)'!P13","v":0}]
["Sch V(m)","Alternative Capital",null,"Aggregate Losses Incurred - 4",{"$f":"'Schedule V(m)'!P14","v":0}]
["Sch V(m)","Alternative Capital",null,"Aggregate Losses Incurred - 5",{"$f":"'Schedule V(m)'!P15","v":0}]
["Sch V(m)","Alternative Capital",null,"Aggregate Losses Incurred - 6",{"$f":"'Schedule V(m)'!P16","v":0}]
["Sch V(m)","Alternative Capital",null,"Aggregate Losses Incurred - 7",{"$f":"'Schedule V(m)'!P17","v":0}]
["Sch V(m)","Alternative Capital",null,"Aggregate Losses Incurred - 8",{"$f":"'Schedule V(m)'!P18","v":0}]
["Sch V(m)","Alternative Capital",null,"Aggregate Losses Incurred - 9",{"$f":"'Schedule V(m)'!P19","v":0}]
["Sch V(m)","Alternative Capital",null,"Aggregate Losses Incurred - 10",{"$f":"'Schedule V(m)'!P20","v":0}]
["Sch V(m)","Alternative Capital",null,"Aggregate Losses Incurred - 11",{"$f":"'Schedule V(m)'!P21","v":0}]
["Sch V(m)","Alternative Capital",null,"Aggregate Losses Incurred - 12",{"$f":"'Schedule V(m)'!P22","v":0}]
["Sch V(m)","Alternative Capital",null,"Aggregate Losses Incurred - 13",{"$f":"'Schedule V(m)'!P23","v":0}]
["Sch V(m)","Alternative Capital",null,"Aggregate Losses Incurred - 14",{"$f":"'Schedule V(m)'!P24","v":0}]
["Sch V(m)","Alternative Capital",null,"Aggregate Losses Incurred - 15",{"$f":"'Schedule V(m)'!P25","v":0}]
["Sch V(m)","Alternative Capital",null,"Aggregate Losses Incurred - 16",{"$f":"'Schedule V(m)'!P26","v":0}]
["Sch V(m)","Alternative Capital",null,"Aggregate Losses Incurred - 17",{"$f":"'Schedule V(m)'!P27","v":0}]
["Sch V(m)","Alternative Capital",null,"Aggregate Losses Incurred - 18",{"$f":"'Schedule V(m)'!P28","v":0}]
["Sch V(m)","Alternative Capital",null,"Aggregate Losses Incurred - 19",{"$f":"'Schedule V(m)'!P29","v":0}]
["Sch V(m)","Alternative Capital",null,"Aggregate Losses Incurred - 20",{"$f":"'Schedule V(m)'!P30","v":0}]
["Sch V(m)","Alternative Capital",null,"Aggregate Losses Incurred - 21",{"$f":"'Schedule V(m)'!P31","v":0}]
["Sch V(m)","Alternative Capital",null,"Aggregate Losses Incurred - 22",{"$f":"'Schedule V(m)'!P32","v":0}]
["Sch V(m)","Alternative Capital",null,"Aggregate Losses Incurred - 23",{"$f":"'Schedule V(m)'!P33","v":0}]
["Sch V(m)","Alternative Capital",null,"Aggregate Losses Incurred - 24",{"$f":"'Schedule V(m)'!P34","v":0}]
["Sch V(m)","Alternative Capital",null,"Aggregate Losses Incurred - 25",{"$f":"'Schedule V(m)'!P35","v":0}]
["Sch V(m)","Alternative Capital",null,"Aggregate Losses Incurred - Total",{"$f":"'Schedule V(m)'!P1512","v":0}]
["Sch V(m)","Alternative Capital",null,"Aggregate Losses End Of Year - 1",{"$f":"'Schedule V(m)'!Q11","v":0}]
["Sch V(m)","Alternative Capital",null,"Aggregate Losses End Of Year - 2",{"$f":"'Schedule V(m)'!Q12","v":0}]
["Sch V(m)","Alternative Capital",null,"Aggregate Losses End Of Year - 3",{"$f":"'Schedule V(m)'!Q13","v":0}]
["Sch V(m)","Alternative Capital",null,"Aggregate Losses End Of Year - 4",{"$f":"'Schedule V(m)'!Q14","v":0}]
["Sch V(m)","Alternative Capital",null,"Aggregate Losses End Of Year - 5",{"$f":"'Schedule V(m)'!Q15","v":0}]
["Sch V(m)","Alternative Capital",null,"Aggregate Losses End Of Year - 6",{"$f":"'Schedule V(m)'!Q16","v":0}]
["Sch V(m)","Alternative Capital",null,"Aggregate Losses End Of Year - 7",{"$f":"'Schedule V(m)'!Q17","v":0}]
["Sch V(m)","Alternative Capital",null,"Aggregate Losses End Of Year - 8",{"$f":"'Schedule V(m)'!Q18","v":0}]
["Sch V(m)","Alternative Capital",null,"Aggregate Losses End Of Year - 9",{"$f":"'Schedule V(m)'!Q19","v":0}]
["Sch V(m)","Alternative Capital",null,"Aggregate Losses End Of Year - 10",{"$f":"'Schedule V(m)'!Q20","v":0}]
["Sch V(m)","Alternative Capital",null,"Aggregate Losses End Of Year - 11",{"$f":"'Schedule V(m)'!Q21","v":0}]
["Sch V(m)","Alternative Capital",null,"Aggregate Losses End Of Year - 12",{"$f":"'Schedule V(m)'!Q22","v":0}]
["Sch V(m)","Alternative Capital",null,"Aggregate Losses End Of Year - 13",{"$f":"'Schedule V(m)'!Q23","v":0}]
["Sch V(m)","Alternative Capital",null,"Aggregate Losses End Of Year - 14",{"$f":"'Schedule V(m)'!Q24","v":0}]
["Sch V(m)","Alternative Capital",null,"Aggregate Losses End Of Year - 15",{"$f":"'Schedule V(m)'!Q25","v":0}]
["Sch V(m)","Alternative Capital",null,"Aggregate Losses End Of Year - 16",{"$f":"'Schedule V(m)'!Q26","v":0}]
["Sch V(m)","Alternative Capital",null,"Aggregate Losses End Of Year - 17",{"$f":"'Schedule V(m)'!Q27","v":0}]
["Sch V(m)","Alternative Capital",null,"Aggregate Losses End Of Year - 18",{"$f":"'Schedule V(m)'!Q28","v":0}]
["Sch V(m)","Alternative Capital",null,"Aggregate Losses End Of Year - 19",{"$f":"'Schedule V(m)'!Q29","v":0}]
["Sch V(m)","Alternative Capital",null,"Aggregate Losses End Of Year - 20",{"$f":"'Schedule V(m)'!Q30","v":0}]
["Sch V(m)","Alternative Capital",null,"Aggregate Losses End Of Year - 21",{"$f":"'Schedule V(m)'!Q31","v":0}]
["Sch V(m)","Alternative Capital",null,"Aggregate Losses End Of Year - 22",{"$f":"'Schedule V(m)'!Q32","v":0}]
["Sch V(m)","Alternative Capital",null,"Aggregate Losses End Of Year - 23",{"$f":"'Schedule V(m)'!Q33","v":0}]
["Sch V(m)","Alternative Capital",null,"Aggregate Losses End Of Year - 24",{"$f":"'Schedule V(m)'!Q34","v":0}]
["Sch V(m)","Alternative Capital",null,"Aggregate Losses End Of Year - 25",{"$f":"'Schedule V(m)'!Q35","v":0}]
["Sch V(m)","Alternative Capital",null,"Aggregate Losses End Of Year - Total",{"$f":"'Schedule V(m)'!Q1512","v":0}]
["Sch V(m)","Alternative Capital",null,"Collateral Reserve Buffer - 1",{"$f":"'Schedule V(m)'!R11","v":0}]
["Sch V(m)","Alternative Capital",null,"Collateral Reserve Buffer - 2",{"$f":"'Schedule V(m)'!R12","v":0}]
["Sch V(m)","Alternative Capital",null,"Collateral Reserve Buffer - 3",{"$f":"'Schedule V(m)'!R13","v":0}]
["Sch V(m)","Alternative Capital",null,"Collateral Reserve Buffer - 4",{"$f":"'Schedule V(m)'!R14","v":0}]
["Sch V(m)","Alternative Capital",null,"Collateral Reserve Buffer - 5",{"$f":"'Schedule V(m)'!R15","v":0}]
["Sch V(m)","Alternative Capital",null,"Collateral Reserve Buffer - 6",{"$f":"'Schedule V(m)'!R16","v":0}]
["Sch V(m)","Alternative Capital",null,"Collateral Reserve Buffer - 7",{"$f":"'Schedule V(m)'!R17","v":0}]
["Sch V(m)","Alternative Capital",null,"Collateral Reserve Buffer - 8",{"$f":"'Schedule V(m)'!R18","v":0}]
["Sch V(m)","Alternative Capital",null,"Collateral Reserve Buffer - 9",{"$f":"'Schedule V(m)'!R19","v":0}]
["Sch V(m)","Alternative Capital",null,"Collateral Reserve Buffer - 10",{"$f":"'Schedule V(m)'!R20","v":0}]
["Sch V(m)","Alternative Capital",null,"Collateral Reserve Buffer - 11",{"$f":"'Schedule V(m)'!R21","v":0}]
["Sch V(m)","Alternative Capital",null,"Collateral Reserve Buffer - 12",{"$f":"'Schedule V(m)'!R22","v":0}]
["Sch V(m)","Alternative Capital",null,"Collateral Reserve Buffer - 13",{"$f":"'Schedule V(m)'!R23","v":0}]
["Sch V(m)","Alternative Capital",null,"Collateral Reserve Buffer - 14",{"$f":"'Schedule V(m)'!R24","v":0}]
["Sch V(m)","Alternative Capital",null,"Collateral Reserve Buffer - 15",{"$f":"'Schedule V(m)'!R25","v":0}]
["Sch V(m)","Alternative Capital",null,"Collateral Reserve Buffer - 16",{"$f":"'Schedule V(m)'!R26","v":0}]
["Sch V(m)","Alternative Capital",null,"Collateral Reserve Buffer - 17",{"$f":"'Schedule V(m)'!R27","v":0}]
["Sch V(m)","Alternative Capital",null,"Collateral Reserve Buffer - 18",{"$f":"'Schedule V(m)'!R28","v":0}]
["Sch V(m)","Alternative Capital",null,"Collateral Reserve Buffer - 19",{"$f":"'Schedule V(m)'!R29","v":0}]
["Sch V(m)","Alternative Capital",null,"Collateral Reserve Buffer - 20",{"$f":"'Schedule V(m)'!R30","v":0}]
["Sch V(m)","Alternative Capital",null,"Collateral Reserve Buffer - 21",{"$f":"'Schedule V(m)'!R31","v":0}]
["Sch V(m)","Alternative Capital",null,"Collateral Reserve Buffer - 22",{"$f":"'Schedule V(m)'!R32","v":0}]
["Sch V(m)","Alternative Capital",null,"Collateral Reserve Buffer - 23",{"$f":"'Schedule V(m)'!R33","v":0}]
["Sch V(m)","Alternative Capital",null,"Collateral Reserve Buffer - 24",{"$f":"'Schedule V(m)'!R34","v":0}]
["Sch V(m)","Alternative Capital",null,"Collateral Reserve Buffer - 25",{"$f":"'Schedule V(m)'!R35","v":0}]
["Sch V(m)","Alternative Capital",null,"Collateral Reserve Buffer - Total",{"$f":"'Schedule V(m)'!R1512","v":0}]
["Sch V(m)","Alternative Capital",null,"Currency of Exposure - 1",{"$f":"'Schedule V(m)'!S11","v":"Select from Drop Down"}]
["Sch V(m)","Alternative Capital",null,"Currency of Exposure - 2",{"$f":"'Schedule V(m)'!S12","v":"Select from Drop Down"}]
["Sch V(m)","Alternative Capital",null,"Currency of Exposure - 3",{"$f":"'Schedule V(m)'!S13","v":"Select from Drop Down"}]
["Sch V(m)","Alternative Capital",null,"Currency of Exposure - 4",{"$f":"'Schedule V(m)'!S14","v":"Select from Drop Down"}]
["Sch V(m)","Alternative Capital",null,"Currency of Exposure - 5",{"$f":"'Schedule V(m)'!S15","v":"Select from Drop Down"}]
["Sch V(m)","Alternative Capital",null,"Currency of Exposure - 6",{"$f":"'Schedule V(m)'!S16","v":"Select from Drop Down"}]
["Sch V(m)","Alternative Capital",null,"Currency of Exposure - 7",{"$f":"'Schedule V(m)'!S17","v":"Select from Drop Down"}]
["Sch V(m)","Alternative Capital",null,"Currency of Exposure - 8",{"$f":"'Schedule V(m)'!S18","v":"Select from Drop Down"}]
["Sch V(m)","Alternative Capital",null,"Currency of Exposure - 9",{"$f":"'Schedule V(m)'!S19","v":"Select from Drop Down"}]
["Sch V(m)","Alternative Capital",null,"Currency of Exposure - 10",{"$f":"'Schedule V(m)'!S20","v":"Select from Drop Down"}]
["Sch V(m)","Alternative Capital",null,"Currency of Exposure - 11",{"$f":"'Schedule V(m)'!S21","v":"Select from Drop Down"}]
["Sch V(m)","Alternative Capital",null,"Currency of Exposure - 12",{"$f":"'Schedule V(m)'!S22","v":"Select from Drop Down"}]
["Sch V(m)","Alternative Capital",null,"Currency of Exposure - 13",{"$f":"'Schedule V(m)'!S23","v":"Select from Drop Down"}]
["Sch V(m)","Alternative Capital",null,"Currency of Exposure - 14",{"$f":"'Schedule V(m)'!S24","v":"Select from Drop Down"}]
["Sch V(m)","Alternative Capital",null,"Currency of Exposure - 15",{"$f":"'Schedule V(m)'!S25","v":"Select from Drop Down"}]
["Sch V(m)","Alternative Capital",null,"Currency of Exposure - 16",{"$f":"'Schedule V(m)'!S26","v":"Select from Drop Down"}]
["Sch V(m)","Alternative Capital",null,"Currency of Exposure - 17",{"$f":"'Schedule V(m)'!S27","v":"Select from Drop Down"}]
["Sch V(m)","Alternative Capital",null,"Currency of Exposure - 18",{"$f":"'Schedule V(m)'!S28","v":"Select from Drop Down"}]
["Sch V(m)","Alternative Capital",null,"Currency of Exposure - 19",{"$f":"'Schedule V(m)'!S29","v":"Select from Drop Down"}]
["Sch V(m)","Alternative Capital",null,"Currency of Exposure - 20",{"$f":"'Schedule V(m)'!S30","v":"Select from Drop Down"}]
["Sch V(m)","Alternative Capital",null,"Currency of Exposure - 21",{"$f":"'Schedule V(m)'!S31","v":"Select from Drop Down"}]
["Sch V(m)","Alternative Capital",null,"Currency of Exposure - 22",{"$f":"'Schedule V(m)'!S32","v":"Select from Drop Down"}]
["Sch V(m)","Alternative Capital",null,"Currency of Exposure - 23",{"$f":"'Schedule V(m)'!S33","v":"Select from Drop Down"}]
["Sch V(m)","Alternative Capital",null,"Currency of Exposure - 24",{"$f":"'Schedule V(m)'!S34","v":"Select from Drop Down"}]
["Sch V(m)","Alternative Capital",null,"Currency of Exposure - 25",{"$f":"'Schedule V(m)'!S35","v":"Select from Drop Down"}]
["Sch V(m)","Alternative Capital",null,"Nature of Collateral - 1",{"$f":"'Schedule V(m)'!T11","v":"Select from Drop Down"}]
["Sch V(m)","Alternative Capital",null,"Nature of Collateral - 2",{"$f":"'Schedule V(m)'!T12","v":"Select from Drop Down"}]
["Sch V(m)","Alternative Capital",null,"Nature of Collateral - 3",{"$f":"'Schedule V(m)'!T13","v":"Select from Drop Down"}]
["Sch V(m)","Alternative Capital",null,"Nature of Collateral - 4",{"$f":"'Schedule V(m)'!T14","v":"Select from Drop Down"}]
["Sch V(m)","Alternative Capital",null,"Nature of Collateral - 5",{"$f":"'Schedule V(m)'!T15","v":"Select from Drop Down"}]
["Sch V(m)","Alternative Capital",null,"Nature of Collateral - 6",{"$f":"'Schedule V(m)'!T16","v":"Select from Drop Down"}]
["Sch V(m)","Alternative Capital",null,"Nature of Collateral - 7",{"$f":"'Schedule V(m)'!T17","v":"Select from Drop Down"}]
["Sch V(m)","Alternative Capital",null,"Nature of Collateral - 8",{"$f":"'Schedule V(m)'!T18","v":"Select from Drop Down"}]
["Sch V(m)","Alternative Capital",null,"Nature of Collateral - 9",{"$f":"'Schedule V(m)'!T19","v":"Select from Drop Down"}]
["Sch V(m)","Alternative Capital",null,"Nature of Collateral - 10",{"$f":"'Schedule V(m)'!T20","v":"Select from Drop Down"}]
["Sch V(m)","Alternative Capital",null,"Nature of Collateral - 11",{"$f":"'Schedule V(m)'!T21","v":"Select from Drop Down"}]
["Sch V(m)","Alternative Capital",null,"Nature of Collateral - 12",{"$f":"'Schedule V(m)'!T22","v":"Select from Drop Down"}]
["Sch V(m)","Alternative Capital",null,"Nature of Collateral - 13",{"$f":"'Schedule V(m)'!T23","v":"Select from Drop Down"}]
["Sch V(m)","Alternative Capital",null,"Nature of Collateral - 14",{"$f":"'Schedule V(m)'!T24","v":"Select from Drop Down"}]
["Sch V(m)","Alternative Capital",null,"Nature of Collateral - 15",{"$f":"'Schedule V(m)'!T25","v":"Select from Drop Down"}]
["Sch V(m)","Alternative Capital",null,"Nature of Collateral - 16",{"$f":"'Schedule V(m)'!T26","v":"Select from Drop Down"}]
["Sch V(m)","Alternative Capital",null,"Nature of Collateral - 17",{"$f":"'Schedule V(m)'!T27","v":"Select from Drop Down"}]
["Sch V(m)","Alternative Capital",null,"Nature of Collateral - 18",{"$f":"'Schedule V(m)'!T28","v":"Select from Drop Down"}]
["Sch V(m)","Alternative Capital",null,"Nature of Collateral - 19",{"$f":"'Schedule V(m)'!T29","v":"Select from Drop Down"}]
["Sch V(m)","Alternative Capital",null,"Nature of Collateral - 20",{"$f":"'Schedule V(m)'!T30","v":"Select from Drop Down"}]
["Sch V(m)","Alternative Capital",null,"Nature of Collateral - 21",{"$f":"'Schedule V(m)'!T31","v":"Select from Drop Down"}]
["Sch V(m)","Alternative Capital",null,"Nature of Collateral - 22",{"$f":"'Schedule V(m)'!T32","v":"Select from Drop Down"}]
["Sch V(m)","Alternative Capital",null,"Nature of Collateral - 23",{"$f":"'Schedule V(m)'!T33","v":"Select from Drop Down"}]
["Sch V(m)","Alternative Capital",null,"Nature of Collateral - 24",{"$f":"'Schedule V(m)'!T34","v":"Select from Drop Down"}]
["Sch V(m)","Alternative Capital",null,"Nature of Collateral - 25",{"$f":"'Schedule V(m)'!T35","v":"Select from Drop Down"}]
["Sch V(m)","Alternative Capital",null,"Collateral Rating - 1",{"$f":"'Schedule V(m)'!U11","v":"Select from Drop Down"}]
["Sch V(m)","Alternative Capital",null,"Collateral Rating - 2",{"$f":"'Schedule V(m)'!U12","v":"Select from Drop Down"}]
["Sch V(m)","Alternative Capital",null,"Collateral Rating - 3",{"$f":"'Schedule V(m)'!U13","v":"Select from Drop Down"}]
["Sch V(m)","Alternative Capital",null,"Collateral Rating - 4",{"$f":"'Schedule V(m)'!U14","v":"Select from Drop Down"}]
["Sch V(m)","Alternative Capital",null,"Collateral Rating - 5",{"$f":"'Schedule V(m)'!U15","v":"Select from Drop Down"}]
["Sch V(m)","Alternative Capital",null,"Collateral Rating - 6",{"$f":"'Schedule V(m)'!U16","v":"Select from Drop Down"}]
["Sch V(m)","Alternative Capital",null,"Collateral Rating - 7",{"$f":"'Schedule V(m)'!U17","v":"Select from Drop Down"}]
["Sch V(m)","Alternative Capital",null,"Collateral Rating - 8",{"$f":"'Schedule V(m)'!U18","v":"Select from Drop Down"}]
["Sch V(m)","Alternative Capital",null,"Collateral Rating - 9",{"$f":"'Schedule V(m)'!U19","v":"Select from Drop Down"}]
["Sch V(m)","Alternative Capital",null,"Collateral Rating - 10",{"$f":"'Schedule V(m)'!U20","v":"Select from Drop Down"}]
["Sch V(m)","Alternative Capital",null,"Collateral Rating - 11",{"$f":"'Schedule V(m)'!U21","v":"Select from Drop Down"}]
["Sch V(m)","Alternative Capital",null,"Collateral Rating - 12",{"$f":"'Schedule V(m)'!U22","v":"Select from Drop Down"}]
["Sch V(m)","Alternative Capital",null,"Collateral Rating - 13",{"$f":"'Schedule V(m)'!U23","v":"Select from Drop Down"}]
["Sch V(m)","Alternative Capital",null,"Collateral Rating - 14",{"$f":"'Schedule V(m)'!U24","v":"Select from Drop Down"}]
["Sch V(m)","Alternative Capital",null,"Collateral Rating - 15",{"$f":"'Schedule V(m)'!U25","v":"Select from Drop Down"}]
["Sch V(m)","Alternative Capital",null,"Collateral Rating - 16",{"$f":"'Schedule V(m)'!U26","v":"Select from Drop Down"}]
["Sch V(m)","Alternative Capital",null,"Collateral Rating - 17",{"$f":"'Schedule V(m)'!U27","v":"Select from Drop Down"}]
["Sch V(m)","Alternative Capital",null,"Collateral Rating - 18",{"$f":"'Schedule V(m)'!U28","v":"Select from Drop Down"}]
["Sch V(m)","Alternative Capital",null,"Collateral Rating - 19",{"$f":"'Schedule V(m)'!U29","v":"Select from Drop Down"}]
["Sch V(m)","Alternative Capital",null,"Collateral Rating - 20",{"$f":"'Schedule V(m)'!U30","v":"Select from Drop Down"}]
["Sch V(m)","Alternative Capital",null,"Collateral Rating - 21",{"$f":"'Schedule V(m)'!U31","v":"Select from Drop Down"}]
["Sch V(m)","Alternative Capital",null,"Collateral Rating - 22",{"$f":"'Schedule V(m)'!U32","v":"Select from Drop Down"}]
["Sch V(m)","Alternative Capital",null,"Collateral Rating - 23",{"$f":"'Schedule V(m)'!U33","v":"Select from Drop Down"}]
["Sch V(m)","Alternative Capital",null,"Collateral Rating - 24",{"$f":"'Schedule V(m)'!U34","v":"Select from Drop Down"}]
["Sch V(m)","Alternative Capital",null,"Collateral Rating - 25",{"$f":"'Schedule V(m)'!U35","v":"Select from Drop Down"}]
["Sch V(m)","Alternative Capital",null,"Amount of Collateral - 1",{"$f":"'Schedule V(m)'!V11","v":0}]
["Sch V(m)","Alternative Capital",null,"Amount of Collateral - 2",{"$f":"'Schedule V(m)'!V12","v":0}]
["Sch V(m)","Alternative Capital",null,"Amount of Collateral - 3",{"$f":"'Schedule V(m)'!V13","v":0}]
["Sch V(m)","Alternative Capital",null,"Amount of Collateral - 4",{"$f":"'Schedule V(m)'!V14","v":0}]
["Sch V(m)","Alternative Capital",null,"Amount of Collateral - 5",{"$f":"'Schedule V(m)'!V15","v":0}]
["Sch V(m)","Alternative Capital",null,"Amount of Collateral - 6",{"$f":"'Schedule V(m)'!V16","v":0}]
["Sch V(m)","Alternative Capital",null,"Amount of Collateral - 7",{"$f":"'Schedule V(m)'!V17","v":0}]
["Sch V(m)","Alternative Capital",null,"Amount of Collateral - 8",{"$f":"'Schedule V(m)'!V18","v":0}]
["Sch V(m)","Alternative Capital",null,"Amount of Collateral - 9",{"$f":"'Schedule V(m)'!V19","v":0}]
["Sch V(m)","Alternative Capital",null,"Amount of Collateral - 10",{"$f":"'Schedule V(m)'!V20","v":0}]
["Sch V(m)","Alternative Capital",null,"Amount of Collateral - 11",{"$f":"'Schedule V(m)'!V21","v":0}]
["Sch V(m)","Alternative Capital",null,"Amount of Collateral - 12",{"$f":"'Schedule V(m)'!V22","v":0}]
["Sch V(m)","Alternative Capital",null,"Amount of Collateral - 13",{"$f":"'Schedule V(m)'!V23","v":0}]
["Sch V(m)","Alternative Capital",null,"Amount of Collateral - 14",{"$f":"'Schedule V(m)'!V24","v":0}]
["Sch V(m)","Alternative Capital",null,"Amount of Collateral - 15",{"$f":"'Schedule V(m)'!V25","v":0}]
["Sch V(m)","Alternative Capital",null,"Amount of Collateral - 16",{"$f":"'Schedule V(m)'!V26","v":0}]
["Sch V(m)","Alternative Capital",null,"Amount of Collateral - 17",{"$f":"'Schedule V(m)'!V27","v":0}]
["Sch V(m)","Alternative Capital",null,"Amount of Collateral - 18",{"$f":"'Schedule V(m)'!V28","v":0}]
["Sch V(m)","Alternative Capital",null,"Amount of Collateral - 19",{"$f":"'Schedule V(m)'!V29","v":0}]
["Sch V(m)","Alternative Capital",null,"Amount of Collateral - 20",{"$f":"'Schedule V(m)'!V30","v":0}]
["Sch V(m)","Alternative Capital",null,"Amount of Collateral - 21",{"$f":"'Schedule V(m)'!V31","v":0}]
["Sch V(m)","Alternative Capital",null,"Amount of Collateral - 22",{"$f":"'Schedule V(m)'!V32","v":0}]
["Sch V(m)","Alternative Capital",null,"Amount of Collateral - 23",{"$f":"'Schedule V(m)'!V33","v":0}]
["Sch V(m)","Alternative Capital",null,"Amount of Collateral - 24",{"$f":"'Schedule V(m)'!V34","v":0}]
["Sch V(m)","Alternative Capital",null,"Amount of Collateral - 25",{"$f":"'Schedule V(m)'!V35","v":0}]
["Sch V(m)","Alternative Capital",null,"Amount of Collateral - Total",{"$f":"'Schedule V(m)'!V1512","v":0}]
["Sch V(m)","Alternative Capital",null,"Comments - 1",{"$f":"'Schedule V(m)'!W11","v":0}]
["Sch V(m)","Alternative Capital",null,"Comments - 2",{"$f":"'Schedule V(m)'!W12","v":0}]
["Sch V(m)","Alternative Capital",null,"Comments - 3",{"$f":"'Schedule V(m)'!W13","v":0}]
["Sch V(m)","Alternative Capital",null,"Comments - 4",{"$f":"'Schedule V(m)'!W14","v":0}]
["Sch V(m)","Alternative Capital",null,"Comments - 5",{"$f":"'Schedule V(m)'!W15","v":0}]
["Sch V(m)","Alternative Capital",null,"Comments - 6",{"$f":"'Schedule V(m)'!W16","v":0}]
["Sch V(m)","Alternative Capital",null,"Comments - 7",{"$f":"'Schedule V(m)'!W17","v":0}]
["Sch V(m)","Alternative Capital",null,"Comments - 8",{"$f":"'Schedule V(m)'!W18","v":0}]
["Sch V(m)","Alternative Capital",null,"Comments - 9",{"$f":"'Schedule V(m)'!W19","v":0}]
["Sch V(m)","Alternative Capital",null,"Comments - 10",{"$f":"'Schedule V(m)'!W20","v":0}]
["Sch V(m)","Alternative Capital",null,"Comments - 11",{"$f":"'Schedule V(m)'!W21","v":0}]
["Sch V(m)","Alternative Capital",null,"Comments - 12",{"$f":"'Schedule V(m)'!W22","v":0}]
["Sch V(m)","Alternative Capital",null,"Comments - 13",{"$f":"'Schedule V(m)'!W23","v":0}]
["Sch V(m)","Alternative Capital",null,"Comments - 14",{"$f":"'Schedule V(m)'!W24","v":0}]
["Sch V(m)","Alternative Capital",null,"Comments - 15",{"$f":"'Schedule V(m)'!W25","v":0}]
["Sch V(m)","Alternative Capital",null,"Comments - 16",{"$f":"'Schedule V(m)'!W26","v":0}]
["Sch V(m)","Alternative Capital",null,"Comments - 17",{"$f":"'Schedule V(m)'!W27","v":0}]
["Sch V(m)","Alternative Capital",null,"Comments - 18",{"$f":"'Schedule V(m)'!W28","v":0}]
["Sch V(m)","Alternative Capital",null,"Comments - 19",{"$f":"'Schedule V(m)'!W29","v":0}]
["Sch V(m)","Alternative Capital",null,"Comments - 20",{"$f":"'Schedule V(m)'!W30","v":0}]
["Sch V(m)","Alternative Capital",null,"Comments - 21",{"$f":"'Schedule V(m)'!W31","v":0}]
["Sch V(m)","Alternative Capital",null,"Comments - 22",{"$f":"'Schedule V(m)'!W32","v":0}]
["Sch V(m)","Alternative Capital",null,"Comments - 23",{"$f":"'Schedule V(m)'!W33","v":0}]
["Sch V(m)","Alternative Capital",null,"Comments - 24",{"$f":"'Schedule V(m)'!W34","v":0}]
["Sch V(m)","Alternative Capital",null,"Comments - 25",{"$f":"'Schedule V(m)'!W35","v":0}]
["Sch V(m)","Alternative Capital",null,"General Comments",{"$f":"'Schedule V(m)'!B1515","v":0}]
[]
["Sch XVIII","Outward R/I Secure Agg Limits",null,"# of Reinsurers",null,null,null,null,{"$f":"'Schedule XVIII'!E11","v":0},null,null,null,null,null,null,null,null,null,null,null,null,null,null,null,null,null,null,{"$f":"#REF!","v":{"$error":"#REF!"}}]
["Sch XVIII","Outward R/I Secure Agg Limits",null,"Reinsurer Name - 1",null,null,null,null,{"$f":"'Schedule XVIII'!C15","v":0},null,null,null,null,null,null,null,null,null,null,null,null,null,null,null,null,null,null,{"$f":"#REF!","v":{"$error":"#REF!"}}]
["Sch XVIII","Outward R/I Secure Agg Limits",null,"Reinsurer Name - 2",null,null,null,null,{"$f":"'Schedule XVIII'!C16","v":0},null,null,null,null,null,null,null,null,null,null,null,null,null,null,null,null,null,null,{"$f":"#REF!","v":{"$error":"#REF!"}}]
["Sch XVIII","Outward R/I Secure Agg Limits",null,"Reinsurer Name - 3",null,null,null,null,{"$f":"'Schedule XVIII'!C17","v":0},null,null,null,null,null,null,null,null,null,null,null,null,null,null,null,null,null,null,{"$f":"#REF!","v":{"$error":"#REF!"}}]
["Sch XVIII","Outward R/I Secure Agg Limits",null,"Reinsurer Name - 4",null,null,null,null,{"$f":"'Schedule XVIII'!C18","v":0},null,null,null,null,null,null,null,null,null,null,null,null,null,null,null,null,null,null,{"$f":"#REF!","v":{"$error":"#REF!"}}]
["Sch XVIII","Outward R/I Secure Agg Limits",null,"Reinsurer Name - 5",null,null,null,null,{"$f":"'Schedule XVIII'!C19","v":0},null,null,null,null,null,null,null,null,null,null,null,null,null,null,null,null,null,null,{"$f":"#REF!","v":{"$error":"#REF!"}}]
["Sch XVIII","Outward R/I Secure Agg Limits",null,"Reinsurer Name - 6",null,null,null,null,{"$f":"'Schedule XVIII'!C20","v":0},null,null,null,null,null,null,null,null,null,null,null,null,null,null,null,null,null,null,{"$f":"#REF!","v":{"$error":"#REF!"}}]
["Sch XVIII","Outward R/I Secure Agg Limits",null,"Reinsurer Name - 7",null,null,null,null,{"$f":"'Schedule XVIII'!C21","v":0},null,null,null,null,null,null,null,null,null,null,null,null,null,null,null,null,null,null,{"$f":"#REF!","v":{"$error":"#REF!"}}]
["Sch XVIII","Outward R/I Secure Agg Limits",null,"Reinsurer Name - 8",null,null,null,null,{"$f":"'Schedule XVIII'!C22","v":0},null,null,null,null,null,null,null,null,null,null,null,null,null,null,null,null,null,null,{"$f":"#REF!","v":{"$error":"#REF!"}}]
["Sch XVIII","Outward R/I Secure Agg Limits",null,"Reinsurer Name - 9",null,null,null,null,{"$f":"'Schedule XVIII'!C23","v":0},null,null,null,null,null,null,null,null,null,null,null,null,null,null,null,null,null,null,{"$f":"#REF!","v":{"$error":"#REF!"}}]
["Sch XVIII","Outward R/I Secure Agg Limits",null,"Reinsurer Name - 10",null,null,null,null,{"$f":"'Schedule XVIII'!C24","v":0},null,null,null,null,null,null,null,null,null,null,null,null,null,null,null,null,null,null,{"$f":"#REF!","v":{"$error":"#REF!"}}]
["Sch XVIII","Outward R/I Secure Agg Limits",null,"Reinsurer Name - 11",null,null,null,null,{"$f":"'Schedule XVIII'!C25","v":0},null,null,null,null,null,null,null,null,null,null,null,null,null,null,null,null,null,null,{"$f":"#REF!","v":{"$error":"#REF!"}}]
["Sch XVIII","Outward R/I Secure Agg Limits",null,"Reinsurer Name - 12",null,null,null,null,{"$f":"'Schedule XVIII'!C26","v":0},null,null,null,null,null,null,null,null,null,null,null,null,null,null,null,null,null,null,{"$f":"#REF!","v":{"$error":"#REF!"}}]
["Sch XVIII","Outward R/I Secure Agg Limits",null,"Reinsurer Name - 13",null,null,null,null,{"$f":"'Schedule XVIII'!C27","v":0},null,null,null,null,null,null,null,null,null,null,null,null,null,null,null,null,null,null,{"$f":"#REF!","v":{"$error":"#REF!"}}]
["Sch XVIII","Outward R/I Secure Agg Limits",null,"Reinsurer Name - 14",null,null,null,null,{"$f":"'Schedule XVIII'!C28","v":0},null,null,null,null,null,null,null,null,null,null,null,null,null,null,null,null,null,null,{"$f":"#REF!","v":{"$error":"#REF!"}}]
["Sch XVIII","Outward R/I Secure Agg Limits",null,"Reinsurer Name - 15",null,null,null,null,{"$f":"'Schedule XVIII'!C29","v":0},null,null,null,null,null,null,null,null,null,null,null,null,null,null,null,null,null,null,{"$f":"#REF!","v":{"$error":"#REF!"}}]
["Sch XVIII","Outward R/I Secure Agg Limits",null,"Reinsurer Name - 16",null,null,null,null,{"$f":"'Schedule XVIII'!C30","v":0},null,null,null,null,null,null,null,null,null,null,null,null,null,null,null,null,null,null,{"$f":"#REF!","v":{"$error":"#REF!"}}]
["Sch XVIII","Outward R/I Secure Agg Limits",null,"Reinsurer Name - 17",null,null,null,null,{"$f":"'Schedule XVIII'!C31","v":0},null,null,null,null,null,null,null,null,null,null,null,null,null,null,null,null,null,null,{"$f":"#REF!","v":{"$error":"#REF!"}}]
["Sch XVIII","Outward R/I Secure Agg Limits",null,"Reinsurer Name - 18",null,null,null,null,{"$f":"'Schedule XVIII'!C32","v":0},null,null,null,null,null,null,null,null,null,null,null,null,null,null,null,null,null,null,{"$f":"#REF!","v":{"$error":"#REF!"}}]
["Sch XVIII","Outward R/I Secure Agg Limits",null,"Reinsurer Name - 19",null,null,null,null,{"$f":"'Schedule XVIII'!C33","v":0},null,null,null,null,null,null,null,null,null,null,null,null,null,null,null,null,null,null,{"$f":"#REF!","v":{"$error":"#REF!"}}]
["Sch XVIII","Outward R/I Secure Agg Limits",null,"Reinsurer Name - 20",null,null,null,null,{"$f":"'Schedule XVIII'!C34","v":0},null,null,null,null,null,null,null,null,null,null,null,null,null,null,null,null,null,null,{"$f":"#REF!","v":{"$error":"#REF!"}}]
["Sch XVIII","Outward R/I Secure Agg Limits",null,"Reinsurer Name - 21",null,null,null,null,{"$f":"'Schedule XVIII'!C35","v":0},null,null,null,null,null,null,null,null,null,null,null,null,null,null,null,null,null,null,{"$f":"#REF!","v":{"$error":"#REF!"}}]
["Sch XVIII","Outward R/I Secure Agg Limits",null,"Reinsurer Name - 22",null,null,null,null,{"$f":"'Schedule XVIII'!C36","v":0},null,null,null,null,null,null,null,null,null,null,null,null,null,null,null,null,null,null,{"$f":"#REF!","v":{"$error":"#REF!"}}]
["Sch XVIII","Outward R/I Secure Agg Limits",null,"Reinsurer Name - 23",null,null,null,null,{"$f":"'Schedule XVIII'!C37","v":0},null,null,null,null,null,null,null,null,null,null,null,null,null,null,null,null,null,null,{"$f":"#REF!","v":{"$error":"#REF!"}}]
["Sch XVIII","Outward R/I Secure Agg Limits",null,"Reinsurer Name - 24",null,null,null,null,{"$f":"'Schedule XVIII'!C38","v":0},null,null,null,null,null,null,null,null,null,null,null,null,null,null,null,null,null,null,{"$f":"#REF!","v":{"$error":"#REF!"}}]
["Sch XVIII","Outward R/I Secure Agg Limits",null,"Reinsurer Name - 25",null,null,null,null,{"$f":"'Schedule XVIII'!C39","v":0},null,null,null,null,null,null,null,null,null,null,null,null,null,null,null,null,null,null,{"$f":"#REF!","v":{"$error":"#REF!"}}]
["Sch XVIII","Outward R/I Secure Agg Limits",null,"Reinsurer Name - 26",null,null,null,null,{"$f":"'Schedule XVIII'!C40","v":0},null,null,null,null,null,null,null,null,null,null,null,null,null,null,null,null,null,null,{"$f":"#REF!","v":{"$error":"#REF!"}}]
["Sch XVIII","Outward R/I Secure Agg Limits",null,"Reinsurer Name - 27",null,null,null,null,{"$f":"'Schedule XVIII'!C41","v":0},null,null,null,null,null,null,null,null,null,null,null,null,null,null,null,null,null,null,{"$f":"#REF!","v":{"$error":"#REF!"}}]
["Sch XVIII","Outward R/I Secure Agg Limits",null,"Reinsurer Name - 28",null,null,null,null,{"$f":"'Schedule XVIII'!C42","v":0},null,null,null,null,null,null,null,null,null,null,null,null,null,null,null,null,null,null,{"$f":"#REF!","v":{"$error":"#REF!"}}]
["Sch XVIII","Outward R/I Secure Agg Limits",null,"Reinsurer Name - 29",null,null,null,null,{"$f":"'Schedule XVIII'!C43","v":0},null,null,null,null,null,null,null,null,null,null,null,null,null,null,null,null,null,null,{"$f":"#REF!","v":{"$error":"#REF!"}}]
["Sch XVIII","Outward R/I Secure Agg Limits",null,"Reinsurer Name - 30",null,null,null,null,{"$f":"'Schedule XVIII'!C44","v":0},null,null,null,null,null,null,null,null,null,null,null,null,null,null,null,null,null,null,{"$f":"#REF!","v":{"$error":"#REF!"}}]
["Sch XVIII","Outward R/I Secure Agg Limits",null,"Reinsurer BSCR Rating - 1",null,null,null,null,{"$f":"'Schedule XVIII'!E15","v":"Select"},null,null,null,null,null,null,null,null,null,null,null,null,null,null,null,null,null,null,{"$f":"#REF!","v":{"$error":"#REF!"}}]
["Sch XVIII","Outward R/I Secure Agg Limits",null,"Reinsurer BSCR Rating - 2",null,null,null,null,{"$f":"'Schedule XVIII'!E16","v":"Select"},null,null,null,null,null,null,null,null,null,null,null,null,null,null,null,null,null,null,{"$f":"#REF!","v":{"$error":"#REF!"}}]
["Sch XVIII","Outward R/I Secure Agg Limits",null,"Reinsurer BSCR Rating - 3",null,null,null,null,{"$f":"'Schedule XVIII'!E17","v":"Select"},null,null,null,null,null,null,null,null,null,null,null,null,null,null,null,null,null,null,{"$f":"#REF!","v":{"$error":"#REF!"}}]
["Sch XVIII","Outward R/I Secure Agg Limits",null,"Reinsurer BSCR Rating - 4",null,null,null,null,{"$f":"'Schedule XVIII'!E18","v":"Select"},null,null,null,null,null,null,null,null,null,null,null,null,null,null,null,null,null,null,{"$f":"#REF!","v":{"$error":"#REF!"}}]
["Sch XVIII","Outward R/I Secure Agg Limits",null,"Reinsurer BSCR Rating - 5",null,null,null,null,{"$f":"'Schedule XVIII'!E19","v":"Select"},null,null,null,null,null,null,null,null,null,null,null,null,null,null,null,null,null,null,{"$f":"#REF!","v":{"$error":"#REF!"}}]
["Sch XVIII","Outward R/I Secure Agg Limits",null,"Reinsurer BSCR Rating - 6",null,null,null,null,{"$f":"'Schedule XVIII'!E20","v":"Select"},null,null,null,null,null,null,null,null,null,null,null,null,null,null,null,null,null,null,{"$f":"#REF!","v":{"$error":"#REF!"}}]
["Sch XVIII","Outward R/I Secure Agg Limits",null,"Reinsurer BSCR Rating - 7",null,null,null,null,{"$f":"'Schedule XVIII'!E21","v":"Select"},null,null,null,null,null,null,null,null,null,null,null,null,null,null,null,null,null,null,{"$f":"#REF!","v":{"$error":"#REF!"}}]
["Sch XVIII","Outward R/I Secure Agg Limits",null,"Reinsurer BSCR Rating - 8",null,null,null,null,{"$f":"'Schedule XVIII'!E22","v":"Select"},null,null,null,null,null,null,null,null,null,null,null,null,null,null,null,null,null,null,{"$f":"#REF!","v":{"$error":"#REF!"}}]
["Sch XVIII","Outward R/I Secure Agg Limits",null,"Reinsurer BSCR Rating - 9",null,null,null,null,{"$f":"'Schedule XVIII'!E23","v":"Select"},null,null,null,null,null,null,null,null,null,null,null,null,null,null,null,null,null,null,{"$f":"#REF!","v":{"$error":"#REF!"}}]
["Sch XVIII","Outward R/I Secure Agg Limits",null,"Reinsurer BSCR Rating - 10",null,null,null,null,{"$f":"'Schedule XVIII'!E24","v":"Select"},null,null,null,null,null,null,null,null,null,null,null,null,null,null,null,null,null,null,{"$f":"#REF!","v":{"$error":"#REF!"}}]
["Sch XVIII","Outward R/I Secure Agg Limits",null,"Reinsurer BSCR Rating - 11",null,null,null,null,{"$f":"'Schedule XVIII'!E25","v":"Select"},null,null,null,null,null,null,null,null,null,null,null,null,null,null,null,null,null,null,{"$f":"#REF!","v":{"$error":"#REF!"}}]
["Sch XVIII","Outward R/I Secure Agg Limits",null,"Reinsurer BSCR Rating - 12",null,null,null,null,{"$f":"'Schedule XVIII'!E26","v":"Select"},null,null,null,null,null,null,null,null,null,null,null,null,null,null,null,null,null,null,{"$f":"#REF!","v":{"$error":"#REF!"}}]
["Sch XVIII","Outward R/I Secure Agg Limits",null,"Reinsurer BSCR Rating - 13",null,null,null,null,{"$f":"'Schedule XVIII'!E27","v":"Select"},null,null,null,null,null,null,null,null,null,null,null,null,null,null,null,null,null,null,{"$f":"#REF!","v":{"$error":"#REF!"}}]
["Sch XVIII","Outward R/I Secure Agg Limits",null,"Reinsurer BSCR Rating - 14",null,null,null,null,{"$f":"'Schedule XVIII'!E28","v":"Select"},null,null,null,null,null,null,null,null,null,null,null,null,null,null,null,null,null,null,{"$f":"#REF!","v":{"$error":"#REF!"}}]
["Sch XVIII","Outward R/I Secure Agg Limits",null,"Reinsurer BSCR Rating - 15",null,null,null,null,{"$f":"'Schedule XVIII'!E29","v":"Select"},null,null,null,null,null,null,null,null,null,null,null,null,null,null,null,null,null,null,{"$f":"#REF!","v":{"$error":"#REF!"}}]
["Sch XVIII","Outward R/I Secure Agg Limits",null,"Reinsurer BSCR Rating - 16",null,null,null,null,{"$f":"'Schedule XVIII'!E30","v":"Select"},null,null,null,null,null,null,null,null,null,null,null,null,null,null,null,null,null,null,{"$f":"#REF!","v":{"$error":"#REF!"}}]
["Sch XVIII","Outward R/I Secure Agg Limits",null,"Reinsurer BSCR Rating - 17",null,null,null,null,{"$f":"'Schedule XVIII'!E31","v":"Select"},null,null,null,null,null,null,null,null,null,null,null,null,null,null,null,null,null,null,{"$f":"#REF!","v":{"$error":"#REF!"}}]
["Sch XVIII","Outward R/I Secure Agg Limits",null,"Reinsurer BSCR Rating - 18",null,null,null,null,{"$f":"'Schedule XVIII'!E32","v":"Select"},null,null,null,null,null,null,null,null,null,null,null,null,null,null,null,null,null,null,{"$f":"#REF!","v":{"$error":"#REF!"}}]
["Sch XVIII","Outward R/I Secure Agg Limits",null,"Reinsurer BSCR Rating - 19",null,null,null,null,{"$f":"'Schedule XVIII'!E33","v":"Select"},null,null,null,null,null,null,null,null,null,null,null,null,null,null,null,null,null,null,{"$f":"#REF!","v":{"$error":"#REF!"}}]
["Sch XVIII","Outward R/I Secure Agg Limits",null,"Reinsurer BSCR Rating - 20",null,null,null,null,{"$f":"'Schedule XVIII'!E34","v":"Select"},null,null,null,null,null,null,null,null,null,null,null,null,null,null,null,null,null,null,{"$f":"#REF!","v":{"$error":"#REF!"}}]
["Sch XVIII","Outward R/I Secure Agg Limits",null,"Reinsurer BSCR Rating - 21",null,null,null,null,{"$f":"'Schedule XVIII'!E35","v":"Select"},null,null,null,null,null,null,null,null,null,null,null,null,null,null,null,null,null,null,{"$f":"#REF!","v":{"$error":"#REF!"}}]
["Sch XVIII","Outward R/I Secure Agg Limits",null,"Reinsurer BSCR Rating - 22",null,null,null,null,{"$f":"'Schedule XVIII'!E36","v":"Select"},null,null,null,null,null,null,null,null,null,null,null,null,null,null,null,null,null,null,{"$f":"#REF!","v":{"$error":"#REF!"}}]
["Sch XVIII","Outward R/I Secure Agg Limits",null,"Reinsurer BSCR Rating - 23",null,null,null,null,{"$f":"'Schedule XVIII'!E37","v":"Select"},null,null,null,null,null,null,null,null,null,null,null,null,null,null,null,null,null,null,{"$f":"#REF!","v":{"$error":"#REF!"}}]
["Sch XVIII","Outward R/I Secure Agg Limits",null,"Reinsurer BSCR Rating - 24",null,null,null,null,{"$f":"'Schedule XVIII'!E38","v":"Select"},null,null,null,null,null,null,null,null,null,null,null,null,null,null,null,null,null,null,{"$f":"#REF!","v":{"$error":"#REF!"}}]
["Sch XVIII","Outward R/I Secure Agg Limits",null,"Reinsurer BSCR Rating - 25",null,null,null,null,{"$f":"'Schedule XVIII'!E39","v":"Select"},null,null,null,null,null,null,null,null,null,null,null,null,null,null,null,null,null,null,{"$f":"#REF!","v":{"$error":"#REF!"}}]
["Sch XVIII","Outward R/I Secure Agg Limits",null,"Reinsurer BSCR Rating - 26",null,null,null,null,{"$f":"'Schedule XVIII'!E40","v":"Select"},null,null,null,null,null,null,null,null,null,null,null,null,null,null,null,null,null,null,{"$f":"#REF!","v":{"$error":"#REF!"}}]
["Sch XVIII","Outward R/I Secure Agg Limits",null,"Reinsurer BSCR Rating - 27",null,null,null,null,{"$f":"'Schedule XVIII'!E41","v":"Select"},null,null,null,null,null,null,null,null,null,null,null,null,null,null,null,null,null,null,{"$f":"#REF!","v":{"$error":"#REF!"}}]
["Sch XVIII","Outward R/I Secure Agg Limits",null,"Reinsurer BSCR Rating - 28",null,null,null,null,{"$f":"'Schedule XVIII'!E42","v":"Select"},null,null,null,null,null,null,null,null,null,null,null,null,null,null,null,null,null,null,{"$f":"#REF!","v":{"$error":"#REF!"}}]
["Sch XVIII","Outward R/I Secure Agg Limits",null,"Reinsurer BSCR Rating - 29",null,null,null,null,{"$f":"'Schedule XVIII'!E43","v":"Select"},null,null,null,null,null,null,null,null,null,null,null,null,null,null,null,null,null,null,{"$f":"#REF!","v":{"$error":"#REF!"}}]
["Sch XVIII","Outward R/I Secure Agg Limits",null,"Reinsurer BSCR Rating - 30",null,null,null,null,{"$f":"'Schedule XVIII'!E44","v":"Select"},null,null,null,null,null,null,null,null,null,null,null,null,null,null,null,null,null,null,{"$f":"#REF!","v":{"$error":"#REF!"}}]
["Sch XVIII","Outward R/I Secure Agg Limits",null,"Outwards R/I - 1",null,null,null,null,{"$f":"'Schedule XVIII'!G15","v":0},null,null,null,null,null,null,null,null,null,null,null,null,null,null,null,null,null,null,{"$f":"#REF!","v":{"$error":"#REF!"}}]
["Sch XVIII","Outward R/I Secure Agg Limits",null,"Outwards R/I - 2",null,null,null,null,{"$f":"'Schedule XVIII'!G16","v":0},null,null,null,null,null,null,null,null,null,null,null,null,null,null,null,null,null,null,{"$f":"#REF!","v":{"$error":"#REF!"}}]
["Sch XVIII","Outward R/I Secure Agg Limits",null,"Outwards R/I - 3",null,null,null,null,{"$f":"'Schedule XVIII'!G17","v":0},null,null,null,null,null,null,null,null,null,null,null,null,null,null,null,null,null,null,{"$f":"#REF!","v":{"$error":"#REF!"}}]
["Sch XVIII","Outward R/I Secure Agg Limits",null,"Outwards R/I - 4",null,null,null,null,{"$f":"'Schedule XVIII'!G18","v":0},null,null,null,null,null,null,null,null,null,null,null,null,null,null,null,null,null,null,{"$f":"#REF!","v":{"$error":"#REF!"}}]
["Sch XVIII","Outward R/I Secure Agg Limits",null,"Outwards R/I - 5",null,null,null,null,{"$f":"'Schedule XVIII'!G19","v":0},null,null,null,null,null,null,null,null,null,null,null,null,null,null,null,null,null,null,{"$f":"#REF!","v":{"$error":"#REF!"}}]
["Sch XVIII","Outward R/I Secure Agg Limits",null,"Outwards R/I - 6",null,null,null,null,{"$f":"'Schedule XVIII'!G20","v":0},null,null,null,null,null,null,null,null,null,null,null,null,null,null,null,null,null,null,{"$f":"#REF!","v":{"$error":"#REF!"}}]
["Sch XVIII","Outward R/I Secure Agg Limits",null,"Outwards R/I - 7",null,null,null,null,{"$f":"'Schedule XVIII'!G21","v":0},null,null,null,null,null,null,null,null,null,null,null,null,null,null,null,null,null,null,{"$f":"#REF!","v":{"$error":"#REF!"}}]
["Sch XVIII","Outward R/I Secure Agg Limits",null,"Outwards R/I - 8",null,null,null,null,{"$f":"'Schedule XVIII'!G22","v":0},null,null,null,null,null,null,null,null,null,null,null,null,null,null,null,null,null,null,{"$f":"#REF!","v":{"$error":"#REF!"}}]
["Sch XVIII","Outward R/I Secure Agg Limits",null,"Outwards R/I - 9",null,null,null,null,{"$f":"'Schedule XVIII'!G23","v":0},null,null,null,null,null,null,null,null,null,null,null,null,null,null,null,null,null,null,{"$f":"#REF!","v":{"$error":"#REF!"}}]
["Sch XVIII","Outward R/I Secure Agg Limits",null,"Outwards R/I - 10",null,null,null,null,{"$f":"'Schedule XVIII'!G24","v":0},null,null,null,null,null,null,null,null,null,null,null,null,null,null,null,null,null,null,{"$f":"#REF!","v":{"$error":"#REF!"}}]
["Sch XVIII","Outward R/I Secure Agg Limits",null,"Outwards R/I - 11",null,null,null,null,{"$f":"'Schedule XVIII'!G25","v":0},null,null,null,null,null,null,null,null,null,null,null,null,null,null,null,null,null,null,{"$f":"#REF!","v":{"$error":"#REF!"}}]
["Sch XVIII","Outward R/I Secure Agg Limits",null,"Outwards R/I - 12",null,null,null,null,{"$f":"'Schedule XVIII'!G26","v":0},null,null,null,null,null,null,null,null,null,null,null,null,null,null,null,null,null,null,{"$f":"#REF!","v":{"$error":"#REF!"}}]
["Sch XVIII","Outward R/I Secure Agg Limits",null,"Outwards R/I - 13",null,null,null,null,{"$f":"'Schedule XVIII'!G27","v":0},null,null,null,null,null,null,null,null,null,null,null,null,null,null,null,null,null,null,{"$f":"#REF!","v":{"$error":"#REF!"}}]
["Sch XVIII","Outward R/I Secure Agg Limits",null,"Outwards R/I - 14",null,null,null,null,{"$f":"'Schedule XVIII'!G28","v":0},null,null,null,null,null,null,null,null,null,null,null,null,null,null,null,null,null,null,{"$f":"#REF!","v":{"$error":"#REF!"}}]
["Sch XVIII","Outward R/I Secure Agg Limits",null,"Outwards R/I - 15",null,null,null,null,{"$f":"'Schedule XVIII'!G29","v":0},null,null,null,null,null,null,null,null,null,null,null,null,null,null,null,null,null,null,{"$f":"#REF!","v":{"$error":"#REF!"}}]
["Sch XVIII","Outward R/I Secure Agg Limits",null,"Outwards R/I - 16",null,null,null,null,{"$f":"'Schedule XVIII'!G30","v":0},null,null,null,null,null,null,null,null,null,null,null,null,null,null,null,null,null,null,{"$f":"#REF!","v":{"$error":"#REF!"}}]
["Sch XVIII","Outward R/I Secure Agg Limits",null,"Outwards R/I - 17",null,null,null,null,{"$f":"'Schedule XVIII'!G31","v":0},null,null,null,null,null,null,null,null,null,null,null,null,null,null,null,null,null,null,{"$f":"#REF!","v":{"$error":"#REF!"}}]
["Sch XVIII","Outward R/I Secure Agg Limits",null,"Outwards R/I - 18",null,null,null,null,{"$f":"'Schedule XVIII'!G32","v":0},null,null,null,null,null,null,null,null,null,null,null,null,null,null,null,null,null,null,{"$f":"#REF!","v":{"$error":"#REF!"}}]
["Sch XVIII","Outward R/I Secure Agg Limits",null,"Outwards R/I - 19",null,null,null,null,{"$f":"'Schedule XVIII'!G33","v":0},null,null,null,null,null,null,null,null,null,null,null,null,null,null,null,null,null,null,{"$f":"#REF!","v":{"$error":"#REF!"}}]
["Sch XVIII","Outward R/I Secure Agg Limits",null,"Outwards R/I - 20",null,null,null,null,{"$f":"'Schedule XVIII'!G34","v":0},null,null,null,null,null,null,null,null,null,null,null,null,null,null,null,null,null,null,{"$f":"#REF!","v":{"$error":"#REF!"}}]
["Sch XVIII","Outward R/I Secure Agg Limits",null,"Outwards R/I - 21",null,null,null,null,{"$f":"'Schedule XVIII'!G35","v":0},null,null,null,null,null,null,null,null,null,null,null,null,null,null,null,null,null,null,{"$f":"#REF!","v":{"$error":"#REF!"}}]
["Sch XVIII","Outward R/I Secure Agg Limits",null,"Outwards R/I - 22",null,null,null,null,{"$f":"'Schedule XVIII'!G36","v":0},null,null,null,null,null,null,null,null,null,null,null,null,null,null,null,null,null,null,{"$f":"#REF!","v":{"$error":"#REF!"}}]
["Sch XVIII","Outward R/I Secure Agg Limits",null,"Outwards R/I - 23",null,null,null,null,{"$f":"'Schedule XVIII'!G37","v":0},null,null,null,null,null,null,null,null,null,null,null,null,null,null,null,null,null,null,{"$f":"#REF!","v":{"$error":"#REF!"}}]
["Sch XVIII","Outward R/I Secure Agg Limits",null,"Outwards R/I - 24",null,null,null,null,{"$f":"'Schedule XVIII'!G38","v":0},null,null,null,null,null,null,null,null,null,null,null,null,null,null,null,null,null,null,{"$f":"#REF!","v":{"$error":"#REF!"}}]
["Sch XVIII","Outward R/I Secure Agg Limits",null,"Outwards R/I - 25",null,null,null,null,{"$f":"'Schedule XVIII'!G39","v":0},null,null,null,null,null,null,null,null,null,null,null,null,null,null,null,null,null,null,{"$f":"#REF!","v":{"$error":"#REF!"}}]
["Sch XVIII","Outward R/I Secure Agg Limits",null,"Outwards R/I - 26",null,null,null,null,{"$f":"'Schedule XVIII'!G40","v":0},null,null,null,null,null,null,null,null,null,null,null,null,null,null,null,null,null,null,{"$f":"#REF!","v":{"$error":"#REF!"}}]
["Sch XVIII","Outward R/I Secure Agg Limits",null,"Outwards R/I - 27",null,null,null,null,{"$f":"'Schedule XVIII'!G41","v":0},null,null,null,null,null,null,null,null,null,null,null,null,null,null,null,null,null,null,{"$f":"#REF!","v":{"$error":"#REF!"}}]
["Sch XVIII","Outward R/I Secure Agg Limits",null,"Outwards R/I - 28",null,null,null,null,{"$f":"'Schedule XVIII'!G42","v":0},null,null,null,null,null,null,null,null,null,null,null,null,null,null,null,null,null,null,{"$f":"#REF!","v":{"$error":"#REF!"}}]
["Sch XVIII","Outward R/I Secure Agg Limits",null,"Outwards R/I - 29",null,null,null,null,{"$f":"'Schedule XVIII'!G43","v":0},null,null,null,null,null,null,null,null,null,null,null,null,null,null,null,null,null,null,{"$f":"#REF!","v":{"$error":"#REF!"}}]
["Sch XVIII","Outward R/I Secure Agg Limits",null,"Outwards R/I - 30",null,null,null,null,{"$f":"'Schedule XVIII'!G44","v":0},null,null,null,null,null,null,null,null,null,null,null,null,null,null,null,null,null,null,{"$f":"#REF!","v":{"$error":"#REF!"}}]
["Sch XVIII","Outward R/I Secure Agg Limits",null,"Outwards R/I Total ",null,null,null,null,{"$f":"'Schedule XVIII'!G55","v":0},null,null,null,null,null,null,null,null,null,null,null,null,null,null,null,null,null,null,{"$f":"#REF!","v":{"$error":"#REF!"}}]
["Sch XVIII","Outward R/I Secure Agg Limits",null,"Collateral - Cash and Cash Equivalents - 1",null,null,null,null,{"$f":"'Schedule XVIII'!I15","v":0},null,null,null,null,null,null,null,null,null,null,null,null,null,null,null,null,null,null,{"$f":"#REF!","v":{"$error":"#REF!"}}]
["Sch XVIII","Outward R/I Secure Agg Limits",null,"Collateral - Cash and Cash Equivalents - 2",null,null,null,null,{"$f":"'Schedule XVIII'!I16","v":0},null,null,null,null,null,null,null,null,null,null,null,null,null,null,null,null,null,null,{"$f":"#REF!","v":{"$error":"#REF!"}}]
["Sch XVIII","Outward R/I Secure Agg Limits",null,"Collateral - Cash and Cash Equivalents - 3",null,null,null,null,{"$f":"'Schedule XVIII'!I17","v":0},null,null,null,null,null,null,null,null,null,null,null,null,null,null,null,null,null,null,{"$f":"#REF!","v":{"$error":"#REF!"}}]
["Sch XVIII","Outward R/I Secure Agg Limits",null,"Collateral - Cash and Cash Equivalents - 4",null,null,null,null,{"$f":"'Schedule XVIII'!I18","v":0},null,null,null,null,null,null,null,null,null,null,null,null,null,null,null,null,null,null,{"$f":"#REF!","v":{"$error":"#REF!"}}]
["Sch XVIII","Outward R/I Secure Agg Limits",null,"Collateral - Cash and Cash Equivalents - 5",null,null,null,null,{"$f":"'Schedule XVIII'!I19","v":0},null,null,null,null,null,null,null,null,null,null,null,null,null,null,null,null,null,null,{"$f":"#REF!","v":{"$error":"#REF!"}}]
["Sch XVIII","Outward R/I Secure Agg Limits",null,"Collateral - Cash and Cash Equivalents - 6",null,null,null,null,{"$f":"'Schedule XVIII'!I20","v":0},null,null,null,null,null,null,null,null,null,null,null,null,null,null,null,null,null,null,{"$f":"#REF!","v":{"$error":"#REF!"}}]
["Sch XVIII","Outward R/I Secure Agg Limits",null,"Collateral - Cash and Cash Equivalents - 7",null,null,null,null,{"$f":"'Schedule XVIII'!I21","v":0},null,null,null,null,null,null,null,null,null,null,null,null,null,null,null,null,null,null,{"$f":"#REF!","v":{"$error":"#REF!"}}]
["Sch XVIII","Outward R/I Secure Agg Limits",null,"Collateral - Cash and Cash Equivalents - 8",null,null,null,null,{"$f":"'Schedule XVIII'!I22","v":0},null,null,null,null,null,null,null,null,null,null,null,null,null,null,null,null,null,null,{"$f":"#REF!","v":{"$error":"#REF!"}}]
["Sch XVIII","Outward R/I Secure Agg Limits",null,"Collateral - Cash and Cash Equivalents - 9",null,null,null,null,{"$f":"'Schedule XVIII'!I23","v":0},null,null,null,null,null,null,null,null,null,null,null,null,null,null,null,null,null,null,{"$f":"#REF!","v":{"$error":"#REF!"}}]
["Sch XVIII","Outward R/I Secure Agg Limits",null,"Collateral - Cash and Cash Equivalents - 10",null,null,null,null,{"$f":"'Schedule XVIII'!I24","v":0},null,null,null,null,null,null,null,null,null,null,null,null,null,null,null,null,null,null,{"$f":"#REF!","v":{"$error":"#REF!"}}]
["Sch XVIII","Outward R/I Secure Agg Limits",null,"Collateral - Cash and Cash Equivalents - 11",null,null,null,null,{"$f":"'Schedule XVIII'!I25","v":0},null,null,null,null,null,null,null,null,null,null,null,null,null,null,null,null,null,null,{"$f":"#REF!","v":{"$error":"#REF!"}}]
["Sch XVIII","Outward R/I Secure Agg Limits",null,"Collateral - Cash and Cash Equivalents - 12",null,null,null,null,{"$f":"'Schedule XVIII'!I26","v":0},null,null,null,null,null,null,null,null,null,null,null,null,null,null,null,null,null,null,{"$f":"#REF!","v":{"$error":"#REF!"}}]
["Sch XVIII","Outward R/I Secure Agg Limits",null,"Collateral - Cash and Cash Equivalents - 13",null,null,null,null,{"$f":"'Schedule XVIII'!I27","v":0},null,null,null,null,null,null,null,null,null,null,null,null,null,null,null,null,null,null,{"$f":"#REF!","v":{"$error":"#REF!"}}]
["Sch XVIII","Outward R/I Secure Agg Limits",null,"Collateral - Cash and Cash Equivalents - 14",null,null,null,null,{"$f":"'Schedule XVIII'!I28","v":0},null,null,null,null,null,null,null,null,null,null,null,null,null,null,null,null,null,null,{"$f":"#REF!","v":{"$error":"#REF!"}}]
["Sch XVIII","Outward R/I Secure Agg Limits",null,"Collateral - Cash and Cash Equivalents - 15",null,null,null,null,{"$f":"'Schedule XVIII'!I29","v":0},null,null,null,null,null,null,null,null,null,null,null,null,null,null,null,null,null,null,{"$f":"#REF!","v":{"$error":"#REF!"}}]
["Sch XVIII","Outward R/I Secure Agg Limits",null,"Collateral - Cash and Cash Equivalents - 16",null,null,null,null,{"$f":"'Schedule XVIII'!I30","v":0},null,null,null,null,null,null,null,null,null,null,null,null,null,null,null,null,null,null,{"$f":"#REF!","v":{"$error":"#REF!"}}]
["Sch XVIII","Outward R/I Secure Agg Limits",null,"Collateral - Cash and Cash Equivalents - 17",null,null,null,null,{"$f":"'Schedule XVIII'!I31","v":0},null,null,null,null,null,null,null,null,null,null,null,null,null,null,null,null,null,null,{"$f":"#REF!","v":{"$error":"#REF!"}}]
["Sch XVIII","Outward R/I Secure Agg Limits",null,"Collateral - Cash and Cash Equivalents - 18",null,null,null,null,{"$f":"'Schedule XVIII'!I32","v":0},null,null,null,null,null,null,null,null,null,null,null,null,null,null,null,null,null,null,{"$f":"#REF!","v":{"$error":"#REF!"}}]
["Sch XVIII","Outward R/I Secure Agg Limits",null,"Collateral - Cash and Cash Equivalents - 19",null,null,null,null,{"$f":"'Schedule XVIII'!I33","v":0},null,null,null,null,null,null,null,null,null,null,null,null,null,null,null,null,null,null,{"$f":"#REF!","v":{"$error":"#REF!"}}]
["Sch XVIII","Outward R/I Secure Agg Limits",null,"Collateral - Cash and Cash Equivalents - 20",null,null,null,null,{"$f":"'Schedule XVIII'!I34","v":0},null,null,null,null,null,null,null,null,null,null,null,null,null,null,null,null,null,null,{"$f":"#REF!","v":{"$error":"#REF!"}}]
["Sch XVIII","Outward R/I Secure Agg Limits",null,"Collateral - Cash and Cash Equivalents - 21",null,null,null,null,{"$f":"'Schedule XVIII'!I35","v":0},null,null,null,null,null,null,null,null,null,null,null,null,null,null,null,null,null,null,{"$f":"#REF!","v":{"$error":"#REF!"}}]
["Sch XVIII","Outward R/I Secure Agg Limits",null,"Collateral - Cash and Cash Equivalents - 22",null,null,null,null,{"$f":"'Schedule XVIII'!I36","v":0},null,null,null,null,null,null,null,null,null,null,null,null,null,null,null,null,null,null,{"$f":"#REF!","v":{"$error":"#REF!"}}]
["Sch XVIII","Outward R/I Secure Agg Limits",null,"Collateral - Cash and Cash Equivalents - 23",null,null,null,null,{"$f":"'Schedule XVIII'!I37","v":0},null,null,null,null,null,null,null,null,null,null,null,null,null,null,null,null,null,null,{"$f":"#REF!","v":{"$error":"#REF!"}}]
["Sch XVIII","Outward R/I Secure Agg Limits",null,"Collateral - Cash and Cash Equivalents - 24",null,null,null,null,{"$f":"'Schedule XVIII'!I38","v":0},null,null,null,null,null,null,null,null,null,null,null,null,null,null,null,null,null,null,{"$f":"#REF!","v":{"$error":"#REF!"}}]
["Sch XVIII","Outward R/I Secure Agg Limits",null,"Collateral - Cash and Cash Equivalents - 25",null,null,null,null,{"$f":"'Schedule XVIII'!I39","v":0},null,null,null,null,null,null,null,null,null,null,null,null,null,null,null,null,null,null,{"$f":"#REF!","v":{"$error":"#REF!"}}]
["Sch XVIII","Outward R/I Secure Agg Limits",null,"Collateral - Cash and Cash Equivalents - 26",null,null,null,null,{"$f":"'Schedule XVIII'!I40","v":0},null,null,null,null,null,null,null,null,null,null,null,null,null,null,null,null,null,null,{"$f":"#REF!","v":{"$error":"#REF!"}}]
["Sch XVIII","Outward R/I Secure Agg Limits",null,"Collateral - Cash and Cash Equivalents - 27",null,null,null,null,{"$f":"'Schedule XVIII'!I41","v":0},null,null,null,null,null,null,null,null,null,null,null,null,null,null,null,null,null,null,{"$f":"#REF!","v":{"$error":"#REF!"}}]
["Sch XVIII","Outward R/I Secure Agg Limits",null,"Collateral - Cash and Cash Equivalents - 28",null,null,null,null,{"$f":"'Schedule XVIII'!I42","v":0},null,null,null,null,null,null,null,null,null,null,null,null,null,null,null,null,null,null,{"$f":"#REF!","v":{"$error":"#REF!"}}]
["Sch XVIII","Outward R/I Secure Agg Limits",null,"Collateral - Cash and Cash Equivalents - 29",null,null,null,null,{"$f":"'Schedule XVIII'!I43","v":0},null,null,null,null,null,null,null,null,null,null,null,null,null,null,null,null,null,null,{"$f":"#REF!","v":{"$error":"#REF!"}}]
["Sch XVIII","Outward R/I Secure Agg Limits",null,"Collateral - Cash and Cash Equivalents - 30",null,null,null,null,{"$f":"'Schedule XVIII'!I44","v":0},null,null,null,null,null,null,null,null,null,null,null,null,null,null,null,null,null,null,{"$f":"#REF!","v":{"$error":"#REF!"}}]
["Sch XVIII","Outward R/I Secure Agg Limits",null,"Collateral - Cash and Cash Equivalents - Total",null,null,null,null,{"$f":"'Schedule XVIII'!I55","v":0},null,null,null,null,null,null,null,null,null,null,null,null,null,null,null,null,null,null,{"$f":"#REF!","v":{"$error":"#REF!"}}]
["Sch XVIII","Outward R/I Secure Agg Limits",null,"Collateral - Other Assets - 1",null,null,null,null,{"$f":"'Schedule XVIII'!J15","v":0},null,null,null,null,null,null,null,null,null,null,null,null,null,null,null,null,null,null,{"$f":"#REF!","v":{"$error":"#REF!"}}]
["Sch XVIII","Outward R/I Secure Agg Limits",null,"Collateral - Other Assets - 2",null,null,null,null,{"$f":"'Schedule XVIII'!J16","v":0},null,null,null,null,null,null,null,null,null,null,null,null,null,null,null,null,null,null,{"$f":"#REF!","v":{"$error":"#REF!"}}]
["Sch XVIII","Outward R/I Secure Agg Limits",null,"Collateral - Other Assets - 3",null,null,null,null,{"$f":"'Schedule XVIII'!J17","v":0},null,null,null,null,null,null,null,null,null,null,null,null,null,null,null,null,null,null,{"$f":"#REF!","v":{"$error":"#REF!"}}]
["Sch XVIII","Outward R/I Secure Agg Limits",null,"Collateral - Other Assets - 4",null,null,null,null,{"$f":"'Schedule XVIII'!J18","v":0},null,null,null,null,null,null,null,null,null,null,null,null,null,null,null,null,null,null,{"$f":"#REF!","v":{"$error":"#REF!"}}]
["Sch XVIII","Outward R/I Secure Agg Limits",null,"Collateral - Other Assets - 5",null,null,null,null,{"$f":"'Schedule XVIII'!J19","v":0},null,null,null,null,null,null,null,null,null,null,null,null,null,null,null,null,null,null,{"$f":"#REF!","v":{"$error":"#REF!"}}]
["Sch XVIII","Outward R/I Secure Agg Limits",null,"Collateral - Other Assets - 6",null,null,null,null,{"$f":"'Schedule XVIII'!J20","v":0},null,null,null,null,null,null,null,null,null,null,null,null,null,null,null,null,null,null,{"$f":"#REF!","v":{"$error":"#REF!"}}]
["Sch XVIII","Outward R/I Secure Agg Limits",null,"Collateral - Other Assets - 7",null,null,null,null,{"$f":"'Schedule XVIII'!J21","v":0},null,null,null,null,null,null,null,null,null,null,null,null,null,null,null,null,null,null,{"$f":"#REF!","v":{"$error":"#REF!"}}]
["Sch XVIII","Outward R/I Secure Agg Limits",null,"Collateral - Other Assets - 8",null,null,null,null,{"$f":"'Schedule XVIII'!J22","v":0},null,null,null,null,null,null,null,null,null,null,null,null,null,null,null,null,null,null,{"$f":"#REF!","v":{"$error":"#REF!"}}]
["Sch XVIII","Outward R/I Secure Agg Limits",null,"Collateral - Other Assets - 9",null,null,null,null,{"$f":"'Schedule XVIII'!J23","v":0},null,null,null,null,null,null,null,null,null,null,null,null,null,null,null,null,null,null,{"$f":"#REF!","v":{"$error":"#REF!"}}]
["Sch XVIII","Outward R/I Secure Agg Limits",null,"Collateral - Other Assets - 10",null,null,null,null,{"$f":"'Schedule XVIII'!J24","v":0},null,null,null,null,null,null,null,null,null,null,null,null,null,null,null,null,null,null,{"$f":"#REF!","v":{"$error":"#REF!"}}]
["Sch XVIII","Outward R/I Secure Agg Limits",null,"Collateral - Other Assets - 11",null,null,null,null,{"$f":"'Schedule XVIII'!J25","v":0},null,null,null,null,null,null,null,null,null,null,null,null,null,null,null,null,null,null,{"$f":"#REF!","v":{"$error":"#REF!"}}]
["Sch XVIII","Outward R/I Secure Agg Limits",null,"Collateral - Other Assets - 12",null,null,null,null,{"$f":"'Schedule XVIII'!J26","v":0},null,null,null,null,null,null,null,null,null,null,null,null,null,null,null,null,null,null,{"$f":"#REF!","v":{"$error":"#REF!"}}]
["Sch XVIII","Outward R/I Secure Agg Limits",null,"Collateral - Other Assets - 13",null,null,null,null,{"$f":"'Schedule XVIII'!J27","v":0},null,null,null,null,null,null,null,null,null,null,null,null,null,null,null,null,null,null,{"$f":"#REF!","v":{"$error":"#REF!"}}]
["Sch XVIII","Outward R/I Secure Agg Limits",null,"Collateral - Other Assets - 14",null,null,null,null,{"$f":"'Schedule XVIII'!J28","v":0},null,null,null,null,null,null,null,null,null,null,null,null,null,null,null,null,null,null,{"$f":"#REF!","v":{"$error":"#REF!"}}]
["Sch XVIII","Outward R/I Secure Agg Limits",null,"Collateral - Other Assets - 15",null,null,null,null,{"$f":"'Schedule XVIII'!J29","v":0},null,null,null,null,null,null,null,null,null,null,null,null,null,null,null,null,null,null,{"$f":"#REF!","v":{"$error":"#REF!"}}]
["Sch XVIII","Outward R/I Secure Agg Limits",null,"Collateral - Other Assets - 16",null,null,null,null,{"$f":"'Schedule XVIII'!J30","v":0},null,null,null,null,null,null,null,null,null,null,null,null,null,null,null,null,null,null,{"$f":"#REF!","v":{"$error":"#REF!"}}]
["Sch XVIII","Outward R/I Secure Agg Limits",null,"Collateral - Other Assets - 17",null,null,null,null,{"$f":"'Schedule XVIII'!J31","v":0},null,null,null,null,null,null,null,null,null,null,null,null,null,null,null,null,null,null,{"$f":"#REF!","v":{"$error":"#REF!"}}]
["Sch XVIII","Outward R/I Secure Agg Limits",null,"Collateral - Other Assets - 18",null,null,null,null,{"$f":"'Schedule XVIII'!J32","v":0},null,null,null,null,null,null,null,null,null,null,null,null,null,null,null,null,null,null,{"$f":"#REF!","v":{"$error":"#REF!"}}]
["Sch XVIII","Outward R/I Secure Agg Limits",null,"Collateral - Other Assets - 19",null,null,null,null,{"$f":"'Schedule XVIII'!J33","v":0},null,null,null,null,null,null,null,null,null,null,null,null,null,null,null,null,null,null,{"$f":"#REF!","v":{"$error":"#REF!"}}]
["Sch XVIII","Outward R/I Secure Agg Limits",null,"Collateral - Other Assets - 20",null,null,null,null,{"$f":"'Schedule XVIII'!J34","v":0},null,null,null,null,null,null,null,null,null,null,null,null,null,null,null,null,null,null,{"$f":"#REF!","v":{"$error":"#REF!"}}]
["Sch XVIII","Outward R/I Secure Agg Limits",null,"Collateral - Other Assets - 21",null,null,null,null,{"$f":"'Schedule XVIII'!J35","v":0},null,null,null,null,null,null,null,null,null,null,null,null,null,null,null,null,null,null,{"$f":"#REF!","v":{"$error":"#REF!"}}]
["Sch XVIII","Outward R/I Secure Agg Limits",null,"Collateral - Other Assets - 22",null,null,null,null,{"$f":"'Schedule XVIII'!J36","v":0},null,null,null,null,null,null,null,null,null,null,null,null,null,null,null,null,null,null,{"$f":"#REF!","v":{"$error":"#REF!"}}]
["Sch XVIII","Outward R/I Secure Agg Limits",null,"Collateral - Other Assets - 23",null,null,null,null,{"$f":"'Schedule XVIII'!J37","v":0},null,null,null,null,null,null,null,null,null,null,null,null,null,null,null,null,null,null,{"$f":"#REF!","v":{"$error":"#REF!"}}]
["Sch XVIII","Outward R/I Secure Agg Limits",null,"Collateral - Other Assets - 24",null,null,null,null,{"$f":"'Schedule XVIII'!J38","v":0},null,null,null,null,null,null,null,null,null,null,null,null,null,null,null,null,null,null,{"$f":"#REF!","v":{"$error":"#REF!"}}]
["Sch XVIII","Outward R/I Secure Agg Limits",null,"Collateral - Other Assets - 25",null,null,null,null,{"$f":"'Schedule XVIII'!J39","v":0},null,null,null,null,null,null,null,null,null,null,null,null,null,null,null,null,null,null,{"$f":"#REF!","v":{"$error":"#REF!"}}]
["Sch XVIII","Outward R/I Secure Agg Limits",null,"Collateral - Other Assets - 26",null,null,null,null,{"$f":"'Schedule XVIII'!J40","v":0},null,null,null,null,null,null,null,null,null,null,null,null,null,null,null,null,null,null,{"$f":"#REF!","v":{"$error":"#REF!"}}]
["Sch XVIII","Outward R/I Secure Agg Limits",null,"Collateral - Other Assets - 27",null,null,null,null,{"$f":"'Schedule XVIII'!J41","v":0},null,null,null,null,null,null,null,null,null,null,null,null,null,null,null,null,null,null,{"$f":"#REF!","v":{"$error":"#REF!"}}]
["Sch XVIII","Outward R/I Secure Agg Limits",null,"Collateral - Other Assets - 28",null,null,null,null,{"$f":"'Schedule XVIII'!J42","v":0},null,null,null,null,null,null,null,null,null,null,null,null,null,null,null,null,null,null,{"$f":"#REF!","v":{"$error":"#REF!"}}]
["Sch XVIII","Outward R/I Secure Agg Limits",null,"Collateral - Other Assets - 29",null,null,null,null,{"$f":"'Schedule XVIII'!J43","v":0},null,null,null,null,null,null,null,null,null,null,null,null,null,null,null,null,null,null,{"$f":"#REF!","v":{"$error":"#REF!"}}]
["Sch XVIII","Outward R/I Secure Agg Limits",null,"Collateral - Other Assets - 30",null,null,null,null,{"$f":"'Schedule XVIII'!J44","v":0},null,null,null,null,null,null,null,null,null,null,null,null,null,null,null,null,null,null,{"$f":"#REF!","v":{"$error":"#REF!"}}]
["Sch XVIII","Outward R/I Secure Agg Limits",null,"Collateral - Other Assets - Total",null,null,null,null,{"$f":"'Schedule XVIII'!J55","v":0},null,null,null,null,null,null,null,null,null,null,null,null,null,null,null,null,null,null,{"$f":"#REF!","v":{"$error":"#REF!"}}]
["Sch XVIII","Outward R/I Secure Agg Limits",null,"R/I Assets - Exposure by BSCR Rate 0",null,null,null,null,{"$f":"'Schedule XVIII'!G60","v":0},null,null,null,null,null,null,null,null,null,null,null,null,null,null,null,null,null,null,{"$f":"#REF!","v":{"$error":"#REF!"}}]
["Sch XVIII","Outward R/I Secure Agg Limits",null,"R/I Assets - Exposure by BSCR Rate 1",null,null,null,null,{"$f":"'Schedule XVIII'!G61","v":0},null,null,null,null,null,null,null,null,null,null,null,null,null,null,null,null,null,null,{"$f":"#REF!","v":{"$error":"#REF!"}}]
["Sch XVIII","Outward R/I Secure Agg Limits",null,"R/I Assets - Exposure by BSCR Rate 2",null,null,null,null,{"$f":"'Schedule XVIII'!G62","v":0},null,null,null,null,null,null,null,null,null,null,null,null,null,null,null,null,null,null,{"$f":"#REF!","v":{"$error":"#REF!"}}]
["Sch XVIII","Outward R/I Secure Agg Limits",null,"R/I Assets - Exposure by BSCR Rate 3",null,null,null,null,{"$f":"'Schedule XVIII'!G63","v":0},null,null,null,null,null,null,null,null,null,null,null,null,null,null,null,null,null,null,{"$f":"#REF!","v":{"$error":"#REF!"}}]
["Sch XVIII","Outward R/I Secure Agg Limits",null,"R/I Assets - Exposure by BSCR Rate 4",null,null,null,null,{"$f":"'Schedule XVIII'!G64","v":0},null,null,null,null,null,null,null,null,null,null,null,null,null,null,null,null,null,null,{"$f":"#REF!","v":{"$error":"#REF!"}}]
["Sch XVIII","Outward R/I Secure Agg Limits",null,"R/I Assets - Exposure by BSCR Rate 5",null,null,null,null,{"$f":"'Schedule XVIII'!G65","v":0},null,null,null,null,null,null,null,null,null,null,null,null,null,null,null,null,null,null,{"$f":"#REF!","v":{"$error":"#REF!"}}]
["Sch XVIII","Outward R/I Secure Agg Limits",null,"R/I Assets - Exposure by BSCR Rate 6",null,null,null,null,{"$f":"'Schedule XVIII'!G66","v":0},null,null,null,null,null,null,null,null,null,null,null,null,null,null,null,null,null,null,{"$f":"#REF!","v":{"$error":"#REF!"}}]
["Sch XVIII","Outward R/I Secure Agg Limits",null,"R/I Assets - Exposure by BSCR Rate 7",null,null,null,null,{"$f":"'Schedule XVIII'!G67","v":0},null,null,null,null,null,null,null,null,null,null,null,null,null,null,null,null,null,null,{"$f":"#REF!","v":{"$error":"#REF!"}}]
["Sch XVIII","Outward R/I Secure Agg Limits",null,"R/I Assets - Exposure by BSCR Rate 8",null,null,null,null,{"$f":"'Schedule XVIII'!G68","v":0},null,null,null,null,null,null,null,null,null,null,null,null,null,null,null,null,null,null,{"$f":"#REF!","v":{"$error":"#REF!"}}]
["Sch XVIII","Outward R/I Secure Agg Limits",null,"R/I Assets - Exposure Total",null,null,null,null,{"$f":"'Schedule XVIII'!G69","v":0},null,null,null,null,null,null,null,null,null,null,null,null,null,null,null,null,null,null,{"$f":"#REF!","v":{"$error":"#REF!"}}]
["Sch XVIII","Outward R/I Secure Agg Limits",null,"R/I Assets - Single Cons. Exp.",null,null,null,null,{"$f":"'Schedule XVIII'!G71","v":{"$error":"#REF!"}},null,null,null,null,null,null,null,null,null,null,null,null,null,null,null,null,null,null,{"$f":"#REF!","v":{"$error":"#REF!"}}]
["Sch XVIII","Outward R/I Secure Agg Limits",null,"R/I Payable - Exposure by BSCR Rate 0",null,null,null,null,{"$f":"'Schedule XVIII'!I60","v":0},null,null,null,null,null,null,null,null,null,null,null,null,null,null,null,null,null,null,{"$f":"#REF!","v":{"$error":"#REF!"}}]
["Sch XVIII","Outward R/I Secure Agg Limits",null,"R/I Payable - Exposure by BSCR Rate 1",null,null,null,null,{"$f":"'Schedule XVIII'!I61","v":0},null,null,null,null,null,null,null,null,null,null,null,null,null,null,null,null,null,null,{"$f":"#REF!","v":{"$error":"#REF!"}}]
["Sch XVIII","Outward R/I Secure Agg Limits",null,"R/I Payable - Exposure by BSCR Rate 2",null,null,null,null,{"$f":"'Schedule XVIII'!I62","v":0},null,null,null,null,null,null,null,null,null,null,null,null,null,null,null,null,null,null,{"$f":"#REF!","v":{"$error":"#REF!"}}]
["Sch XVIII","Outward R/I Secure Agg Limits",null,"R/I Payable - Exposure by BSCR Rate 3",null,null,null,null,{"$f":"'Schedule XVIII'!I63","v":0},null,null,null,null,null,null,null,null,null,null,null,null,null,null,null,null,null,null,{"$f":"#REF!","v":{"$error":"#REF!"}}]
["Sch XVIII","Outward R/I Secure Agg Limits",null,"R/I Payable - Exposure by BSCR Rate 4",null,null,null,null,{"$f":"'Schedule XVIII'!I64","v":0},null,null,null,null,null,null,null,null,null,null,null,null,null,null,null,null,null,null,{"$f":"#REF!","v":{"$error":"#REF!"}}]
["Sch XVIII","Outward R/I Secure Agg Limits",null,"R/I Payable - Exposure by BSCR Rate 5",null,null,null,null,{"$f":"'Schedule XVIII'!I65","v":0},null,null,null,null,null,null,null,null,null,null,null,null,null,null,null,null,null,null,{"$f":"#REF!","v":{"$error":"#REF!"}}]
["Sch XVIII","Outward R/I Secure Agg Limits",null,"R/I Payable - Exposure by BSCR Rate 6",null,null,null,null,{"$f":"'Schedule XVIII'!I66","v":0},null,null,null,null,null,null,null,null,null,null,null,null,null,null,null,null,null,null,{"$f":"#REF!","v":{"$error":"#REF!"}}]
["Sch XVIII","Outward R/I Secure Agg Limits",null,"R/I Payable - Exposure by BSCR Rate 7",null,null,null,null,{"$f":"'Schedule XVIII'!I67","v":0},null,null,null,null,null,null,null,null,null,null,null,null,null,null,null,null,null,null,{"$f":"#REF!","v":{"$error":"#REF!"}}]
["Sch XVIII","Outward R/I Secure Agg Limits",null,"R/I Payable - Exposure by BSCR Rate 8",null,null,null,null,{"$f":"'Schedule XVIII'!I68","v":0},null,null,null,null,null,null,null,null,null,null,null,null,null,null,null,null,null,null,{"$f":"#REF!","v":{"$error":"#REF!"}}]
["Sch XVIII","Outward R/I Secure Agg Limits",null,"R/I Payable - Exposure Total",null,null,null,null,{"$f":"'Schedule XVIII'!I69","v":0},null,null,null,null,null,null,null,null,null,null,null,null,null,null,null,null,null,null,{"$f":"#REF!","v":{"$error":"#REF!"}}]
["Sch XVIII","Outward R/I Secure Agg Limits",null,"R/I Payable - Single Cons. Exp.",null,null,null,null,{"$f":"'Schedule XVIII'!I71","v":0},null,null,null,null,null,null,null,null,null,null,null,null,null,null,null,null,null,null,{"$f":"#REF!","v":{"$error":"#REF!"}}]
["Sch XVIII","Outward R/I Secure Agg Limits",null,"Collateral - Exposure by BSCR Rate 0",null,null,null,null,{"$f":"'Schedule XVIII'!J60","v":0},null,null,null,null,null,null,null,null,null,null,null,null,null,null,null,null,null,null,{"$f":"#REF!","v":{"$error":"#REF!"}}]
["Sch XVIII","Outward R/I Secure Agg Limits",null,"Collateral - Exposure by BSCR Rate 1",null,null,null,null,{"$f":"'Schedule XVIII'!J61","v":0},null,null,null,null,null,null,null,null,null,null,null,null,null,null,null,null,null,null,{"$f":"#REF!","v":{"$error":"#REF!"}}]
["Sch XVIII","Outward R/I Secure Agg Limits",null,"Collateral - Exposure by BSCR Rate 2",null,null,null,null,{"$f":"'Schedule XVIII'!J62","v":0},null,null,null,null,null,null,null,null,null,null,null,null,null,null,null,null,null,null,{"$f":"#REF!","v":{"$error":"#REF!"}}]
["Sch XVIII","Outward R/I Secure Agg Limits",null,"Collateral - Exposure by BSCR Rate 3",null,null,null,null,{"$f":"'Schedule XVIII'!J63","v":0},null,null,null,null,null,null,null,null,null,null,null,null,null,null,null,null,null,null,{"$f":"#REF!","v":{"$error":"#REF!"}}]
["Sch XVIII","Outward R/I Secure Agg Limits",null,"Collateral - Exposure by BSCR Rate 4",null,null,null,null,{"$f":"'Schedule XVIII'!J64","v":0},null,null,null,null,null,null,null,null,null,null,null,null,null,null,null,null,null,null,{"$f":"#REF!","v":{"$error":"#REF!"}}]
["Sch XVIII","Outward R/I Secure Agg Limits",null,"Collateral - Exposure by BSCR Rate 5",null,null,null,null,{"$f":"'Schedule XVIII'!J65","v":0},null,null,null,null,null,null,null,null,null,null,null,null,null,null,null,null,null,null,{"$f":"#REF!","v":{"$error":"#REF!"}}]
["Sch XVIII","Outward R/I Secure Agg Limits",null,"Collateral - Exposure by BSCR Rate 6",null,null,null,null,{"$f":"'Schedule XVIII'!J66","v":0},null,null,null,null,null,null,null,null,null,null,null,null,null,null,null,null,null,null,{"$f":"#REF!","v":{"$error":"#REF!"}}]
["Sch XVIII","Outward R/I Secure Agg Limits",null,"Collateral - Exposure by BSCR Rate 7",null,null,null,null,{"$f":"'Schedule XVIII'!J67","v":0},null,null,null,null,null,null,null,null,null,null,null,null,null,null,null,null,null,null,{"$f":"#REF!","v":{"$error":"#REF!"}}]
["Sch XVIII","Outward R/I Secure Agg Limits",null,"Collateral - Exposure by BSCR Rate 8",null,null,null,null,{"$f":"'Schedule XVIII'!J68","v":0},null,null,null,null,null,null,null,null,null,null,null,null,null,null,null,null,null,null,{"$f":"#REF!","v":{"$error":"#REF!"}}]
["Sch XVIII","Outward R/I Secure Agg Limits",null,"Collateral - Exposure Total",null,null,null,null,{"$f":"'Schedule XVIII'!J69","v":0},null,null,null,null,null,null,null,null,null,null,null,null,null,null,null,null,null,null,{"$f":"#REF!","v":{"$error":"#REF!"}}]
["Sch XVIII","Outward R/I Not Securing Agg Limits",null,"# of Outward Reinsurers",null,null,null,null,{"$f":"'Schedule XVIII'!E87","v":0}]
["Sch XVIII","Outward R/I Not Securing Agg Limits",null,"Reinsurer Name - 1",null,null,null,null,{"$f":"'Schedule XVIII'!C91","v":0}]
["Sch XVIII","Outward R/I Not Securing Agg Limits",null,"Reinsurer Name - 2",null,null,null,null,{"$f":"'Schedule XVIII'!C92","v":0}]
["Sch XVIII","Outward R/I Not Securing Agg Limits",null,"Reinsurer Name - 3",null,null,null,null,{"$f":"'Schedule XVIII'!C93","v":0}]
["Sch XVIII","Outward R/I Not Securing Agg Limits",null,"Reinsurer Name - 4",null,null,null,null,{"$f":"'Schedule XVIII'!C94","v":0}]
["Sch XVIII","Outward R/I Not Securing Agg Limits",null,"Reinsurer Name - 5",null,null,null,null,{"$f":"'Schedule XVIII'!C95","v":0}]
["Sch XVIII","Outward R/I Not Securing Agg Limits",null,"Reinsurer Name - 6",null,null,null,null,{"$f":"'Schedule XVIII'!C96","v":0}]
["Sch XVIII","Outward R/I Not Securing Agg Limits",null,"Reinsurer Name - 7",null,null,null,null,{"$f":"'Schedule XVIII'!C97","v":0}]
["Sch XVIII","Outward R/I Not Securing Agg Limits",null,"Reinsurer Name - 8",null,null,null,null,{"$f":"'Schedule XVIII'!C98","v":0}]
["Sch XVIII","Outward R/I Not Securing Agg Limits",null,"Reinsurer Name - 9",null,null,null,null,{"$f":"'Schedule XVIII'!C99","v":0}]
["Sch XVIII","Outward R/I Not Securing Agg Limits",null,"Reinsurer Name - 10",null,null,null,null,{"$f":"'Schedule XVIII'!C100","v":0}]
["Sch XVIII","Outward R/I Not Securing Agg Limits",null,"Reinsurer Name - 11",null,null,null,null,{"$f":"'Schedule XVIII'!C101","v":0}]
["Sch XVIII","Outward R/I Not Securing Agg Limits",null,"Reinsurer Name - 12",null,null,null,null,{"$f":"'Schedule XVIII'!C102","v":0}]
["Sch XVIII","Outward R/I Not Securing Agg Limits",null,"Reinsurer Name - 13",null,null,null,null,{"$f":"'Schedule XVIII'!C103","v":0}]
["Sch XVIII","Outward R/I Not Securing Agg Limits",null,"Reinsurer Name - 14",null,null,null,null,{"$f":"'Schedule XVIII'!C104","v":0}]
["Sch XVIII","Outward R/I Not Securing Agg Limits",null,"Reinsurer Name - 15",null,null,null,null,{"$f":"'Schedule XVIII'!C105","v":0}]
["Sch XVIII","Outward R/I Not Securing Agg Limits",null,"Reinsurer Name - 16",null,null,null,null,{"$f":"'Schedule XVIII'!C106","v":0}]
["Sch XVIII","Outward R/I Not Securing Agg Limits",null,"Reinsurer Name - 17",null,null,null,null,{"$f":"'Schedule XVIII'!C107","v":0}]
["Sch XVIII","Outward R/I Not Securing Agg Limits",null,"Reinsurer Name - 18",null,null,null,null,{"$f":"'Schedule XVIII'!C108","v":0}]
["Sch XVIII","Outward R/I Not Securing Agg Limits",null,"Reinsurer Name - 19",null,null,null,null,{"$f":"'Schedule XVIII'!C109","v":0}]
["Sch XVIII","Outward R/I Not Securing Agg Limits",null,"Reinsurer Name - 20",null,null,null,null,{"$f":"'Schedule XVIII'!C110","v":0}]
["Sch XVIII","Outward R/I Not Securing Agg Limits",null,"Reinsurer Name - 21",null,null,null,null,{"$f":"'Schedule XVIII'!C111","v":0}]
["Sch XVIII","Outward R/I Not Securing Agg Limits",null,"Reinsurer Name - 22",null,null,null,null,{"$f":"'Schedule XVIII'!C112","v":0}]
["Sch XVIII","Outward R/I Not Securing Agg Limits",null,"Reinsurer Name - 23",null,null,null,null,{"$f":"'Schedule XVIII'!C113","v":0}]
["Sch XVIII","Outward R/I Not Securing Agg Limits",null,"Reinsurer Name - 24",null,null,null,null,{"$f":"'Schedule XVIII'!C114","v":0}]
["Sch XVIII","Outward R/I Not Securing Agg Limits",null,"Reinsurer Name - 25",null,null,null,null,{"$f":"'Schedule XVIII'!C115","v":0}]
["Sch XVIII","Outward R/I Not Securing Agg Limits",null,"Reinsurer Name - 26",null,null,null,null,{"$f":"'Schedule XVIII'!C116","v":0}]
["Sch XVIII","Outward R/I Not Securing Agg Limits",null,"Reinsurer Name - 27",null,null,null,null,{"$f":"'Schedule XVIII'!C117","v":0}]
["Sch XVIII","Outward R/I Not Securing Agg Limits",null,"Reinsurer Name - 28",null,null,null,null,{"$f":"'Schedule XVIII'!C118","v":0}]
["Sch XVIII","Outward R/I Not Securing Agg Limits",null,"Reinsurer Name - 29",null,null,null,null,{"$f":"'Schedule XVIII'!C119","v":0}]
["Sch XVIII","Outward R/I Not Securing Agg Limits",null,"Reinsurer Name - 30",null,null,null,null,{"$f":"'Schedule XVIII'!C120","v":0}]
["Sch XVIII","Outward R/I Not Securing Agg Limits",null,"Reinsurer BSCR Rating - 1",null,null,null,null,{"$f":"'Schedule XVIII'!E91","v":"Select"}]
["Sch XVIII","Outward R/I Not Securing Agg Limits",null,"Reinsurer BSCR Rating - 2",null,null,null,null,{"$f":"'Schedule XVIII'!E92","v":"Select"}]
["Sch XVIII","Outward R/I Not Securing Agg Limits",null,"Reinsurer BSCR Rating - 3",null,null,null,null,{"$f":"'Schedule XVIII'!E93","v":"Select"}]
["Sch XVIII","Outward R/I Not Securing Agg Limits",null,"Reinsurer BSCR Rating - 4",null,null,null,null,{"$f":"'Schedule XVIII'!E94","v":"Select"}]
["Sch XVIII","Outward R/I Not Securing Agg Limits",null,"Reinsurer BSCR Rating - 5",null,null,null,null,{"$f":"'Schedule XVIII'!E95","v":"Select"}]
["Sch XVIII","Outward R/I Not Securing Agg Limits",null,"Reinsurer BSCR Rating - 6",null,null,null,null,{"$f":"'Schedule XVIII'!E96","v":"Select"}]
["Sch XVIII","Outward R/I Not Securing Agg Limits",null,"Reinsurer BSCR Rating - 7",null,null,null,null,{"$f":"'Schedule XVIII'!E97","v":"Select"}]
["Sch XVIII","Outward R/I Not Securing Agg Limits",null,"Reinsurer BSCR Rating - 8",null,null,null,null,{"$f":"'Schedule XVIII'!E98","v":"Select"}]
["Sch XVIII","Outward R/I Not Securing Agg Limits",null,"Reinsurer BSCR Rating - 9",null,null,null,null,{"$f":"'Schedule XVIII'!E99","v":"Select"}]
["Sch XVIII","Outward R/I Not Securing Agg Limits",null,"Reinsurer BSCR Rating - 10",null,null,null,null,{"$f":"'Schedule XVIII'!E100","v":"Select"}]
["Sch XVIII","Outward R/I Not Securing Agg Limits",null,"Reinsurer BSCR Rating - 11",null,null,null,null,{"$f":"'Schedule XVIII'!E101","v":"Select"}]
["Sch XVIII","Outward R/I Not Securing Agg Limits",null,"Reinsurer BSCR Rating - 12",null,null,null,null,{"$f":"'Schedule XVIII'!E102","v":"Select"}]
["Sch XVIII","Outward R/I Not Securing Agg Limits",null,"Reinsurer BSCR Rating - 13",null,null,null,null,{"$f":"'Schedule XVIII'!E103","v":"Select"}]
["Sch XVIII","Outward R/I Not Securing Agg Limits",null,"Reinsurer BSCR Rating - 14",null,null,null,null,{"$f":"'Schedule XVIII'!E104","v":"Select"}]
["Sch XVIII","Outward R/I Not Securing Agg Limits",null,"Reinsurer BSCR Rating - 15",null,null,null,null,{"$f":"'Schedule XVIII'!E105","v":"Select"}]
["Sch XVIII","Outward R/I Not Securing Agg Limits",null,"Reinsurer BSCR Rating - 16",null,null,null,null,{"$f":"'Schedule XVIII'!E106","v":"Select"}]
["Sch XVIII","Outward R/I Not Securing Agg Limits",null,"Reinsurer BSCR Rating - 17",null,null,null,null,{"$f":"'Schedule XVIII'!E107","v":"Select"}]
["Sch XVIII","Outward R/I Not Securing Agg Limits",null,"Reinsurer BSCR Rating - 18",null,null,null,null,{"$f":"'Schedule XVIII'!E108","v":"Select"}]
["Sch XVIII","Outward R/I Not Securing Agg Limits",null,"Reinsurer BSCR Rating - 19",null,null,null,null,{"$f":"'Schedule XVIII'!E109","v":"Select"}]
["Sch XVIII","Outward R/I Not Securing Agg Limits",null,"Reinsurer BSCR Rating - 20",null,null,null,null,{"$f":"'Schedule XVIII'!E110","v":"Select"}]
["Sch XVIII","Outward R/I Not Securing Agg Limits",null,"Reinsurer BSCR Rating - 21",null,null,null,null,{"$f":"'Schedule XVIII'!E111","v":"Select"}]
["Sch XVIII","Outward R/I Not Securing Agg Limits",null,"Reinsurer BSCR Rating - 22",null,null,null,null,{"$f":"'Schedule XVIII'!E112","v":"Select"}]
["Sch XVIII","Outward R/I Not Securing Agg Limits",null,"Reinsurer BSCR Rating - 23",null,null,null,null,{"$f":"'Schedule XVIII'!E113","v":"Select"}]
["Sch XVIII","Outward R/I Not Securing Agg Limits",null,"Reinsurer BSCR Rating - 24",null,null,null,null,{"$f":"'Schedule XVIII'!E114","v":"Select"}]
["Sch XVIII","Outward R/I Not Securing Agg Limits",null,"Reinsurer BSCR Rating - 25",null,null,null,null,{"$f":"'Schedule XVIII'!E115","v":"Select"}]
["Sch XVIII","Outward R/I Not Securing Agg Limits",null,"Reinsurer BSCR Rating - 26",null,null,null,null,{"$f":"'Schedule XVIII'!E116","v":"Select"}]
["Sch XVIII","Outward R/I Not Securing Agg Limits",null,"Reinsurer BSCR Rating - 27",null,null,null,null,{"$f":"'Schedule XVIII'!E117","v":"Select"}]
["Sch XVIII","Outward R/I Not Securing Agg Limits",null,"Reinsurer BSCR Rating - 28",null,null,null,null,{"$f":"'Schedule XVIII'!E118","v":"Select"}]
["Sch XVIII","Outward R/I Not Securing Agg Limits",null,"Reinsurer BSCR Rating - 29",null,null,null,null,{"$f":"'Schedule XVIII'!E119","v":"Select"}]
["Sch XVIII","Outward R/I Not Securing Agg Limits",null,"Reinsurer BSCR Rating - 30",null,null,null,null,{"$f":"'Schedule XVIII'!E120","v":"Select"}]
["Sch XVIII","Outward R/I Not Securing Agg Limits",null,"Outwards R/I - 1",null,null,null,null,{"$f":"'Schedule XVIII'!G91","v":0}]
["Sch XVIII","Outward R/I Not Securing Agg Limits",null,"Outwards R/I - 2",null,null,null,null,{"$f":"'Schedule XVIII'!G92","v":0}]
["Sch XVIII","Outward R/I Not Securing Agg Limits",null,"Outwards R/I - 3",null,null,null,null,{"$f":"'Schedule XVIII'!G93","v":0}]
["Sch XVIII","Outward R/I Not Securing Agg Limits",null,"Outwards R/I - 4",null,null,null,null,{"$f":"'Schedule XVIII'!G94","v":0}]
["Sch XVIII","Outward R/I Not Securing Agg Limits",null,"Outwards R/I - 5",null,null,null,null,{"$f":"'Schedule XVIII'!G95","v":0}]
["Sch XVIII","Outward R/I Not Securing Agg Limits",null,"Outwards R/I - 6",null,null,null,null,{"$f":"'Schedule XVIII'!G96","v":0}]
["Sch XVIII","Outward R/I Not Securing Agg Limits",null,"Outwards R/I - 7",null,null,null,null,{"$f":"'Schedule XVIII'!G97","v":0}]
["Sch XVIII","Outward R/I Not Securing Agg Limits",null,"Outwards R/I - 8",null,null,null,null,{"$f":"'Schedule XVIII'!G98","v":0}]
["Sch XVIII","Outward R/I Not Securing Agg Limits",null,"Outwards R/I - 9",null,null,null,null,{"$f":"'Schedule XVIII'!G99","v":0}]
["Sch XVIII","Outward R/I Not Securing Agg Limits",null,"Outwards R/I - 10",null,null,null,null,{"$f":"'Schedule XVIII'!G100","v":0}]
["Sch XVIII","Outward R/I Not Securing Agg Limits",null,"Outwards R/I - 11",null,null,null,null,{"$f":"'Schedule XVIII'!G101","v":0}]
["Sch XVIII","Outward R/I Not Securing Agg Limits",null,"Outwards R/I - 12",null,null,null,null,{"$f":"'Schedule XVIII'!G102","v":0}]
["Sch XVIII","Outward R/I Not Securing Agg Limits",null,"Outwards R/I - 13",null,null,null,null,{"$f":"'Schedule XVIII'!G103","v":0}]
["Sch XVIII","Outward R/I Not Securing Agg Limits",null,"Outwards R/I - 14",null,null,null,null,{"$f":"'Schedule XVIII'!G104","v":0}]
["Sch XVIII","Outward R/I Not Securing Agg Limits",null,"Outwards R/I - 15",null,null,null,null,{"$f":"'Schedule XVIII'!G105","v":0}]
["Sch XVIII","Outward R/I Not Securing Agg Limits",null,"Outwards R/I - 16",null,null,null,null,{"$f":"'Schedule XVIII'!G106","v":0}]
["Sch XVIII","Outward R/I Not Securing Agg Limits",null,"Outwards R/I - 17",null,null,null,null,{"$f":"'Schedule XVIII'!G107","v":0}]
["Sch XVIII","Outward R/I Not Securing Agg Limits",null,"Outwards R/I - 18",null,null,null,null,{"$f":"'Schedule XVIII'!G108","v":0}]
["Sch XVIII","Outward R/I Not Securing Agg Limits",null,"Outwards R/I - 19",null,null,null,null,{"$f":"'Schedule XVIII'!G109","v":0}]
["Sch XVIII","Outward R/I Not Securing Agg Limits",null,"Outwards R/I - 20",null,null,null,null,{"$f":"'Schedule XVIII'!G110","v":0}]
["Sch XVIII","Outward R/I Not Securing Agg Limits",null,"Outwards R/I - 21",null,null,null,null,{"$f":"'Schedule XVIII'!G111","v":0}]
["Sch XVIII","Outward R/I Not Securing Agg Limits",null,"Outwards R/I - 22",null,null,null,null,{"$f":"'Schedule XVIII'!G112","v":0}]
["Sch XVIII","Outward R/I Not Securing Agg Limits",null,"Outwards R/I - 23",null,null,null,null,{"$f":"'Schedule XVIII'!G113","v":0}]
["Sch XVIII","Outward R/I Not Securing Agg Limits",null,"Outwards R/I - 24",null,null,null,null,{"$f":"'Schedule XVIII'!G114","v":0}]
["Sch XVIII","Outward R/I Not Securing Agg Limits",null,"Outwards R/I - 25",null,null,null,null,{"$f":"'Schedule XVIII'!G115","v":0}]
["Sch XVIII","Outward R/I Not Securing Agg Limits",null,"Outwards R/I - 26",null,null,null,null,{"$f":"'Schedule XVIII'!G116","v":0}]
["Sch XVIII","Outward R/I Not Securing Agg Limits",null,"Outwards R/I - 27",null,null,null,null,{"$f":"'Schedule XVIII'!G117","v":0}]
["Sch XVIII","Outward R/I Not Securing Agg Limits",null,"Outwards R/I - 28",null,null,null,null,{"$f":"'Schedule XVIII'!G118","v":0}]
["Sch XVIII","Outward R/I Not Securing Agg Limits",null,"Outwards R/I - 29",null,null,null,null,{"$f":"'Schedule XVIII'!G119","v":0}]
["Sch XVIII","Outward R/I Not Securing Agg Limits",null,"Outwards R/I - 30",null,null,null,null,{"$f":"'Schedule XVIII'!G120","v":0}]
["Sch XVIII","Outward R/I Not Securing Agg Limits",null,"Outwards R/I Total ",null,null,null,null,{"$f":"'Schedule XVIII'!G131","v":0}]
["Sch XVIII","Outward R/I Not Securing Agg Limits",null,"Collateral - Cash and Cash Equivalents - 1",null,null,null,null,{"$f":"'Schedule XVIII'!I91","v":0}]
["Sch XVIII","Outward R/I Not Securing Agg Limits",null,"Collateral - Cash and Cash Equivalents - 2",null,null,null,null,{"$f":"'Schedule XVIII'!I92","v":0}]
["Sch XVIII","Outward R/I Not Securing Agg Limits",null,"Collateral - Cash and Cash Equivalents - 3",null,null,null,null,{"$f":"'Schedule XVIII'!I93","v":0}]
["Sch XVIII","Outward R/I Not Securing Agg Limits",null,"Collateral - Cash and Cash Equivalents - 4",null,null,null,null,{"$f":"'Schedule XVIII'!I94","v":0}]
["Sch XVIII","Outward R/I Not Securing Agg Limits",null,"Collateral - Cash and Cash Equivalents - 5",null,null,null,null,{"$f":"'Schedule XVIII'!I95","v":0}]
["Sch XVIII","Outward R/I Not Securing Agg Limits",null,"Collateral - Cash and Cash Equivalents - 6",null,null,null,null,{"$f":"'Schedule XVIII'!I96","v":0}]
["Sch XVIII","Outward R/I Not Securing Agg Limits",null,"Collateral - Cash and Cash Equivalents - 7",null,null,null,null,{"$f":"'Schedule XVIII'!I97","v":0}]
["Sch XVIII","Outward R/I Not Securing Agg Limits",null,"Collateral - Cash and Cash Equivalents - 8",null,null,null,null,{"$f":"'Schedule XVIII'!I98","v":0}]
["Sch XVIII","Outward R/I Not Securing Agg Limits",null,"Collateral - Cash and Cash Equivalents - 9",null,null,null,null,{"$f":"'Schedule XVIII'!I99","v":0}]
["Sch XVIII","Outward R/I Not Securing Agg Limits",null,"Collateral - Cash and Cash Equivalents - 10",null,null,null,null,{"$f":"'Schedule XVIII'!I100","v":0}]
["Sch XVIII","Outward R/I Not Securing Agg Limits",null,"Collateral - Cash and Cash Equivalents - 11",null,null,null,null,{"$f":"'Schedule XVIII'!I101","v":0}]
["Sch XVIII","Outward R/I Not Securing Agg Limits",null,"Collateral - Cash and Cash Equivalents - 12",null,null,null,null,{"$f":"'Schedule XVIII'!I102","v":0}]
["Sch XVIII","Outward R/I Not Securing Agg Limits",null,"Collateral - Cash and Cash Equivalents - 13",null,null,null,null,{"$f":"'Schedule XVIII'!I103","v":0}]
["Sch XVIII","Outward R/I Not Securing Agg Limits",null,"Collateral - Cash and Cash Equivalents - 14",null,null,null,null,{"$f":"'Schedule XVIII'!I104","v":0}]
["Sch XVIII","Outward R/I Not Securing Agg Limits",null,"Collateral - Cash and Cash Equivalents - 15",null,null,null,null,{"$f":"'Schedule XVIII'!I105","v":0}]
["Sch XVIII","Outward R/I Not Securing Agg Limits",null,"Collateral - Cash and Cash Equivalents - 16",null,null,null,null,{"$f":"'Schedule XVIII'!I106","v":0}]
["Sch XVIII","Outward R/I Not Securing Agg Limits",null,"Collateral - Cash and Cash Equivalents - 17",null,null,null,null,{"$f":"'Schedule XVIII'!I107","v":0}]
["Sch XVIII","Outward R/I Not Securing Agg Limits",null,"Collateral - Cash and Cash Equivalents - 18",null,null,null,null,{"$f":"'Schedule XVIII'!I108","v":0}]
["Sch XVIII","Outward R/I Not Securing Agg Limits",null,"Collateral - Cash and Cash Equivalents - 19",null,null,null,null,{"$f":"'Schedule XVIII'!I109","v":0}]
["Sch XVIII","Outward R/I Not Securing Agg Limits",null,"Collateral - Cash and Cash Equivalents - 20",null,null,null,null,{"$f":"'Schedule XVIII'!I110","v":0}]
["Sch XVIII","Outward R/I Not Securing Agg Limits",null,"Collateral - Cash and Cash Equivalents - 21",null,null,null,null,{"$f":"'Schedule XVIII'!I111","v":0}]
["Sch XVIII","Outward R/I Not Securing Agg Limits",null,"Collateral - Cash and Cash Equivalents - 22",null,null,null,null,{"$f":"'Schedule XVIII'!I112","v":0}]
["Sch XVIII","Outward R/I Not Securing Agg Limits",null,"Collateral - Cash and Cash Equivalents - 23",null,null,null,null,{"$f":"'Schedule XVIII'!I113","v":0}]
["Sch XVIII","Outward R/I Not Securing Agg Limits",null,"Collateral - Cash and Cash Equivalents - 24",null,null,null,null,{"$f":"'Schedule XVIII'!I114","v":0}]
["Sch XVIII","Outward R/I Not Securing Agg Limits",null,"Collateral - Cash and Cash Equivalents - 25",null,null,null,null,{"$f":"'Schedule XVIII'!I115","v":0}]
["Sch XVIII","Outward R/I Not Securing Agg Limits",null,"Collateral - Cash and Cash Equivalents - 26",null,null,null,null,{"$f":"'Schedule XVIII'!I116","v":0}]
["Sch XVIII","Outward R/I Not Securing Agg Limits",null,"Collateral - Cash and Cash Equivalents - 27",null,null,null,null,{"$f":"'Schedule XVIII'!I117","v":0}]
["Sch XVIII","Outward R/I Not Securing Agg Limits",null,"Collateral - Cash and Cash Equivalents - 28",null,null,null,null,{"$f":"'Schedule XVIII'!I118","v":0}]
["Sch XVIII","Outward R/I Not Securing Agg Limits",null,"Collateral - Cash and Cash Equivalents - 29",null,null,null,null,{"$f":"'Schedule XVIII'!I119","v":0}]
["Sch XVIII","Outward R/I Not Securing Agg Limits",null,"Collateral - Cash and Cash Equivalents - 30",null,null,null,null,{"$f":"'Schedule XVIII'!I120","v":0}]
["Sch XVIII","Outward R/I Not Securing Agg Limits",null,"Collateral - Cash and Cash Equivalents - Total",null,null,null,null,{"$f":"'Schedule XVIII'!I131","v":0}]
["Sch XVIII","Outward R/I Not Securing Agg Limits",null,"Collateral - Other Assets - 1",null,null,null,null,{"$f":"'Schedule XVIII'!J91","v":0}]
["Sch XVIII","Outward R/I Not Securing Agg Limits",null,"Collateral - Other Assets - 2",null,null,null,null,{"$f":"'Schedule XVIII'!J92","v":0}]
["Sch XVIII","Outward R/I Not Securing Agg Limits",null,"Collateral - Other Assets - 3",null,null,null,null,{"$f":"'Schedule XVIII'!J93","v":0}]
["Sch XVIII","Outward R/I Not Securing Agg Limits",null,"Collateral - Other Assets - 4",null,null,null,null,{"$f":"'Schedule XVIII'!J94","v":0}]
["Sch XVIII","Outward R/I Not Securing Agg Limits",null,"Collateral - Other Assets - 5",null,null,null,null,{"$f":"'Schedule XVIII'!J95","v":0}]
["Sch XVIII","Outward R/I Not Securing Agg Limits",null,"Collateral - Other Assets - 6",null,null,null,null,{"$f":"'Schedule XVIII'!J96","v":0}]
["Sch XVIII","Outward R/I Not Securing Agg Limits",null,"Collateral - Other Assets - 7",null,null,null,null,{"$f":"'Schedule XVIII'!J97","v":0}]
["Sch XVIII","Outward R/I Not Securing Agg Limits",null,"Collateral - Other Assets - 8",null,null,null,null,{"$f":"'Schedule XVIII'!J98","v":0}]
["Sch XVIII","Outward R/I Not Securing Agg Limits",null,"Collateral - Other Assets - 9",null,null,null,null,{"$f":"'Schedule XVIII'!J99","v":0}]
["Sch XVIII","Outward R/I Not Securing Agg Limits",null,"Collateral - Other Assets - 10",null,null,null,null,{"$f":"'Schedule XVIII'!J100","v":0}]
["Sch XVIII","Outward R/I Not Securing Agg Limits",null,"Collateral - Other Assets - 11",null,null,null,null,{"$f":"'Schedule XVIII'!J101","v":0}]
["Sch XVIII","Outward R/I Not Securing Agg Limits",null,"Collateral - Other Assets - 12",null,null,null,null,{"$f":"'Schedule XVIII'!J102","v":0}]
["Sch XVIII","Outward R/I Not Securing Agg Limits",null,"Collateral - Other Assets - 13",null,null,null,null,{"$f":"'Schedule XVIII'!J103","v":0}]
["Sch XVIII","Outward R/I Not Securing Agg Limits",null,"Collateral - Other Assets - 14",null,null,null,null,{"$f":"'Schedule XVIII'!J104","v":0}]
["Sch XVIII","Outward R/I Not Securing Agg Limits",null,"Collateral - Other Assets - 15",null,null,null,null,{"$f":"'Schedule XVIII'!J105","v":0}]
["Sch XVIII","Outward R/I Not Securing Agg Limits",null,"Collateral - Other Assets - 16",null,null,null,null,{"$f":"'Schedule XVIII'!J106","v":0}]
["Sch XVIII","Outward R/I Not Securing Agg Limits",null,"Collateral - Other Assets - 17",null,null,null,null,{"$f":"'Schedule XVIII'!J107","v":0}]
["Sch XVIII","Outward R/I Not Securing Agg Limits",null,"Collateral - Other Assets - 18",null,null,null,null,{"$f":"'Schedule XVIII'!J108","v":0}]
["Sch XVIII","Outward R/I Not Securing Agg Limits",null,"Collateral - Other Assets - 19",null,null,null,null,{"$f":"'Schedule XVIII'!J109","v":0}]
["Sch XVIII","Outward R/I Not Securing Agg Limits",null,"Collateral - Other Assets - 20",null,null,null,null,{"$f":"'Schedule XVIII'!J110","v":0}]
["Sch XVIII","Outward R/I Not Securing Agg Limits",null,"Collateral - Other Assets - 21",null,null,null,null,{"$f":"'Schedule XVIII'!J111","v":0}]
["Sch XVIII","Outward R/I Not Securing Agg Limits",null,"Collateral - Other Assets - 22",null,null,null,null,{"$f":"'Schedule XVIII'!J112","v":0}]
["Sch XVIII","Outward R/I Not Securing Agg Limits",null,"Collateral - Other Assets - 23",null,null,null,null,{"$f":"'Schedule XVIII'!J113","v":0}]
["Sch XVIII","Outward R/I Not Securing Agg Limits",null,"Collateral - Other Assets - 24",null,null,null,null,{"$f":"'Schedule XVIII'!J114","v":0}]
["Sch XVIII","Outward R/I Not Securing Agg Limits",null,"Collateral - Other Assets - 25",null,null,null,null,{"$f":"'Schedule XVIII'!J115","v":0}]
["Sch XVIII","Outward R/I Not Securing Agg Limits",null,"Collateral - Other Assets - 26",null,null,null,null,{"$f":"'Schedule XVIII'!J116","v":0}]
["Sch XVIII","Outward R/I Not Securing Agg Limits",null,"Collateral - Other Assets - 27",null,null,null,null,{"$f":"'Schedule XVIII'!J117","v":0}]
["Sch XVIII","Outward R/I Not Securing Agg Limits",null,"Collateral - Other Assets - 28",null,null,null,null,{"$f":"'Schedule XVIII'!J118","v":0}]
["Sch XVIII","Outward R/I Not Securing Agg Limits",null,"Collateral - Other Assets - 29",null,null,null,null,{"$f":"'Schedule XVIII'!J119","v":0}]
["Sch XVIII","Outward R/I Not Securing Agg Limits",null,"Collateral - Other Assets - 30",null,null,null,null,{"$f":"'Schedule XVIII'!J120","v":0}]
["Sch XVIII","Outward R/I Not Securing Agg Limits",null,"Collateral - Other Assets - Total",null,null,null,null,{"$f":"'Schedule XVIII'!J131","v":0}]
["Sch XVIII","Outward R/I Not Securing Agg Limits",null,"Comments - 1",null,null,null,null,{"$f":"'Schedule XVIII'!K91","v":0}]
["Sch XVIII","Outward R/I Not Securing Agg Limits",null,"Comments - 2",null,null,null,null,{"$f":"'Schedule XVIII'!K92","v":0}]
["Sch XVIII","Outward R/I Not Securing Agg Limits",null,"Comments - 3",null,null,null,null,{"$f":"'Schedule XVIII'!K93","v":0}]
["Sch XVIII","Outward R/I Not Securing Agg Limits",null,"Comments - 4",null,null,null,null,{"$f":"'Schedule XVIII'!K94","v":0}]
["Sch XVIII","Outward R/I Not Securing Agg Limits",null,"Comments - 5",null,null,null,null,{"$f":"'Schedule XVIII'!K95","v":0}]
["Sch XVIII","Outward R/I Not Securing Agg Limits",null,"Comments - 6",null,null,null,null,{"$f":"'Schedule XVIII'!K96","v":0}]
["Sch XVIII","Outward R/I Not Securing Agg Limits",null,"Comments - 7",null,null,null,null,{"$f":"'Schedule XVIII'!K97","v":0}]
["Sch XVIII","Outward R/I Not Securing Agg Limits",null,"Comments - 8",null,null,null,null,{"$f":"'Schedule XVIII'!K98","v":0}]
["Sch XVIII","Outward R/I Not Securing Agg Limits",null,"Comments - 9",null,null,null,null,{"$f":"'Schedule XVIII'!K99","v":0}]
["Sch XVIII","Outward R/I Not Securing Agg Limits",null,"Comments - 10",null,null,null,null,{"$f":"'Schedule XVIII'!K100","v":0}]
["Sch XVIII","Outward R/I Not Securing Agg Limits",null,"Comments - 11",null,null,null,null,{"$f":"'Schedule XVIII'!K101","v":0}]
["Sch XVIII","Outward R/I Not Securing Agg Limits",null,"Comments - 12",null,null,null,null,{"$f":"'Schedule XVIII'!K102","v":0}]
["Sch XVIII","Outward R/I Not Securing Agg Limits",null,"Comments - 13",null,null,null,null,{"$f":"'Schedule XVIII'!K103","v":0}]
["Sch XVIII","Outward R/I Not Securing Agg Limits",null,"Comments - 14",null,null,null,null,{"$f":"'Schedule XVIII'!K104","v":0}]
["Sch XVIII","Outward R/I Not Securing Agg Limits",null,"Comments - 15",null,null,null,null,{"$f":"'Schedule XVIII'!K105","v":0}]
["Sch XVIII","Outward R/I Not Securing Agg Limits",null,"Comments - 16",null,null,null,null,{"$f":"'Schedule XVIII'!K106","v":0}]
["Sch XVIII","Outward R/I Not Securing Agg Limits",null,"Comments - 17",null,null,null,null,{"$f":"'Schedule XVIII'!K107","v":0}]
["Sch XVIII","Outward R/I Not Securing Agg Limits",null,"Comments - 18",null,null,null,null,{"$f":"'Schedule XVIII'!K108","v":0}]
["Sch XVIII","Outward R/I Not Securing Agg Limits",null,"Comments - 19",null,null,null,null,{"$f":"'Schedule XVIII'!K109","v":0}]
["Sch XVIII","Outward R/I Not Securing Agg Limits",null,"Comments - 20",null,null,null,null,{"$f":"'Schedule XVIII'!K110","v":0}]
["Sch XVIII","Outward R/I Not Securing Agg Limits",null,"Comments - 21",null,null,null,null,{"$f":"'Schedule XVIII'!K111","v":0}]
["Sch XVIII","Outward R/I Not Securing Agg Limits",null,"Comments - 22",null,null,null,null,{"$f":"'Schedule XVIII'!K112","v":0}]
["Sch XVIII","Outward R/I Not Securing Agg Limits",null,"Comments - 23",null,null,null,null,{"$f":"'Schedule XVIII'!K113","v":0}]
["Sch XVIII","Outward R/I Not Securing Agg Limits",null,"Comments - 24",null,null,null,null,{"$f":"'Schedule XVIII'!K114","v":0}]
["Sch XVIII","Outward R/I Not Securing Agg Limits",null,"Comments - 25",null,null,null,null,{"$f":"'Schedule XVIII'!K115","v":0}]
["Sch XVIII","Outward R/I Not Securing Agg Limits",null,"Comments - 26",null,null,null,null,{"$f":"'Schedule XVIII'!K116","v":0}]
["Sch XVIII","Outward R/I Not Securing Agg Limits",null,"Comments - 27",null,null,null,null,{"$f":"'Schedule XVIII'!K117","v":0}]
["Sch XVIII","Outward R/I Not Securing Agg Limits",null,"Comments - 28",null,null,null,null,{"$f":"'Schedule XVIII'!K118","v":0}]
["Sch XVIII","Outward R/I Not Securing Agg Limits",null,"Comments - 29",null,null,null,null,{"$f":"'Schedule XVIII'!K119","v":0}]
["Sch XVIII","Outward R/I Not Securing Agg Limits",null,"Comments - 30",null,null,null,null,{"$f":"'Schedule XVIII'!K120","v":0}]
[]
["Operational","Coll. Op. Risk Charge","Trans & Struct","Q1 Nature & Structure of Product Written - a)",null,null,null,null,{"$f":"'Operational Risk'!F9","v":"Select Yes/No"}]
["Operational","Coll. Op. Risk Charge","Trans & Struct","Q1 Nature & Structure of Product Written - b)",null,null,null,null,{"$f":"'Operational Risk'!F10","v":"Select Yes/No"}]
["Operational","Coll. Op. Risk Charge","Trans & Struct","Q1 Nature & Structure of Product Written - c)",null,null,null,null,{"$f":"'Operational Risk'!F11","v":"Select Yes/No"}]
["Operational","Coll. Op. Risk Charge","Trans & Struct","Q2 Nature of Product Written - a)",null,null,null,null,{"$f":"'Operational Risk'!F12","v":"Select Yes/No"}]
["Operational","Coll. Op. Risk Charge","Trans & Struct","Q2 Nature of Product Written - b)",null,null,null,null,{"$f":"'Operational Risk'!F13","v":"Select Yes/No"}]
["Operational","Coll. Op. Risk Charge","Trans & Struct","Q2 Nature of Product Written - c)",null,null,null,null,{"$f":"'Operational Risk'!F14","v":"Select Yes/No"}]
["Operational","Coll. Op. Risk Charge","Trans & Struct","Q3 Insurance Contracts' Aggregate Limits - a)",null,null,null,null,{"$f":"'Operational Risk'!F15","v":"Select Yes/No"}]
["Operational","Coll. Op. Risk Charge","Trans & Struct","Q3 Insurance Contracts' Aggregate Limits - b)",null,null,null,null,{"$f":"'Operational Risk'!F16","v":"Select Yes/No"}]
["Operational","Coll. Op. Risk Charge","Trans & Struct","Q3 Insurance Contracts' Aggregate Limits - c)",null,null,null,null,{"$f":"'Operational Risk'!F17","v":"Select Yes/No"}]
["Operational","Coll. Op. Risk Charge","Trans & Struct","Q4 Collateral Insurers Operation details - a)",null,null,null,null,{"$f":"'Operational Risk'!F18","v":"Select Yes/No"}]
["Operational","Coll. Op. Risk Charge","Trans & Struct","Q4 Collateral Insurers Operation details - b)",null,null,null,null,{"$f":"'Operational Risk'!F19","v":"Select Yes/No"}]
["Operational","Coll. Op. Risk Charge","Trans & Struct","Q4 Collateral Insurers Operation details - c)",null,null,null,null,{"$f":"'Operational Risk'!F20","v":"Select Yes/No"}]
["Operational","Coll. Op. Risk Charge","Trans & Struct","Q5 Cedants are Affiliated A or better - a)",null,null,null,null,{"$f":"'Operational Risk'!F21","v":"Select Yes/No"}]
["Operational","Coll. Op. Risk Charge","Trans & Struct","Q5 Cedants are Affiliated A or better - b)",null,null,null,null,{"$f":"'Operational Risk'!F22","v":"Select Yes/No"}]
["Operational","Coll. Op. Risk Charge","Trans & Struct","Q5 Cedants are Affiliated A or better - c)",null,null,null,null,{"$f":"'Operational Risk'!F23","v":"Select Yes/No"}]
["Operational","Coll. Op. Risk Charge","Trans & Struct","Q6 Weighted Average # of Claims - a)",null,null,null,null,{"$f":"'Operational Risk'!F24","v":"Select Yes/No"}]
["Operational","Coll. Op. Risk Charge","Trans & Struct","Q6 Weighted Average # of Claims - b)",null,null,null,null,{"$f":"'Operational Risk'!F25","v":"Select Yes/No"}]
["Operational","Coll. Op. Risk Charge","Trans & Struct","Q6 Weighted Average # of Claims - c)",null,null,null,null,{"$f":"'Operational Risk'!F26","v":"Select Yes/No"}]
["Operational","Coll. Op. Risk Charge","Trans & Struct","Q7 Insurer is not obliged to return collateral - a)",null,null,null,null,{"$f":"'Operational Risk'!F27","v":"Select Yes/No"}]
["Operational","Coll. Op. Risk Charge","Trans & Struct","Q7 Insurer is not obliged to return collateral - b)",null,null,null,null,{"$f":"'Operational Risk'!F28","v":"Select Yes/No"}]
["Operational","Coll. Op. Risk Charge","Trans & Struct","Q7 Insurer is not obliged to return collateral - c)",null,null,null,null,{"$f":"'Operational Risk'!F29","v":"Select Yes/No"}]
["Operational","Coll. Op. Risk Charge","Trans & Struct","Q8 No contractual provisions prohibiting clawback of collateral - a)",null,null,null,null,{"$f":"'Operational Risk'!F30","v":"Select Yes/No"}]
["Operational","Coll. Op. Risk Charge","Trans & Struct","Q8 No contractual provisions prohibiting clawback of collateral - b)",null,null,null,null,{"$f":"'Operational Risk'!F31","v":"Select Yes/No"}]
["Operational","Coll. Op. Risk Charge","Trans & Struct","Q8 No contractual provisions prohibiting clawback of collateral - c)",null,null,null,null,{"$f":"'Operational Risk'!F32","v":"Select Yes/No"}]
["Operational","Coll. Op. Risk Charge","Trans & Struct","Q9 # of Contracts Written during the year - a)",null,null,null,null,{"$f":"'Operational Risk'!F33","v":"Select Yes/No"}]
["Operational","Coll. Op. Risk Charge","Trans & Struct","Q9 # of Contracts Written during the year - b)",null,null,null,null,{"$f":"'Operational Risk'!F34","v":"Select Yes/No"}]
["Operational","Coll. Op. Risk Charge","Trans & Struct","Q9 # of Contracts Written during the year - c)",null,null,null,null,{"$f":"'Operational Risk'!F35","v":"Select Yes/No"}]
["Operational","Coll. Op. Risk Charge","Trans & Struct","Q10 R/I protection purchased as contingent collateral - a)",null,null,null,null,{"$f":"'Operational Risk'!F36","v":"Select Yes/No"}]
["Operational","Coll. Op. Risk Charge","Trans & Struct","Q10 R/I protection purchased as contingent collateral - b)",null,null,null,null,{"$f":"'Operational Risk'!F37","v":"Select Yes/No"}]
["Operational","Coll. Op. Risk Charge","Trans & Struct","Q10 R/I protection purchased as contingent collateral - c)",null,null,null,null,{"$f":"'Operational Risk'!F38","v":"Select Yes/No"}]
["Operational","Coll. Op. Risk Charge","Trans & Struct","Q11 Insurers submits audited FS and LRSO/AAO - a)",null,null,null,null,{"$f":"'Operational Risk'!F39","v":"Select Yes/No"}]
["Operational","Coll. Op. Risk Charge","Trans & Struct","Q11 Insurers submits audited FS and LRSO/AAO - b)",null,null,null,null,{"$f":"'Operational Risk'!F40","v":"Select Yes/No"}]
["Operational","Coll. Op. Risk Charge","Trans & Struct","Q11 Insurers submits audited FS and LRSO/AAO - c)",null,null,null,null,{"$f":"'Operational Risk'!F41","v":"Select Yes/No"}]
["Operational","Coll. Op. Risk Charge","Trans & Struct","Q12 Insurer involved with litigation, arbitration, mediation - a)",null,null,null,null,{"$f":"'Operational Risk'!F42","v":"Select Yes/No"}]
["Operational","Coll. Op. Risk Charge","Trans & Struct","Q12 Insurer involved with litigation, arbitration, mediation - b)",null,null,null,null,{"$f":"'Operational Risk'!F43","v":"Select Yes/No"}]
["Operational","Coll. Op. Risk Charge","Trans & Struct","Q12 Insurer involved with litigation, arbitration, mediation - c)",null,null,null,null,{"$f":"'Operational Risk'!F44","v":"Select Yes/No"}]
["Operational","Coll. Op. Risk Charge","Trans & Struct","Q13 Insurer has legally binding, off balance sheet commitments - a)",null,null,null,null,{"$f":"'Operational Risk'!F45","v":"Select Yes/No"}]
["Operational","Coll. Op. Risk Charge","Trans & Struct","Q13 Insurer has legally binding, off balance sheet commitments - b)",null,null,null,null,{"$f":"'Operational Risk'!F46","v":"Select Yes/No"}]
["Operational","Coll. Op. Risk Charge","Trans & Struct","Q13 Insurer has legally binding, off balance sheet commitments - c)",null,null,null,null,{"$f":"'Operational Risk'!F47","v":"Select Yes/No"}]
["Operational","Coll. Op. Risk Charge","Trans & Struct","Q14 Formalised process for legal communication exists - a)",null,null,null,null,{"$f":"'Operational Risk'!F48","v":"Select Yes/No"}]
["Operational","Coll. Op. Risk Charge","Trans & Struct","Q14 Formalised process for legal communication exists - b)",null,null,null,null,{"$f":"'Operational Risk'!F49","v":"Select Yes/No"}]
["Operational","Coll. Op. Risk Charge","Trans & Struct","Q14 Formalised process for legal communication exists - c)",null,null,null,null,{"$f":"'Operational Risk'!F50","v":"Select Yes/No"}]
["Operational","Coll. Op. Risk Charge","Trans & Struct","Q15 R/I agreement requires top-up of collateral - a)",null,null,null,null,{"$f":"'Operational Risk'!F51","v":"Select Yes/No"}]
["Operational","Coll. Op. Risk Charge","Trans & Struct","Q15 R/I agreement requires top-up of collateral - b)",null,null,null,null,{"$f":"'Operational Risk'!F52","v":"Select Yes/No"}]
["Operational","Coll. Op. Risk Charge","Trans & Struct","Q15 R/I agreement requires top-up of collateral - c)",null,null,null,null,{"$f":"'Operational Risk'!F53","v":"Select Yes/No"}]
["Operational","Coll. Op. Risk Charge","Corp Gov","Q16 BOD include independent non-executive on board - a)",null,null,null,null,{"$f":"'Operational Risk'!F55","v":"Select Yes/No"}]
["Operational","Coll. Op. Risk Charge","Corp Gov","Q16 BOD include independent non-executive on board - b)",null,null,null,null,{"$f":"'Operational Risk'!F56","v":"Select Yes/No"}]
["Operational","Coll. Op. Risk Charge","Corp Gov","Q16 BOD include independent non-executive on board - c)",null,null,null,null,{"$f":"'Operational Risk'!F57","v":"Select Yes/No"}]
["Operational","Coll. Op. Risk Charge","Corp Gov","Q17 Board sets risks policies, practices & limits - a)",null,null,null,null,{"$f":"'Operational Risk'!F58","v":"Select Yes/No"}]
["Operational","Coll. Op. Risk Charge","Corp Gov","Q17 Board sets risks policies, practices & limits - b)",null,null,null,null,{"$f":"'Operational Risk'!F59","v":"Select Yes/No"}]
["Operational","Coll. Op. Risk Charge","Corp Gov","Q17 Board sets risks policies, practices & limits - c)",null,null,null,null,{"$f":"'Operational Risk'!F60","v":"Select Yes/No"}]
["Operational","Coll. Op. Risk Charge","Corp Gov","Q18 Board sets policies address conflict of interest - a)",null,null,null,null,{"$f":"'Operational Risk'!F61","v":"Select Yes/No"}]
["Operational","Coll. Op. Risk Charge","Corp Gov","Q18 Board sets policies address conflict of interest - b)",null,null,null,null,{"$f":"'Operational Risk'!F62","v":"Select Yes/No"}]
["Operational","Coll. Op. Risk Charge","Corp Gov","Q18 Board sets policies address conflict of interest - c)",null,null,null,null,{"$f":"'Operational Risk'!F63","v":"Select Yes/No"}]
["Operational","Coll. Op. Risk Charge","Corp Gov","Q19 Annually Board receives reports on internal control - a)",null,null,null,null,{"$f":"'Operational Risk'!F64","v":"Select Yes/No"}]
["Operational","Coll. Op. Risk Charge","Corp Gov","Q19 Annually Board receives reports on internal control - b)",null,null,null,null,{"$f":"'Operational Risk'!F65","v":"Select Yes/No"}]
["Operational","Coll. Op. Risk Charge","Corp Gov","Q19 Annually Board receives reports on internal control - c)",null,null,null,null,{"$f":"'Operational Risk'!F66","v":"Select Yes/No"}]
["Operational","Coll. Op. Risk Charge","Inv Strategy","Q20 Investment Quality - a)",null,null,null,null,{"$f":"'Operational Risk'!F68","v":"Select Yes/No"}]
["Operational","Coll. Op. Risk Charge","Inv Strategy","Q20 Investment Quality - b)",null,null,null,null,{"$f":"'Operational Risk'!F69","v":"Select Yes/No"}]
["Operational","Coll. Op. Risk Charge","Inv Strategy","Q20 Investment Quality - c)",null,null,null,null,{"$f":"'Operational Risk'!F70","v":"Select Yes/No"}]
["Operational","Coll. Op. Risk Charge","Inv Strategy","Q21 Liquidity - Private / Unquoted Investments @ FMV - a)",null,null,null,null,{"$f":"'Operational Risk'!F71","v":"Select Yes/No"}]
["Operational","Coll. Op. Risk Charge","Inv Strategy","Q21 Liquidity - Private / Unquoted Investments @ FMV - b)",null,null,null,null,{"$f":"'Operational Risk'!F72","v":"Select Yes/No"}]
["Operational","Coll. Op. Risk Charge","Inv Strategy","Q21 Liquidity - Private / Unquoted Investments @ FMV - c)",null,null,null,null,{"$f":"'Operational Risk'!F73","v":"Select Yes/No"}]
["Operational","Coll. Op. Risk Charge","Inv Strategy","Q22 Duration mismatch - a)",null,null,null,null,{"$f":"'Operational Risk'!F74","v":"Select Yes/No"}]
["Operational","Coll. Op. Risk Charge","Inv Strategy","Q22 Duration mismatch - b)",null,null,null,null,{"$f":"'Operational Risk'!F75","v":"Select Yes/No"}]
["Operational","Coll. Op. Risk Charge","Inv Strategy","Q22 Duration mismatch - c)",null,null,null,null,{"$f":"'Operational Risk'!F76","v":"Select Yes/No"}]
["Operational","Coll. Op. Risk Charge","Inv Strategy","Q23 Duration valued at FMV - a)",null,null,null,null,{"$f":"'Operational Risk'!F77","v":"Select Yes/No"}]
["Operational","Coll. Op. Risk Charge","Inv Strategy","Q23 Duration valued at FMV - b)",null,null,null,null,{"$f":"'Operational Risk'!F78","v":"Select Yes/No"}]
["Operational","Coll. Op. Risk Charge","Inv Strategy","Q23 Duration valued at FMV - c)",null,null,null,null,{"$f":"'Operational Risk'!F79","v":"Select Yes/No"}]
["Operational","Coll. Op. Risk Charge",null,"Aggregate Limit in next 12 months",null,null,null,null,{"$f":"'Operational Risk'!J97","v":0}]
["Operational","Coll. Op. Risk Charge",null,"i. Confirm if the insurer has E&O or PI policy",null,null,null,null,{"$f":"'Operational Risk'!J102","v":"Select Yes/No"}]
["Operational","Coll. Op. Risk Charge",null,"ii. Confirm if claiming E&O or PI protection",null,null,null,null,{"$f":"'Operational Risk'!J103","v":"Select Yes/No"}]
["Operational","Coll. Op. Risk Charge",null,"iii. Confirm if purchased E&O or PI rated A- or higher",null,null,null,null,{"$f":"'Operational Risk'!J104","v":"Select Yes/No"}]
["Operational","Coll. Op. Risk Charge",null,"iv. Aggregate E&O or PI Aggregate Limit",null,null,null,null,{"$f":"'Operational Risk'!J106","v":0}]
["Operational","Coll. Op. Risk Charge",null,"iv. Aggregate E&O or PI Aggregate Deductible",null,null,null,null,{"$f":"'Operational Risk'!J107","v":0}]
["Operational","Coll. Op. Risk Charge",null,"v. Attached E&O or PI policy",null,null,null,null,{"$f":"'Operational Risk'!J108","v":"Select Yes/No"}]
["Operational","Coll. Op. Risk Charge",null,"vi. E&O or PI policy includes material operational risk events",null,null,null,null,{"$f":"'Operational Risk'!J109","v":"Select Yes/No"}]
["Operational","Coll. Op. Risk Charge",null,"vii. Stress testing responding to material operational risk events",null,null,null,null,{"$f":"'Operational Risk'!J110","v":"Select Yes/No"}]
["Operational","Coll. Op. Risk Charge",null,"viii. E&O or PI responds to material operational events",null,null,null,null,{"$f":"'Operational Risk'!J111","v":"Select"}]
["Operational","Coll. Op. Risk Charge",null,"Operational Risk Charge comments",null,null,null,null,{"$f":"'Operational Risk'!C116","v":0}]
[]
["Sar & Sanc.","SAR & Santions",null,"E.1 Registered GoAML",{"$f":"'SAR & Sanc. (All)'!I8","v":"Select Yes/No"}]
["Sar & Sanc.","SAR & Santions",null,"E.1.1 When",{"$f":"'SAR & Sanc. (All)'!I10","v":"(Select)"}]
["Sar & Sanc.","SAR & Santions",null,"E.1.1 Name",{"$f":"'SAR & Sanc. (All)'!C10","v":0}]
["Sar & Sanc.","SAR & Santions",null,"E.1.2 Another Registered",{"$f":"'SAR & Sanc. (All)'!I12","v":"Select Yes/No"}]
["Sar & Sanc.","SAR & Santions",null,"E.1.3 Name",{"$f":"'SAR & Sanc. (All)'!C14","v":0}]
["Sar & Sanc.","SAR & Santions",null,"E.1.4 Filed SAR",{"$f":"'SAR & Sanc. (All)'!C17","v":0}]
["Sar & Sanc.","SAR & Santions",null,"E.2 SAR Filed - Internal - Current Year",{"$f":"'SAR & Sanc. (All)'!G21","v":0}]
["Sar & Sanc.","SAR & Santions",null,"E.2 SAR Filed - Internal - Prior Year",{"$f":"'SAR & Sanc. (All)'!G22","v":0}]
["Sar & Sanc.","SAR & Santions",null,"E.2 SAR Filed - Internal - 2 Years Prior",{"$f":"'SAR & Sanc. (All)'!G23","v":0}]
["Sar & Sanc.","SAR & Santions",null,"E.2 SAR Filed - Internal - 3 Years Prior",{"$f":"'SAR & Sanc. (All)'!G24","v":0}]
["Sar & Sanc.","SAR & Santions",null,"E.2 SAR Filed - Internal - Total",{"$f":"'SAR & Sanc. (All)'!G25","v":0}]
["Sar & Sanc.","SAR & Santions",null,"E.2 SAR Filed - w FIA - Current Year",{"$f":"'SAR & Sanc. (All)'!I21","v":0}]
["Sar & Sanc.","SAR & Santions",null,"E.2 SAR Filed - w FIA - Prior Year",{"$f":"'SAR & Sanc. (All)'!I22","v":0}]
["Sar & Sanc.","SAR & Santions",null,"E.2 SAR Filed - w FIA - 2 Years Prior",{"$f":"'SAR & Sanc. (All)'!I23","v":0}]
["Sar & Sanc.","SAR & Santions",null,"E.2 SAR Filed - w FIA - 3 Years Prior",{"$f":"'SAR & Sanc. (All)'!I24","v":0}]
["Sar & Sanc.","SAR & Santions",null,"E.2 SAR Filed - w FIA - Total",{"$f":"'SAR & Sanc. (All)'!I25","v":0}]
["Sar & Sanc.","SAR & Santions",null,"E.2 Additional Comments",{"$f":"'SAR & Sanc. (All)'!C28","v":0}]
["Sar & Sanc.","SAR & Santions",null,"E. Sanction - 1. Screen insurers",{"$f":"'SAR & Sanc. (All)'!I35","v":"Select Yes/No"}]
["Sar & Sanc.","SAR & Santions",null,"E. Sanction - 2. Screen employees",{"$f":"'SAR & Sanc. (All)'!I37","v":"Select Yes/No"}]
["Sar & Sanc.","SAR & Santions",null,"E. Sanction - 3. Freeze Assets",{"$f":"'SAR & Sanc. (All)'!I39","v":"Select Yes/No"}]
["Sar & Sanc.","SAR & Santions",null,"E. Sanction - 3.1 # of Assets Frozen",{"$f":"'SAR & Sanc. (All)'!I41","v":0}]
["Sar & Sanc.","SAR & Santions",null,"E. Sanction - 3.2 Group ID 1",{"$f":"'SAR & Sanc. (All)'!E45","v":0}]
["Sar & Sanc.","SAR & Santions",null,"E. Sanction - 3.2 Group ID 2",{"$f":"'SAR & Sanc. (All)'!E46","v":0}]
["Sar & Sanc.","SAR & Santions",null,"E. Sanction - 3.2 Group ID 3",{"$f":"'SAR & Sanc. (All)'!E47","v":0}]
["Sar & Sanc.","SAR & Santions",null,"E. Sanction - 3.2 Group ID 4",{"$f":"'SAR & Sanc. (All)'!E48","v":0}]
["Sar & Sanc.","SAR & Santions",null,"E. Sanction - 3.2 Name Given 1",{"$f":"'SAR & Sanc. (All)'!F45","v":0}]
["Sar & Sanc.","SAR & Santions",null,"E. Sanction - 3.2 Name Given 2",{"$f":"'SAR & Sanc. (All)'!F46","v":0}]
["Sar & Sanc.","SAR & Santions",null,"E. Sanction - 3.2 Name Given 3",{"$f":"'SAR & Sanc. (All)'!F47","v":0}]
["Sar & Sanc.","SAR & Santions",null,"E. Sanction - 3.2 Name Given 4",{"$f":"'SAR & Sanc. (All)'!F48","v":0}]
["Sar & Sanc.","SAR & Santions",null,"E. Sanction - 3.2 Owned 1",{"$f":"'SAR & Sanc. (All)'!F45","v":0}]
["Sar & Sanc.","SAR & Santions",null,"E. Sanction - 3.2 Owned 2",{"$f":"'SAR & Sanc. (All)'!F46","v":0}]
["Sar & Sanc.","SAR & Santions",null,"E. Sanction - 3.2 Owned 3",{"$f":"'SAR & Sanc. (All)'!F47","v":0}]
["Sar & Sanc.","SAR & Santions",null,"E. Sanction - 3.2 Owned 4",{"$f":"'SAR & Sanc. (All)'!F48","v":0}]
["Sar & Sanc.","SAR & Santions",null,"E. Sanction - 3.2 Value of Assets 1",{"$f":"'SAR & Sanc. (All)'!J45","v":0}]
["Sar & Sanc.","SAR & Santions",null,"E. Sanction - 3.2 Value of Assets 2",{"$f":"'SAR & Sanc. (All)'!J46","v":0}]
["Sar & Sanc.","SAR & Santions",null,"E. Sanction - 3.2 Value of Assets 3",{"$f":"'SAR & Sanc. (All)'!J47","v":0}]
["Sar & Sanc.","SAR & Santions",null,"E. Sanction - 3.2 Value of Assets 4",{"$f":"'SAR & Sanc. (All)'!J48","v":0}]
["Sar & Sanc.","SAR & Santions",null,"E. Sanction - 3.2 Value of Total",{"$f":"SUM(E2783:E2786)","v":0}]
["Sar & Sanc.","SAR & Santions",null,"E. Sanction - 4 Frequency of Screen for Sanctions",{"$f":"'SAR & Sanc. (All)'!I50","v":"Select"}]
["Sar & Sanc.","SAR & Santions",null,"E. Sanction - Additional Comments ",{"$f":"'SAR & Sanc. (All)'!C53","v":0}]

{"sheet":"Attachments","index":8,"n_rows":122,"n_cols":11,"rows_kept":122,"cut":false,"hidden":false,"merged":[[4,2,4,4],[31,2,31,4],[24,2,24,4],[9,2,9,4],[10,2,10,4],[11,2,11,4],[5,2,5,4],[6,2,6,4],[7,2,7,4],[12,2,12,4],[8,2,8,4],[13,2,13,4],[26,2,26,4],[27,2,27,4],[28,2,28,4],[29,2,29,4],[88,2,88,4],[89,2,89,4],[95,2,95,4],[96,2,96,4],[80,2,80,4],[94,2,94,4],[53,2,53,4],[54,2,54,4],[55,2,55,4],[56,2,56,4],[77,2,77,4],[57,2,57,4],[58,2,58,4],[67,2,67,4],[68,2,68,4],[69,2,69,4],[70,2,70,4],[85,2,85,4],[65,2,65,4],[62,2,62,4],[63,2,63,4],[64,2,64,4],[66,2,66,4],[59,2,59,4],[60,2,60,4],[61,2,61,4],[71,2,71,4],[83,2,83,4],[104,2,104,4],[103,2,103,4],[86,2,86,4],[87,2,87,4],[72,2,72,4],[76,2,76,4],[78,2,78,4],[81,2,81,4],[73,2,73,4],[74,2,74,4],[99,2,99,4],[100,2,100,4],[101,2,101,4],[84,2,84,4],[98,2,98,4],[97,2,97,4],[102,2,102,4],[93,2,93,4],[79,2,79,4],[82,2,82,4],[75,2,75,4],[90,2,90,4],[91,2,91,4],[92,2,92,4],[50,2,50,4],[51,2,51,4],[52,2,52,4],[23,2,23,4],[43,2,43,4],[44,2,44,4],[45,2,45,4],[46,2,46,4],[47,2,47,4],[25,2,25,4],[30,2,30,4],[32,2,32,4],[33,2,33,4],[38,2,38,4],[39,2,39,4],[40,2,40,4],[41,2,41,4],[35,2,35,4],[36,2,36,4],[37,2,37,4],[42,2,42,4],[34,2,34,4],[48,2,48,4],[49,2,49,4],[14,2,14,4],[15,2,15,4],[16,2,16,4],[17,2,17,4],[18,2,18,4],[19,2,19,4],[20,2,20,4],[21,2,21,4],[22,2,22,4],[105,2,105,4],[112,2,112,4],[110,2,110,4],[111,2,111,4],[108,2,108,4],[109,2,109,4],[106,2,106,4],[107,2,107,4],[121,2,121,4],[113,2,113,4],[114,2,114,4],[115,2,115,4],[116,2,116,4],[117,2,117,4],[118,2,118,4],[119,2,119,4],[120,2,120,4]]}
[null,"File Attachments",null,null,null,null,null,null,null,{"$f":"HYPERLINK(\"#'Index'!A1\",\"Return to Index\")","v":"Return to Index"}]
[]
[]
[null,null,null,null,null,null,null,null,null,"Input comment for each attached file here."]
[null,"1.","Declaration of Compliance",null,null,"<Attach file>","Attach","View","Remove",null,"Governance structure"]
[null,null,null,null,null,"<Attach file>","Attach","View","Remove",null,"Governance structure"]
[null,null,null,null,null,"<Attach file>","Attach","View","Remove",null,"Governance structure"]
[null,null,null,null,null,"<Attach file>","Attach","View","Remove",null,"Governance structure"]
[null,null,null,null,null,"<Attach file>","Attach","View","Remove",null,"Governance structure"]
[null,null,null,null,null,"<Attach file>","Attach","View","Remove",null,"Governance structure"]
[null,null,null,null,null,"<Attach file>","Attach","View","Remove",null,"Governance structure"]
[null,null,null,null,null,"<Attach file>","Attach","View","Remove",null,"Governance structure"]
[null,null,null,null,null,"<Attach file>","Attach","View","Remove","","Governance structure"]
[null,null,null,null,null,"<Attach file>","Attach","View","Remove","","Governance structure"]
[null,"2.","Declaration of Capital and Solvency Returns",null,null,"<Attach file>","Attach","View","Remove",null,"Governance structure"]
[null,null,null,null,null,"<Attach file>","Attach","View","Remove",null,"Governance structure"]
[null,null,null,null,null,"<Attach file>","Attach","View","Remove",null,"Governance structure"]
[null,null,null,null,null,"<Attach file>","Attach","View","Remove",null,"Governance structure"]
[null,null,null,null,null,"<Attach file>","Attach","View","Remove",null,"Governance structure"]
[null,null,null,null,null,"<Attach file>","Attach","View","Remove",null,"Governance structure"]
[null,null,null,null,null,"<Attach file>","Attach","View","Remove",null,"Governance structure"]
[null,null,null,null,null,"<Attach file>","Attach","View","Remove",null,"Governance structure"]
[null,null,null,null,null,"<Attach file>","Attach","View","Remove",null,"Governance structure"]
[null,null,null,null,null,"<Attach file>","Attach","View","Remove","","Governance structure"]
[null,"3.","Audited Financial Statements",null,null,"<Attach file>","Attach","View","Remove",null,"Intra-group exposures"]
[null,"3.",null,null,null,"<Attach file>","Attach","View","Remove",null,"Intra-group exposures"]
[null,"3.",null,null,null,"<Attach file>","Attach","View","Remove",null,"Intra-group exposures"]
[null,"3.",null,null,null,"<Attach file>","Attach","View","Remove",null,"Intra-group exposures"]
[null,"3.",null,null,null,"<Attach file>","Attach","View","Remove",null,"Intra-group exposures"]
[null,"3.",null,null,null,"<Attach file>","Attach","View","Remove",null,"Intra-group exposures"]
[null,"3.",null,null,null,"<Attach file>","Attach","View","Remove",null,"Intra-group exposures"]
[null,"3.",null,null,null,"<Attach file>","Attach","View","Remove",null,"Intra-group exposures"]
[null,"3.",null,null,null,"<Attach file>","Attach","View","Remove",null,"Intra-group exposures"]
[null,"3.",null,null,null,"<Attach file>","Attach","View","Remove","","Intra-group exposures"]
[null,"3.",null,null,null,"<Attach file>","Attach","View","Remove",null,"Description of the effective duration of assets and liabilities calculations and key assumptions"]
[null,"3.",null,null,null,"<Attach file>","Attach","View","Remove",null,"Description of the effective duration of assets and liabilities calculations and key assumptions"]
[null,"3.",null,null,null,"<Attach file>","Attach","View","Remove",null,"Description of the effective duration of assets and liabilities calculations and key assumptions"]
[null,"3.",null,null,null,"<Attach file>","Attach","View","Remove",null,"Description of the effective duration of assets and liabilities calculations and key assumptions"]
[null,"3.",null,null,null,"<Attach file>","Attach","View","Remove",null,"Description of the effective duration of assets and liabilities calculations and key assumptions"]
[null,"3.",null,null,null,"<Attach file>","Attach","View","Remove",null,"Description of the effective duration of assets and liabilities calculations and key assumptions"]
[null,"3.",null,null,null,"<Attach file>","Attach","View","Remove",null,"Description of the effective duration of assets and liabilities calculations and key assumptions"]
[null,"3.",null,null,null,"<Attach file>","Attach","View","Remove",null,"Description of the effective duration of assets and liabilities calculations and key assumptions"]
[null,"3.",null,null,null,"<Attach file>","Attach","View","Remove",null,"Description of the effective duration of assets and liabilities calculations and key assumptions"]
[null,"4.","Errors and Omissions Insurance policy",null,null,"<Attach file>","Attach","View","Remove",null,"Financial impact and description of stress & scenarios"]
[null,null,null,null,null,"<Attach file>","Attach","View","Remove",null,"Financial impact and description of stress & scenarios"]
[null,null,null,null,null,"<Attach file>","Attach","View","Remove",null,"Financial impact and description of stress & scenarios"]
[null,null,null,null,null,"<Attach file>","Attach","View","Remove",null,"Financial impact and description of stress & scenarios"]
[null,null,null,null,null,"<Attach file>","Attach","View","Remove",null,"Financial impact and description of stress & scenarios"]
[null,null,null,null,null,"<Attach file>","Attach","View","Remove",null,"Financial impact and description of stress & scenarios"]
[null,null,null,null,null,"<Attach file>","Attach","View","Remove",null,"Financial impact and description of stress & scenarios"]
[null,null,null,null,null,"<Attach file>","Attach","View","Remove",null,"Financial impact and description of stress & scenarios"]
[null,null,null,null,null,"<Attach file>","Attach","View","Remove",null,"Financial impact and description of stress & scenarios"]
[null,null,null,null,null,"<Attach file>","Attach","View","Remove",null,"Financial impact and description of stress & scenarios"]
[null,"5.","Results of stress testing of E&O policy",null,null,"<Attach file>","Attach","View","Remove",null,"Financial impact and description of stress & scenarios"]
[null,null,null,null,null,"<Attach file>","Attach","View","Remove",null,"Financial impact and description of stress & scenarios"]
[null,null,null,null,null,"<Attach file>","Attach","View","Remove",null,"Financial impact and description of stress & scenarios"]
[null,null,null,null,null,"<Attach file>","Attach","View","Remove",null,"Financial impact and description of stress & scenarios"]
[null,null,null,null,null,"<Attach file>","Attach","View","Remove",null,"Financial impact and description of stress & scenarios"]
[null,null,null,null,null,"<Attach file>","Attach","View","Remove",null,"Financial impact and description of stress & scenarios"]
[null,null,null,null,null,"<Attach file>","Attach","View","Remove",null,"Financial impact and description of stress & scenarios"]
[null,null,null,null,null,"<Attach file>","Attach","View","Remove",null,"Financial impact and description of stress & scenarios"]
[null,null,null,null,null,"<Attach file>","Attach","View","Remove",null,"Financial impact and description of stress & scenarios"]
[null,null,null,null,null,"<Attach file>","Attach","View","Remove",null,"Financial impact and description of stress & scenarios"]
[null,"6.","Opinion of Loss Reserve Specialist or Certificate of Approved Actuary",null,null,"<Attach file>","Attach","View","Remove",null,"Financial impact and description of stress & scenarios"]
[null,null,null,null,null,"<Attach file>","Attach","View","Remove",null,"Financial impact and description of stress & scenarios"]
[null,null,null,null,null,"<Attach file>","Attach","View","Remove",null,"Financial impact and description of stress & scenarios"]
[null,null,null,null,null,"<Attach file>","Attach","View","Remove",null,"Financial impact and description of stress & scenarios"]
[null,null,null,null,null,"<Attach file>","Attach","View","Remove",null,"Financial impact and description of stress & scenarios"]
[null,null,null,null,null,"<Attach file>","Attach","View","Remove",null,"Financial impact and description of stress & scenarios"]
[null,null,null,null,null,"<Attach file>","Attach","View","Remove",null,"Financial impact and description of stress & scenarios"]
[null,null,null,null,null,"<Attach file>","Attach","View","Remove",null,"Financial impact and description of stress & scenarios"]
[null,null,null,null,null,"<Attach file>","Attach","View","Remove",null,"Financial impact and description of stress & scenarios"]
[null,null,null,null,null,"<Attach file>","Attach","View","Remove",null,"Financial impact and description of stress & scenarios"]
[null,"7.","Other Attachments",null,null,"<Attach file>","Attach","View","Remove",null,"Investment policy"]
[null,null,null,null,null,"<Attach file>","Attach","View","Remove",null,"Investment policy"]
[null,null,null,null,null,"<Attach file>","Attach","View","Remove",null,"Investment policy"]
[null,null,null,null,null,"<Attach file>","Attach","View","Remove",null,"Investment policy"]
[null,null,null,null,null,"<Attach file>","Attach","View","Remove",null,"Investment policy"]
[null,null,null,null,null,"<Attach file>","Attach","View","Remove",null,"Investment policy"]
[null,null,null,null,null,"<Attach file>","Attach","View","Remove",null,"Investment policy"]
[null,null,null,null,null,"<Attach file>","Attach","View","Remove",null,"Investment policy"]
[null,null,null,null,null,"<Attach file>","Attach","View","Remove",null,"Investment policy"]
[null,null,null,null,null,"<Attach file>","Attach","View","Remove",null,"Investment policy"]
[null,"8.","Other Attachments",null,null,"<Attach file>","Attach","View","Remove",null,"Description of underwriting strategy"]
[null,null,null,null,null,"<Attach file>","Attach","View","Remove",null,"Description of underwriting strategy"]
[null,null,null,null,null,"<Attach file>","Attach","View","Remove",null,"Description of underwriting strategy"]
[null,null,null,null,null,"<Attach file>","Attach","View","Remove",null,"Description of underwriting strategy"]
[null,null,null,null,null,"<Attach file>","Attach","View","Remove",null,"Description of underwriting strategy"]
[null,null,null,null,null,"<Attach file>","Attach","View","Remove",null,"Description of underwriting strategy"]
[null,null,null,null,null,"<Attach file>","Attach","View","Remove",null,"Description of underwriting strategy"]
[null,null,null,null,null,"<Attach file>","Attach","View","Remove",null,"Description of underwriting strategy"]
[null,null,null,null,null,"<Attach file>","Attach","View","Remove",null,"Description of underwriting strategy"]
[null,null,null,null,null,"<Attach file>","Attach","View","Remove",null,"Description of underwriting strategy"]
[null,"9.","Other Attachments",null,null,"<Attach file>","Attach","View","Remove"]
[null,"10.","Other Attachments",null,null,"<Attach file>","Attach","View","Remove",null,"Financial impact and description of stress & scenarios"]
[null,null,null,null,null,"<Attach file>","Attach","View","Remove",null,"Financial impact and description of stress & scenarios"]
[null,null,null,null,null,"<Attach file>","Attach","View","Remove",null,"Financial impact and description of stress & scenarios"]
[null,null,null,null,null,"<Attach file>","Attach","View","Remove",null,"Financial impact and description of stress & scenarios"]
[null,null,null,null,null,"<Attach file>","Attach","View","Remove",null,"Financial impact and description of stress & scenarios"]
[null,null,null,null,null,"<Attach file>","Attach","View","Remove",null,"Financial impact and description of stress & scenarios"]
[null,null,null,null,null,"<Attach file>","Attach","View","Remove",null,"Financial impact and description of stress & scenarios"]
[null,null,null,null,null,"<Attach file>","Attach","View","Remove",null,"Financial impact and description of stress & scenarios"]
[null,null,null,null,null,"<Attach file>","Attach","View","Remove",null,"Financial impact and description of stress & scenarios"]
[null,null,null,null,null,"<Attach file>","Attach","View","Remove",null,"Financial impact and description of stress & scenarios"]
[null,null,null,null,null,"<Attach file>","Attach","View","Remove",null,"Description of the insurer's risk management program"]
[null,null,null,null,null,"<Attach file>","Attach","View","Remove",null,"Description of the insurer's risk management program"]
[null,null,null,null,null,"<Attach file>","Attach","View","Remove",null,"Description of the insurer's risk management program"]
[null,null,null,null,null,"<Attach file>","Attach","View","Remove",null,"Description of the insurer's risk management program"]
[null,null,null,null,null,"<Attach file>","Attach","View","Remove",null,"Description of the insurer's risk management program"]
[null,null,null,null,null,"<Attach file>","Attach","View","Remove",null,"Description of the insurer's risk management program"]
[null,null,null,null,null,"<Attach file>","Attach","View","Remove",null,"Description of the insurer's risk management program"]
[null,null,null,null,null,"<Attach file>","Attach","View","Remove",null,"Description of the insurer's risk management program"]
[null,null,null,null,null,"<Attach file>","Attach","View","Remove",null,"Description of the insurer's risk management program"]
[null,null,null,null,null,"<Attach file>","Attach","View","Remove",null,"Other Attachments"]
[null,null,null,null,null,"<Attach file>","Attach","View","Remove",null,"Other Attachments"]
[null,null,null,null,null,"<Attach file>","Attach","View","Remove",null,"Other Attachments"]
[null,null,null,null,null,"<Attach file>","Attach","View","Remove",null,"Other Attachments"]
[null,null,null,null,null,"<Attach file>","Attach","View","Remove",null,"Other Attachments"]
[null,null,null,null,null,"<Attach file>","Attach","View","Remove",null,"Other Attachments"]
[null,null,null,null,null,"<Attach file>","Attach","View","Remove",null,"Other Attachments"]
[null,null,null,null,null,"<Attach file>","Attach","View","Remove",null,"Other Attachments"]
[null,null,null,null,null,"<Attach file>","Attach","View","Remove",null,"Other Attachments"]

{"sheet":"FileStorage","index":9,"n_rows":0,"n_cols":0,"rows_kept":0,"cut":false,"hidden":true,"merged":[]}

{"sheet":"Declaration","index":10,"n_rows":89,"n_cols":16,"rows_kept":89,"cut":false,"hidden":false,"merged":[[0,0,0,2],[5,1,5,3]]}
["CAPITAL AND SOLVENCY RETURN DECLARATION",null,null,{"$f":"HYPERLINK(\"#'Index'!A1\",\"Return to Index\")","v":"Return to Index"},null,null,null,null,null,null,null,null,null,null,null,{"$f":"IF(C4=\"\",\"\",TEXT(DATE(YEAR(C4+1)-1,MONTH(C4+1),DAY(C4+1)),\"mm/dd/yyyy\"))","v":"01/01/2019"}]
[null,null,null,null,null,null,null,"",null,null,null,null,null,null,null,{"$f":"IF(C4=\"\",\"\",TEXT(C4,\"mm/dd/yyyy\"))","v":"12/31/2019"}]
[null,{"$f":"'Company Information'!C7","v":"Enter Company Name"}]
[null,"For the Year Ending ",{"$f":"'Company Information'!C3","v":"2019-12-31"},null,null,null,null,""]
[]
[null,"We declare that to the best of our knowledge and belief, the information in this Capital and Solvency Return fairly represents the financial condition of the Company in all material respects."]
[]
[]
[null,"Signatory:",null,null,null,null,"brrt_DeclarationSIgnatory"]
[]
[null,"Print Name:",{"$f":"+Import!E6","v":0},null,null,null,"brrt_DeclarationPrintName"]
[null,null,"Director",null,null,null,"brrt_DeclarationTitle"]
[null,null,null,null,null,null,""]
[null,"Date:",{"$f":"+Import!E7","v":"00:00:00"},null,null,null,"brrt_DeclarationDate"]
[null,null,null,null,null,null,"brrt_Declaration",{"$f":"XBRLMapTuple(G15,$P$1,$P$2,\"BMA\",CONFIGURATION!$B$1,\"bscr\",\"\",CONFIGURATION!$B$12,G12,C12,G9,C9,G11,C11,G14,C14)","v":"Mapped"}]
[]
[null,"Signatory:",null,null,null,null,"brrt_DeclarationSIgnatory"]
[]
[null,"Print Name:",{"$f":"+Import!E8","v":0},null,null,null,"brrt_DeclarationPrintName"]
[null,null,"Director",null,null,null,"brrt_DeclarationTitle"]
[null,null,null,null,null,null,""]
[null,"Date:",{"$f":"+Import!E9","v":"00:00:00"},null,null,null,"brrt_DeclarationDate"]
[null,null,null,null,null,null,"brrt_Declaration",{"$f":"XBRLMapTuple(G23,$P$1,$P$2,\"BMA\",CONFIGURATION!$B$1,\"bscr\",\"\",CONFIGURATION!$B$12,G20,C20,G17,C17,G19,C19,G22,C22)","v":"Mapped"}]
[null,"Signatory:",null,null,null,null,"brrt_DeclarationSIgnatory"]
[]
[null,"Print Name:",{"$f":"+Import!E10","v":0},null,null,null,"brrt_DeclarationPrintName"]
[null,null,"Principal Representative",null,null,null,"brrt_DeclarationTitle"]
[null,null,null,null,null,null,""]
[null,"Date:",{"$f":"+Import!E11","v":"00:00:00"},null,null,null,"brrt_DeclarationDate"]
[null,null,null,null,null,null,"brrt_Declaration",{"$f":"XBRLMapTuple(G30,$P$1,$P$2,\"BMA\",CONFIGURATION!$B$1,\"bscr\",\"\",CONFIGURATION!$B$12,G27,C27,G24,C24,G26,C26,G29,C29)","v":"Mapped"}]
[null,"Insurer Name:",{"$f":"B3","v":"Enter Company Name"}]
[]
[null,"Year-end:",{"$f":"C4","v":"2019-12-31"}]
[]
[]
[]
[]
[]
[]
[]
[]
[]
[]
[]
[]
[]
[]
[]
[]
[]
[]
[]
[]
[]
[]
[]
[]
[]
[]
[]
[]
[]
[]
[]
[]
[]
[]
[]
[]
[]
[]
[]
[]
[]
[]
[]
[]
[]
[]
[]
[]
[]
[]
[]
[]
[]
[]
[]
[null,null,null,null,null,null,null,""]

{"sheet":"Information Sheet","index":11,"n_rows":131,"n_cols":12,"rows_kept":131,"cut":false,"hidden":false,"merged":[[8,2,9,6],[42,2,44,6],[86,2,87,6],[88,2,90,6],[28,2,28,6],[31,2,31,6]]}
[null,"Insurer Information Sheet",null,null,null,null,null,{"$f":"HYPERLINK(\"#'Index'!A1\",\"Return to Index\")","v":"Return to Index"}]
[]
[null,"(a)","Name of Insurer:",null,null,null,null,{"$f":"+'Company Information'!C7","v":"Enter Company Name"}]
[]
[null,"(b)","Certificate of Registration Number",null,null,null,null,{"$f":"+'Company Information'!F9","v":0}]
[]
[null,"(c)","Class of Registration:",null,null,null,null,{"$f":"+'Company Information'!F11","v":"Collateralized Insurers"},null,null,"brrt_DeclarationSIgnatory"]
[]
[null,"(d)","Statements are available at the insurer's registered office in Bermuda pursuant to section 17(1) or, as the case may be, have been filed pursuant to section 17(3) of the Act",null,null,null,null,{"$f":"Import!E13","v":"Select Yes/No"}]
[]
[]
[null,"(e)","Filing Period:",null,null,null,null,null,null,null,"brrt_DeclarationPrintName"]
[null,null,"Period Start Date:",null,null,null,null,{"$f":"Import!E14","v":"00:00:00"},null,null,"brrt_DeclarationTitle"]
[null,null,"Period End Date:",null,null,null,null,{"$f":"+'Company Information'!C3","v":"2019-12-31"}]
[]
[null,"(f)","Currency used in the statutory financial statements:",null,null,null,null,{"$f":"+'Form 1SFS GB'!C5","v":"United States Dollars"}]
[null,null,null,null,null,null,null,null,null,null,""]
[null,"(g)","To prepare this return, the figures extracted were translated into Bermuda Dollars at",null,null,null,null,{"$f":"Import!E15","v":1}]
[]
[null,"(h)","Ultimate Parent",null,null,null,null,{"$f":"Import!E16","v":0},null,null,"brrt_DeclarationPrintName"]
[null,null,null,null,null,null,null,null,null,null,"brrt_DeclarationTitle"]
[null,"(i)","Insurer's Parent Company",null,null,null,null,{"$f":"Import!E17","v":0},null,null,"brrt_DeclarationSIgnatory"]
[]
[null,"(j)","Industry Sector of the Insurer's Parent",null,null,null,null,{"$f":"Import!E18","v":"Select from Drop-Down"}]
[null,null,null,null,null,null,null,null,null,null,"brrt_DeclarationPrintName"]
[null,"(k)","Insurer's Ownership Structure",null,null,null,null,{"$f":"Import!E19","v":"Select from Drop-Down"},null,null,"brrt_DeclarationDate"]
[null,null,null,null,null,null,null,null,null,null,"brrt_Declaration",{"$f":"XBRLMapTuple(K27,$T$1,#REF!,\"BMA\",CONFIGURATION!$B$1,\"bscr\",\"\",CONFIGURATION!$B$12,K28,D28,#REF!,#REF!,K25,D25,K26,D26)","v":{"$error":"#VALUE!"}}]
[null,"(l)","Insurer's Company Structure",null,null,null,null,{"$f":"Import!E20","v":"Select from Drop-Down"},null,null,"brrt_DeclarationTitle"]
[null,"(l).1","Confirm if the Company has written or currently writes Long-Term insurance",null,null,null,null,{"$f":"Import!E21","v":"Select Yes/No"}]
[null,"(l).2","Did the Company actively write Long-Term insurance business during the financial period",null,null,null,null,{"$f":"Import!E22","v":"Select Yes/No"}]
[null,"(l).3","If the Company has subsidiaries, confirm if the subsidiaries wrote Long-Term insurane business durign the financial period",null,null,null,null,{"$f":"Import!E23","v":"Select Yes/No"}]
[null,"(l).4","If the subsidiaries wrote Long-Term insurance business during the financial period, confirm if the subsidiaries are in another jurisdication outside of Bermuda",null,null,null,null,{"$f":"Import!E24","v":"Select Yes/No"}]
[null,"(l).5","If other jurisdictions outside of Bermuda, list the jurisdictions",null,null,null,null,{"$f":"Import!E25","v":0}]
[null,null,null,null,null,null,null,{"$f":"Import!E26","v":0}]
[null,null,null,null,null,null,null,{"$f":"Import!E27","v":0}]
[]
[null,"(m)","General Questions",null,null,null,null,null,null,null,""]
[null,null,"(i) Is the Insurer a member of a group?",null,null,null,null,{"$f":"Import!E28","v":"Select Yes/No"},null,null,"brrt_DeclarationDate"]
[null,null,"(ii) Does the Insurer have segregated accounts?",null,null,null,null,{"$f":"Import!E29","v":"Select Yes/No"},null,null,"brrt_Declaration",{"$f":"XBRLMapTuple(K39,$T$1,#REF!,\"BMA\",CONFIGURATION!$B$1,\"bscr\",\"\",CONFIGURATION!$B$12,K21,D21,K22,D22,K20,D20,K38,D38)","v":{"$error":"#VALUE!"}}]
[null,null,"(iii) Is the insurer in run-off?",null,null,null,null,{"$f":"Import!E30","v":"Select Yes/No"}]
[null,null,"(iv) Whether the general purpose financial statements of the insurer for the relevant year have been audited and/or an unqualified opinion issued",null,null,null,null,{"$f":"Import!E31","v":"Select Yes/No"}]
[null,null,"If a qualified opinion was issued, indicate the qualification:"]
[null,null,{"$f":"Import!E32","v":0}]
[]
[]
[null,null,"(v) The minimum solvency margin was met:",null,null,null,null,{"$f":"Import!E33","v":"Select Yes/No"}]
[null,null,"(vi) The applicable minimum liquidity ratio was met during the reporting period:",null,null,null,null,{"$f":"Import!E34","v":"Select Yes/No"}]
[]
[null,"(n)","Certificate of Registration Conditions"]
[]
[null,1,"Certificate of Registration for General Business - Effective Date",null,null,null,null,{"$f":"IF(+'Company Information'!C11=0,\"\",+'Company Information'!C11)","v":""}]
[]
[null,2,"Certificate of Registration for General Business - General Conditions (Enter Number of Conditions)",null,null,null,null,{"$f":"Import!E36","v":0}]
[]
[null,null,null,null,"Effective Start Date","Effective End Date","Condition Description"]
[null,null,null,1,{"$f":"Import!E37","v":"00:00:00"},{"$f":"Import!E47","v":"00:00:00"},{"$f":"Import!E57","v":0}]
[null,null,null,{"$f":"D56+1","v":2},{"$f":"Import!E38","v":"00:00:00"},{"$f":"Import!E48","v":"00:00:00"},{"$f":"Import!E58","v":0}]
[null,null,null,{"$f":"D57+1","v":3},{"$f":"Import!E39","v":"00:00:00"},{"$f":"Import!E49","v":"00:00:00"},{"$f":"Import!E59","v":0}]
[null,null,null,4,{"$f":"Import!E40","v":"00:00:00"},{"$f":"Import!E50","v":"00:00:00"},{"$f":"Import!E60","v":0}]
[null,null,null,5,{"$f":"Import!E41","v":"00:00:00"},{"$f":"Import!E51","v":"00:00:00"},{"$f":"Import!E61","v":0}]
[null,null,null,6,{"$f":"Import!E42","v":"00:00:00"},{"$f":"Import!E52","v":"00:00:00"},{"$f":"Import!E62","v":0}]
[null,null,null,7,{"$f":"Import!E43","v":"00:00:00"},{"$f":"Import!E53","v":"00:00:00"},{"$f":"Import!E63","v":0}]
[null,null,null,8,{"$f":"Import!E44","v":"00:00:00"},{"$f":"Import!E54","v":"00:00:00"},{"$f":"Import!E64","v":0}]
[null,null,null,9,{"$f":"Import!E45","v":"00:00:00"},{"$f":"Import!E55","v":"00:00:00"},{"$f":"Import!E65","v":0}]
[null,null,null,10,{"$f":"Import!E46","v":"00:00:00"},{"$f":"Import!E56","v":"00:00:00"},{"$f":"Import!E66","v":0}]
[]
[null,"(o)","The insurer has complied with conditions on Certificate of Registration",null,null,null,null,{"$f":"Import!E67","v":"Select Yes/No"}]
[]
[null,"(p)","Regulatory Approvals"]
[]
[null,1,"Regulatory - Approved Direction (Enter Number of Directions)",null,null,null,null,{"$f":"Import!E68","v":0}]
[]
[null,null,null,null,"Effective Start Date","Effective End Date","Direction Description"]
[null,null,null,1,{"$f":"Import!E69","v":"00:00:00"},{"$f":"Import!E79","v":"00:00:00"},{"$f":"Import!E89","v":0}]
[null,null,null,{"$f":"D74+1","v":2},{"$f":"Import!E70","v":"00:00:00"},{"$f":"Import!E80","v":"00:00:00"},{"$f":"Import!E90","v":0}]
[null,null,null,{"$f":"D75+1","v":3},{"$f":"Import!E71","v":"00:00:00"},{"$f":"Import!E81","v":"00:00:00"},{"$f":"Import!E91","v":0}]
[null,null,null,4,{"$f":"Import!E72","v":"00:00:00"},{"$f":"Import!E82","v":"00:00:00"},{"$f":"Import!E92","v":0}]
[null,null,null,5,{"$f":"Import!E73","v":"00:00:00"},{"$f":"Import!E83","v":"00:00:00"},{"$f":"Import!E93","v":0}]
[null,null,null,6,{"$f":"Import!E74","v":"00:00:00"},{"$f":"Import!E84","v":"00:00:00"},{"$f":"Import!E94","v":0}]
[null,null,null,7,{"$f":"Import!E75","v":"00:00:00"},{"$f":"Import!E85","v":"00:00:00"},{"$f":"Import!E95","v":0}]
[null,null,null,8,{"$f":"Import!E76","v":"00:00:00"},{"$f":"Import!E86","v":"00:00:00"},{"$f":"Import!E96","v":0}]
[null,null,null,9,{"$f":"Import!E77","v":"00:00:00"},{"$f":"Import!E87","v":"00:00:00"},{"$f":"Import!E97","v":0}]
[null,null,null,10,{"$f":"Import!E78","v":"00:00:00"},{"$f":"Import!E88","v":"00:00:00"},{"$f":"Import!E98","v":0}]
[]
[]
[]
[null,"(q)","If any question in points (m)(v), (m)(vi) or (o) has been answered in the negative, state the reason for negative answer and describe whether or not the insurer has taken corrective action in any case and, where the insurer has taken such action, describe the action in a statement attached ",null,null,null,null,{"$f":"Import!E99","v":"Select Yes/No"}]
[]
[null,null,{"$f":"Import!E100","v":0}]
[]
[]
[]
[]
[null,null,null,null,null,null,null,null,null,null,null,""]
[null,"Industry Sector","Type of Company"]
[null,"Select from Drop-Down","Select from Drop-Down"]
[null,"Administrative and Support Services","Pure Captive"]
[null,"Agriculture, Mining, Forestry and Fishing","Rent-a-Captive"]
[null,"Automotive, Manufacturing and Retail","Agency Captive"]
[null,"Charities & Non-profit Organisations","Group Captive"]
[null,"Chemical and Pharmaceutical","Association Captive"]
[null,"Construction","Risk Retention Group"]
[null,"Education","Insurer/Reinsurer"]
[null,"Energy, Power and Utilities"]
[null,"Financial Institution"]
[null,"Government or Public Sector"]
[null,"Healthcare"]
[null,"Hospitality"]
[null,"Leisure"]
[null,"Media and Gaming"]
[null,"Professional Services"]
[null,"Science and Research"]
[null,"Shipping, Transport & Storage"]
[null,"Technology and Telecoms"]
[null,"Wholesale and Retail"]
[]
[null,"Ownership"]
[null,"Select from Drop-Down"]
[null,"Mutual"]
[null,"Shares"]
[null,"Partnership"]
[null,"Government or Government Agency"]
[null,"Limited Partnership"]
[null,"Permit/Branch"]
[null,"Trust"]
[]
[null,"General Questions"]
[null,"Select Yes/No"]
[null,"Yes"]
[null,"No"]
[null,"N/A"]

{"sheet":"Financial Condition","index":12,"n_rows":477,"n_cols":10,"rows_kept":477,"cut":false,"hidden":true,"merged":[[385,1,387,5],[380,1,382,5],[449,1,451,5],[443,1,443,5],[444,1,446,5],[439,1,441,5],[438,1,438,5],[422,1,424,5],[431,1,431,5],[434,1,436,5],[427,1,428,5],[390,1,392,5],[402,1,404,5],[407,1,409,5],[412,1,414,5],[417,1,419,5],[397,1,399,5],[313,1,315,5],[296,1,297,5],[317,1,317,5],[347,1,349,5],[371,1,371,5],[362,1,364,5],[367,1,369,5],[308,1,310,5],[323,1,325,5],[303,1,305,5],[321,1,322,5],[334,1,336,5],[332,1,333,5],[352,1,354,5],[357,1,359,5],[285,1,287,5],[256,1,257,5],[289,1,289,5],[292,1,294,5],[298,1,300,5],[275,1,277,5],[280,1,282,5],[270,1,272,5],[260,1,262,5],[265,1,267,5],[203,1,205,5],[208,1,210,5],[215,1,217,5],[220,1,222,5],[227,1,229,5],[252,1,254,5],[115,1,117,5],[121,1,123,5],[163,1,165,5],[345,1,346,5],[158,1,160,5],[234,1,236,5],[168,1,170,5],[173,1,175,5],[185,1,187,5],[180,1,182,5],[192,1,194,5],[198,1,200,5],[196,1,197,5],[241,1,243,5],[246,1,248,5],[70,1,70,2],[71,1,71,2],[72,1,72,2],[73,1,73,2],[74,1,74,2],[75,1,75,2],[76,1,76,2],[77,1,77,2],[78,1,78,2],[79,1,79,2],[85,1,85,2],[86,1,86,2],[87,1,87,2],[80,1,80,2],[81,1,81,2],[82,1,82,2],[83,1,83,2],[84,1,84,2]]}
[null,"SCHEDULE OF FINANCIAL CONDITION REPORT"]
["i)","Business and Performance - particulars regarding the organisational structure, insurance business activities and financial performance "]
[]
["(a)","Name of the insurer:"]
[null,null,null,null,null,{"$f":"+'Company Information'!C7","v":"Enter Company Name"}]
["(b)","Name and contact details of the insurance supervisor and group supervisor"]
[null,null,null,"Insurance Supervisor",null,"Group Supervisor"]
[null,"Name:"]
[null,"Jurisdiction:"]
[null,"Email Address:"]
[null,"Phone Number:"]
[]
["(c)","Name and contact details of the Approved Auditor"]
[]
[null,"Organisation:"]
[null,"Name:"]
[null,"Jurisdiction:"]
[null,"Email Address:"]
[null,"Phone Number:"]
[]
["(d)","Ownership details: ",null,null,null,"Enter Number of Owners"]
[]
[null,null,null,"Owner Name",null,"Ownership Percentage"]
[null,null,1]
[null,null,{"$f":"C24+1","v":2}]
[null,null,{"$f":"C25+1","v":3}]
[null,null,4]
[null,null,5]
[null,null,6]
[null,null,7]
[null,null,8]
[null,null,9]
[null,null,10]
[null,null,11]
[null,null,12]
[null,null,13]
[null,null,14]
[null,null,{"$f":"C37+1","v":15}]
[]
["(e)","Where the insurer is part of a group, a group structure chart showing where the insurer fits within the group structure"]
[]
["(f)","Insurance business written by business segment and by geographical region during the reporting period:"]
[null,"Line of Business",null,"Gross Premium Written",null,"Net Premium Written"]
[1,"Property Catastrophe",null,{"$f":"+#REF!","v":{"$error":"#REF!"}},null,{"$f":"+#REF!","v":{"$error":"#REF!"}}]
[2,"Property",null,{"$f":"+#REF!","v":{"$error":"#REF!"}},null,{"$f":"+#REF!","v":{"$error":"#REF!"}}]
[3,"Property Non – Proportional",null,{"$f":"+#REF!","v":{"$error":"#REF!"}},null,{"$f":"+#REF!","v":{"$error":"#REF!"}}]
[4,"Personal Accident",null,{"$f":"+#REF!","v":{"$error":"#REF!"}},null,{"$f":"+#REF!","v":{"$error":"#REF!"}}]
[5,"Personal Accident Non- Proportional",null,{"$f":"+#REF!","v":{"$error":"#REF!"}},null,{"$f":"+#REF!","v":{"$error":"#REF!"}}]
[6,"Aviation",null,{"$f":"+#REF!","v":{"$error":"#REF!"}},null,{"$f":"+#REF!","v":{"$error":"#REF!"}}]
[7,"Aviation Non – Proportional",null,{"$f":"+#REF!","v":{"$error":"#REF!"}},null,{"$f":"+#REF!","v":{"$error":"#REF!"}}]
[8,"Credit / Surety ",null,{"$f":"+#REF!","v":{"$error":"#REF!"}},null,{"$f":"+#REF!","v":{"$error":"#REF!"}}]
[9,"Credit / Surety Non – Proportional",null,{"$f":"+#REF!","v":{"$error":"#REF!"}},null,{"$f":"+#REF!","v":{"$error":"#REF!"}}]
[10,"Energy Offshore / Marine",null,{"$f":"+#REF!","v":{"$error":"#REF!"}},null,{"$f":"+#REF!","v":{"$error":"#REF!"}}]
[11,"Energy Offshore / Marine Non - Proportional ",null,{"$f":"+#REF!","v":{"$error":"#REF!"}},null,{"$f":"+#REF!","v":{"$error":"#REF!"}}]
[12,"US Casualty",null,{"$f":"+#REF!","v":{"$error":"#REF!"}},null,{"$f":"+#REF!","v":{"$error":"#REF!"}}]
[13,"US Casualty Non - Proportional ",null,{"$f":"+#REF!","v":{"$error":"#REF!"}},null,{"$f":"+#REF!","v":{"$error":"#REF!"}}]
[14,"US Professional",null,{"$f":"+#REF!","v":{"$error":"#REF!"}},null,{"$f":"+#REF!","v":{"$error":"#REF!"}}]
[15,"US Professional Non – Proportional",null,{"$f":"+#REF!","v":{"$error":"#REF!"}},null,{"$f":"+#REF!","v":{"$error":"#REF!"}}]
[16,"US Specialty ",null,{"$f":"+#REF!","v":{"$error":"#REF!"}},null,{"$f":"+#REF!","v":{"$error":"#REF!"}}]
[17,"US Specialty Non - Proportional",null,{"$f":"+#REF!","v":{"$error":"#REF!"}},null,{"$f":"+#REF!","v":{"$error":"#REF!"}}]
[18,"International Motor ",null,{"$f":"+#REF!","v":{"$error":"#REF!"}},null,{"$f":"+#REF!","v":{"$error":"#REF!"}}]
[19,"International Motor Non – Proportional",null,{"$f":"+#REF!","v":{"$error":"#REF!"}},null,{"$f":"+#REF!","v":{"$error":"#REF!"}}]
[20,"International Casualty Non – Motor ",null,{"$f":"+#REF!","v":{"$error":"#REF!"}},null,{"$f":"+#REF!","v":{"$error":"#REF!"}}]
[21,"International Casualty Non Motor Non – Proportional ",null,{"$f":"+#REF!","v":{"$error":"#REF!"}},null,{"$f":"+#REF!","v":{"$error":"#REF!"}}]
[22,"Retro Property",null,{"$f":"+#REF!","v":{"$error":"#REF!"}},null,{"$f":"+#REF!","v":{"$error":"#REF!"}}]
[23,"Structured / Finite Reinsurance",null,{"$f":"+#REF!","v":{"$error":"#REF!"}},null,{"$f":"+#REF!","v":{"$error":"#REF!"}}]
[24,"Health",null,{"$f":"+#REF!","v":{"$error":"#REF!"}},null,{"$f":"+#REF!","v":{"$error":"#REF!"}}]
[25,"Total ",null,{"$f":"SUM(D44:D67)","v":{"$error":"#REF!"}},null,{"$f":"SUM(F44:F67)","v":{"$error":"#REF!"}}]
[]
[null,"Geographical Location",null,"Gross Premium Written"]
[1,{"$f":"HYPERLINK(\"#'Zones'!c4\",\"Central & Western Asia\")","v":"Central & Western Asia"}]
[2,{"$f":"HYPERLINK(\"#'Zones'!c13\",\"Eastern Asia\")","v":"Eastern Asia"}]
[3,{"$f":"HYPERLINK(\"#'Zones'!c18\",\"South and South-Eastern Asia\")","v":"South and South-Eastern Asia"}]
[4,{"$f":"HYPERLINK(\"#'Zones'!c26\",\"Oceania\")","v":"Oceania"}]
[5,{"$f":"HYPERLINK(\"#'Zones'!c36\",\"Nothern Africa\")","v":"Nothern Africa"}]
[6,{"$f":"HYPERLINK(\"#'Zones'!c46\",\"Southern Africa\")","v":"Southern Africa"}]
[7,{"$f":"HYPERLINK(\"#'Zones'!c57\",\"Eastern Europe\")","v":"Eastern Europe"}]
[8,{"$f":"HYPERLINK(\"#'Zones'!c68\",\"Nothern Europe\")","v":"Nothern Europe"}]
[9,{"$f":"HYPERLINK(\"#'Zones'!c76\",\"Southern Europe\")","v":"Southern Europe"}]
[10,{"$f":"HYPERLINK(\"#'Zones'!c84\",\"Western Europe\")","v":"Western Europe"}]
[11,{"$f":"HYPERLINK(\"#'Zones'!c90\",\"Nothern America (Excluding USA)\")","v":"Nothern America (Excluding USA)"}]
[12,{"$f":"HYPERLINK(\"#'Zones'!c94\",\"Caribean & Centeral America\")","v":"Caribean & Centeral America"}]
[13,{"$f":"HYPERLINK(\"#'Zones'!c107\",\"Eastern South America\")","v":"Eastern South America"}]
[14,{"$f":"HYPERLINK(\"#'Zones'!c112\",\"Nothern, Southern, and Western South America\")","v":"Nothern, Southern, and Western South America"}]
[15,{"$f":"HYPERLINK(\"#'Zones'!c116\",\"North-East United States\")","v":"North-East United States"}]
[16,{"$f":"HYPERLINK(\"#'Zones'!c121\",\"South-East United States\")","v":"South-East United States"}]
[17,{"$f":"HYPERLINK(\"#'Zones'!c127\",\"Mid-West United States\")","v":"Mid-West United States"}]
[18,{"$f":"HYPERLINK(\"#'Zones'!c133\",\"Western United States\")","v":"Western United States"}]
[null,"TOTAL",null,{"$f":"SUM(D71:D88)","v":0}]
[]
["(g)","Performance  of  investments during the reporting period:"]
[null,null,null,"Market Value",null,"Performance"]
[1,{"$f":"+#REF!","v":{"$error":"#REF!"}}]
[null,{"$f":"+#REF!","v":{"$error":"#REF!"}},null,{"$f":"#REF!","v":{"$error":"#REF!"}}]
[null,{"$f":"+#REF!","v":{"$error":"#REF!"}},null,{"$f":"#REF!","v":{"$error":"#REF!"}}]
[null,{"$f":"+#REF!","v":{"$error":"#REF!"}},null,{"$f":"#REF!","v":{"$error":"#REF!"}}]
[2,{"$f":"+#REF!","v":{"$error":"#REF!"}},null,{"$f":"#REF!","v":{"$error":"#REF!"}}]
[3,{"$f":"+#REF!","v":{"$error":"#REF!"}},null,{"$f":"#REF!","v":{"$error":"#REF!"}}]
[4,{"$f":"+#REF!","v":{"$error":"#REF!"}}]
[null,{"$f":"+#REF!","v":{"$error":"#REF!"}},null,{"$f":"#REF!","v":{"$error":"#REF!"}}]
[null,{"$f":"+#REF!","v":{"$error":"#REF!"}},null,{"$f":"#REF!","v":{"$error":"#REF!"}}]
[null,{"$f":"+#REF!","v":{"$error":"#REF!"}},null,{"$f":"#REF!","v":{"$error":"#REF!"}}]
[null,{"$f":"+#REF!","v":{"$error":"#REF!"}},null,{"$f":"#REF!","v":{"$error":"#REF!"}}]
[5,{"$f":"+#REF!","v":{"$error":"#REF!"}},null,{"$f":"#REF!","v":{"$error":"#REF!"}}]
[6,{"$f":"+#REF!","v":{"$error":"#REF!"}}]
[null,{"$f":"+#REF!","v":{"$error":"#REF!"}},null,{"$f":"#REF!","v":{"$error":"#REF!"}}]
[null,{"$f":"+#REF!","v":{"$error":"#REF!"}},null,{"$f":"#REF!","v":{"$error":"#REF!"}}]
[null,{"$f":"+#REF!","v":{"$error":"#REF!"}},null,{"$f":"#REF!","v":{"$error":"#REF!"}}]
[7,{"$f":"+#REF!","v":{"$error":"#REF!"}},null,{"$f":"#REF!","v":{"$error":"#REF!"}}]
[8,{"$f":"+#REF!","v":{"$error":"#REF!"}},null,{"$f":"#REF!","v":{"$error":"#REF!"}}]
[9,{"$f":"+#REF!","v":{"$error":"#REF!"}},null,{"$f":"#REF!","v":{"$error":"#REF!"}}]
[10,{"$f":"+#REF!","v":{"$error":"#REF!"}},null,{"$f":"#REF!","v":{"$error":"#REF!"}}]
[null,{"$f":"+#REF!","v":{"$error":"#REF!"}},null,{"$f":"SUM(D93:D112)","v":{"$error":"#REF!"}}]
[]
[null,"Details  on  material income and expenses incurred"]
[]
[]
[]
[]
["(h)","Any other material information:"]
[]
[]
[]
[]
[]
["ii)","Governance Structure - particulars of corporate governance, risk management and solvency self-assessment frameworks"]
[]
["(a)","Board and Senior Executive:"]
[]
["i.","Directors",null,null,null,{"$f":"'Schedule V(a)'!D8","v":0}]
[]
[null,"Name","Board Position"]
[1,{"$f":"'Schedule V(a)'!C12","v":0},{"$f":"'Schedule V(a)'!D12","v":0}]
[{"$f":"A133+1","v":2},{"$f":"'Schedule V(a)'!C13","v":0},{"$f":"'Schedule V(a)'!D13","v":0}]
[{"$f":"A134+1","v":3},{"$f":"'Schedule V(a)'!C14","v":0},{"$f":"'Schedule V(a)'!D14","v":0}]
[4,{"$f":"'Schedule V(a)'!C15","v":0},{"$f":"'Schedule V(a)'!D15","v":0}]
[5,{"$f":"'Schedule V(a)'!C16","v":0},{"$f":"'Schedule V(a)'!D16","v":0}]
[6,{"$f":"'Schedule V(a)'!C17","v":0},{"$f":"'Schedule V(a)'!D17","v":0}]
[7,{"$f":"'Schedule V(a)'!C18","v":0},{"$f":"'Schedule V(a)'!D18","v":0}]
[8,{"$f":"'Schedule V(a)'!C19","v":0},{"$f":"'Schedule V(a)'!D19","v":0}]
[{"$f":"A140+1","v":9},{"$f":"'Schedule V(a)'!C20","v":0},{"$f":"'Schedule V(a)'!D20","v":0}]
[{"$f":"A141+1","v":10},{"$f":"'Schedule V(a)'!C21","v":0},{"$f":"'Schedule V(a)'!D21","v":0}]
[]
[null,"Officers",null,null,null,{"$f":"'Schedule V(a)'!D33","v":0}]
[]
[null,"Name","Board Position","Responsibilities"]
[1,{"$f":"'Schedule V(a)'!C37","v":0},{"$f":"'Schedule V(a)'!D37","v":0}]
[{"$f":"A147+1","v":2},{"$f":"'Schedule V(a)'!C38","v":0},{"$f":"'Schedule V(a)'!D38","v":0}]
[{"$f":"A148+1","v":3},{"$f":"'Schedule V(a)'!C39","v":0},{"$f":"'Schedule V(a)'!D39","v":0}]
[4,{"$f":"'Schedule V(a)'!C40","v":0},{"$f":"'Schedule V(a)'!D40","v":0}]
[5,{"$f":"'Schedule V(a)'!C41","v":0},{"$f":"'Schedule V(a)'!D41","v":0}]
[6,{"$f":"'Schedule V(a)'!C42","v":0},{"$f":"'Schedule V(a)'!D42","v":0}]
[7,{"$f":"'Schedule V(a)'!C43","v":0},{"$f":"'Schedule V(a)'!D43","v":0}]
[8,{"$f":"'Schedule V(a)'!C44","v":0},{"$f":"'Schedule V(a)'!D44","v":0}]
[9,{"$f":"'Schedule V(a)'!C45","v":0},{"$f":"'Schedule V(a)'!D45","v":0}]
[10,{"$f":"'Schedule V(a)'!C46","v":0},{"$f":"'Schedule V(a)'!D46","v":0}]
[]
[null,"Description of segregation of these responsibilities"]
[]
[]
[]
[]
["ii.","Description of remuneration policy and practices and performance- based criteria governing the board, senior executive and employees"]
[]
[]
[]
[]
["iii.","Description of the supplementary pension or early retirement schemes for members, the board and senior executive"]
[]
[]
[]
[]
["iv.","Any material transactions with shareholder controllers, persons who exercise significant influence, the board or senior executive"]
[]
[]
[]
[]
["(b)","Fitness and Propriety Requirements"]
[]
["i.","Description of the fit and proper process in assessing the board and senior executive"]
[]
[]
[]
[]
["ii.","Description of the professional qualifications, skills, and expertise of the board and senior executives to carry out their functions"]
[]
[]
[]
[]
["(c)","Risk Management and Solvency Self-Assessment"]
[]
["i.","Description of  the risk management process and procedures to effectively identify, measure, manage and report on risk exposures"]
[]
[]
[]
[]
["ii.","Description of how the risk management and solvency self- assessment systems are implemented and integrated into the insurer’s operations; including strategic planning and organisational and decision making process"]
[]
[]
[]
[]
[]
["iii.","Description of the relationship between the solvency self- assessment, solvency needs, and capital and risk management systems"]
[]
[]
[]
[]
["iv.","Description of the solvency self-assessment approval process including the level of oversight and independent verification by the board and senior executives"]
[]
[]
[]
[]
["(d)","Internal Controls"]
[]
["i.","Description of the internal control system"]
[]
[]
[]
[]
["ii.","Description of how the compliance function is executed"]
[]
[]
[]
[]
["(e)","Internal Audit"]
[]
[null,"Description of how the internal audit function is implemented and how it maintains its independence and objectivity when conducting its functions"]
[]
[]
[]
[]
["(f)","Actuarial Function"]
[]
[null,"Description of how the actuarial function is implemented"]
[]
[]
[]
[]
["(g)","Outsourcing"]
[]
["i.","Description of the outsourcing policy and information on any key or important functions that have been outsourced"]
[]
[]
[]
[]
["ii.","Description of material intra-group outsourcing"]
[]
[]
[]
[]
["(h)","Any other material information:"]
[]
[]
[]
[]
[]
["iii)","Risk Profile - particulars on exposures on underwriting risk, market risk including off balance sheet exposures, credit risk, liquidity risk, operational risk and other material risks"]
[]
[]
["(a)","Material risks that the insurer is exposed to, including how these risks are measured and any material changes that have occurred during the reporting period:"]
[]
[]
[]
[]
["(b)","How risks are mitigated including the methods used and the process to monitor the effectiveness of these methods"]
[]
[]
[]
[]
["(c)","Material risk concentrations"]
[]
[]
[]
[]
["(d)","How assets are invested in accordance with the prudent person principle as stated in Paragraph 5.1.2 of the Code"]
[]
[]
[]
[]
["(e)","The stress testing and sensitivity analysis to assess material risks, including the methods and assumptions used, and the outcomes"]
[]
[]
[]
[]
["(f)","Any other material information:"]
[]
[]
[]
[]
["iv)","Solvency Valuation - particulars of the valuation bases, methods and assumptions on the inputs used to determine solvency"]
[]
["(a)","The valuation bases, assumptions and methods used to derive the value of each asset class"]
[]
[]
[]
[]
["(b)","The valuation bases, assumptions and methods used to derive the value of technical provisions and the amount of the best estimate. The amount of the risk margin as well as the level of uncertainty to determine the value of the technical provisions should be included"]
[]
[]
[]
[]
[]
["(c)","Description of recoverables from reinsurance contracts, including special purpose insurers and other risk transfer mechanisms"]
[]
[]
[]
[]
["(d)","The valuation bases, assumptions and methods used to derive the value of other liabilities"]
[]
[]
[]
[]
["(e)","Any other material information:"]
[]
[]
[]
[]
["v)","Capital Management - particulars regarding an assessment of capital needs and regulatory capital requirements"]
[]
["(a)","Eligible Capital"]
[]
["i.","Description of the capital management policy and process to determine capital needs for business planning, how capital is managed and any material changes during the reporting period"]
[]
[]
[]
[]
[]
["ii.","Eligible Capital"]
[null,"Tier 1",null,null,null,{"$f":"+#REF!","v":{"$error":"#REF!"}}]
[null,"Tier 2",null,null,null,{"$f":"+#REF!","v":{"$error":"#REF!"}}]
[null,"Tier 3",null,null,null,{"$f":"+#REF!","v":{"$error":"#REF!"}}]
[null,"Total",null,null,null,{"$f":"SUM(F329:F331)","v":{"$error":"#REF!"}}]
[null,"Description of the eligible capital categorised by tiers in accordance with the Eligible Capital Rules"]
[]
[]
[]
[]
[]
["iii.","Eligible Capital by Regulatory Limitations"]
[null,null,"Limits:                 MSM                    ECR","Minimum Margin of Solvency",null,"Enhanced Capital Requirement"]
[null,"Tier 1",{"$f":"IF('Company Information'!$F$11=\"Class 3A\",\"min                             80%                          50%\",\"min                             80%                          60%\")","v":"min                             80%                          60%"},{"$f":"+#REF!","v":{"$error":"#REF!"}},null,{"$f":"+#REF!","v":{"$error":"#REF!"}}]
[null,"Tier 2",{"$f":"IF('Company Information'!$F$11=\"Class 3A\",\"max                             25%                          50%\",\"max                             25%                          66.67%\")","v":"max                             25%                          66.67%"},{"$f":"+#REF!","v":{"$error":"#REF!"}},null,{"$f":"+#REF!","v":{"$error":"#REF!"}}]
[null,"Tier 3","max                                                              17.65%",{"$f":"+#REF!","v":{"$error":"#REF!"}},null,{"$f":"+#REF!","v":{"$error":"#REF!"}}]
[null,"Total",null,{"$f":"SUM(D341:D343)","v":{"$error":"#REF!"}},null,{"$f":"SUM(F341:F343)","v":{"$error":"#REF!"}}]
[]
[null,"Description of the  eligible capital categorised by tiers, in accordance with the Eligible Capital Rules used to meet the Enhanced Capital Requirement (“ECR”) and the Minimum Margin of Solvency (“MSM”) defined in accordance with section (1) (1) of the Act"]
[]
[]
[]
[]
[]
["iv.","Confirmation that eligible capital is subject to transitional arrangements as required under the Eligible Capital Rules",null,null,null,"Select from Drop-Down"]
[]
[]
[]
[]
["v.","Identification of any factors affecting encumbrances affecting the availability and transferability of capital to meet the ECR"]
[]
[]
[]
[]
["vi."," Identification of ancillary capital instruments that have been approved by the Authority"]
[]
[]
[]
[]
["vii.","Identification of differences in shareholder’s equity as stated in the financial statements versus available statutory capital and surplus"]
[]
[]
[]
[]
["(b)","Regulatory Capital Requirements"]
[]
["i.","Amount of the ECR and MSM at the end of the reporting period:"]
[]
[null,null,null,null,null,"Amount"]
[null,"Minimum Margin of Solvency",null,null,null,{"$f":"+Summary!N101","v":{"$error":"#REF!"}}]
[null,"Enhanced Capital Requirement",null,null,null,{"$f":"+Summary!N109","v":{"$error":"#REF!"}}]
[]
["ii.","Identification of any non-compliance with the MSM and the ECR"]
[]
[]
[]
[]
["iii.","Description of the amount and circumstances surrounding the non-compliance, the remedial measures taken and their effectiveness"]
[]
[]
[]
[]
["iv.","Where the non-compliance has not been resolved, description of the amount of the non-compliance at the end of the reporting period"]
[]
[]
[]
[]
["(c)","Approved Internal Capital Model used to derive the ECR"]
[]
["i.","Description of the purpose and scope of the business and risk areas where the internal model is used"]
[]
[]
[]
[]
["ii.","where a partial internal model is used, description of how it is integrated with the BSCR Model"]
[]
[]
[]
[]
["iii.","Description of methods used in the internal model to calculate the ECR"]
[]
[]
[]
[]
["iv.","Description of aggregation methodologies and diversification effects"]
[]
[]
[]
[]
["v.","description of the main differences in the methods and assumptions used for the risk areas in the internal model versus the BSCR Model"]
[]
[]
[]
[]
["vi.","Description of the nature and suitability of the data used in the internal model"]
[]
[]
[]
[]
["vii.","Any other material information:"]
[]
[]
[]
[]
["vi)","Significant Event - particulars and explanations of a significant event including, but not limited to the following"]
[]
["(a)","Description of the significant event"]
[]
[]
[]
[]
["(b)","Approximate date(s) or proposed timing of the significant event"]
[]
[]
[]
[]
["(c)","Confirmation of how the significant event has impacted or will impact, any information provided in the most recent financial condition report filed with the Authority"]
[]
[]
[]
[]
["(d)","Any other material information:"]
[]
[]
[]
[]
[]
[null,null,null,null,null,null,null,null,null,""]
[]
[null,"General Questions"]
[null,"Select from Drop-Down"]
[null,"Yes"]
[null,"No"]
[]
[null,"Ra"]
[null,"Rating Agency"]
[null,"Select Rating Agency"]
[null,"Standard & Poor"]
[null,"Moody's"]
[null,"AM Best"]
[null,"Fitch"]
[null,"Standard & Poor","Moody's","AM Best","Fitch"]
[null,"AAA","Aaa","A++","AAA"]
[null,"AA+ to AA-","Aa1 to Aa3","A+","AA+ to AA-"]
[null,"A+ to A-","A1 to A3","A","A+ to A-"]
[null,"BBB+ to BBB-","Baa1 to Baa3","A-","BBB+ to BBB-"]
[null,"BB+ to BB-","Ba1 to Ba3","B++ to B","BB+ to BB-"]
[null,"B+ to B-","B1 to B3","B- to C+","B+ to B-"]
[null,"CCC+ to CCC-","Caa1 to Caa3","C, C-","CCC+ to CCC-"]
[null,"Below CCC-","Below Caa3","Below C-","Below CCC-"]

{"sheet":"SAR & Sanc. (All)","index":13,"n_rows":66,"n_cols":19,"rows_kept":66,"cut":false,"hidden":false,"merged":[[52,2,56,9],[0,1,0,4],[4,1,4,9],[9,2,9,4],[13,2,13,4],[16,2,16,4],[27,2,31,9],[43,5,43,7],[44,5,44,7],[45,5,45,7],[46,5,46,7],[47,5,47,7]]}
[null,"SCHEDULE OF SUSPICIOUS ACTIVITY REPORTING AND SANCTIONS",null,null,null,null,null,null,null,{"$f":"HYPERLINK(\"#'Index'!A1\",\"Return to Index\")","v":"Return to Index"},null,null,null,null,null,{"$f":"HYPERLINK(\"#'Index'!A1\",\"Return to Index\")","v":"Return to Index"},{"$f":"IF($B$3=\"\",\"\",TEXT(DATE(YEAR($B$3+1)-1,MONTH($B$3+1),DAY($B$3+1)),\"mm/dd/yyyy\"))","v":"01/01/2019"}]
[null,{"$f":"'Company Information'!C7","v":"Enter Company Name"},null,null,null,null,null,null,null,null,null,null,null,null,null,null,{"$f":"IF($B$3=\"\",\"\",TEXT($B$3,\"mm/dd/yyyy\"))","v":"12/31/2019"}]
[null,{"$f":" TEXT('Company Information'!C3,\"mmmm dd, yyyy\")","v":"December 31, 2019"},null,null,null,null,null,null,null,"SAR & Sanctions"]
[]
[null,"All insurers shall be required to complete the questions set out in the Suspicious Activity Reporting and Sanctions Schedule (on a unconsolidated basis). "]
[]
["Section E - Reporting"]
[null,1,"Is your company registered with GoAML at www.fia.bm",null,null,null,null,null,{"$f":"Import!E2750","v":"Select Yes/No"}]
[null,null,"1.1 If yes, under what name and when?"]
[null,null,{"$f":"Import!E2752","v":0},null,null,null,null,null,{"$f":"Import!E2751","v":"(Select)"}]
[]
[null,null,"1.2 If you answered no to 1., do you have access to GoAML through another registration?",null,null,null,null,null,{"$f":"Import!E2753","v":"Select Yes/No"}]
[null,null,"1.3 Under what name and how are you connected?"]
[null,null,{"$f":"Import!E2754","v":0}]
[]
[null,null,"1.4 if you answered no to 1. and 1.2 who would file a SAR on your behalf?"]
[null,null,{"$f":"Import!E2755","v":0}]
[]
[null,2,"How many Suspicious Activity Reports (SAR) have been filed?"]
[null,null,null,null,null,null,"Internal",null,"With FIA"]
[null,null,null,null,null,2020,{"$f":"Import!E2756","v":0},2020,{"$f":"Import!E2761","v":0}]
[null,null,null,null,null,{"$f":"F21-1","v":2019},{"$f":"Import!E2757","v":0},{"$f":"H21-1","v":2019},{"$f":"Import!E2762","v":0}]
[null,null,null,null,null,{"$f":"F22-1","v":2018},{"$f":"Import!E2758","v":0},2018,{"$f":"Import!E2763","v":0}]
[null,null,null,null,null,2017,{"$f":"Import!E2759","v":0},2017,{"$f":"Import!E2764","v":0}]
[null,null,null,null,null,"Total",{"$f":"SUM(G21:G24)","v":0},"Total",{"$f":"SUM(I21:I24)","v":0}]
[]
[null,null,"Include any additional information/comments which you think might be relevant to this exercise?"]
[null,null,{"$f":"Import!E2766","v":0}]
[]
[]
[]
[]
[]
["SANCTIONS QUESTIONNAIRE"]
[null,1,"Does the company screen insurers and beneficiaries (where relevant) to determine if they are subject to measures imposed under Bermuda sanctions regime?",null,null,null,null,null,{"$f":"Import!E2768","v":"Select Yes/No"}]
[]
[null,2,"Does the company screen employees to determine if they are subject to measures imposed under Bermuda sanctions regime?",null,null,null,null,null,{"$f":"Import!E2768","v":"Select Yes/No"}]
[]
[null,3,"Has the Company frozen any customer assets in the last 12 months under the Bermuda sanctions regime?",null,null,null,null,null,{"$f":"Import!E2769","v":"Select Yes/No"}]
[]
[null,null,"3.1 If yes, how many asset freezes have there been?",null,null,null,null,null,{"$f":"Import!E2770","v":0}]
[]
[null,null,"3.2 Provide the following details for those assets freezes from the consolidated list:"]
[null,null,null,null,"Group ID","Name of the designated person as given on the consolidated list",null,null,"Name of the person/entity if owned/controlled by a designated person.","Value of Assets"]
[null,null,null,1,{"$f":"Import!E2771","v":0},{"$f":"Import!E2775","v":0},null,null,{"$f":"Import!E2779","v":0},{"$f":"Import!E2783","v":0}]
[null,null,null,2,{"$f":"Import!E2772","v":0},{"$f":"Import!E2776","v":0},null,null,{"$f":"Import!E2780","v":0},{"$f":"Import!E2784","v":0}]
[null,null,null,3,{"$f":"Import!E2773","v":0},{"$f":"Import!E2777","v":0},null,null,{"$f":"Import!E2781","v":0},{"$f":"Import!E2785","v":0}]
[null,null,null,4,{"$f":"Import!E2774","v":0},{"$f":"Import!E2778","v":0},null,null,{"$f":"Import!E2782","v":0},{"$f":"Import!E2786","v":0}]
[]
[null,4,"How often does the licensee screen for sanctions?",null,null,null,null,null,{"$f":"Import!E2788","v":"Select"}]
[]
[null,null,"Include any additional information/comments which you think might be relevant to this exercise?"]
[null,null,{"$f":"Import!E2789","v":0}]
[]
[]
[]
[]
[null,null,null,null,null,null,null,null,null,null,null,null,null,null,null,null,null,null,""]
[]
[]
[null,null,null,null,null,null,null,2016,"Every year","Yes"]
[null,null,null,null,null,null,null,2015,"1 to 2 years","No"]
[null,null,null,null,null,null,null,2014,"2 to 5 years"]
[null,null,null,null,null,null,null,2013,"+5 years"]
[null,null,null,null,null,null,null,2012]
[null,null,null,null,null,null,null,"Prior 2012"]

{"sheet":"Form 1SFS GB","index":14,"n_rows":352,"n_cols":20,"rows_kept":352,"cut":false,"hidden":false,"merged":[[334,4,334,7],[334,8,334,10],[257,2,258,7],[257,8,258,10],[260,2,261,7],[263,2,264,7],[220,4,220,6],[7,8,7,10],[7,4,7,6],[6,4,6,6],[6,8,6,10],[215,4,215,6]]}
[null,"STATUTORY BALANCE SHEET",null,null,null,null,null,null,null,null,{"$f":"HYPERLINK(\"#'Index'!A1\",\"Return to Index\")","v":"Return to Index"}]
[]
[null,{"$f":"'Company Information'!C7","v":"Enter Company Name"},null,null,null,null,null,null,null,null,"FORM 1SFS GB"]
[null,"As at",{"$f":"'Company Information'!C3","v":"2019-12-31"}]
[null,{"$f":"\"expressed in\"& IF(CONFIGURATION!$B$12>1,\" ['\"&MID(CONFIGURATION!$B$12,2,LEN(CONFIGURATION!$B$12))&\"s]\",\"\")","v":"expressed in ['000s]"},"United States Dollars",null,"(A)",null,"(B)",null,"(C)",null,"(D)"]
[null,null,null,null,null,null,null,null,null,null,null,null,null,null,{"$f":"IF(I9=\"\",\"\",TEXT(DATE(YEAR(I9+1)-1,MONTH(I9+1),DAY(I9+1)),\"mm/dd/yyyy\"))","v":"01/01/2019"},{"$f":"IF(K9=\"\",\"\",TEXT(DATE(YEAR(K9+1)-1,MONTH(K9+1),DAY(K9+1)),\"mm/dd/yyyy\"))","v":"01/01/2018"}]
[null,null,null,null,"General Business",null,null,null,"General Business"]
[null,"STMT.",null,null,"General Account",null,null,null,"Combined: Segregated & General Account",null,null,null,null,null,{"$f":"IF(I9=\"\",\"\",TEXT(I9,\"mm/dd/yyyy\"))","v":"12/31/2019"},{"$f":"IF(K9=\"\",\"\",TEXT(K9,\"mm/dd/yyyy\"))","v":"12/31/2018"}]
[null,"LINE No.",null,null,{"$f":"C4","v":"2019-12-31"},null,{"$f":"DATE(YEAR(C4) -1, MONTH(C4), DAY(C4))","v":"2018-12-31"},null,{"$f":"C4","v":"2019-12-31"},null,{"$f":"DATE(YEAR(C4) -1, MONTH(C4), DAY(C4))","v":"2018-12-31"}]
[null,null,null,null,{"$f":"CONFIGURATION!$D$12","v":" ('000s)"},null,{"$f":"CONFIGURATION!$D$12","v":" ('000s)"},null,{"$f":"CONFIGURATION!$D$12","v":" ('000s)"},null,{"$f":"CONFIGURATION!$D$12","v":" ('000s)"},null,null,""]
[null,null,null,null,null,null,null,null,null,null,null,null,null,""]
[null,"1.","CASH AND CASH EQUIVALENTS",null,{"$f":"+Import!E103","v":0},null,{"$f":"+Import!G103","v":0},null,{"$f":"+Import!I103","v":0},null,{"$f":"+Import!K103","v":0},null,null,"brrt_CashAndTimeDeposits",{"$f":"XBRLMap(I12,$N12,$O$6,$O$8,CONFIGURATION!$B$10,\"BMA\",CONFIGURATION!$B$1,\"bscr\",CONFIGURATION!$B$12)","v":"Mapped"},{"$f":"XBRLMap(K12,$N12,$P$6,$P$8,CONFIGURATION!$B$10,\"BMA\",CONFIGURATION!$B$1,\"bscr\",CONFIGURATION!$B$12)","v":"Mapped"},null,null,null,"bma_CashAndTimeDeposits"]
[null,null,null,null,null,null,null,null,null,null,null,null,null,"",{"$f":"XBRLMap(I13,$N13,$O$6,$O$8,CONFIGURATION!$B$10,\"BMA\",CONFIGURATION!$B$1,\"bscr\",CONFIGURATION!$B$12)","v":"-"},{"$f":"XBRLMap(K13,$N13,$P$6,$P$8,CONFIGURATION!$B$10,\"BMA\",CONFIGURATION!$B$1,\"bscr\",CONFIGURATION!$B$12)","v":"-"},null,null,null,""]
[null,"2.","QUOTED INVESTMENTS:",null,null,null,null,null,null,null,null,null,null,"",{"$f":"XBRLMap(I14,$N14,$O$6,$O$8,CONFIGURATION!$B$10,\"BMA\",CONFIGURATION!$B$1,\"bscr\",CONFIGURATION!$B$12)","v":"-"},{"$f":"XBRLMap(K14,$N14,$P$6,$P$8,CONFIGURATION!$B$10,\"BMA\",CONFIGURATION!$B$1,\"bscr\",CONFIGURATION!$B$12)","v":"-"}]
[null,"(a)","Bonds and Debentures",null,null,null,null,null,null,null,null,null,null,"",{"$f":"XBRLMap(I15,$N15,$O$6,$O$8,CONFIGURATION!$B$10,\"BMA\",CONFIGURATION!$B$1,\"bscr\",CONFIGURATION!$B$12)","v":"-"},{"$f":"XBRLMap(K15,$N15,$P$6,$P$8,CONFIGURATION!$B$10,\"BMA\",CONFIGURATION!$B$1,\"bscr\",CONFIGURATION!$B$12)","v":"-"}]
[null,null,"  i.   Held to maturity",null,{"$f":"+Import!E104","v":0},null,{"$f":"+Import!G104","v":0},null,{"$f":"+Import!I104","v":0},null,{"$f":"+Import!K104","v":0},null,null,"brrt_QuotedInvestmentsBondsAndDebenturesHeldToMaturity",{"$f":"XBRLMap(I16,$N16,$O$6,$O$8,CONFIGURATION!$B$10,\"BMA\",CONFIGURATION!$B$1,\"bscr\",CONFIGURATION!$B$12)","v":"Mapped"},{"$f":"XBRLMap(K16,$N16,$P$6,$P$8,CONFIGURATION!$B$10,\"BMA\",CONFIGURATION!$B$1,\"bscr\",CONFIGURATION!$B$12)","v":"Mapped"},null,null,null,"bma_QuotedInvestmentsBondsAndDebenturesHeldToMaturity"]
[null,null,"  ii.  Other",null,{"$f":"+Import!E105","v":0},null,{"$f":"+Import!G105","v":0},null,{"$f":"+Import!I105","v":0},null,{"$f":"+Import!K105","v":0},null,null,"brrt_QuotedInvestmentsBondsAndDebenturesOther",{"$f":"XBRLMap(I17,$N17,$O$6,$O$8,CONFIGURATION!$B$10,\"BMA\",CONFIGURATION!$B$1,\"bscr\",CONFIGURATION!$B$12)","v":"Mapped"},{"$f":"XBRLMap(K17,$N17,$P$6,$P$8,CONFIGURATION!$B$10,\"BMA\",CONFIGURATION!$B$1,\"bscr\",CONFIGURATION!$B$12)","v":"Mapped"},null,null,null,"bma_QuotedInvestmentsBondsAndDebenturesOther"]
[null,"(b)","Total Bonds and Debentures",null,{"$f":"SUM(E16:E17)","v":0},null,{"$f":"SUM(G16:G17)","v":0},null,{"$f":"SUM(I16:I17)","v":0},null,{"$f":"SUM(K16:K17)","v":0},null,null,"brrt_QuotedInvestmentsBondsAndDebentures",{"$f":"XBRLMap(I18,$N18,$O$6,$O$8,CONFIGURATION!$B$10,\"BMA\",CONFIGURATION!$B$1,\"bscr\",CONFIGURATION!$B$12)","v":"Mapped"},{"$f":"XBRLMap(K18,$N18,$P$6,$P$8,CONFIGURATION!$B$10,\"BMA\",CONFIGURATION!$B$1,\"bscr\",CONFIGURATION!$B$12)","v":"Mapped"},null,null,null,"bma_QuotedInvestmentsTotalBondsAndDebentures"]
[null,"(c) ","Equities ",null,null,null,null,null,null,null,null,null,null,"",{"$f":"XBRLMap(I19,$N19,$O$6,$O$8,CONFIGURATION!$B$10,\"BMA\",CONFIGURATION!$B$1,\"bscr\",CONFIGURATION!$B$12)","v":"-"},{"$f":"XBRLMap(K19,$N19,$P$6,$P$8,CONFIGURATION!$B$10,\"BMA\",CONFIGURATION!$B$1,\"bscr\",CONFIGURATION!$B$12)","v":"-"}]
[null,null,"  i.   Common stocks",null,{"$f":"Import!E107","v":0},null,{"$f":"Import!G107","v":0},null,{"$f":"+Import!I107","v":0},null,{"$f":"+Import!K107","v":0},null,null,"brrt_QuotedInvestmentsEquitiesCommonStocks",{"$f":"XBRLMap(I20,$N20,$O$6,$O$8,CONFIGURATION!$B$10,\"BMA\",CONFIGURATION!$B$1,\"bscr\",CONFIGURATION!$B$12)","v":"Mapped"},{"$f":"XBRLMap(K20,$N20,$P$6,$P$8,CONFIGURATION!$B$10,\"BMA\",CONFIGURATION!$B$1,\"bscr\",CONFIGURATION!$B$12)","v":"Mapped"},null,null,null,"bma_QuotedInvestmentsEquitiesCommonStocks"]
[null,null,"  ii. Preferred stocks",null,{"$f":"Import!E108","v":0},null,{"$f":"Import!G108","v":0},null,{"$f":"+Import!I108","v":0},null,{"$f":"+Import!K108","v":0},null,null,"brrt_QuotedInvestmentsEquitiesPreferredStocks",{"$f":"XBRLMap(I21,$N21,$O$6,$O$8,CONFIGURATION!$B$10,\"BMA\",CONFIGURATION!$B$1,\"bscr\",CONFIGURATION!$B$12)","v":"Mapped"},{"$f":"XBRLMap(K21,$N21,$P$6,$P$8,CONFIGURATION!$B$10,\"BMA\",CONFIGURATION!$B$1,\"bscr\",CONFIGURATION!$B$12)","v":"Mapped"},null,null,null,"bma_QuotedInvestmentsEquitiesPreferredStocks"]
[null,null,"  iii. Mutual Funds",null,{"$f":"Import!E109","v":0},null,{"$f":"Import!G109","v":0},null,{"$f":"+Import!I109","v":0},null,{"$f":"+Import!K109","v":0},null,null,"brrt_QuotedInvestmentsEquitiesMutualFunds",{"$f":"XBRLMap(I22,$N22,$O$6,$O$8,CONFIGURATION!$B$10,\"BMA\",CONFIGURATION!$B$1,\"bscr\",CONFIGURATION!$B$12)","v":"Mapped"},{"$f":"XBRLMap(K22,$N22,$P$6,$P$8,CONFIGURATION!$B$10,\"BMA\",CONFIGURATION!$B$1,\"bscr\",CONFIGURATION!$B$12)","v":"Mapped"},null,null,null,"bma_QuotedInvestmentsEquitiesMutualFunds"]
[null,"(d) ","Total equity investments",null,{"$f":"SUM(E20:E22)","v":0},null,{"$f":"SUM(G20:G22)","v":0},null,{"$f":"SUM(I20:I22)","v":0},null,{"$f":"SUM(K20:K22)","v":0},null,null,"brrt_QuotedInvestmentsEquities",{"$f":"XBRLMap(I23,$N23,$O$6,$O$8,CONFIGURATION!$B$10,\"BMA\",CONFIGURATION!$B$1,\"bscr\",CONFIGURATION!$B$12)","v":"Mapped"},{"$f":"XBRLMap(K23,$N23,$P$6,$P$8,CONFIGURATION!$B$10,\"BMA\",CONFIGURATION!$B$1,\"bscr\",CONFIGURATION!$B$12)","v":"Mapped"},null,null,null,"bma_QuotedInvestmentsTotalEquityInvestments"]
[null,"(e)","Other quoted investments",null,{"$f":"Import!E110","v":0},null,{"$f":"Import!G110","v":0},null,{"$f":"+Import!I110","v":0},null,{"$f":"+Import!K110","v":0},null,null,"brrt_QuotedInvestmentsOther",{"$f":"XBRLMap(I24,$N24,$O$6,$O$8,CONFIGURATION!$B$10,\"BMA\",CONFIGURATION!$B$1,\"bscr\",CONFIGURATION!$B$12)","v":"Mapped"},{"$f":"XBRLMap(K24,$N24,$P$6,$P$8,CONFIGURATION!$B$10,\"BMA\",CONFIGURATION!$B$1,\"bscr\",CONFIGURATION!$B$12)","v":"Mapped"},null,null,null,"bma_QuotedInvestmentsOtherInvestments"]
[null,"(f)","Total quoted investments",null,{"$f":"E18+E23+E24","v":0},null,{"$f":"G18+G23+G24","v":0},null,{"$f":"I18+I23+I24","v":0},null,{"$f":"K18+K23+K24","v":0},null,null,"brrt_QuotedInvestments",{"$f":"XBRLMap(I25,$N25,$O$6,$O$8,CONFIGURATION!$B$10,\"BMA\",CONFIGURATION!$B$1,\"bscr\",CONFIGURATION!$B$12)","v":"Mapped"},{"$f":"XBRLMap(K25,$N25,$P$6,$P$8,CONFIGURATION!$B$10,\"BMA\",CONFIGURATION!$B$1,\"bscr\",CONFIGURATION!$B$12)","v":"Mapped"},null,null,null,"bma_QuotedInvestmentsTotalInvestments"]
[null,null,null,null,null,null,null,null,null,null,null,null,null,"",{"$f":"XBRLMap(I26,$N26,$O$6,$O$8,CONFIGURATION!$B$10,\"BMA\",CONFIGURATION!$B$1,\"bscr\",CONFIGURATION!$B$12)","v":"-"},{"$f":"XBRLMap(K26,$N26,$P$6,$P$8,CONFIGURATION!$B$10,\"BMA\",CONFIGURATION!$B$1,\"bscr\",CONFIGURATION!$B$12)","v":"-"},null,null,null,""]
[null,"3.","UNQUOTED INVESTMENTS:",null,null,null,null,null,null,null,null,null,null,"",{"$f":"XBRLMap(I27,$N27,$O$6,$O$8,CONFIGURATION!$B$10,\"BMA\",CONFIGURATION!$B$1,\"bscr\",CONFIGURATION!$B$12)","v":"-"},{"$f":"XBRLMap(K27,$N27,$P$6,$P$8,CONFIGURATION!$B$10,\"BMA\",CONFIGURATION!$B$1,\"bscr\",CONFIGURATION!$B$12)","v":"-"}]
[null,"(a)","Bonds and Debentures",null,null,null,null,null,null,null,null,null,null,"",{"$f":"XBRLMap(I28,$N28,$O$6,$O$8,CONFIGURATION!$B$10,\"BMA\",CONFIGURATION!$B$1,\"bscr\",CONFIGURATION!$B$12)","v":"-"},{"$f":"XBRLMap(K28,$N28,$P$6,$P$8,CONFIGURATION!$B$10,\"BMA\",CONFIGURATION!$B$1,\"bscr\",CONFIGURATION!$B$12)","v":"-"}]
[null,null,"  i.   Held to maturity",null,{"$f":"Import!E111","v":0},null,{"$f":"Import!G111","v":0},null,{"$f":"+Import!I111","v":0},null,{"$f":"+Import!K111","v":0},null,null,"brrt_UnquotedInvestmentsBondsAndDebenturesHeldToMaturity",{"$f":"XBRLMap(I29,$N29,$O$6,$O$8,CONFIGURATION!$B$10,\"BMA\",CONFIGURATION!$B$1,\"bscr\",CONFIGURATION!$B$12)","v":"Mapped"},{"$f":"XBRLMap(K29,$N29,$P$6,$P$8,CONFIGURATION!$B$10,\"BMA\",CONFIGURATION!$B$1,\"bscr\",CONFIGURATION!$B$12)","v":"Mapped"},null,null,null,"bma_UnquotedInvestmentsBondsAndDebenturesHeldToMaturity"]
[null,null,"  ii.  Other",null,{"$f":"Import!E112","v":0},null,{"$f":"Import!G112","v":0},null,{"$f":"+Import!I112","v":0},null,{"$f":"+Import!K112","v":0},null,null,"brrt_UnquotedInvestmentsBondsAndDebenturesOther",{"$f":"XBRLMap(I30,$N30,$O$6,$O$8,CONFIGURATION!$B$10,\"BMA\",CONFIGURATION!$B$1,\"bscr\",CONFIGURATION!$B$12)","v":"Mapped"},{"$f":"XBRLMap(K30,$N30,$P$6,$P$8,CONFIGURATION!$B$10,\"BMA\",CONFIGURATION!$B$1,\"bscr\",CONFIGURATION!$B$12)","v":"Mapped"},null,null,null,"bma_UnquotedInvestmentsBondsAndDebenturesOther"]
[null,"(b)","Total Bonds and Debentures",null,{"$f":"SUM(E29:E30)","v":0},null,{"$f":"SUM(G29:G30)","v":0},null,{"$f":"SUM(I29:I30)","v":0},null,{"$f":"SUM(K29:K30)","v":0},null,null,"brrt_UnquotedInvestmentsBondsAndDebentures",{"$f":"XBRLMap(I31,$N31,$O$6,$O$8,CONFIGURATION!$B$10,\"BMA\",CONFIGURATION!$B$1,\"bscr\",CONFIGURATION!$B$12)","v":"Mapped"},{"$f":"XBRLMap(K31,$N31,$P$6,$P$8,CONFIGURATION!$B$10,\"BMA\",CONFIGURATION!$B$1,\"bscr\",CONFIGURATION!$B$12)","v":"Mapped"},null,null,null,"bma_UnquotedInvestmentsTotalBondsAndDebentures"]
[null,"(c) ","Equities ",null,null,null,null,null,null,null,null,null,null,"",{"$f":"XBRLMap(I32,$N32,$O$6,$O$8,CONFIGURATION!$B$10,\"BMA\",CONFIGURATION!$B$1,\"bscr\",CONFIGURATION!$B$12)","v":"-"},{"$f":"XBRLMap(K32,$N32,$P$6,$P$8,CONFIGURATION!$B$10,\"BMA\",CONFIGURATION!$B$1,\"bscr\",CONFIGURATION!$B$12)","v":"-"}]
[null,null,"  i.   Common stocks",null,{"$f":"Import!E114","v":0},null,{"$f":"Import!G114","v":0},null,{"$f":"+Import!I114","v":0},null,{"$f":"+Import!K114","v":0},null,null,"brrt_UnquotedInvestmentsEquitiesCommonStocks",{"$f":"XBRLMap(I33,$N33,$O$6,$O$8,CONFIGURATION!$B$10,\"BMA\",CONFIGURATION!$B$1,\"bscr\",CONFIGURATION!$B$12)","v":"Mapped"},{"$f":"XBRLMap(K33,$N33,$P$6,$P$8,CONFIGURATION!$B$10,\"BMA\",CONFIGURATION!$B$1,\"bscr\",CONFIGURATION!$B$12)","v":"Mapped"},null,null,null,"bma_UnquotedInvestmentsEquitiesCommonStocks"]
[null,null,"  ii. Preferred stocks",null,{"$f":"Import!E115","v":0},null,{"$f":"Import!G115","v":0},null,{"$f":"+Import!I115","v":0},null,{"$f":"+Import!K115","v":0},null,null,"brrt_UnquotedInvestmentsEquitiesPreferredStocks",{"$f":"XBRLMap(I34,$N34,$O$6,$O$8,CONFIGURATION!$B$10,\"BMA\",CONFIGURATION!$B$1,\"bscr\",CONFIGURATION!$B$12)","v":"Mapped"},{"$f":"XBRLMap(K34,$N34,$P$6,$P$8,CONFIGURATION!$B$10,\"BMA\",CONFIGURATION!$B$1,\"bscr\",CONFIGURATION!$B$12)","v":"Mapped"},null,null,null,"bma_UnquotedInvestmentsEquitiesPreferredStocks"]
[null,null,"  iii . Mutual Funds",null,{"$f":"Import!E116","v":0},null,{"$f":"Import!G116","v":0},null,{"$f":"+Import!I116","v":0},null,{"$f":"+Import!K116","v":0},null,null,"brrt_UnquotedInvestmentsEquitiesMutualFunds",{"$f":"XBRLMap(I35,$N35,$O$6,$O$8,CONFIGURATION!$B$10,\"BMA\",CONFIGURATION!$B$1,\"bscr\",CONFIGURATION!$B$12)","v":"Mapped"},{"$f":"XBRLMap(K35,$N35,$P$6,$P$8,CONFIGURATION!$B$10,\"BMA\",CONFIGURATION!$B$1,\"bscr\",CONFIGURATION!$B$12)","v":"Mapped"},null,null,null,"bma_UnquotedInvestmentsEquitiesMutualFunds"]
[null,"(d) ","Total equity investments",null,{"$f":"SUM(E33:E35)","v":0},null,{"$f":"SUM(G33:G35)","v":0},null,{"$f":"SUM(I33:I35)","v":0},null,{"$f":"SUM(K33:K35)","v":0},null,null,"brrt_UnquotedInvestmentsEquities",{"$f":"XBRLMap(I36,$N36,$O$6,$O$8,CONFIGURATION!$B$10,\"BMA\",CONFIGURATION!$B$1,\"bscr\",CONFIGURATION!$B$12)","v":"Mapped"},{"$f":"XBRLMap(K36,$N36,$P$6,$P$8,CONFIGURATION!$B$10,\"BMA\",CONFIGURATION!$B$1,\"bscr\",CONFIGURATION!$B$12)","v":"Mapped"},null,null,null,"bma_UnquotedInvestmentsTotalEquityInvestments"]
[null,"(e) ","Other unquoted investments",null,{"$f":"Import!E117","v":0},null,{"$f":"Import!G117","v":0},null,{"$f":"+Import!I117","v":0},null,{"$f":"+Import!K117","v":0},null,null,"brrt_UnquotedInvestmentsOther",{"$f":"XBRLMap(I37,$N37,$O$6,$O$8,CONFIGURATION!$B$10,\"BMA\",CONFIGURATION!$B$1,\"bscr\",CONFIGURATION!$B$12)","v":"Mapped"},{"$f":"XBRLMap(K37,$N37,$P$6,$P$8,CONFIGURATION!$B$10,\"BMA\",CONFIGURATION!$B$1,\"bscr\",CONFIGURATION!$B$12)","v":"Mapped"},null,null,null,"bma_UnquotedInvestmentsOtherInvestments"]
[null,"(f) ","Total unquoted investments",null,{"$f":"E31+E36+E37","v":0},null,{"$f":"G31+G36+G37","v":0},null,{"$f":"I31+I36+I37","v":0},null,{"$f":"K31+K36+K37","v":0},null,null,"brrt_UnquotedInvestments",{"$f":"XBRLMap(I38,$N38,$O$6,$O$8,CONFIGURATION!$B$10,\"BMA\",CONFIGURATION!$B$1,\"bscr\",CONFIGURATION!$B$12)","v":"Mapped"},{"$f":"XBRLMap(K38,$N38,$P$6,$P$8,CONFIGURATION!$B$10,\"BMA\",CONFIGURATION!$B$1,\"bscr\",CONFIGURATION!$B$12)","v":"Mapped"},null,null,null,"bma_UnquotedInvestmentsTotalInvestments"]
[null,null,null,null,null,null,null,null,null,null,null,null,null,"",{"$f":"XBRLMap(I39,$N39,$O$6,$O$8,CONFIGURATION!$B$10,\"BMA\",CONFIGURATION!$B$1,\"bscr\",CONFIGURATION!$B$12)","v":"-"},{"$f":"XBRLMap(K39,$N39,$P$6,$P$8,CONFIGURATION!$B$10,\"BMA\",CONFIGURATION!$B$1,\"bscr\",CONFIGURATION!$B$12)","v":"-"},null,null,null,""]
[null,"4.","INVESTMENTS IN AND ADVANCES TO AFFILIATES (EQUITY METHOD):",null,null,null,null,null,null,null,null,null,null,"",{"$f":"XBRLMap(I40,$N40,$O$6,$O$8,CONFIGURATION!$B$10,\"BMA\",CONFIGURATION!$B$1,\"bscr\",CONFIGURATION!$B$12)","v":"-"},{"$f":"XBRLMap(K40,$N40,$P$6,$P$8,CONFIGURATION!$B$10,\"BMA\",CONFIGURATION!$B$1,\"bscr\",CONFIGURATION!$B$12)","v":"-"}]
[null,"(a)","Unregulated entities that conduct ancillary services",null,{"$f":"Import!E118","v":0},null,{"$f":"Import!G118","v":0},null,{"$f":"+Import!I118","v":0},null,{"$f":"+Import!K118","v":0}]
[null,"(b)","Unregulated non-financial operating entities",null,{"$f":"Import!E119","v":0},null,{"$f":"Import!G119","v":0},null,{"$f":"+Import!I119","v":0},null,{"$f":"+Import!K119","v":0}]
[null,"(c)","Unregulated financial operating entities",null,{"$f":"Import!E120","v":0},null,{"$f":"Import!G120","v":0},null,{"$f":"+Import!I120","v":0},null,{"$f":"+Import!K120","v":0}]
[null,"(d)","Regulated non-insurance financial operating entities",null,{"$f":"Import!E121","v":0},null,{"$f":"Import!G121","v":0},null,{"$f":"+Import!I121","v":0},null,{"$f":"+Import!K121","v":0}]
[null,"(e)","Regulated insurance financial operating entities",null,{"$f":"Import!E122","v":0},null,{"$f":"Import!G122","v":0},null,{"$f":"+Import!I122","v":0},null,{"$f":"+Import!K122","v":0}]
[null,"(f)","Total investments in affiliates (equity method)",null,{"$f":"SUM(E41:E45)","v":0},null,{"$f":"SUM(G41:G45)","v":0},null,{"$f":"SUM(I41:I45)","v":0},null,{"$f":"SUM(K41:K45)","v":0},null,null,"brrt_InvestmentInAffiliates",{"$f":"XBRLMap(I46,$N46,$O$6,$O$8,CONFIGURATION!$B$10,\"BMA\",CONFIGURATION!$B$1,\"bscr\",CONFIGURATION!$B$12)","v":"Mapped"},{"$f":"XBRLMap(K46,$N46,$P$6,$P$8,CONFIGURATION!$B$10,\"BMA\",CONFIGURATION!$B$1,\"bscr\",CONFIGURATION!$B$12)","v":"Mapped"},null,null,null,"bma_InvestmentsInAndAdvancesToAffiliatesInvestmentInAffiliatesCostOrEquity"]
[null,"(g)","Advances to affiliates",null,{"$f":"Import!E123","v":0},null,{"$f":"Import!G123","v":0},null,{"$f":"+Import!I123","v":0},null,{"$f":"+Import!K123","v":0},null,null,"brrt_AdvancesToAffiliates",{"$f":"XBRLMap(I47,$N47,$O$6,$O$8,CONFIGURATION!$B$10,\"BMA\",CONFIGURATION!$B$1,\"bscr\",CONFIGURATION!$B$12)","v":"Mapped"},{"$f":"XBRLMap(K47,$N47,$P$6,$P$8,CONFIGURATION!$B$10,\"BMA\",CONFIGURATION!$B$1,\"bscr\",CONFIGURATION!$B$12)","v":"Mapped"},null,null,null,"bma_InvestmentsInAndAdvancesToAffiliatesAdvancesToAffiliates"]
[null,"(h)","Total investments in and advances to affiliates (equity method)",null,{"$f":"E46+E47","v":0},null,{"$f":"G46+G47","v":0},null,{"$f":"I46+I47","v":0},null,{"$f":"K46+K47","v":0},null,null,"brrt_InvestmentInAndAdvancesToAffiliates",{"$f":"XBRLMap(I48,$N48,$O$6,$O$8,CONFIGURATION!$B$10,\"BMA\",CONFIGURATION!$B$1,\"bscr\",CONFIGURATION!$B$12)","v":"Mapped"},{"$f":"XBRLMap(K48,$N48,$P$6,$P$8,CONFIGURATION!$B$10,\"BMA\",CONFIGURATION!$B$1,\"bscr\",CONFIGURATION!$B$12)","v":"Mapped"},null,null,null,"bma_InvestmentsInAndAdvancesToAffiliatesTotalInvestmentsInAndAdvancesToAffiliates"]
[null,null,null,null,null,null,null,null,null,null,null,null,null,"",{"$f":"XBRLMap(I49,$N49,$O$6,$O$8,CONFIGURATION!$B$10,\"BMA\",CONFIGURATION!$B$1,\"bscr\",CONFIGURATION!$B$12)","v":"-"},{"$f":"XBRLMap(K49,$N49,$P$6,$P$8,CONFIGURATION!$B$10,\"BMA\",CONFIGURATION!$B$1,\"bscr\",CONFIGURATION!$B$12)","v":"-"},null,null,null,""]
[null,"5.","INVESTMENTS IN MORTGAGE LOANS ON REAL ESTATE:",null,null,null,null,null,null,null,null,null,null,"",{"$f":"XBRLMap(I50,$N50,$O$6,$O$8,CONFIGURATION!$B$10,\"BMA\",CONFIGURATION!$B$1,\"bscr\",CONFIGURATION!$B$12)","v":"-"},{"$f":"XBRLMap(K50,$N50,$P$6,$P$8,CONFIGURATION!$B$10,\"BMA\",CONFIGURATION!$B$1,\"bscr\",CONFIGURATION!$B$12)","v":"-"}]
[null,"(a)","First liens",null,{"$f":"Import!E124","v":0},null,{"$f":"Import!G124","v":0},null,{"$f":"+Import!I124","v":0},null,{"$f":"+Import!K124","v":0},null,null,"brrt_InvestmentsInMortgageLoansOnRealEstateFirstLiens",{"$f":"XBRLMap(I51,$N51,$O$6,$O$8,CONFIGURATION!$B$10,\"BMA\",CONFIGURATION!$B$1,\"bscr\",CONFIGURATION!$B$12)","v":"Mapped"},{"$f":"XBRLMap(K51,$N51,$P$6,$P$8,CONFIGURATION!$B$10,\"BMA\",CONFIGURATION!$B$1,\"bscr\",CONFIGURATION!$B$12)","v":"Mapped"},null,null,null,"bma_InvestmentsInMortgageLoansOnRealEstateFirstLiens"]
[null,"(b)","Other than first liens ",null,{"$f":"Import!E125","v":0},null,{"$f":"Import!G125","v":0},null,{"$f":"+Import!I125","v":0},null,{"$f":"+Import!K125","v":0},null,null,"brrt_InvestmentsInMortgageLoansOnRealEstateOtherThanFirstLiens",{"$f":"XBRLMap(I52,$N52,$O$6,$O$8,CONFIGURATION!$B$10,\"BMA\",CONFIGURATION!$B$1,\"bscr\",CONFIGURATION!$B$12)","v":"Mapped"},{"$f":"XBRLMap(K52,$N52,$P$6,$P$8,CONFIGURATION!$B$10,\"BMA\",CONFIGURATION!$B$1,\"bscr\",CONFIGURATION!$B$12)","v":"Mapped"},null,null,null,"bma_InvestmentsInMortgageLoansOnRealEstateOtherThanFirstLiens"]
[null,"(c) ","Total investments in mortgage loans on real estate",null,{"$f":"SUM(E51:E52)","v":0},null,{"$f":"SUM(G51:G52)","v":0},null,{"$f":"SUM(I51:I52)","v":0},null,{"$f":"SUM(K51:K52)","v":0},null,null,"brrt_InvestmentsInMortgageLoansOnRealEstate",{"$f":"XBRLMap(I53,$N53,$O$6,$O$8,CONFIGURATION!$B$10,\"BMA\",CONFIGURATION!$B$1,\"bscr\",CONFIGURATION!$B$12)","v":"Mapped"},{"$f":"XBRLMap(K53,$N53,$P$6,$P$8,CONFIGURATION!$B$10,\"BMA\",CONFIGURATION!$B$1,\"bscr\",CONFIGURATION!$B$12)","v":"Mapped"},null,null,null,"bma_InvestmentsInMortgageLoansOnRealEstateTotalInvestmentsInMortgageLoansOnRealEstate"]
[null,null,null,null,null,null,null,null,null,null,null,null,null,"",{"$f":"XBRLMap(I54,$N54,$O$6,$O$8,CONFIGURATION!$B$10,\"BMA\",CONFIGURATION!$B$1,\"bscr\",CONFIGURATION!$B$12)","v":"-"},{"$f":"XBRLMap(K54,$N54,$P$6,$P$8,CONFIGURATION!$B$10,\"BMA\",CONFIGURATION!$B$1,\"bscr\",CONFIGURATION!$B$12)","v":"-"},null,null,null,""]
[null,"6.","POLICY LOANS",null,null,null,null,null,{"$f":"+Import!I126","v":0},null,{"$f":"+Import!K126","v":0}]
[]
[null,"7.","REAL ESTATE:",null,null,null,null,null,null,null,null,null,null,"",{"$f":"XBRLMap(I57,$N57,$O$6,$O$8,CONFIGURATION!$B$10,\"BMA\",CONFIGURATION!$B$1,\"bscr\",CONFIGURATION!$B$12)","v":"-"},{"$f":"XBRLMap(K57,$N57,$P$6,$P$8,CONFIGURATION!$B$10,\"BMA\",CONFIGURATION!$B$1,\"bscr\",CONFIGURATION!$B$12)","v":"-"}]
[null,"(a)","Occupied by the company (less encumbrances)",null,{"$f":"Import!E127","v":0},null,{"$f":"Import!G127","v":0},null,{"$f":"+Import!I127","v":0},null,{"$f":"+Import!K127","v":0},null,null,"brrt_RealEstateOccupiedByTheCompanyLessEncumbrances",{"$f":"XBRLMap(I58,$N58,$O$6,$O$8,CONFIGURATION!$B$10,\"BMA\",CONFIGURATION!$B$1,\"bscr\",CONFIGURATION!$B$12)","v":"Mapped"},{"$f":"XBRLMap(K58,$N58,$P$6,$P$8,CONFIGURATION!$B$10,\"BMA\",CONFIGURATION!$B$1,\"bscr\",CONFIGURATION!$B$12)","v":"Mapped"},null,null,null,"bma_RealEstateOccupiedByTheCompanyLessEncumbrances"]
[null,"(b)","Other properties (less encumbrances)",null,{"$f":"Import!E128","v":0},null,{"$f":"Import!G128","v":0},null,{"$f":"+Import!I128","v":0},null,{"$f":"+Import!K128","v":0},null,null,"brrt_OtherRealEstatePropertiesLessEncumbrances",{"$f":"XBRLMap(I59,$N59,$O$6,$O$8,CONFIGURATION!$B$10,\"BMA\",CONFIGURATION!$B$1,\"bscr\",CONFIGURATION!$B$12)","v":"Mapped"},{"$f":"XBRLMap(K59,$N59,$P$6,$P$8,CONFIGURATION!$B$10,\"BMA\",CONFIGURATION!$B$1,\"bscr\",CONFIGURATION!$B$12)","v":"Mapped"},null,null,null,"bma_RealEstateOtherPropertiesLessEncumbrances"]
[null,"(c) ","Total real estate",null,{"$f":"SUM(E58:E59)","v":0},null,{"$f":"SUM(G58:G59)","v":0},null,{"$f":"SUM(I58:I59)","v":0},null,{"$f":"SUM(K58:K59)","v":0},null,null,"brrt_RealEstate",{"$f":"XBRLMap(I60,$N60,$O$6,$O$8,CONFIGURATION!$B$10,\"BMA\",CONFIGURATION!$B$1,\"bscr\",CONFIGURATION!$B$12)","v":"Mapped"},{"$f":"XBRLMap(K60,$N60,$P$6,$P$8,CONFIGURATION!$B$10,\"BMA\",CONFIGURATION!$B$1,\"bscr\",CONFIGURATION!$B$12)","v":"Mapped"},null,null,null,"bma_TotalRealEstate"]
[null,null,null,null,null,null,null,null,null,null,null,null,null,"",{"$f":"XBRLMap(I61,$N61,$O$6,$O$8,CONFIGURATION!$B$10,\"BMA\",CONFIGURATION!$B$1,\"bscr\",CONFIGURATION!$B$12)","v":"-"},{"$f":"XBRLMap(K61,$N61,$P$6,$P$8,CONFIGURATION!$B$10,\"BMA\",CONFIGURATION!$B$1,\"bscr\",CONFIGURATION!$B$12)","v":"-"},null,null,null,""]
[null,"8.","COLLATERAL LOANS",null,{"$f":"Import!E129","v":0},null,{"$f":"Import!G129","v":0},null,{"$f":"+Import!I129","v":0},null,{"$f":"+Import!K129","v":0},null,null,"brrt_CollateralLoans",{"$f":"XBRLMap(I62,$N62,$O$6,$O$8,CONFIGURATION!$B$10,\"BMA\",CONFIGURATION!$B$1,\"bscr\",CONFIGURATION!$B$12)","v":"Mapped"},{"$f":"XBRLMap(K62,$N62,$P$6,$P$8,CONFIGURATION!$B$10,\"BMA\",CONFIGURATION!$B$1,\"bscr\",CONFIGURATION!$B$12)","v":"Mapped"},null,null,null,"bma_CollateralLoans"]
[null,null,null,null,null,null,null,null,null,null,null,null,null,"",{"$f":"XBRLMap(I63,$N63,$O$6,$O$8,CONFIGURATION!$B$10,\"BMA\",CONFIGURATION!$B$1,\"bscr\",CONFIGURATION!$B$12)","v":"-"},{"$f":"XBRLMap(K63,$N63,$P$6,$P$8,CONFIGURATION!$B$10,\"BMA\",CONFIGURATION!$B$1,\"bscr\",CONFIGURATION!$B$12)","v":"-"},null,null,null,""]
[null,"9.","INVESTMENT INCOME DUE AND ACCRUED",null,{"$f":"Import!E130","v":0},null,{"$f":"Import!G130","v":0},null,{"$f":"+Import!I130","v":0},null,{"$f":"+Import!K130","v":0},null,null,"brrt_InvestmentIncomeDueAndAccrued",{"$f":"XBRLMap(I64,$N64,$O$6,$O$8,CONFIGURATION!$B$10,\"BMA\",CONFIGURATION!$B$1,\"bscr\",CONFIGURATION!$B$12)","v":"Mapped"},{"$f":"XBRLMap(K64,$N64,$P$6,$P$8,CONFIGURATION!$B$10,\"BMA\",CONFIGURATION!$B$1,\"bscr\",CONFIGURATION!$B$12)","v":"Mapped"},null,null,null,"bma_InvestmentIncomeDueAndAccrued"]
[null,null,null,null,null,null,null,null,null,null,null,null,null,"",{"$f":"XBRLMap(I65,$N65,$O$6,$O$8,CONFIGURATION!$B$10,\"BMA\",CONFIGURATION!$B$1,\"bscr\",CONFIGURATION!$B$12)","v":"-"},{"$f":"XBRLMap(K65,$N65,$P$6,$P$8,CONFIGURATION!$B$10,\"BMA\",CONFIGURATION!$B$1,\"bscr\",CONFIGURATION!$B$12)","v":"-"},null,null,null,""]
[null,"10.","ACCOUNTS AND PREMIUMS RECEIVABLE:",null,null,null,null,null,null,null,null,null,null,"",{"$f":"XBRLMap(I66,$N66,$O$6,$O$8,CONFIGURATION!$B$10,\"BMA\",CONFIGURATION!$B$1,\"bscr\",CONFIGURATION!$B$12)","v":"-"},{"$f":"XBRLMap(K66,$N66,$P$6,$P$8,CONFIGURATION!$B$10,\"BMA\",CONFIGURATION!$B$1,\"bscr\",CONFIGURATION!$B$12)","v":"-"}]
[null,"(a)","In course of collection",null,{"$f":"Import!E131","v":0},null,{"$f":"Import!G131","v":0},null,{"$f":"+Import!I131","v":0},null,{"$f":"+Import!K131","v":0},null,null,"brrt_AccountsAndPremiumsReceivableInCourseOfCollection",{"$f":"XBRLMap(I67,$N67,$O$6,$O$8,CONFIGURATION!$B$10,\"BMA\",CONFIGURATION!$B$1,\"bscr\",CONFIGURATION!$B$12)","v":"Mapped"},{"$f":"XBRLMap(K67,$N67,$P$6,$P$8,CONFIGURATION!$B$10,\"BMA\",CONFIGURATION!$B$1,\"bscr\",CONFIGURATION!$B$12)","v":"Mapped"},null,null,null,"bma_AccountsAndPremiumsReceivableInCourseOfCollection"]
[null,"(b)","Deferred - not yet due",null,{"$f":"Import!E132","v":0},null,{"$f":"Import!G132","v":0},null,{"$f":"+Import!I132","v":0},null,{"$f":"+Import!K132","v":0}]
[null,"(c) ","Receivables from retrocessional contracts",null,{"$f":"Import!E133","v":0},null,{"$f":"Import!G133","v":0},null,{"$f":"+Import!I133","v":0},null,{"$f":"+Import!K133","v":0},null,null,"brrt_AccountsAndPremiumsReceivableReceivablesFromRetrocessionalContracts",{"$f":"XBRLMap(I69,$N69,$O$6,$O$8,CONFIGURATION!$B$10,\"BMA\",CONFIGURATION!$B$1,\"bscr\",CONFIGURATION!$B$12)","v":"Mapped"},{"$f":"XBRLMap(K69,$N69,$P$6,$P$8,CONFIGURATION!$B$10,\"BMA\",CONFIGURATION!$B$1,\"bscr\",CONFIGURATION!$B$12)","v":"Mapped"},null,null,null,"bma_AccountsAndPremiumsReceivableReceivablesFromRetrocessionalContracts"]
[null,"(d) ","Total accounts and premiums receivable",null,{"$f":"SUM(E67:E69)","v":0},null,{"$f":"SUM(G67:G69)","v":0},null,{"$f":"SUM(I67:I69)","v":0},null,{"$f":"SUM(K67:K69)","v":0},null,null,"brrt_AccountsAndPremiumsReceivable",{"$f":"XBRLMap(I70,$N70,$O$6,$O$8,CONFIGURATION!$B$10,\"BMA\",CONFIGURATION!$B$1,\"bscr\",CONFIGURATION!$B$12)","v":"Mapped"},{"$f":"XBRLMap(K70,$N70,$P$6,$P$8,CONFIGURATION!$B$10,\"BMA\",CONFIGURATION!$B$1,\"bscr\",CONFIGURATION!$B$12)","v":"Mapped"},null,null,null,"bma_TotalAccountsAndPremiumsReceivable"]
[null,null,null,null,null,null,null,null,null,null,null,null,null,"",{"$f":"XBRLMap(I71,$N71,$O$6,$O$8,CONFIGURATION!$B$10,\"BMA\",CONFIGURATION!$B$1,\"bscr\",CONFIGURATION!$B$12)","v":"-"},{"$f":"XBRLMap(K71,$N71,$P$6,$P$8,CONFIGURATION!$B$10,\"BMA\",CONFIGURATION!$B$1,\"bscr\",CONFIGURATION!$B$12)","v":"-"},null,null,null,""]
[null,"11.","REINSURANCE BALANCES RECEIVABLE:",null,null,null,null,null,null,null,null,null,null,"",{"$f":"XBRLMap(I72,$N72,$O$6,$O$8,CONFIGURATION!$B$10,\"BMA\",CONFIGURATION!$B$1,\"bscr\",CONFIGURATION!$B$12)","v":"-"},{"$f":"XBRLMap(K72,$N72,$P$6,$P$8,CONFIGURATION!$B$10,\"BMA\",CONFIGURATION!$B$1,\"bscr\",CONFIGURATION!$B$12)","v":"-"}]
[null,"(a)","Foreign affiliates",null,{"$f":"Import!E134","v":0},null,{"$f":"Import!G134","v":0},null,{"$f":"+Import!I134","v":0},null,{"$f":"+Import!K134","v":0},null,null,"brrt_ReinsuranceBalancesReceivableForeignAffiliates",{"$f":"XBRLMap(I73,$N73,$O$6,$O$8,CONFIGURATION!$B$10,\"BMA\",CONFIGURATION!$B$1,\"bscr\",CONFIGURATION!$B$12)","v":"Mapped"},{"$f":"XBRLMap(K73,$N73,$P$6,$P$8,CONFIGURATION!$B$10,\"BMA\",CONFIGURATION!$B$1,\"bscr\",CONFIGURATION!$B$12)","v":"Mapped"},null,null,null,"bma_ReinsuranceBalancesReceivableForeignAffiliates"]
[null,"(b)","Domestic affiliates",null,{"$f":"Import!E135","v":0},null,{"$f":"Import!G135","v":0},null,{"$f":"+Import!I135","v":0},null,{"$f":"+Import!K135","v":0},null,null,"brrt_ReinsuranceBalancesReceivableDomesticAffiliates",{"$f":"XBRLMap(I74,$N74,$O$6,$O$8,CONFIGURATION!$B$10,\"BMA\",CONFIGURATION!$B$1,\"bscr\",CONFIGURATION!$B$12)","v":"Mapped"},{"$f":"XBRLMap(K74,$N74,$P$6,$P$8,CONFIGURATION!$B$10,\"BMA\",CONFIGURATION!$B$1,\"bscr\",CONFIGURATION!$B$12)","v":"Mapped"},null,null,null,"bma_ReinsuranceBalancesReceivableDomesticAffiliates"]
[null,"(c) ","Pools & associations",null,{"$f":"Import!E136","v":0},null,{"$f":"Import!G136","v":0},null,{"$f":"+Import!I136","v":0},null,{"$f":"+Import!K136","v":0},null,null,"brrt_ReinsuranceBalancesReceivablePoolsAndAssociations",{"$f":"XBRLMap(I75,$N75,$O$6,$O$8,CONFIGURATION!$B$10,\"BMA\",CONFIGURATION!$B$1,\"bscr\",CONFIGURATION!$B$12)","v":"Mapped"},{"$f":"XBRLMap(K75,$N75,$P$6,$P$8,CONFIGURATION!$B$10,\"BMA\",CONFIGURATION!$B$1,\"bscr\",CONFIGURATION!$B$12)","v":"Mapped"},null,null,null,"bma_ReinsuranceBalancesReceivablePoolsAndAssociations"]
[null,"(d) ","All other insurers",null,{"$f":"Import!E137","v":0},null,{"$f":"Import!G137","v":0},null,{"$f":"+Import!I137","v":0},null,{"$f":"+Import!K137","v":0},null,null,"brrt_ReinsuranceBalancesReceivableAllOtherInsurers",{"$f":"XBRLMap(I76,$N76,$O$6,$O$8,CONFIGURATION!$B$10,\"BMA\",CONFIGURATION!$B$1,\"bscr\",CONFIGURATION!$B$12)","v":"Mapped"},{"$f":"XBRLMap(K76,$N76,$P$6,$P$8,CONFIGURATION!$B$10,\"BMA\",CONFIGURATION!$B$1,\"bscr\",CONFIGURATION!$B$12)","v":"Mapped"},null,null,null,"bma_ReinsuranceBalancesReceivableAllOtherInsurers"]
[null,"(e)","Total reinsurance balances receivable",null,{"$f":"SUM(E73:E76)","v":0},null,{"$f":"SUM(G73:G76)","v":0},null,{"$f":"SUM(I73:I76)","v":0},null,{"$f":"SUM(K73:K76)","v":0},null,null,"brrt_ReinsuranceBalancesReceivable",{"$f":"XBRLMap(I77,$N77,$O$6,$O$8,CONFIGURATION!$B$10,\"BMA\",CONFIGURATION!$B$1,\"bscr\",CONFIGURATION!$B$12)","v":"Mapped"},{"$f":"XBRLMap(K77,$N77,$P$6,$P$8,CONFIGURATION!$B$10,\"BMA\",CONFIGURATION!$B$1,\"bscr\",CONFIGURATION!$B$12)","v":"Mapped"},null,null,null,"bma_TotalReinsuranceBalancesReceivable"]
[null,null,null,null,null,null,null,null,null,null,null,null,null,"",{"$f":"XBRLMap(I78,$N78,$O$6,$O$8,CONFIGURATION!$B$10,\"BMA\",CONFIGURATION!$B$1,\"bscr\",CONFIGURATION!$B$12)","v":"-"},{"$f":"XBRLMap(K78,$N78,$P$6,$P$8,CONFIGURATION!$B$10,\"BMA\",CONFIGURATION!$B$1,\"bscr\",CONFIGURATION!$B$12)","v":"-"},null,null,null,""]
[null,"12.","FUNDS HELD BY CEDING REINSURERS:",null,{"$f":"Import!E140","v":0},null,{"$f":"Import!G140","v":0},null,{"$f":"+Import!I140","v":0},null,{"$f":"+Import!K140","v":0},null,null,"brrt_FundsHeldByCedingReinsurers",{"$f":"XBRLMap(I79,$N79,$O$6,$O$8,CONFIGURATION!$B$10,\"BMA\",CONFIGURATION!$B$1,\"bscr\",CONFIGURATION!$B$12)","v":"Mapped"},{"$f":"XBRLMap(K79,$N79,$P$6,$P$8,CONFIGURATION!$B$10,\"BMA\",CONFIGURATION!$B$1,\"bscr\",CONFIGURATION!$B$12)","v":"Mapped"},null,null,null,"bma_TotalFundsHeldByCedingReinsurers"]
[null,null,null,null,null,null,null,null,null,null,null,null,null,"",{"$f":"XBRLMap(I80,$N80,$O$6,$O$8,CONFIGURATION!$B$10,\"BMA\",CONFIGURATION!$B$1,\"bscr\",CONFIGURATION!$B$12)","v":"-"},{"$f":"XBRLMap(K80,$N80,$P$6,$P$8,CONFIGURATION!$B$10,\"BMA\",CONFIGURATION!$B$1,\"bscr\",CONFIGURATION!$B$12)","v":"-"},null,null,null,""]
[null,"13.","SUNDRY ASSETS:",null,null,null,null,null,null,null,null,null,null,"",{"$f":"XBRLMap(I81,$N81,$O$6,$O$8,CONFIGURATION!$B$10,\"BMA\",CONFIGURATION!$B$1,\"bscr\",CONFIGURATION!$B$12)","v":"-"},{"$f":"XBRLMap(K81,$N81,$P$6,$P$8,CONFIGURATION!$B$10,\"BMA\",CONFIGURATION!$B$1,\"bscr\",CONFIGURATION!$B$12)","v":"-"}]
[null,"(a)","Derivative instruments",null,{"$f":"Import!E141","v":0},null,{"$f":"Import!G141","v":0},null,{"$f":"+Import!I141","v":0},null,{"$f":"+Import!K141","v":0},null,null,"brrt_SundryAssetsDerivativeInstruments",{"$f":"XBRLMap(I82,$N82,$O$6,$O$8,CONFIGURATION!$B$10,\"BMA\",CONFIGURATION!$B$1,\"bscr\",CONFIGURATION!$B$12)","v":"Mapped"},{"$f":"XBRLMap(K82,$N82,$P$6,$P$8,CONFIGURATION!$B$10,\"BMA\",CONFIGURATION!$B$1,\"bscr\",CONFIGURATION!$B$12)","v":"Mapped"},null,null,null,"bma_SundryAssetsDerivativeInstruments"]
[null,"(b)","Segregated accounts companies - long-term business - variable annuities",null,null,null,null,null,{"$f":"+Import!I142","v":0},null,{"$f":"+Import!K142","v":0}]
[null,"(c) ","Segregated accounts companies - long-term business - others",null,null,null,null,null,{"$f":"+Import!I143","v":0},null,{"$f":"+Import!K143","v":0}]
[null,"(d)","Segregated accounts companies - general business",null,{"$f":"Import!E144","v":0},null,{"$f":"Import!G144","v":0},null,{"$f":"+Import!I144","v":0},null,{"$f":"+Import!K144","v":0},null,null,"brrt_SundryAssetsSegregatedAccountsCompanies",{"$f":"XBRLMap(I85,$N85,$O$6,$O$8,CONFIGURATION!$B$10,\"BMA\",CONFIGURATION!$B$1,\"bscr\",CONFIGURATION!$B$12)","v":"Mapped"},{"$f":"XBRLMap(K85,$N85,$P$6,$P$8,CONFIGURATION!$B$10,\"BMA\",CONFIGURATION!$B$1,\"bscr\",CONFIGURATION!$B$12)","v":"Mapped"},null,null,null,"bma_SundryAssetsSegregatedAccountsCompanies"]
[null,"(e) ","Deposit assets",null,{"$f":"Import!E145","v":0},null,{"$f":"Import!G145","v":0},null,{"$f":"+Import!I145","v":0},null,{"$f":"+Import!K145","v":0},null,null,"brrt_SundryAssetsDepositAssets",{"$f":"XBRLMap(I86,$N86,$O$6,$O$8,CONFIGURATION!$B$10,\"BMA\",CONFIGURATION!$B$1,\"bscr\",CONFIGURATION!$B$12)","v":"Mapped"},{"$f":"XBRLMap(K86,$N86,$P$6,$P$8,CONFIGURATION!$B$10,\"BMA\",CONFIGURATION!$B$1,\"bscr\",CONFIGURATION!$B$12)","v":"Mapped"},null,null,null,"bma_SundryAssetsDepositAssets"]
[null,"(f) ","Deferred acquisition costs",null,{"$f":"Import!E146","v":0},null,{"$f":"Import!G146","v":0},null,{"$f":"+Import!I146","v":0},null,{"$f":"+Import!K146","v":0},null,null,"brrt_SundryAssetsDepositAssets",{"$f":"XBRLMap(I87,$N87,$O$6,$O$8,CONFIGURATION!$B$10,\"BMA\",CONFIGURATION!$B$1,\"bscr\",CONFIGURATION!$B$12)","v":"Mapped"},{"$f":"XBRLMap(K87,$N87,$P$6,$P$8,CONFIGURATION!$B$10,\"BMA\",CONFIGURATION!$B$1,\"bscr\",CONFIGURATION!$B$12)","v":"Mapped"},null,null,null,"bma_SundryAssetsDepositAssets"]
[null,"(g) ","Net receivables for investments sold",null,{"$f":"Import!E147","v":0},null,{"$f":"Import!G147","v":0},null,{"$f":"+Import!I147","v":0},null,{"$f":"+Import!K147","v":0}]
[null,"(h) ","Other Sundry Assets (Specify)",null,{"$f":"Import!E151","v":0},null,{"$f":"Import!G151","v":0},null,{"$f":"+Import!I151","v":0},null,{"$f":"+Import!K151","v":0}]
[null,"(i) ","Other Sundry Assets (Specify)",null,{"$f":"Import!E152","v":0},null,{"$f":"Import!G152","v":0},null,{"$f":"+Import!I152","v":0},null,{"$f":"+Import!K152","v":0}]
[null,"(j)","Other Sundry Assets (Specify)",null,{"$f":"Import!E153","v":0},null,{"$f":"Import!G153","v":0},null,{"$f":"+Import!I153","v":0},null,{"$f":"+Import!K153","v":0},null,null,"brrt_SundryAssetsOther",{"$f":"XBRLMap(I91,$N91,$O$6,$O$8,CONFIGURATION!$B$10,\"BMA\",CONFIGURATION!$B$1,\"bscr\",CONFIGURATION!$B$12)","v":"Mapped"},{"$f":"XBRLMap(K91,$N91,$P$6,$P$8,CONFIGURATION!$B$10,\"BMA\",CONFIGURATION!$B$1,\"bscr\",CONFIGURATION!$B$12)","v":"Mapped"},null,null,null,"bma_SundryAssetsOther"]
[null,"(k)","Total sundry assets",null,{"$f":"SUM(E82:E91)","v":0},null,{"$f":"SUM(G82:G91)","v":0},null,{"$f":"SUM(I82:I91)","v":0},null,{"$f":"SUM(K82:K91)","v":0},null,null,"brrt_SundryAssets",{"$f":"XBRLMap(I92,$N92,$O$6,$O$8,CONFIGURATION!$B$10,\"BMA\",CONFIGURATION!$B$1,\"bscr\",CONFIGURATION!$B$12)","v":"Mapped"},{"$f":"XBRLMap(K92,$N92,$P$6,$P$8,CONFIGURATION!$B$10,\"BMA\",CONFIGURATION!$B$1,\"bscr\",CONFIGURATION!$B$12)","v":"Mapped"},null,null,null,"bma_TotalSundryAssets"]
[null,null,null,null,null,null,null,null,null,null,null,null,null,"brrt_SundryAssetsOtherDescription",{"$f":"XBRLMap(C91,$N93,$O$6,$O$8,CONFIGURATION!$B$10,\"BMA\",CONFIGURATION!$B$1,\"bscr\")","v":"Mapped"},null,null,null,null,"bma_SundryAssetsOtherType"]
[null,"14.","LETTERS OF CREDIT, GUARANTEES AND OTHER INSTRUMENTS:",null,null,null,null,null,null,null,null,null,null,"",{"$f":"XBRLMap(I94,$N94,$O$6,$O$8,CONFIGURATION!$B$10,\"BMA\",CONFIGURATION!$B$1,\"bscr\",CONFIGURATION!$B$12)","v":"-"},{"$f":"XBRLMap(K94,$N94,$P$6,$P$8,CONFIGURATION!$B$10,\"BMA\",CONFIGURATION!$B$1,\"bscr\",CONFIGURATION!$B$12)","v":"-"}]
[null,"(a)","Letters of credit ",null,{"$f":"Import!E154","v":0},null,{"$f":"Import!G154","v":0},null,{"$f":"+Import!I154","v":0},null,{"$f":"+Import!K154","v":0},null,null,"brrt_AssetsLettersOfCredit",{"$f":"XBRLMap(I95,$N95,$O$6,$O$8,CONFIGURATION!$B$10,\"BMA\",CONFIGURATION!$B$1,\"bscr\",CONFIGURATION!$B$12)","v":"Mapped"},{"$f":"XBRLMap(K95,$N95,$P$6,$P$8,CONFIGURATION!$B$10,\"BMA\",CONFIGURATION!$B$1,\"bscr\",CONFIGURATION!$B$12)","v":"Mapped"},null,null,null,"bma_AssetsLettersOfCredit"]
[null,"(b)","Guarantees",null,{"$f":"Import!E155","v":0},null,{"$f":"Import!G155","v":0},null,{"$f":"+Import!I155","v":0},null,{"$f":"+Import!K155","v":0},null,null,"brrt_AssetsGuarantees",{"$f":"XBRLMap(I96,$N96,$O$6,$O$8,CONFIGURATION!$B$10,\"BMA\",CONFIGURATION!$B$1,\"bscr\",CONFIGURATION!$B$12)","v":"Mapped"},{"$f":"XBRLMap(K96,$N96,$P$6,$P$8,CONFIGURATION!$B$10,\"BMA\",CONFIGURATION!$B$1,\"bscr\",CONFIGURATION!$B$12)","v":"Mapped"},null,null,null,"bma_AssetsGuarantees"]
[null,"(c) ","Other instruments",null,{"$f":"Import!E156","v":0},null,{"$f":"Import!G156","v":0},null,{"$f":"+Import!I156","v":0},null,{"$f":"+Import!K156","v":0},null,null,"brrt_AssetsOtherInstruments",{"$f":"XBRLMap(I97,$N97,$O$6,$O$8,CONFIGURATION!$B$10,\"BMA\",CONFIGURATION!$B$1,\"bscr\",CONFIGURATION!$B$12)","v":"Mapped"},{"$f":"XBRLMap(K97,$N97,$P$6,$P$8,CONFIGURATION!$B$10,\"BMA\",CONFIGURATION!$B$1,\"bscr\",CONFIGURATION!$B$12)","v":"Mapped"},null,null,null,"bma_AssetsOtherInstruments"]
[null,"(e) ","Total letters of credit, guarantees and other instruments",null,{"$f":"SUM(E95:E97)","v":0},null,{"$f":"SUM(G95:G97)","v":0},null,{"$f":"SUM(I95:I97)","v":0},null,{"$f":"SUM(K95:K97)","v":0},null,null,"brrt_AssetsLettersOfCreditGuaranteesOtherInstruments",{"$f":"XBRLMap(I98,$N98,$O$6,$O$8,CONFIGURATION!$B$10,\"BMA\",CONFIGURATION!$B$1,\"bscr\",CONFIGURATION!$B$12)","v":"Mapped"},{"$f":"XBRLMap(K98,$N98,$P$6,$P$8,CONFIGURATION!$B$10,\"BMA\",CONFIGURATION!$B$1,\"bscr\",CONFIGURATION!$B$12)","v":"Mapped"},null,null,null,"bma_AssetsTotalLettersOfCreditGuaranteesAndOtherInstruments"]
[null,null,null,null,null,null,null,null,null,null,null,null,null,"",{"$f":"XBRLMap(I99,$N99,$O$6,$O$8,CONFIGURATION!$B$10,\"BMA\",CONFIGURATION!$B$1,\"bscr\",CONFIGURATION!$B$12)","v":"-"},{"$f":"XBRLMap(K99,$N99,$P$6,$P$8,CONFIGURATION!$B$10,\"BMA\",CONFIGURATION!$B$1,\"bscr\",CONFIGURATION!$B$12)","v":"-"},null,null,null,""]
[null,"15.","TOTAL",null,{"$f":"E12+E25+E38+E48+E53+E55+E60+E62+E64+E70+E77+E79+E92+E98","v":0},null,{"$f":"G12+G25+G38+G48+G53+G55+G60+G62+G64+G70+G77+G79+G92+G98","v":0},null,{"$f":"I12+I25+I38+I48+I53+I55+I60+I62+I64+I70+I77+I79+I92+I98","v":0},null,{"$f":"K12+K25+K38+K48+K53+K55+K60+K62+K64+K70+K77+K79+K92+K98","v":0},null,null,"brrt_Assets",{"$f":"XBRLMap(I100,$N100,$O$6,$O$8,CONFIGURATION!$B$10,\"BMA\",CONFIGURATION!$B$1,\"bscr\",CONFIGURATION!$B$12)","v":"Mapped"},{"$f":"XBRLMap(K100,$N100,$P$6,$P$8,CONFIGURATION!$B$10,\"BMA\",CONFIGURATION!$B$1,\"bscr\",CONFIGURATION!$B$12)","v":"Mapped"},null,null,null,"bma_TotalAssets"]
[]
[null,null,"INSURANCE RESERVES, OTHER LIABILITIES AND STATUTORY CAPITAL AND SURPLUS",null,null,null,null,null,null,null,null,null,null,"",{"$f":"XBRLMap(I102,$N102,$O$6,$O$8,CONFIGURATION!$B$10,\"BMA\",CONFIGURATION!$B$1,\"bscr\",CONFIGURATION!$B$12)","v":"-"},{"$f":"XBRLMap(K102,$N102,$P$6,$P$8,CONFIGURATION!$B$10,\"BMA\",CONFIGURATION!$B$1,\"bscr\",CONFIGURATION!$B$12)","v":"-"},null,null,null,""]
[]
[null,null,"INSURANCE RESERVES",null,null,null,null,null,null,null,null,null,null,"",{"$f":"XBRLMap(I104,$N104,$O$6,$O$8,CONFIGURATION!$B$10,\"BMA\",CONFIGURATION!$B$1,\"bscr\",CONFIGURATION!$B$12)","v":"-"},{"$f":"XBRLMap(K104,$N104,$P$6,$P$8,CONFIGURATION!$B$10,\"BMA\",CONFIGURATION!$B$1,\"bscr\",CONFIGURATION!$B$12)","v":"-"}]
[null,null,null,null,null,null,null,null,null,null,null,null,null,"",{"$f":"XBRLMap(I105,$N105,$O$6,$O$8,CONFIGURATION!$B$10,\"BMA\",CONFIGURATION!$B$1,\"bscr\",CONFIGURATION!$B$12)","v":"-"},{"$f":"XBRLMap(K105,$N105,$P$6,$P$8,CONFIGURATION!$B$10,\"BMA\",CONFIGURATION!$B$1,\"bscr\",CONFIGURATION!$B$12)","v":"-"},null,null,null,""]
[null,"16.","UNEARNED PREMIUM RESERVE"]
[null,"(a)","Gross unearned premium reserves",null,{"$f":"+Import!E158","v":0},null,{"$f":"+Import!G158","v":0},null,{"$f":"+Import!I158","v":0},null,{"$f":"+Import!K158","v":0}]
[null,"(b)","Less: Ceded unearned premium reserve"]
[null,null,"  i.   Foreign affiliates",null,{"$f":"+Import!E159","v":0},null,{"$f":"+Import!G159","v":0},null,{"$f":"+Import!I159","v":0},null,{"$f":"+Import!K159","v":0}]
[null,null,"  ii.  Domestic affiliates",null,{"$f":"+Import!E160","v":0},null,{"$f":"+Import!G160","v":0},null,{"$f":"+Import!I160","v":0},null,{"$f":"+Import!K160","v":0}]
[null,null,"  iii. Pools & associations",null,{"$f":"+Import!E161","v":0},null,{"$f":"+Import!G161","v":0},null,{"$f":"+Import!I161","v":0},null,{"$f":"+Import!K161","v":0}]
[null,null,"  iv.  All other insurers",null,{"$f":"+Import!E162","v":0},null,{"$f":"+Import!G162","v":0},null,{"$f":"+Import!I162","v":0},null,{"$f":"+Import!K162","v":0}]
[null,"(c) ","Total ceded unearned premium reserve",null,{"$f":"SUM(E109:E112)","v":0},null,{"$f":"SUM(G109:G112)","v":0},null,{"$f":"SUM(I109:I112)","v":0},null,{"$f":"SUM(K109:K112)","v":0}]
[null,"(d) ","Net unearned premium reserves",null,{"$f":"E107-E113","v":0},null,{"$f":"G107-G113","v":0},null,{"$f":"I107-I113","v":0},null,{"$f":"K107-K113","v":0},null,null,"brrt_UnearnedPremiums",{"$f":"XBRLMap(I114,$N114,$O$6,$O$8,CONFIGURATION!$B$10,\"BMA\",CONFIGURATION!$B$1,\"bscr\",CONFIGURATION!$B$12)","v":"Mapped"},{"$f":"XBRLMap(K114,$N114,$P$6,$P$8,CONFIGURATION!$B$10,\"BMA\",CONFIGURATION!$B$1,\"bscr\",CONFIGURATION!$B$12)","v":"Mapped"},null,null,null,"bma_UnearnedPremiums"]
[null,null,null,null,null,null,null,null,null,null,null,null,null,"",{"$f":"XBRLMap(I115,$N115,$O$6,$O$8,CONFIGURATION!$B$10,\"BMA\",CONFIGURATION!$B$1,\"bscr\",CONFIGURATION!$B$12)","v":"-"},{"$f":"XBRLMap(K115,$N115,$P$6,$P$8,CONFIGURATION!$B$10,\"BMA\",CONFIGURATION!$B$1,\"bscr\",CONFIGURATION!$B$12)","v":"-"},null,null,null,""]
[null,"17.","LOSS AND LOSS EXPENSE PROVISIONS:",null,null,null,null,null,null,null,null,null,null,"",{"$f":"XBRLMap(I116,$N116,$O$6,$O$8,CONFIGURATION!$B$10,\"BMA\",CONFIGURATION!$B$1,\"bscr\",CONFIGURATION!$B$12)","v":"-"},{"$f":"XBRLMap(K116,$N116,$P$6,$P$8,CONFIGURATION!$B$10,\"BMA\",CONFIGURATION!$B$1,\"bscr\",CONFIGURATION!$B$12)","v":"-"}]
[null,"(a)","Gross loss and loss expense provisions",null,{"$f":"+Import!E163","v":0},null,{"$f":"+Import!G163","v":0},null,{"$f":"+Import!I163","v":0},null,{"$f":"+Import!K163","v":0},null,null,"brrt_GrossLossAndLossExpenseProvisions",{"$f":"XBRLMap(I117,$N117,$O$6,$O$8,CONFIGURATION!$B$10,\"BMA\",CONFIGURATION!$B$1,\"bscr\",CONFIGURATION!$B$12)","v":"Mapped"},{"$f":"XBRLMap(K117,$N117,$P$6,$P$8,CONFIGURATION!$B$10,\"BMA\",CONFIGURATION!$B$1,\"bscr\",CONFIGURATION!$B$12)","v":"Mapped"},null,null,null,"bma_GrossLossAndLossExpenseProvisions"]
[null,"(b)","Less : Reinsurance recoverable balance",null,null,null,null,null,null,null,null,null,null,"",{"$f":"XBRLMap(I118,$N118,$O$6,$O$8,CONFIGURATION!$B$10,\"BMA\",CONFIGURATION!$B$1,\"bscr\",CONFIGURATION!$B$12)","v":"-"},{"$f":"XBRLMap(K118,$N118,$P$6,$P$8,CONFIGURATION!$B$10,\"BMA\",CONFIGURATION!$B$1,\"bscr\",CONFIGURATION!$B$12)","v":"-"}]
[null,null,"  i.   Foreign affiliates",null,{"$f":"+Import!E164","v":0},null,{"$f":"+Import!G164","v":0},null,{"$f":"+Import!I164","v":0},null,{"$f":"+Import!K164","v":0},null,null,"brrt_ReinsuranceRecoverableBalanceForeignAffiliates",{"$f":"XBRLMap(I119,$N119,$O$6,$O$8,CONFIGURATION!$B$10,\"BMA\",CONFIGURATION!$B$1,\"bscr\",CONFIGURATION!$B$12)","v":"Mapped"},{"$f":"XBRLMap(K119,$N119,$P$6,$P$8,CONFIGURATION!$B$10,\"BMA\",CONFIGURATION!$B$1,\"bscr\",CONFIGURATION!$B$12)","v":"Mapped"},null,null,null,"bma_LessReinsuranceRecoverableBalanceForeignAffiliates"]
[null,null,"  ii.  Domestic affiliates",null,{"$f":"+Import!E165","v":0},null,{"$f":"+Import!G165","v":0},null,{"$f":"+Import!I165","v":0},null,{"$f":"+Import!K165","v":0},null,null,"brrt_ReinsuranceRecoverableBalanceDomesticAffiliates",{"$f":"XBRLMap(I120,$N120,$O$6,$O$8,CONFIGURATION!$B$10,\"BMA\",CONFIGURATION!$B$1,\"bscr\",CONFIGURATION!$B$12)","v":"Mapped"},{"$f":"XBRLMap(K120,$N120,$P$6,$P$8,CONFIGURATION!$B$10,\"BMA\",CONFIGURATION!$B$1,\"bscr\",CONFIGURATION!$B$12)","v":"Mapped"},null,null,null,"bma_LessReinsuranceRecoverableBalanceDomesticAffiliates"]
[null,null,"  iii. Pools & associations",null,{"$f":"+Import!E166","v":0},null,{"$f":"+Import!G166","v":0},null,{"$f":"+Import!I166","v":0},null,{"$f":"+Import!K166","v":0},null,null,"brrt_ReinsuranceRecoverableBalancePoolsAndAssociations",{"$f":"XBRLMap(I121,$N121,$O$6,$O$8,CONFIGURATION!$B$10,\"BMA\",CONFIGURATION!$B$1,\"bscr\",CONFIGURATION!$B$12)","v":"Mapped"},{"$f":"XBRLMap(K121,$N121,$P$6,$P$8,CONFIGURATION!$B$10,\"BMA\",CONFIGURATION!$B$1,\"bscr\",CONFIGURATION!$B$12)","v":"Mapped"},null,null,null,"bma_LessReinsuranceRecoverableBalancePoolsAndAssociations"]
[null,null,"  iv.  All other insurers",null,{"$f":"+Import!E167","v":0},null,{"$f":"+Import!G167","v":0},null,{"$f":"+Import!I167","v":0},null,{"$f":"+Import!K167","v":0},null,null,"brrt_OtherInsurersReinsuranceRecoverableBalance",{"$f":"XBRLMap(I122,$N122,$O$6,$O$8,CONFIGURATION!$B$10,\"BMA\",CONFIGURATION!$B$1,\"bscr\",CONFIGURATION!$B$12)","v":"Mapped"},{"$f":"XBRLMap(K122,$N122,$P$6,$P$8,CONFIGURATION!$B$10,\"BMA\",CONFIGURATION!$B$1,\"bscr\",CONFIGURATION!$B$12)","v":"Mapped"},null,null,null,"bma_LessReinsuranceRecoverableBalanceAllOtherInsurers"]
[null,"(c) ","Total reinsurance recoverable balance",null,{"$f":"SUM(E119:E122)","v":0},null,{"$f":"SUM(G119:G122)","v":0},null,{"$f":"SUM(I119:I122)","v":0},null,{"$f":"SUM(K119:K122)","v":0},null,null,"brrt_ReinsuranceRecoverableBalance",{"$f":"XBRLMap(I123,$N123,$O$6,$O$8,CONFIGURATION!$B$10,\"BMA\",CONFIGURATION!$B$1,\"bscr\",CONFIGURATION!$B$12)","v":"Mapped"},{"$f":"XBRLMap(K123,$N123,$P$6,$P$8,CONFIGURATION!$B$10,\"BMA\",CONFIGURATION!$B$1,\"bscr\",CONFIGURATION!$B$12)","v":"Mapped"},null,null,null,"bma_TotalReinsuranceRecoverableBalance"]
[null,"(d) ","Net loss and loss expense provisions",null,{"$f":"E117-E123","v":0},null,{"$f":"G117-G123","v":0},null,{"$f":"I117-I123","v":0},null,{"$f":"K117-K123","v":0},null,null,"brrt_NetLossAndLossExpenseProvisions",{"$f":"XBRLMap(I124,$N124,$O$6,$O$8,CONFIGURATION!$B$10,\"BMA\",CONFIGURATION!$B$1,\"bscr\",CONFIGURATION!$B$12)","v":"Mapped"},{"$f":"XBRLMap(K124,$N124,$P$6,$P$8,CONFIGURATION!$B$10,\"BMA\",CONFIGURATION!$B$1,\"bscr\",CONFIGURATION!$B$12)","v":"Mapped"},null,null,null,"bma_NetLossAndLossExpenseProvisions"]
[null,null,null,null,null,null,null,null,null,null,null,null,null,"",{"$f":"XBRLMap(I125,$N125,$O$6,$O$8,CONFIGURATION!$B$10,\"BMA\",CONFIGURATION!$B$1,\"bscr\",CONFIGURATION!$B$12)","v":"-"},{"$f":"XBRLMap(K125,$N125,$P$6,$P$8,CONFIGURATION!$B$10,\"BMA\",CONFIGURATION!$B$1,\"bscr\",CONFIGURATION!$B$12)","v":"-"},null,null,null,""]
[null,"18.","OTHER INSURANCE RESERVES",null,{"$f":"+Import!E168","v":0},null,{"$f":"+Import!G168","v":0},null,{"$f":"+Import!I168","v":0},null,{"$f":"+Import!K168","v":0},null,null,"brrt_OtherInsuranceReserves",{"$f":"XBRLMap(I126,$N126,$O$6,$O$8,CONFIGURATION!$B$10,\"BMA\",CONFIGURATION!$B$1,\"bscr\",CONFIGURATION!$B$12)","v":"Mapped"},{"$f":"XBRLMap(K126,$N126,$P$6,$P$8,CONFIGURATION!$B$10,\"BMA\",CONFIGURATION!$B$1,\"bscr\",CONFIGURATION!$B$12)","v":"Mapped"},null,null,null,"bma_OtherInsuranceReservesGeneralBusiness"]
[null,null,null,null,null,null,null,null,null,null,null,null,null,"",{"$f":"XBRLMap(I127,$N127,$O$6,$O$8,CONFIGURATION!$B$10,\"BMA\",CONFIGURATION!$B$1,\"bscr\",CONFIGURATION!$B$12)","v":"-"},{"$f":"XBRLMap(K127,$N127,$P$6,$P$8,CONFIGURATION!$B$10,\"BMA\",CONFIGURATION!$B$1,\"bscr\",CONFIGURATION!$B$12)","v":"-"},null,null,null,""]
[null,"19.","TOTAL GENERAL BUSINESS - INSURANCE RESERVES",null,{"$f":"E114+E124+E126","v":0},null,{"$f":"G114+G124+G126","v":0},null,{"$f":"I114+I124+I126","v":0},null,{"$f":"K114+K124+K126","v":0},null,null,"brrt_InsuranceReserves",{"$f":"XBRLMap(I128,$N128,$O$6,$O$8,CONFIGURATION!$B$10,\"BMA\",CONFIGURATION!$B$1,\"bscr\",CONFIGURATION!$B$12)","v":"Mapped"},{"$f":"XBRLMap(K128,$N128,$P$6,$P$8,CONFIGURATION!$B$10,\"BMA\",CONFIGURATION!$B$1,\"bscr\",CONFIGURATION!$B$12)","v":"Mapped"},null,null,null,"bma_TotalGeneralBusinessInsuranceReserves"]
[null,null,null,null,null,null,null,null,null,null,null,null,null,"",{"$f":"XBRLMap(I129,$N129,$O$6,$O$8,CONFIGURATION!$B$10,\"BMA\",CONFIGURATION!$B$1,\"bscr\",CONFIGURATION!$B$12)","v":"-"},{"$f":"XBRLMap(K129,$N129,$P$6,$P$8,CONFIGURATION!$B$10,\"BMA\",CONFIGURATION!$B$1,\"bscr\",CONFIGURATION!$B$12)","v":"-"},null,null,null,""]
[null,null,"LONG-TERM BUSINESS INSURANCE RESERVES",null,null,null,null,null,null,null,null,null,null,"",{"$f":"XBRLMap(I130,$N130,$O$6,$O$8,CONFIGURATION!$B$10,\"BMA\",CONFIGURATION!$B$1,\"bscr\",CONFIGURATION!$B$12)","v":"-"},{"$f":"XBRLMap(K130,$N130,$P$6,$P$8,CONFIGURATION!$B$10,\"BMA\",CONFIGURATION!$B$1,\"bscr\",CONFIGURATION!$B$12)","v":"-"}]
[null,null,null,null,null,null,null,null,null,null,null,null,null,"",{"$f":"XBRLMap(I131,$N131,$O$6,$O$8,CONFIGURATION!$B$10,\"BMA\",CONFIGURATION!$B$1,\"bscr\",CONFIGURATION!$B$12)","v":"-"},{"$f":"XBRLMap(K131,$N131,$P$6,$P$8,CONFIGURATION!$B$10,\"BMA\",CONFIGURATION!$B$1,\"bscr\",CONFIGURATION!$B$12)","v":"-"},null,null,null,""]
[null,20,"RESERVES FOR REPORTED CLAIMS",null,null,null,null,null,{"$f":"+Import!I169","v":0},null,{"$f":"+Import!K169","v":0}]
[]
[null,21,"RESERVES FOR UNREPORTED CLAIMS",null,null,null,null,null,{"$f":"+Import!I170","v":0},null,{"$f":"+Import!K170","v":0}]
[]
[null,22,"POLICY RESERVES - LIFE",null,null,null,null,null,{"$f":"+Import!I171","v":0},null,{"$f":"+Import!K171","v":0}]
[]
[null,23,"POLICY RESERVES - ACCIDENT AND HEALTH",null,null,null,null,null,{"$f":"+Import!I172","v":0},null,{"$f":"+Import!K172","v":0}]
[]
[null,24,"POLICYHOLDER'S FUNDS ON DEPOSIT",null,null,null,null,null,{"$f":"+Import!I173","v":0},null,{"$f":"+Import!K173","v":0}]
[]
[null,25,"LIABILITY FOR FUTURE POLICYHOLDER DIVIDENDS",null,null,null,null,null,{"$f":"+Import!I174","v":0},null,{"$f":"+Import!K174","v":0}]
[]
[null,26,"OTHER LONG-TERM BUSINESS INSURANCE RESERVES",null,null,null,null,null,{"$f":"+Import!I175","v":0},null,{"$f":"+Import!K175","v":0}]
[]
[null,27,"TOTAL LONG-TERM BUSINESS INSURANCE RESERVES"]
[null,"(a)","Total Gross Long-Term Business Insurance Reserves",null,null,null,null,{"$f":"H154+H153","v":0},{"$f":"I154+I153","v":0},{"$f":"J154+J153","v":0},{"$f":"K154+K153","v":0}]
[null,"(b)","Less: Reinsurance Recoverable Balance:"]
[null,null,"(i) Foreign Affiliates",null,null,null,null,null,{"$f":"+Import!I176","v":0},null,{"$f":"+Import!K176","v":0}]
[null,null,"(ii) Domestic Affiliaties",null,null,null,null,null,{"$f":"+Import!I177","v":0},null,{"$f":"+Import!K177","v":0}]
[null,null,"(iii) Pools and Associations",null,null,null,null,null,{"$f":"+Import!I178","v":0},null,{"$f":"+Import!K178","v":0}]
[null,null,"(iv) All Other Insurers",null,null,null,null,null,{"$f":"+Import!I179","v":0},null,{"$f":"+Import!K179","v":0}]
[null,"(c)","Total Reinsurance Recoverable Balance",null,null,null,null,{"$f":"SUM(H149:H152)","v":0},{"$f":"SUM(I149:I152)","v":0},{"$f":"SUM(J149:J152)","v":0},{"$f":"SUM(K149:K152)","v":0}]
[null,"(d)","Net Long-Term Business Insurance Reserves",null,null,null,null,{"$f":"H132+H134+H136+H138+H140+H142+H144","v":0},{"$f":"I132+I134+I136+I138+I140+I142+I144","v":0},{"$f":"J132+J134+J136+J138+J140+J142+J144","v":0},{"$f":"K132+K134+K136+K138+K140+K142+K144","v":0}]
[]
[null,null,"OTHER LIABILITIES"]
[]
[null,"28.","INSURANCE AND REINSURANCE BALANCES PAYABLE",null,{"$f":"+Import!E187","v":0},null,{"$f":"+Import!G187","v":0},null,{"$f":"+Import!I187","v":0},null,{"$f":"+Import!K187","v":0},null,null,"brrt_InsuranceAndReinsuranceBalancesPayable",{"$f":"XBRLMap(I158,$N158,$O$6,$O$8,CONFIGURATION!$B$10,\"BMA\",CONFIGURATION!$B$1,\"bscr\",CONFIGURATION!$B$12)","v":"Mapped"},{"$f":"XBRLMap(K158,$N158,$P$6,$P$8,CONFIGURATION!$B$10,\"BMA\",CONFIGURATION!$B$1,\"bscr\",CONFIGURATION!$B$12)","v":"Mapped"},null,null,null,"bma_InsuranceAndReinsuranceBalancesPayable"]
[null,null,null,null,null,null,null,null,null,null,null,null,null,"",{"$f":"XBRLMap(I159,$N159,$O$6,$O$8,CONFIGURATION!$B$10,\"BMA\",CONFIGURATION!$B$1,\"bscr\",CONFIGURATION!$B$12)","v":"-"},{"$f":"XBRLMap(K159,$N159,$P$6,$P$8,CONFIGURATION!$B$10,\"BMA\",CONFIGURATION!$B$1,\"bscr\",CONFIGURATION!$B$12)","v":"-"},null,null,null,""]
[null,"29.","COMMISSIONS, EXPENSES, FEES AND TAXES PAYABLE",null,{"$f":"+Import!E188","v":0},null,{"$f":"+Import!G188","v":0},null,{"$f":"+Import!I188","v":0},null,{"$f":"+Import!K188","v":0},null,null,"brrt_CommissionsExpensesFeesAndTaxesPayable",{"$f":"XBRLMap(I160,$N160,$O$6,$O$8,CONFIGURATION!$B$10,\"BMA\",CONFIGURATION!$B$1,\"bscr\",CONFIGURATION!$B$12)","v":"Mapped"},{"$f":"XBRLMap(K160,$N160,$P$6,$P$8,CONFIGURATION!$B$10,\"BMA\",CONFIGURATION!$B$1,\"bscr\",CONFIGURATION!$B$12)","v":"Mapped"},null,null,null,"bma_CommissionsExpensesFeesAndTaxesPayable"]
[null,null,null,null,null,null,null,null,null,null,null,null,null,"",{"$f":"XBRLMap(I161,$N161,$O$6,$O$8,CONFIGURATION!$B$10,\"BMA\",CONFIGURATION!$B$1,\"bscr\",CONFIGURATION!$B$12)","v":"-"},{"$f":"XBRLMap(K161,$N161,$P$6,$P$8,CONFIGURATION!$B$10,\"BMA\",CONFIGURATION!$B$1,\"bscr\",CONFIGURATION!$B$12)","v":"-"},null,null,null,""]
[null,"30.","LOANS AND NOTES PAYABLE",null,{"$f":"+Import!E189","v":0},null,{"$f":"+Import!G189","v":0},null,{"$f":"+Import!I189","v":0},null,{"$f":"+Import!K189","v":0},null,null,"brrt_LoansAndNotesPayable",{"$f":"XBRLMap(I162,$N162,$O$6,$O$8,CONFIGURATION!$B$10,\"BMA\",CONFIGURATION!$B$1,\"bscr\",CONFIGURATION!$B$12)","v":"Mapped"},{"$f":"XBRLMap(K162,$N162,$P$6,$P$8,CONFIGURATION!$B$10,\"BMA\",CONFIGURATION!$B$1,\"bscr\",CONFIGURATION!$B$12)","v":"Mapped"},null,null,null,"bma_LoansAndNotesPayable"]
[null,null,null,null,null,null,null,null,null,null,null,null,null,"",{"$f":"XBRLMap(I163,$N163,$O$6,$O$8,CONFIGURATION!$B$10,\"BMA\",CONFIGURATION!$B$1,\"bscr\",CONFIGURATION!$B$12)","v":"-"},{"$f":"XBRLMap(K163,$N163,$P$6,$P$8,CONFIGURATION!$B$10,\"BMA\",CONFIGURATION!$B$1,\"bscr\",CONFIGURATION!$B$12)","v":"-"},null,null,null,""]
[null,"31.","(a) INCOME TAXES PAYABLE",null,{"$f":"+Import!E190","v":0},null,{"$f":"+Import!G190","v":0},null,{"$f":"+Import!I190","v":0},null,{"$f":"+Import!K190","v":0},null,null,"brrt_IncomeTaxesPayable",{"$f":"XBRLMap(I164,$N164,$O$6,$O$8,CONFIGURATION!$B$10,\"BMA\",CONFIGURATION!$B$1,\"bscr\",CONFIGURATION!$B$12)","v":"Mapped"},{"$f":"XBRLMap(K164,$N164,$P$6,$P$8,CONFIGURATION!$B$10,\"BMA\",CONFIGURATION!$B$1,\"bscr\",CONFIGURATION!$B$12)","v":"Mapped"},null,null,null,"bma_IncomeTaxesPayable"]
[]
[null,null,"(b) DEFERRED INCOME TAXES",null,{"$f":"+Import!E191","v":0},null,{"$f":"+Import!G191","v":0},null,{"$f":"+Import!I191","v":0},null,{"$f":"+Import!K191","v":0},null,null,"brrt_DeferredIncomeTaxes",{"$f":"XBRLMap(I166,$N166,$O$6,$O$8,CONFIGURATION!$B$10,\"BMA\",CONFIGURATION!$B$1,\"bscr\",CONFIGURATION!$B$12)","v":"Mapped"},{"$f":"XBRLMap(K166,$N166,$P$6,$P$8,CONFIGURATION!$B$10,\"BMA\",CONFIGURATION!$B$1,\"bscr\",CONFIGURATION!$B$12)","v":"Mapped"},null,null,null,"bma_DeferredIncomeTaxes"]
[null,null,null,null,null,null,null,null,null,null,null,null,null,"",{"$f":"XBRLMap(I167,$N167,$O$6,$O$8,CONFIGURATION!$B$10,\"BMA\",CONFIGURATION!$B$1,\"bscr\",CONFIGURATION!$B$12)","v":"-"},{"$f":"XBRLMap(K167,$N167,$P$6,$P$8,CONFIGURATION!$B$10,\"BMA\",CONFIGURATION!$B$1,\"bscr\",CONFIGURATION!$B$12)","v":"-"},null,null,null,""]
[null,"32.","AMOUNTS DUE TO AFFILIATES",null,{"$f":"+Import!E192","v":0},null,{"$f":"+Import!G192","v":0},null,{"$f":"+Import!I192","v":0},null,{"$f":"+Import!K192","v":0},null,null,"brrt_AmountsDueToAffiliates",{"$f":"XBRLMap(I168,$N168,$O$6,$O$8,CONFIGURATION!$B$10,\"BMA\",CONFIGURATION!$B$1,\"bscr\",CONFIGURATION!$B$12)","v":"Mapped"},{"$f":"XBRLMap(K168,$N168,$P$6,$P$8,CONFIGURATION!$B$10,\"BMA\",CONFIGURATION!$B$1,\"bscr\",CONFIGURATION!$B$12)","v":"Mapped"},null,null,null,"bma_AmountsDueToAffiliates"]
[null,null,null,null,null,null,null,null,null,null,null,null,null,"",{"$f":"XBRLMap(I169,$N169,$O$6,$O$8,CONFIGURATION!$B$10,\"BMA\",CONFIGURATION!$B$1,\"bscr\",CONFIGURATION!$B$12)","v":"-"},{"$f":"XBRLMap(K169,$N169,$P$6,$P$8,CONFIGURATION!$B$10,\"BMA\",CONFIGURATION!$B$1,\"bscr\",CONFIGURATION!$B$12)","v":"-"},null,null,null,""]
[null,"33.","ACCOUNTS PAYABLE AND ACCRUED LIABILITIES",null,{"$f":"+Import!E193","v":0},null,{"$f":"+Import!G193","v":0},null,{"$f":"+Import!I193","v":0},null,{"$f":"+Import!K193","v":0},null,null,"brrt_AccountsPayableAndAccruedLiabilities",{"$f":"XBRLMap(I170,$N170,$O$6,$O$8,CONFIGURATION!$B$10,\"BMA\",CONFIGURATION!$B$1,\"bscr\",CONFIGURATION!$B$12)","v":"Mapped"},{"$f":"XBRLMap(K170,$N170,$P$6,$P$8,CONFIGURATION!$B$10,\"BMA\",CONFIGURATION!$B$1,\"bscr\",CONFIGURATION!$B$12)","v":"Mapped"},null,null,null,"bma_AccountsPayableAndAccruedLiabilities"]
[null,null,null,null,null,null,null,null,null,null,null,null,null,"",{"$f":"XBRLMap(I171,$N171,$O$6,$O$8,CONFIGURATION!$B$10,\"BMA\",CONFIGURATION!$B$1,\"bscr\",CONFIGURATION!$B$12)","v":"-"},{"$f":"XBRLMap(K171,$N171,$P$6,$P$8,CONFIGURATION!$B$10,\"BMA\",CONFIGURATION!$B$1,\"bscr\",CONFIGURATION!$B$12)","v":"-"},null,null,null,""]
[null,"34.","FUNDS HELD UNDER REINSURANCE CONTRACTS:",null,{"$f":"+Import!E196","v":0},null,{"$f":"+Import!G196","v":0},null,{"$f":"+Import!I196","v":0},null,{"$f":"+Import!K196","v":0},null,null,"",{"$f":"XBRLMap(#REF!,$N172,$O$6,$O$8,CONFIGURATION!$B$10,\"BMA\",CONFIGURATION!$B$1,\"bscr\",CONFIGURATION!$B$12)","v":{"$error":"#VALUE!"}},{"$f":"XBRLMap(#REF!,$N172,$P$6,$P$8,CONFIGURATION!$B$10,\"BMA\",CONFIGURATION!$B$1,\"bscr\",CONFIGURATION!$B$12)","v":{"$error":"#VALUE!"}}]
[null,null,null,null,null,null,null,null,null,null,null,null,null,"",{"$f":"XBRLMap(I173,$N173,$O$6,$O$8,CONFIGURATION!$B$10,\"BMA\",CONFIGURATION!$B$1,\"bscr\",CONFIGURATION!$B$12)","v":"-"},{"$f":"XBRLMap(K173,$N173,$P$6,$P$8,CONFIGURATION!$B$10,\"BMA\",CONFIGURATION!$B$1,\"bscr\",CONFIGURATION!$B$12)","v":"-"},null,null,null,""]
[null,"35.","DIVIDENDS PAYABLE",null,{"$f":"+Import!E197","v":0},null,{"$f":"+Import!G197","v":0},null,{"$f":"+Import!I197","v":0},null,{"$f":"+Import!K197","v":0},null,null,"brrt_DividendsPayable",{"$f":"XBRLMap(I174,$N174,$O$6,$O$8,CONFIGURATION!$B$10,\"BMA\",CONFIGURATION!$B$1,\"bscr\",CONFIGURATION!$B$12)","v":"Mapped"},{"$f":"XBRLMap(K174,$N174,$P$6,$P$8,CONFIGURATION!$B$10,\"BMA\",CONFIGURATION!$B$1,\"bscr\",CONFIGURATION!$B$12)","v":"Mapped"},null,null,null,"bma_DividendsPayable"]
[null,null,null,null,null,null,null,null,null,null,null,null,null,"",{"$f":"XBRLMap(I175,$N175,$O$6,$O$8,CONFIGURATION!$B$10,\"BMA\",CONFIGURATION!$B$1,\"bscr\",CONFIGURATION!$B$12)","v":"-"},{"$f":"XBRLMap(K175,$N175,$P$6,$P$8,CONFIGURATION!$B$10,\"BMA\",CONFIGURATION!$B$1,\"bscr\",CONFIGURATION!$B$12)","v":"-"},null,null,null,""]
[null,"36.","SUNDRY LIABILITIES:",null,null,null,null,null,null,null,null,null,null,"",{"$f":"XBRLMap(I176,$N176,$O$6,$O$8,CONFIGURATION!$B$10,\"BMA\",CONFIGURATION!$B$1,\"bscr\",CONFIGURATION!$B$12)","v":"-"},{"$f":"XBRLMap(K176,$N176,$P$6,$P$8,CONFIGURATION!$B$10,\"BMA\",CONFIGURATION!$B$1,\"bscr\",CONFIGURATION!$B$12)","v":"-"}]
[null,"(a)","Derivative instruments ",null,{"$f":"+Import!E198","v":0},null,{"$f":"+Import!G198","v":0},null,{"$f":"+Import!I198","v":0},null,{"$f":"+Import!K198","v":0},null,null,"brrt_SundryLiabilitiesDerivativeInstruments",{"$f":"XBRLMap(I177,$N177,$O$6,$O$8,CONFIGURATION!$B$10,\"BMA\",CONFIGURATION!$B$1,\"bscr\",CONFIGURATION!$B$12)","v":"Mapped"},{"$f":"XBRLMap(K177,$N177,$P$6,$P$8,CONFIGURATION!$B$10,\"BMA\",CONFIGURATION!$B$1,\"bscr\",CONFIGURATION!$B$12)","v":"Mapped"},null,null,null,"bma_SundryLiabilitiesDerivativeInstruments"]
[null,"(b)","Segregated accounts companies",null,{"$f":"+Import!E200","v":0},null,{"$f":"+Import!G200","v":0},null,{"$f":"+Import!I200","v":0},null,{"$f":"+Import!K200","v":0},null,null,"brrt_SundryLiabilitiesSegregatedAccountsCompanies",{"$f":"XBRLMap(I178,$N178,$O$6,$O$8,CONFIGURATION!$B$10,\"BMA\",CONFIGURATION!$B$1,\"bscr\",CONFIGURATION!$B$12)","v":"Mapped"},{"$f":"XBRLMap(K178,$N178,$P$6,$P$8,CONFIGURATION!$B$10,\"BMA\",CONFIGURATION!$B$1,\"bscr\",CONFIGURATION!$B$12)","v":"Mapped"},null,null,null,"bma_SundryLiabilitiesSegregatedAccountsCompanies"]
[null,"(c)","Deposit liabilities",null,{"$f":"+Import!E201","v":0},null,{"$f":"+Import!G201","v":0},null,{"$f":"+Import!I201","v":0},null,{"$f":"+Import!K201","v":0},null,null,"brrt_SundryLiabilitiesDepositLiabilities",{"$f":"XBRLMap(I179,$N179,$O$6,$O$8,CONFIGURATION!$B$10,\"BMA\",CONFIGURATION!$B$1,\"bscr\",CONFIGURATION!$B$12)","v":"Mapped"},{"$f":"XBRLMap(K179,$N179,$P$6,$P$8,CONFIGURATION!$B$10,\"BMA\",CONFIGURATION!$B$1,\"bscr\",CONFIGURATION!$B$12)","v":"Mapped"},null,null,null,"bma_SundryLiabilitiesDepositLiabilities"]
[null,"(d)","Net payable for investments purchased",null,{"$f":"+Import!E203","v":0},null,{"$f":"+Import!G203","v":0},null,{"$f":"+Import!I203","v":0},null,{"$f":"+Import!K203","v":0}]
[null,"(e)","Other sundry liabilities (specify)",null,{"$f":"+Import!E204","v":0},null,{"$f":"+Import!G204","v":0},null,{"$f":"+Import!I204","v":0},null,{"$f":"+Import!K204","v":0}]
[null,"(f)","Other sundry liabilities (specify)",null,{"$f":"+Import!E205","v":0},null,{"$f":"+Import!G205","v":0},null,{"$f":"+Import!I205","v":0},null,{"$f":"+Import!K205","v":0}]
[null,"(g)","Other sundry liabilities (specify)",null,{"$f":"+Import!E206","v":0},null,{"$f":"+Import!G206","v":0},null,{"$f":"+Import!I206","v":0},null,{"$f":"+Import!K206","v":0},null,null,"brrt_SundryLiabilitiesOther",{"$f":"XBRLMap(I183,$N183,$O$6,$O$8,CONFIGURATION!$B$10,\"BMA\",CONFIGURATION!$B$1,\"bscr\",CONFIGURATION!$B$12)","v":"Mapped"},{"$f":"XBRLMap(K183,$N183,$P$6,$P$8,CONFIGURATION!$B$10,\"BMA\",CONFIGURATION!$B$1,\"bscr\",CONFIGURATION!$B$12)","v":"Mapped"},null,null,null,"bma_SundryLiabilitiesOther"]
[null,"(h)","Total sundry liabilities",null,{"$f":"SUM(E177:E183)","v":0},null,{"$f":"SUM(G177:G183)","v":0},null,{"$f":"SUM(I177:I183)","v":0},null,{"$f":"SUM(K177:K183)","v":0},null,null,"brrt_SundryLiabilities",{"$f":"XBRLMap(I184,$N184,$O$6,$O$8,CONFIGURATION!$B$10,\"BMA\",CONFIGURATION!$B$1,\"bscr\",CONFIGURATION!$B$12)","v":"Mapped"},{"$f":"XBRLMap(K184,$N184,$P$6,$P$8,CONFIGURATION!$B$10,\"BMA\",CONFIGURATION!$B$1,\"bscr\",CONFIGURATION!$B$12)","v":"Mapped"},null,null,null,"bma_TotalSundryLiabilities"]
[null,null,null,null,null,null,null,null,null,null,null,null,null,"brrt_SundryLiabilitiesOtherDescription",{"$f":"XBRLMap(C183,$N185,$O$6,$O$8,CONFIGURATION!$B$10,\"BMA\",CONFIGURATION!$B$1,\"bscr\")","v":"Mapped"},null,null,null,null,"bma_SundryLiabilitiesOtherType"]
[null,"37.","LETTERS OF CREDIT, GUARANTEES AND OTHER INSTRUMENTS:",null,null,null,null,null,null,null,null,null,null,"",{"$f":"XBRLMap(I186,$N186,$O$6,$O$8,CONFIGURATION!$B$10,\"BMA\",CONFIGURATION!$B$1,\"bscr\",CONFIGURATION!$B$12)","v":"-"},{"$f":"XBRLMap(K186,$N186,$P$6,$P$8,CONFIGURATION!$B$10,\"BMA\",CONFIGURATION!$B$1,\"bscr\",CONFIGURATION!$B$12)","v":"-"}]
[null,"(a)","Letters of credit ",null,{"$f":"+Import!E207","v":0},null,{"$f":"+Import!G207","v":0},null,{"$f":"+Import!I207","v":0},null,{"$f":"+Import!K207","v":0},null,null,"brrt_LiabilitiesLettersOfCredit",{"$f":"XBRLMap(I187,$N187,$O$6,$O$8,CONFIGURATION!$B$10,\"BMA\",CONFIGURATION!$B$1,\"bscr\",CONFIGURATION!$B$12)","v":"Mapped"},{"$f":"XBRLMap(K187,$N187,$P$6,$P$8,CONFIGURATION!$B$10,\"BMA\",CONFIGURATION!$B$1,\"bscr\",CONFIGURATION!$B$12)","v":"Mapped"},null,null,null,"bma_LiabilitiesLettersOfCredit"]
[null,"(b)","Guarantees",null,{"$f":"+Import!E208","v":0},null,{"$f":"+Import!G208","v":0},null,{"$f":"+Import!I208","v":0},null,{"$f":"+Import!K208","v":0},null,null,"brrt_LiabilitiesGuarantees",{"$f":"XBRLMap(I188,$N188,$O$6,$O$8,CONFIGURATION!$B$10,\"BMA\",CONFIGURATION!$B$1,\"bscr\",CONFIGURATION!$B$12)","v":"Mapped"},{"$f":"XBRLMap(K188,$N188,$P$6,$P$8,CONFIGURATION!$B$10,\"BMA\",CONFIGURATION!$B$1,\"bscr\",CONFIGURATION!$B$12)","v":"Mapped"},null,null,null,"bma_LiabilitiesGuarantees"]
[null,"(c) ","Other instruments",null,{"$f":"+Import!E209","v":0},null,{"$f":"+Import!G209","v":0},null,{"$f":"+Import!I209","v":0},null,{"$f":"+Import!K209","v":0},null,null,"brrt_LiabilitiesOtherInstruments",{"$f":"XBRLMap(I189,$N189,$O$6,$O$8,CONFIGURATION!$B$10,\"BMA\",CONFIGURATION!$B$1,\"bscr\",CONFIGURATION!$B$12)","v":"Mapped"},{"$f":"XBRLMap(K189,$N189,$P$6,$P$8,CONFIGURATION!$B$10,\"BMA\",CONFIGURATION!$B$1,\"bscr\",CONFIGURATION!$B$12)","v":"Mapped"},null,null,null,"bma_LiabilitiesOtherInstruments"]
[null,"(d)","Total letters of credit, guarantees and other instruments",null,{"$f":"SUM(E187:E189)","v":0},null,{"$f":"SUM(G187:G189)","v":0},null,{"$f":"SUM(I187:I189)","v":0},null,{"$f":"SUM(K187:K189)","v":0},null,null,"brrt_LiabilitiesLettersOfCreditGuaranteesAndOtherInstruments",{"$f":"XBRLMap(I190,$N190,$O$6,$O$8,CONFIGURATION!$B$10,\"BMA\",CONFIGURATION!$B$1,\"bscr\",CONFIGURATION!$B$12)","v":"Mapped"},{"$f":"XBRLMap(K190,$N190,$P$6,$P$8,CONFIGURATION!$B$10,\"BMA\",CONFIGURATION!$B$1,\"bscr\",CONFIGURATION!$B$12)","v":"Mapped"},null,null,null,"bma_LiabilitiesTotalLettersOfCreditGuaranteesAndOtherInstruments"]
[null,null,null,null,null,null,null,null,null,null,null,null,null,"",{"$f":"XBRLMap(I191,$N191,$O$6,$O$8,CONFIGURATION!$B$10,\"BMA\",CONFIGURATION!$B$1,\"bscr\",CONFIGURATION!$B$12)","v":"-"},{"$f":"XBRLMap(K191,$N191,$P$6,$P$8,CONFIGURATION!$B$10,\"BMA\",CONFIGURATION!$B$1,\"bscr\",CONFIGURATION!$B$12)","v":"-"},null,null,null,""]
[null,"38.","TOTAL OTHER LIABILITIES",null,{"$f":"E158+E160+E162+E164+E166+E168+E170+E172+E174+E184+E190","v":0},null,{"$f":"G158+G160+G162+G164+G166+G168+G170+G172+G174+G184+G190","v":0},null,{"$f":"I158+I160+I162+I164+I166+I168+I170+I172+I174+I184+I190","v":0},null,{"$f":"K158+K160+K162+K164+K166+K168+K170+K172+K174+K184+K190","v":0},null,null,"brrt_OtherLiabilities",{"$f":"XBRLMap(I192,$N192,$O$6,$O$8,CONFIGURATION!$B$10,\"BMA\",CONFIGURATION!$B$1,\"bscr\",CONFIGURATION!$B$12)","v":"Mapped"},{"$f":"XBRLMap(K192,$N192,$P$6,$P$8,CONFIGURATION!$B$10,\"BMA\",CONFIGURATION!$B$1,\"bscr\",CONFIGURATION!$B$12)","v":"Mapped"},null,null,null,"bma_TotalOtherLiabilities"]
[null,null,null,null,null,null,null,null,null,null,null,null,null,"",{"$f":"XBRLMap(I193,$N193,$O$6,$O$8,CONFIGURATION!$B$10,\"BMA\",CONFIGURATION!$B$1,\"bscr\",CONFIGURATION!$B$12)","v":"-"},{"$f":"XBRLMap(K193,$N193,$P$6,$P$8,CONFIGURATION!$B$10,\"BMA\",CONFIGURATION!$B$1,\"bscr\",CONFIGURATION!$B$12)","v":"-"},null,null,null,""]
[null,"39.","TOTAL INSURANCE PROVISIONS AND OTHER LIABILITIES",null,{"$f":"E128+E154+E192","v":0},null,{"$f":"G128+G154+G192","v":0},null,{"$f":"I128+I154+I192","v":0},null,{"$f":"K128+K154+K192","v":0},null,null,"brrt_InsuranceReservesAndOtherLiabilities",{"$f":"XBRLMap(I194,$N194,$O$6,$O$8,CONFIGURATION!$B$10,\"BMA\",CONFIGURATION!$B$1,\"bscr\",CONFIGURATION!$B$12)","v":"Mapped"},{"$f":"XBRLMap(K194,$N194,$P$6,$P$8,CONFIGURATION!$B$10,\"BMA\",CONFIGURATION!$B$1,\"bscr\",CONFIGURATION!$B$12)","v":"Mapped"},null,null,null,"bma_TotalGeneralBusinessInsuranceReservesAndOtherLiabilities"]
[null,null,null,null,null,null,null,null,null,null,null,null,null,"",{"$f":"XBRLMap(I195,$N195,$O$6,$O$8,CONFIGURATION!$B$10,\"BMA\",CONFIGURATION!$B$1,\"bscr\",CONFIGURATION!$B$12)","v":"-"},{"$f":"XBRLMap(K195,$N195,$P$6,$P$8,CONFIGURATION!$B$10,\"BMA\",CONFIGURATION!$B$1,\"bscr\",CONFIGURATION!$B$12)","v":"-"},null,null,null,""]
[null,null,"STATUTORY CAPITAL AND SURPLUS",null,null,null,null,null,null,null,null,null,null,"",{"$f":"XBRLMap(I196,$N196,$O$6,$O$8,CONFIGURATION!$B$10,\"BMA\",CONFIGURATION!$B$1,\"bscr\",CONFIGURATION!$B$12)","v":"-"},{"$f":"XBRLMap(K196,$N196,$P$6,$P$8,CONFIGURATION!$B$10,\"BMA\",CONFIGURATION!$B$1,\"bscr\",CONFIGURATION!$B$12)","v":"-"}]
[null,null,null,null,null,null,null,null,null,null,null,null,null,"",{"$f":"XBRLMap(I197,$N197,$O$6,$O$8,CONFIGURATION!$B$10,\"BMA\",CONFIGURATION!$B$1,\"bscr\",CONFIGURATION!$B$12)","v":"-"},{"$f":"XBRLMap(K197,$N197,$P$6,$P$8,CONFIGURATION!$B$10,\"BMA\",CONFIGURATION!$B$1,\"bscr\",CONFIGURATION!$B$12)","v":"-"},null,null,null,""]
[null,"40.","TOTAL STATUTORY CAPITAL AND SURPLUS ",null,{"$f":"+'Form 8SFS'!G58","v":0},null,{"$f":"+'Form 8SFS'!I58","v":0},null,{"$f":"+'Form 8SFS'!O58","v":0},null,{"$f":"+'Form 8SFS'!Q58","v":0},null,null,null,null,null,null,null,null,"bma_TotalStatutoryCapitalAndSurplus"]
[null,null,null,null,null,null,null,null,null,null,null,null,null,"",{"$f":"XBRLMap(I199,$N199,$O$6,$O$8,CONFIGURATION!$B$10,\"BMA\",CONFIGURATION!$B$1,\"bscr\",CONFIGURATION!$B$12)","v":"-"},{"$f":"XBRLMap(K199,$N199,$P$6,$P$8,CONFIGURATION!$B$10,\"BMA\",CONFIGURATION!$B$1,\"bscr\",CONFIGURATION!$B$12)","v":"-"},null,null,null,""]
[null,"41.","TOTAL",null,{"$f":"E194+E198","v":0},null,{"$f":"G194+G198","v":0},null,{"$f":"I194+I198","v":0},null,{"$f":"K194+K198","v":0},null,null,"brrt_Liabilities",{"$f":"XBRLMap(I200,$N200,$O$6,$O$8,CONFIGURATION!$B$10,\"BMA\",CONFIGURATION!$B$1,\"bscr\",CONFIGURATION!$B$12)","v":"Mapped"},{"$f":"XBRLMap(K200,$N200,$P$6,$P$8,CONFIGURATION!$B$10,\"BMA\",CONFIGURATION!$B$1,\"bscr\",CONFIGURATION!$B$12)","v":"Mapped"},null,null,null,"bma_TotalLiabilities"]
[null,null,null,null,null,null,null,null,null,null,null,null,null,"",{"$f":"XBRLMap(I201,$N201,$O$6,$O$8,CONFIGURATION!$B$10,\"BMA\",CONFIGURATION!$B$1,\"bscr\",CONFIGURATION!$B$12)","v":"-"},{"$f":"XBRLMap(K201,$N201,$P$6,$P$8,CONFIGURATION!$B$10,\"BMA\",CONFIGURATION!$B$1,\"bscr\",CONFIGURATION!$B$12)","v":"-"},null,null,null,""]
[null,null,null,null,{"$f":"IF(E203=\"TRUE\",HYPERLINK(\"#'Form 1SFS'!E100\",\"TRUE\"),HYPERLINK(\"#'Form 1SFS'!E100\",\"FALSE\"))","v":"TRUE"},null,{"$f":"IF(G203=\"TRUE\",HYPERLINK(\"#'Form 1SFS'!G100\",\"TRUE\"),HYPERLINK(\"#'Form 1SFS'!G100\",\"FALSE\"))","v":"TRUE"},null,{"$f":"IF(I203=\"TRUE\",HYPERLINK(\"#'Form 1SFS'!M100\",\"TRUE\"),HYPERLINK(\"#'Form 1SFS'!M100\",\"FALSE\"))","v":"TRUE"},null,{"$f":"IF(K203=\"TRUE\",HYPERLINK(\"#'Form 1SFS'!O100\",\"TRUE\"),HYPERLINK(\"#'Form 1SFS'!O100\",\"FALSE\"))","v":"TRUE"},null,"CHECK","",{"$f":"XBRLMap(I202,$N202,$O$6,$O$8,CONFIGURATION!$B$10,\"BMA\",CONFIGURATION!$B$1,\"bscr\",CONFIGURATION!$B$12)","v":"-"},{"$f":"XBRLMap(K202,$N202,$P$6,$P$8,CONFIGURATION!$B$10,\"BMA\",CONFIGURATION!$B$1,\"bscr\",CONFIGURATION!$B$12)","v":"-"},null,null,null,""]
[null,null,null,null,{"$f":"IF(ROUND((E100-E200),0)=0,\"TRUE\",\"FALSE\")","v":"TRUE"},null,{"$f":"IF(ROUND((G100-G200),0)=0,\"TRUE\",\"FALSE\")","v":"TRUE"},null,{"$f":"IF(ROUND((I100-I200),0)=0,\"TRUE\",\"FALSE\")","v":"TRUE"},null,{"$f":"IF(ROUND((K100-K200),0)=0,\"TRUE\",\"FALSE\")","v":"TRUE"},null,null,"",{"$f":"XBRLMap(I203,$N203,$O$6,$O$8,CONFIGURATION!$B$10,\"BMA\",CONFIGURATION!$B$1,\"bscr\",CONFIGURATION!$B$12)","v":"-"},{"$f":"XBRLMap(K203,$N203,$P$6,$P$8,CONFIGURATION!$B$10,\"BMA\",CONFIGURATION!$B$1,\"bscr\",CONFIGURATION!$B$12)","v":"-"},null,null,null,""]
[null,null,"Difference",null,{"$f":"ROUND((E100-E200),0)","v":0},null,{"$f":"ROUND((G100-G200),0)","v":0},null,{"$f":"ROUND((I100-I200),0)","v":0},null,{"$f":"ROUND((K100-K200),0)","v":0},null,null,"",{"$f":"XBRLMap(I204,$N204,$O$6,$O$8,CONFIGURATION!$B$10,\"BMA\",CONFIGURATION!$B$1,\"bscr\",CONFIGURATION!$B$12)","v":"-"},{"$f":"XBRLMap(K204,$N204,$P$6,$P$8,CONFIGURATION!$B$10,\"BMA\",CONFIGURATION!$B$1,\"bscr\",CONFIGURATION!$B$12)","v":"-"}]
[]
[null,null,null,null,{"$f":"IF(E202=\"False\",\"Line 15 does not equal Line 41\",\"\")","v":""},null,{"$f":"IF(G202=\"False\",\"Line 15 does not equal Line 41\",\"\")","v":""},null,{"$f":"IF(I202=\"False\",\"Line 15 does not equal Line 41\",\"\")","v":""},null,{"$f":"IF(K202=\"False\",\"Line 15 does not equal Line 41\",\"\")","v":""}]
[]
[null,"Supplementary Information:"]
[]
[null,"COLLATERAL HELD FOR THE BENEFIT OF CEDING (RE)INSURERS",null,null,null,null,null,null,{"$f":"I9","v":"2019-12-31"},null,{"$f":"K9","v":"2018-12-31"}]
[null,"COLLATERAL HELD ON BALANCE SHEET:"]
[null,"Cash and cash equivalents",null,null,null,null,null,null,{"$f":"Import!E214","v":0},null,{"$f":"Import!G214","v":0}]
[null,"Total quoted investments",null,null,null,null,null,null,{"$f":"Import!E215","v":0},null,{"$f":"Import!G215","v":0}]
[null,"Total unquoted investments",null,null,null,null,null,null,{"$f":"Import!E216","v":0},null,{"$f":"Import!G216","v":0}]
[null,"Funds held by ceding (re)insurers",null,null,null,null,null,null,{"$f":"Import!E217","v":0},null,{"$f":"Import!G217","v":0}]
[null,"Other asset types (specify)",null,null,{"$f":"Import!E212","v":"Input Text"},null,null,null,{"$f":"Import!E218","v":0},null,{"$f":"Import!G218","v":0}]
[null,"Total collateral held on balance sheet",null,null,null,null,null,null,{"$f":"SUM(I212:I216)","v":0},null,{"$f":"SUM(K212:K216)","v":0}]
[null,"CONTINGENT COLLATERAL"]
[null,"Outward reinsurance exposure",null,null,null,null,null,null,{"$f":"Import!E220","v":0},null,{"$f":"Import!G220","v":0}]
[null,"Letters of credit",null,null,null,null,null,null,{"$f":"Import!E221","v":0},null,{"$f":"Import!G221","v":0}]
[null,"Other contingent sources of collateral (specify)",null,null,{"$f":"Import!E213","v":"Input Text"},null,null,null,{"$f":"Import!E222","v":0},null,{"$f":"Import!G222","v":0}]
[null,"Total contingent collateral",null,null,null,null,null,null,{"$f":"SUM(I219:I221)","v":0},null,{"$f":"SUM(K219:K221)","v":0}]
[]
[null,"TOTAL COLLATERAL HELD FOR THE BENEFIT OF CEDING (RE)INSURERS",null,null,null,null,null,null,{"$f":"I217+I222","v":0},null,{"$f":"K217+K222","v":0}]
[]
[null,"Line 10 ","Collateralized balances",null,null,null,null,null,{"$f":"Import!E225","v":0},null,{"$f":"Import!G225","v":0},null,null,"brrt_CollateralizedBalances",{"$f":"XBRLMap(I226,$N226,$O$6,$O$8,CONFIGURATION!$B$10,\"BMA\",CONFIGURATION!$B$1,\"bscr\",CONFIGURATION!$B$12)","v":"Mapped"},{"$f":"XBRLMap(K226,$N226,$P$6,$P$8,CONFIGURATION!$B$10,\"BMA\",CONFIGURATION!$B$1,\"bscr\",CONFIGURATION!$B$12)","v":"Mapped"},null,null,null,"bma_CollateralizedBalances"]
[]
[null,"Line 11(e) ","Collateralized balances",null,null,null,null,null,{"$f":"Import!E226","v":0}]
[]
[null,"Line 17(c) ","Collateral placed in favor of the insurer ",null,null,null,null,null,{"$f":"Import!E227","v":0}]
[]
[null,"Line 13 ","Sundry assets",null,null,null,null,null,{"$f":"Import!E228","v":0},null,{"$f":"Import!G228","v":0},null,null,"brrt_CollateralizedBalances",{"$f":"XBRLMap(I232,$N232,$O$6,$O$8,CONFIGURATION!$B$10,\"BMA\",CONFIGURATION!$B$1,\"bscr\",CONFIGURATION!$B$12)","v":"Mapped"},{"$f":"XBRLMap(K232,$N232,$P$6,$P$8,CONFIGURATION!$B$10,\"BMA\",CONFIGURATION!$B$1,\"bscr\",CONFIGURATION!$B$12)","v":"Mapped"},null,null,null,"bma_CollateralizedBalances"]
[]
[null,"Line 15","Encumbered assets for policyholder obligations",null,null,null,null,null,null,null,null,null,null,null,null,null,null,null,null,"bma_GrossLossAndLossExpenseProvisionsAtBeginningOfYear"]
[null,null,null,null,null,null,null,null,null,null,null,null,null,"brrt_EncumberedAssetsAxis_brrt_EncumberedAssetsForPolicyholderObligationsMember",null,null,null,null,null,""]
[null,null,"Asset",null,null,null,null,null,null,null,null,null,null,null,null,null,null,null,null,"bma_LessReinsuranceRecoverableAtBeginningOfYear"]
[null,null,"                Cash and cash equivalents",null,null,null,null,null,{"$f":"Import!E229","v":0},null,{"$f":"Import!G229","v":0},null,null,"brrt_CashAmountOfEncumbrance",{"$f":"XBRLMap(I237,$N237&\".\"&$N$235,$O$6,$O$8,CONFIGURATION!$B$10,\"BMA\",CONFIGURATION!$B$1,\"bscr\",CONFIGURATION!$B$12)","v":"Mapped"},{"$f":"XBRLMap(K237,$N237&\".\"&$N$235,$P$6,$P$8,CONFIGURATION!$B$10,\"BMA\",CONFIGURATION!$B$1,\"bscr\",CONFIGURATION!$B$12)","v":"Mapped"},null,null,null,""]
[null,null,"                Total quoted investments",null,null,null,null,null,{"$f":"Import!E230","v":0},null,{"$f":"Import!G230","v":0},null,null,"brrt_QuotedInvestmentsAmountOfEncumbrance",{"$f":"XBRLMap(I238,$N238&\".\"&$N$235,$O$6,$O$8,CONFIGURATION!$B$10,\"BMA\",CONFIGURATION!$B$1,\"bscr\",CONFIGURATION!$B$12)","v":"Mapped"},{"$f":"XBRLMap(K238,$N238&\".\"&$N$235,$P$6,$P$8,CONFIGURATION!$B$10,\"BMA\",CONFIGURATION!$B$1,\"bscr\",CONFIGURATION!$B$12)","v":"Mapped"},null,null,null,"bma_NetLossAndLossExpenseProvisionsAtBeginningOfYear"]
[null,null,"                Total unquoted investments",null,null,null,null,null,{"$f":"Import!E231","v":0},null,{"$f":"Import!G231","v":0},null,null,"brrt_UnquotedInvestmentsAmountOfEncumbrance",{"$f":"XBRLMap(I239,$N239&\".\"&$N$235,$O$6,$O$8,CONFIGURATION!$B$10,\"BMA\",CONFIGURATION!$B$1,\"bscr\",CONFIGURATION!$B$12)","v":"Mapped"},{"$f":"XBRLMap(K239,$N239&\".\"&$N$235,$P$6,$P$8,CONFIGURATION!$B$10,\"BMA\",CONFIGURATION!$B$1,\"bscr\",CONFIGURATION!$B$12)","v":"Mapped"},null,null,null,""]
[null,null,"                Funds held by ceding reinsurers",null,null,null,null,null,{"$f":"IF(SUM(E100,'Form 1SFS LT'!E100)=0,I79,E79+'Form 1SFS LT'!E79)","v":0},null,{"$f":"IF(SUM(G100,'Form 1SFS LT'!G100)=0,K79,G79+'Form 1SFS LT'!G79)","v":0},null,null,"brrt_FundsHeldByCedingReinsurersAmountOfEncumbrance",{"$f":"XBRLMap(I240,$N240&\".\"&$N$235,$O$6,$O$8,CONFIGURATION!$B$10,\"BMA\",CONFIGURATION!$B$1,\"bscr\",CONFIGURATION!$B$12)","v":"Mapped"},{"$f":"XBRLMap(K240,$N240&\".\"&$N$235,$P$6,$P$8,CONFIGURATION!$B$10,\"BMA\",CONFIGURATION!$B$1,\"bscr\",CONFIGURATION!$B$12)","v":"Mapped"}]
[null,null,"                Other assets",null,null,null,null,null,{"$f":"Import!E233","v":0},null,{"$f":"Import!G233","v":0},null,null,"brrt_OtherAssetsTypesAmountOfEncumbrance",{"$f":"XBRLMap(I241,$N241&\".\"&$N$235,$O$6,$O$8,CONFIGURATION!$B$10,\"BMA\",CONFIGURATION!$B$1,\"bscr\",CONFIGURATION!$B$12)","v":"Mapped"},{"$f":"XBRLMap(K241,$N241&\".\"&$N$235,$P$6,$P$8,CONFIGURATION!$B$10,\"BMA\",CONFIGURATION!$B$1,\"bscr\",CONFIGURATION!$B$12)","v":"Mapped"},null,null,null,""]
[null,null,"                Total encumbered assets",null,null,null,null,null,{"$f":"SUM(I237:I241)","v":0},null,{"$f":"SUM(K237:K241)","v":0},null,null,"brrt_AssetsEncumberedAmountOfEncumbrance",{"$f":"XBRLMap(I242,$N242&\".\"&$N$235,$O$6,$O$8,CONFIGURATION!$B$10,\"BMA\",CONFIGURATION!$B$1,\"bscr\",CONFIGURATION!$B$12)","v":"Mapped"},{"$f":"XBRLMap(K242,$N242&\".\"&$N$235,$P$6,$P$8,CONFIGURATION!$B$10,\"BMA\",CONFIGURATION!$B$1,\"bscr\",CONFIGURATION!$B$12)","v":"Mapped"},null,null,null,"bma_NetLossesIncurredAndNetLossExpensesIncurredRelatedToCurrentYear"]
[null,null,null,null,null,null,null,null,null,null,null,null,null,null,null,null,null,null,null,"bma_NetLossesIncurredAndNetLossExpensesIncurredRelatedToPriorYears"]
[null,"Line 15","Encumbered assets not securing policyholder obligations",null,null,null,null,null,null,null,null,null,null,"brrt_EncumberedAssetsAxis_brrt_EncumberedAssetsNotSecuringPolicyholderObligationsMember",null,null,null,null,null,""]
[null,null,null,null,null,null,null,null,null,null,null,null,null,null,null,null,null,null,null,"bma_TotalNetIncurredLossesAndLossExpenses"]
[null,null,"Asset",null,null,null,null,null,null,null,null,null,null,null,null,null,null,null,null,""]
[null,null,"                Cash and cash equivalents",null,null,null,null,null,{"$f":"Import!E235","v":0},null,{"$f":"Import!G235","v":0},null,"brrt_CashPurposeOfEncumbrance","brrt_CashAmountOfEncumbrance",{"$f":"XBRLMap(I247,$N247&\".\"&$N$244,$O$6,$O$8,CONFIGURATION!$B$10,\"BMA\",CONFIGURATION!$B$1,\"bscr\",CONFIGURATION!$B$12)","v":"Mapped"},{"$f":"XBRLMap(K247,$N247&\".\"&$N$244,$P$6,$P$8,CONFIGURATION!$B$10,\"BMA\",CONFIGURATION!$B$1,\"bscr\",CONFIGURATION!$B$12)","v":"Mapped"},{"$f":"XBRLMap(G247,$M247&\".\"&$N$244,$O$6,$O$8,CONFIGURATION!$B$10,\"BMA\",CONFIGURATION!$B$1,\"bscr\",CONFIGURATION!$B$12)","v":"Mapped"}]
[null,null,"                Total quoted investments",null,null,null,null,null,{"$f":"Import!E236","v":0},null,{"$f":"Import!G236","v":0},null,"brrt_QuotedInvestmentsPurposeOfEncumbrance","brrt_QuotedInvestmentsAmountOfEncumbrance",{"$f":"XBRLMap(I248,$N248&\".\"&$N$244,$O$6,$O$8,CONFIGURATION!$B$10,\"BMA\",CONFIGURATION!$B$1,\"bscr\",CONFIGURATION!$B$12)","v":"Mapped"},{"$f":"XBRLMap(K248,$N248&\".\"&$N$244,$P$6,$P$8,CONFIGURATION!$B$10,\"BMA\",CONFIGURATION!$B$1,\"bscr\",CONFIGURATION!$B$12)","v":"Mapped"},{"$f":"XBRLMap(G248,$M248&\".\"&$N$244,$O$6,$O$8,CONFIGURATION!$B$10,\"BMA\",CONFIGURATION!$B$1,\"bscr\",CONFIGURATION!$B$12)","v":"Mapped"},null,null,""]
[null,null,"                Total unquoted investments",null,null,null,null,null,{"$f":"Import!E237","v":0},null,{"$f":"Import!G237","v":0},null,"brrt_UnquotedInvestmentsPurposeOfEncumbrance","brrt_UnquotedInvestmentsAmountOfEncumbrance",{"$f":"XBRLMap(I249,$N249&\".\"&$N$244,$O$6,$O$8,CONFIGURATION!$B$10,\"BMA\",CONFIGURATION!$B$1,\"bscr\",CONFIGURATION!$B$12)","v":"Mapped"},{"$f":"XBRLMap(K249,$N249&\".\"&$N$244,$P$6,$P$8,CONFIGURATION!$B$10,\"BMA\",CONFIGURATION!$B$1,\"bscr\",CONFIGURATION!$B$12)","v":"Mapped"},{"$f":"XBRLMap(G249,$M249&\".\"&$N$244,$O$6,$O$8,CONFIGURATION!$B$10,\"BMA\",CONFIGURATION!$B$1,\"bscr\",CONFIGURATION!$B$12)","v":"Mapped"},null,null,"bma_NetLossesAndLossExpensesPaidOrPayableRelatedToCurrentYear"]
[null,null,"                Other assets",null,null,null,null,null,{"$f":"Import!E238","v":0},null,{"$f":"Import!G238","v":0},null,"brrt_OtherAssetsTypesPurposeOfEncumbrance","brrt_OtherAssetsTypesAmountOfEncumbrance",{"$f":"XBRLMap(I250,$N250&\".\"&$N$244,$O$6,$O$8,CONFIGURATION!$B$10,\"BMA\",CONFIGURATION!$B$1,\"bscr\",CONFIGURATION!$B$12)","v":"Mapped"},{"$f":"XBRLMap(K250,$N250&\".\"&$N$244,$P$6,$P$8,CONFIGURATION!$B$10,\"BMA\",CONFIGURATION!$B$1,\"bscr\",CONFIGURATION!$B$12)","v":"Mapped"},{"$f":"XBRLMap(G250,$M250&\".\"&$N$244,$O$6,$O$8,CONFIGURATION!$B$10,\"BMA\",CONFIGURATION!$B$1,\"bscr\",CONFIGURATION!$B$12)","v":"Mapped"},null,null,"bma_NetLossesAndLossExpensesPaidOrPayableRelatedToPriorYears"]
[null,null,"                Total encumbered assets",null,null,null,null,null,{"$f":"SUM(I247:I250)","v":0},null,{"$f":"SUM(K247:K250)","v":0},null,null,"brrt_AssetsEncumberedAmountOfEncumbrance",{"$f":"XBRLMap(I251,$N251&\".\"&$N$244,$O$6,$O$8,CONFIGURATION!$B$10,\"BMA\",CONFIGURATION!$B$1,\"bscr\",CONFIGURATION!$B$12)","v":"Mapped"},{"$f":"XBRLMap(K251,$N251&\".\"&$N$244,$P$6,$P$8,CONFIGURATION!$B$10,\"BMA\",CONFIGURATION!$B$1,\"bscr\",CONFIGURATION!$B$12)","v":"Mapped"},null,null,null,""]
[null,null,null,null,null,null,null,null,null,null,null,null,null,null,{"$f":"XBRLMap(I252,$N251,$O$6,$O$8,CONFIGURATION!$B$10,\"BMA\",CONFIGURATION!$B$1,\"bscr\",CONFIGURATION!$B$12)","v":"Mapped"},{"$f":"XBRLMap(K252,$N251,$P$6,$P$8,CONFIGURATION!$B$10,\"BMA\",CONFIGURATION!$B$1,\"bscr\",CONFIGURATION!$B$12)","v":"Mapped"},null,null,null,"bma_TotalLossesAndLossExpensesPaidOrPayable"]
[null,"Line 36","Sundry liabilities",null,null,null,null,null,{"$f":"Import!E240","v":0},null,{"$f":"Import!G240","v":0},null,null,"brrt_CollateralizedBalances",{"$f":"XBRLMap(I253,$N253,$O$6,$O$8,CONFIGURATION!$B$10,\"BMA\",CONFIGURATION!$B$1,\"bscr\",CONFIGURATION!$B$12)","v":"Mapped"},{"$f":"XBRLMap(K253,$N253,$P$6,$P$8,CONFIGURATION!$B$10,\"BMA\",CONFIGURATION!$B$1,\"bscr\",CONFIGURATION!$B$12)","v":"Mapped"},null,null,null,"bma_CollateralizedBalances"]
[]
[null,"Line 37","Letters of Credit, Guarantees and other Instruments",null,null,null,null,null,{"$f":"Import!E241","v":0},null,{"$f":"Import!G241","v":0},null,null,"brrt_CollateralizedBalances",{"$f":"XBRLMap(I255,$N255,$O$6,$O$8,CONFIGURATION!$B$10,\"BMA\",CONFIGURATION!$B$1,\"bscr\",CONFIGURATION!$B$12)","v":"Mapped"},{"$f":"XBRLMap(K255,$N255,$P$6,$P$8,CONFIGURATION!$B$10,\"BMA\",CONFIGURATION!$B$1,\"bscr\",CONFIGURATION!$B$12)","v":"Mapped"},null,null,null,"bma_CollateralizedBalances"]
[]
[null,null,"General Business"]
[null,"Line 17","Reasons for the change in the net losses incurred and net loss expenses incurred related to prior years and indicate whether additional premiums or return premiums have been accrued as a result of the prior year effects. "]
[]
[]
[null,"Line 17","Loss and loss expense provisions total restricted assets - an amount equal to the value of all that are held for security or collateral against a liability or contingent liabilit"]
[]
[]
[null,"Line 17","Loss and loss expense provision unsecured policyholder obligations - an amount equal to all policyholder obligations that are not secured by assets or collateral"]
[]
[]
[null,"Line 17","Gross loss and loss expense provisions at beginning of year",null,null,null,null,null,{"$f":"Import!E243","v":0},null,{"$f":"Import!G243","v":0},null,null,"brrt_GrossLossAndLossExpenseProvisions",{"$f":"XBRLMap(I267,$N267,$O$6,$O$6,CONFIGURATION!$B$10,\"BMA\",CONFIGURATION!$B$1,\"bscr\",CONFIGURATION!$B$12)","v":"Mapped"},{"$f":"XBRLMap(K267,$N267,$P$6,$P$6,CONFIGURATION!$B$10,\"BMA\",CONFIGURATION!$B$1,\"bscr\",CONFIGURATION!$B$12)","v":"Mapped"},null,null,null,""]
[null,null,null,null,null,null,null,null,null,null,null,null,null,"",{"$f":"XBRLMap(I268,$N268,$O$6,$O$8,CONFIGURATION!$B$10,\"BMA\",CONFIGURATION!$B$1,\"bscr\",CONFIGURATION!$B$12)","v":"-"},{"$f":"XBRLMap(K268,$N268,$P$6,$P$8,CONFIGURATION!$B$10,\"BMA\",CONFIGURATION!$B$1,\"bscr\",CONFIGURATION!$B$12)","v":"-"},null,null,null,"bma_ForeignExchangeAndOther"]
[null,null,"Less: Reinsurance recoverable at beginning of year",null,null,null,null,null,{"$f":"Import!E244","v":0},null,{"$f":"Import!G244","v":0},null,null,"brrt_ReinsuranceRecoverable",{"$f":"XBRLMap(I269,$N269,$O$6,$O$6,CONFIGURATION!$B$10,\"BMA\",CONFIGURATION!$B$1,\"bscr\",CONFIGURATION!$B$12)","v":"Mapped"},{"$f":"XBRLMap(K269,$N269,$P$6,$P$6,CONFIGURATION!$B$10,\"BMA\",CONFIGURATION!$B$1,\"bscr\",CONFIGURATION!$B$12)","v":"Mapped"},null,null,null,""]
[null,null,null,null,null,null,null,null,null,null,null,null,null,"",{"$f":"XBRLMap(I270,$N270,$O$6,$O$8,CONFIGURATION!$B$10,\"BMA\",CONFIGURATION!$B$1,\"bscr\",CONFIGURATION!$B$12)","v":"-"},{"$f":"XBRLMap(K270,$N270,$P$6,$P$8,CONFIGURATION!$B$10,\"BMA\",CONFIGURATION!$B$1,\"bscr\",CONFIGURATION!$B$12)","v":"-"},null,null,null,"bma_NetLossAndLossExpenseProvisionsAtEndOfYear"]
[null,null,"Net loss and loss expense provisions at beginning of year",null,null,null,null,null,{"$f":"I267-I269","v":0},null,{"$f":"K267-K269","v":0},null,null,"brrt_NetLossAndLossExpenseProvisions",{"$f":"XBRLMap(I271,$N271,$O$6,$O$6,CONFIGURATION!$B$10,\"BMA\",CONFIGURATION!$B$1,\"bscr\",CONFIGURATION!$B$12)","v":"Mapped"},{"$f":"XBRLMap(K271,$N271,$P$6,$P$6,CONFIGURATION!$B$10,\"BMA\",CONFIGURATION!$B$1,\"bscr\",CONFIGURATION!$B$12)","v":"Mapped"},null,null,null,""]
[null,null,null,null,null,null,null,null,null,null,null,null,null,"",{"$f":"XBRLMap(I272,$N272,$O$6,$O$8,CONFIGURATION!$B$10,\"BMA\",CONFIGURATION!$B$1,\"bscr\",CONFIGURATION!$B$12)","v":"-"},{"$f":"XBRLMap(K272,$N272,$P$6,$P$8,CONFIGURATION!$B$10,\"BMA\",CONFIGURATION!$B$1,\"bscr\",CONFIGURATION!$B$12)","v":"-"},null,null,null,"bma_AddReinsuranceRecoverableAtEndOfYear"]
[null,null,"Acquisition / Sale of loss reserves (net):",null,null,null,null,null,{"$f":"Import!E246","v":0},null,{"$f":"Import!G246","v":0}]
[]
[null,null,"Net losses incurred and net loss expenses incurred related to:"]
[]
[null,null,"               Current year",null,null,null,null,null,{"$f":"Import!E247","v":0},null,{"$f":"Import!G247","v":0}]
[null,null,"               Prior years",null,null,null,null,null,{"$f":"Import!E248","v":0},null,{"$f":"Import!G248","v":0}]
[]
[null,null,"Total net incurred losses & loss expenses",null,null,null,null,null,{"$f":"SUM(I277:I278)","v":0},null,{"$f":"SUM(K277:K278)","v":0}]
[]
[null,null,"Net losses and loss expenses paid or payable related to:"]
[]
[null,null,"               Current year",null,null,null,null,null,{"$f":"Import!E250","v":0},null,{"$f":"Import!G250","v":0}]
[null,null,"               Prior years",null,null,null,null,null,{"$f":"Import!E251","v":0},null,{"$f":"Import!G251","v":0}]
[]
[null,null,"Total losses and loss expenses paid or payable",null,null,null,null,null,{"$f":"SUM(I284:I285)","v":0},null,{"$f":"SUM(K284:K285)","v":0}]
[]
[null,null,"Foreign exchange and other",null,null,null,null,null,{"$f":"Import!E253","v":0},null,{"$f":"Import!G253","v":0}]
[]
[null,null,"Net loss and loss expense provisions at end of year",null,null,null,null,null,{"$f":"I271+I273+I280+I287+I289","v":0},null,{"$f":"K271+K273+K280+K287+K289","v":0}]
[]
[null,null,"Add: Reinsurance recoverable at end of year",null,null,null,null,null,{"$f":"Import!E255","v":0},null,{"$f":"Import!G255","v":0},null,null,"",{"$f":"XBRLMap(I293,$N293,$O$6,$O$8,CONFIGURATION!$B$10,\"BMA\",CONFIGURATION!$B$1,\"bscr\",CONFIGURATION!$B$12)","v":"-"},{"$f":"XBRLMap(K293,$N293,$P$6,$P$8,CONFIGURATION!$B$10,\"BMA\",CONFIGURATION!$B$1,\"bscr\",CONFIGURATION!$B$12)","v":"-"},null,null,null,""]
[null,null,null,null,null,null,null,null,null,null,null,null,null,"",{"$f":"XBRLMap(I294,$N294,$O$6,$O$8,CONFIGURATION!$B$10,\"BMA\",CONFIGURATION!$B$1,\"bscr\",CONFIGURATION!$B$12)","v":"-"},{"$f":"XBRLMap(K294,$N294,$P$6,$P$8,CONFIGURATION!$B$10,\"BMA\",CONFIGURATION!$B$1,\"bscr\",CONFIGURATION!$B$12)","v":"-"}]
[null,null,"Gross loss and loss expense provisions at end of year",null,null,null,null,null,{"$f":"I291+I293","v":0},null,{"$f":"K291+K293","v":0},null,null,"brrt_GrossLossAndLossExpenseProvisions",{"$f":"XBRLMap(I295,$N295,$O$8,$O$8,CONFIGURATION!$B$10,\"BMA\",CONFIGURATION!$B$1,\"bscr\",CONFIGURATION!$B$12)","v":"Mapped"},{"$f":"XBRLMap(K295,$N295,$P$8,$P$8,CONFIGURATION!$B$10,\"BMA\",CONFIGURATION!$B$1,\"bscr\",CONFIGURATION!$B$12)","v":"Mapped"}]
[null,null,null,null,null,null,null,null,null,null,null,null,"",""]
[null,null,null,null,null,null,null,null,{"$f":"IF(I298=\"TRUE\",HYPERLINK(\"#'Form 1SFS'!E117:M117\",\"TRUE\"),HYPERLINK(\"#'Form 1SFS'!E117:M117\",\"FALSE\"))","v":"TRUE"},null,{"$f":"IF(K298=\"TRUE\",HYPERLINK(\"#'Form 1SFS'!G117:O117\",\"TRUE\"),HYPERLINK(\"#'Form 1SFS'!G117:O117\",\"FALSE\"))","v":"TRUE"},null,null,""]
[null,null,null,null,null,null,null,null,{"$f":"IF('Company Information'!$B$2=\"Unconsolidated BSCR Model\",IF(ROUND((I295-I117),0)=0,\"TRUE\",\"FALSE\"),IF(ROUND((I295-E117),0)=0,\"TRUE\",\"FALSE\"))","v":"TRUE"},null,{"$f":"IF('Company Information'!$B$2=\"Unconsolidated BSCR Model\",IF(ROUND((K295-K117),0)=0,\"TRUE\",\"FALSE\"),IF(ROUND((K295-G117),0)=0,\"TRUE\",\"FALSE\"))","v":"TRUE"}]
[null,null,"Difference",null,null,null,null,null,{"$f":"IF('Company Information'!$B$2=\"Unconsolidated BSCR Model\",ROUND(I117-I295,0),ROUND(E117-I295,0))","v":0},null,{"$f":"IF('Company Information'!$B$2=\"Unconsolidated BSCR Model\",ROUND(K117-K295,0),ROUND(G117-K295,0))","v":0}]
[]
[null,null,null,null,null,null,null,null,{"$f":"IF(I297=\"False\",\"Does not equal Line 17(a)\",\"\")","v":""},null,{"$f":"IF(K297=\"False\",\"Does not equal Line 17(a)\",\"\")","v":""}]
[]
[null,null,"Long-Term Business"]
[]
[null,"Line 27","Total gross long-term business insurance reserves at beginning of year",null,null,null,null,null,null,null,null,null,null,"brrt_GrossLossAndLossExpenseProvisions",{"$f":"XBRLMap(I305,$N305,$O$6,$O$6,CONFIGURATION!$B$10,\"BMA\",CONFIGURATION!$B$1,\"bscr\",CONFIGURATION!$B$12)","v":"Mapped"},{"$f":"XBRLMap(K305,$N305,$P$6,$P$6,CONFIGURATION!$B$10,\"BMA\",CONFIGURATION!$B$1,\"bscr\",CONFIGURATION!$B$12)","v":"Mapped"},null,null,null,""]
[null,null,null,null,null,null,null,null,null,null,null,null,null,"",{"$f":"XBRLMap(I306,$N306,$O$6,$O$8,CONFIGURATION!$B$10,\"BMA\",CONFIGURATION!$B$1,\"bscr\",CONFIGURATION!$B$12)","v":"-"},{"$f":"XBRLMap(K306,$N306,$P$6,$P$8,CONFIGURATION!$B$10,\"BMA\",CONFIGURATION!$B$1,\"bscr\",CONFIGURATION!$B$12)","v":"-"},null,null,null,"bma_ForeignExchangeAndOther"]
[null,null,"Less: Reinsurance recoverable on long-term business at beginning of year",null,null,null,null,null,null,null,null,null,null,"brrt_ReinsuranceRecoverable",{"$f":"XBRLMap(I307,$N307,$O$6,$O$6,CONFIGURATION!$B$10,\"BMA\",CONFIGURATION!$B$1,\"bscr\",CONFIGURATION!$B$12)","v":"Mapped"},{"$f":"XBRLMap(K307,$N307,$P$6,$P$6,CONFIGURATION!$B$10,\"BMA\",CONFIGURATION!$B$1,\"bscr\",CONFIGURATION!$B$12)","v":"Mapped"},null,null,null,""]
[null,null,null,null,null,null,null,null,null,null,null,null,null,"",{"$f":"XBRLMap(I308,$N308,$O$6,$O$8,CONFIGURATION!$B$10,\"BMA\",CONFIGURATION!$B$1,\"bscr\",CONFIGURATION!$B$12)","v":"-"},{"$f":"XBRLMap(K308,$N308,$P$6,$P$8,CONFIGURATION!$B$10,\"BMA\",CONFIGURATION!$B$1,\"bscr\",CONFIGURATION!$B$12)","v":"-"},null,null,null,"bma_NetLossAndLossExpenseProvisionsAtEndOfYear"]
[null,null,"Total net long-term business insurance reserves at beginning of year",null,null,null,null,null,{"$f":"I305-I307","v":0},null,{"$f":"K305-K307","v":0},null,null,"brrt_NetLossAndLossExpenseProvisions",{"$f":"XBRLMap(I309,$N309,$O$6,$O$6,CONFIGURATION!$B$10,\"BMA\",CONFIGURATION!$B$1,\"bscr\",CONFIGURATION!$B$12)","v":"Mapped"},{"$f":"XBRLMap(K309,$N309,$P$6,$P$6,CONFIGURATION!$B$10,\"BMA\",CONFIGURATION!$B$1,\"bscr\",CONFIGURATION!$B$12)","v":"Mapped"},null,null,null,""]
[null,null,null,null,null,null,null,null,null,null,null,null,null,"",{"$f":"XBRLMap(I310,$N310,$O$6,$O$8,CONFIGURATION!$B$10,\"BMA\",CONFIGURATION!$B$1,\"bscr\",CONFIGURATION!$B$12)","v":"-"},{"$f":"XBRLMap(K310,$N310,$P$6,$P$8,CONFIGURATION!$B$10,\"BMA\",CONFIGURATION!$B$1,\"bscr\",CONFIGURATION!$B$12)","v":"-"},null,null,null,"bma_AddReinsuranceRecoverableAtEndOfYear"]
[null,null,"Long-term business deductions related to:"]
[]
[null,null,"               Current year"]
[null,null,"               Prior years"]
[]
[null,null,"Total long-term business deductions",null,null,null,null,null,{"$f":"SUM(I313:I314)","v":0},null,{"$f":"SUM(K313:K314)","v":0}]
[]
[null,null,"Less: Long-term business deductions paid or payable related to:"]
[]
[null,null,"               Current year"]
[null,null,"               Prior years"]
[]
[null,null,"Total long-term business deductions paid or payable",null,null,null,null,null,{"$f":"SUM(I320:I321)","v":0},null,{"$f":"SUM(K320:K321)","v":0}]
[]
[null,null,"Total net long-term business insurance reserves at end of year",null,null,null,null,null,{"$f":"I309+I316+I323","v":0},null,{"$f":"K309+K316+K323","v":0}]
[]
[null,null,"Add: Reinsurance recoverable on long-term business at end of year",null,null,null,null,null,null,null,null,null,null,"",{"$f":"XBRLMap(I327,$N327,$O$6,$O$8,CONFIGURATION!$B$10,\"BMA\",CONFIGURATION!$B$1,\"bscr\",CONFIGURATION!$B$12)","v":"-"},{"$f":"XBRLMap(K327,$N327,$P$6,$P$8,CONFIGURATION!$B$10,\"BMA\",CONFIGURATION!$B$1,\"bscr\",CONFIGURATION!$B$12)","v":"-"},null,null,null,""]
[null,null,null,null,null,null,null,null,null,null,null,null,null,"",{"$f":"XBRLMap(I328,$N328,$O$6,$O$8,CONFIGURATION!$B$10,\"BMA\",CONFIGURATION!$B$1,\"bscr\",CONFIGURATION!$B$12)","v":"-"},{"$f":"XBRLMap(K328,$N328,$P$6,$P$8,CONFIGURATION!$B$10,\"BMA\",CONFIGURATION!$B$1,\"bscr\",CONFIGURATION!$B$12)","v":"-"}]
[null,null,"Total gross long-term business insurance reserves at end of year",null,null,null,null,null,{"$f":"I325+I327","v":0},null,{"$f":"K325+K327","v":0},null,null,"brrt_GrossLossAndLossExpenseProvisions",{"$f":"XBRLMap(I329,$N329,$O$8,$O$8,CONFIGURATION!$B$10,\"BMA\",CONFIGURATION!$B$1,\"bscr\",CONFIGURATION!$B$12)","v":"Mapped"},{"$f":"XBRLMap(K329,$N329,$P$8,$P$8,CONFIGURATION!$B$10,\"BMA\",CONFIGURATION!$B$1,\"bscr\",CONFIGURATION!$B$12)","v":"Mapped"}]
[null,null,null,null,null,null,null,null,null,null,null,null,"",""]
[null,null,null,null,null,null,null,null,{"$f":"IF((I329-'Form 1SFS LT'!E147)=0,TRUE,FALSE)","v":true},null,{"$f":"IF((K329-'Form 1SFS LT'!E147)=0,TRUE,FALSE)","v":true},null,null,""]
[]
[null,null,"Difference",null,null,null,null,null,{"$f":"'Form 1SFS LT'!E147-I329","v":0},null,{"$f":"'Form 1SFS LT'!E147-K329","v":0}]
[]
[null,"Line 27",null,null,"Insurance Contracts"]
[null,null,"CURRENT YEAR",null,"Gross",null,"Reinsurance",null,"Reinsurance",null,"Net"]
[null,null,"Balance - Beginning of Year",null,{"$f":"Import!E257","v":0},null,{"$f":"Import!E264","v":0},null,{"$f":"Import!E285","v":0}]
[null,null,"Impact of Terminations",null,{"$f":"Import!E258","v":0},null,{"$f":"Import!E265","v":0},null,{"$f":"Import!E286","v":0}]
[null,null,"Impact of New Business",null,{"$f":"Import!E259","v":0},null,{"$f":"Import!E266","v":0},null,{"$f":"Import!E287","v":0}]
[null,null,"Normal Change in force",null,{"$f":"Import!E260","v":0},null,{"$f":"Import!E267","v":0},null,{"$f":"Import!E288","v":0}]
[null,null,"Management Actions and Changes in Assumptions",null,{"$f":"Import!E261","v":0},null,{"$f":"Import!E268","v":0},null,{"$f":"Import!E289","v":0}]
[null,null,"Impact of Foreign Exchange rate changes",null,{"$f":"Import!E262","v":0},null,{"$f":"Import!E269","v":0},null,{"$f":"Import!E290","v":0}]
[null,null,"Balance - End of Year",null,{"$f":"SUM(E337:E342)","v":0},null,{"$f":"SUM(G337:G342)","v":0},null,{"$f":"SUM(I337:I342)","v":0},null,{"$f":"SUM(K337:K342)","v":0}]
[]
[null,null,"PRIOR YEAR"]
[null,null,"Balance - Beginning of Year",null,{"$f":"Import!G257","v":0},null,{"$f":"Import!G264","v":0},null,{"$f":"Import!G285","v":0}]
[null,null,"Impact of Terminations",null,{"$f":"Import!G258","v":0},null,{"$f":"Import!G265","v":0},null,{"$f":"Import!G286","v":0}]
[null,null,"Impact of New Business",null,{"$f":"Import!G259","v":0},null,{"$f":"Import!G266","v":0},null,{"$f":"Import!G287","v":0}]
[null,null,"Normal Change in force",null,{"$f":"Import!G260","v":0},null,{"$f":"Import!G267","v":0},null,{"$f":"Import!G288","v":0}]
[null,null,"Management Actions and Changes in Assumptions",null,{"$f":"Import!G261","v":0},null,{"$f":"Import!G268","v":0},null,{"$f":"Import!G289","v":0}]
[null,null,"Impact of Foreign Exchange rate changes",null,{"$f":"Import!G262","v":0},null,{"$f":"Import!G269","v":0},null,{"$f":"Import!G290","v":0}]
[null,null,"Balance - End of Year",null,{"$f":"SUM(E346:E351)","v":0},null,{"$f":"SUM(G346:G351)","v":0},null,{"$f":"SUM(I346:I351)","v":0},null,{"$f":"SUM(K346:K351)","v":0}]

{"sheet":"Form 1SFS LT","index":15,"n_rows":352,"n_cols":20,"rows_kept":352,"cut":false,"hidden":false,"merged":[[260,2,261,4],[263,2,264,4],[334,3,334,4],[334,6,334,10],[247,4,247,6],[248,4,248,6],[249,4,249,6],[250,4,250,6],[257,2,258,4],[257,6,258,10],[246,4,246,6],[6,4,6,6],[6,8,6,10],[7,4,7,6],[7,8,7,10],[215,4,215,6],[220,4,220,6],[236,4,236,6],[237,4,237,6],[238,4,238,6],[239,4,239,6],[240,4,240,6]]}
[null,"STATUTORY BALANCE SHEET",null,null,null,null,null,null,null,null,{"$f":"HYPERLINK(\"#'Index'!A1\",\"Return to Index\")","v":"Return to Index"}]
[]
[null,{"$f":"'Form 1SFS GB'!B3","v":"Enter Company Name"},null,null,null,null,null,null,null,null,"FORM 1SFS LT"]
[null,"As at",{"$f":"'Form 1SFS GB'!C4","v":"2019-12-31"}]
[null,"expressed in ['000s]",{"$f":"'Form 1SFS GB'!C5","v":"United States Dollars"},null,"(A)",null,"(B)",null,"(C)",null,"(D)"]
[null,null,null,null,null,null,null,null,null,null,null,null,null,null,"01/01/2019","01/01/2018"]
[null,null,null,null,"Long-Term Business",null,null,null,"Long-Term Business"]
[null,"STMT.",null,null,"General Account",null,null,null,"Combined: Segregated & General Account",null,null,null,null,null,"12/31/2019","12/31/2018"]
[null,"LINE No.",null,null,"2019-12-31",null,"2018-12-31",null,"2019-12-31",null,"2018-12-31"]
[null,null,null,null," ('000s)",null," ('000s)",null," ('000s)",null," ('000s)",null,null,""]
[null,null,null,null,null,null,null,null,null,null,null,null,null,""]
[null,"1.","CASH AND CASH EQUIVALENTS",null,{"$f":"+Import!P103","v":0},null,{"$f":"+Import!R103","v":0},null,{"$f":"+Import!T103","v":0},null,{"$f":"+Import!V103","v":0},null,null,"brrt_CashAndTimeDeposits","Mapped","Mapped",null,null,null,"bma_CashAndTimeDeposits"]
[null,null,null,null,null,null,null,null,null,null,null,null,null,"","-","-",null,null,null,""]
[null,"2.","QUOTED INVESTMENTS:",null,null,null,null,null,null,null,null,null,null,"","-","-"]
[null,"(a)","Bonds and Debentures",null,null,null,null,null,null,null,null,null,null,"","-","-"]
[null,null,"  i.   Held to maturity",null,{"$f":"+Import!P104","v":0},null,{"$f":"+Import!R104","v":0},null,{"$f":"+Import!T104","v":0},null,{"$f":"+Import!V104","v":0},null,null,"brrt_QuotedInvestmentsBondsAndDebenturesHeldToMaturity","Mapped","Mapped",null,null,null,"bma_QuotedInvestmentsBondsAndDebenturesHeldToMaturity"]
[null,null,"  ii.  Other",null,{"$f":"+Import!P105","v":0},null,{"$f":"+Import!R105","v":0},null,{"$f":"+Import!T105","v":0},null,{"$f":"+Import!V105","v":0},null,null,"brrt_QuotedInvestmentsBondsAndDebenturesOther","Mapped","Mapped",null,null,null,"bma_QuotedInvestmentsBondsAndDebenturesOther"]
[null,"(b)","Total Bonds and Debentures",null,{"$f":"SUM(E16:E17)","v":0},null,{"$f":"SUM(G16:G17)","v":0},null,{"$f":"SUM(I16:I17)","v":0},null,{"$f":"SUM(K16:K17)","v":0},null,null,"brrt_QuotedInvestmentsBondsAndDebentures","Mapped","Mapped",null,null,null,"bma_QuotedInvestmentsTotalBondsAndDebentures"]
[null,"(c) ","Equities ",null,null,null,null,null,null,null,null,null,null,"","-","-"]
[null,null,"  i.   Common stocks",null,{"$f":"+Import!P107","v":0},null,{"$f":"+Import!R107","v":0},null,{"$f":"+Import!T107","v":0},null,{"$f":"+Import!V107","v":0},null,null,"brrt_QuotedInvestmentsEquitiesCommonStocks","Mapped","Mapped",null,null,null,"bma_QuotedInvestmentsEquitiesCommonStocks"]
[null,null,"  ii. Preferred stocks",null,{"$f":"+Import!P108","v":0},null,{"$f":"+Import!R108","v":0},null,{"$f":"+Import!T108","v":0},null,{"$f":"+Import!V108","v":0},null,null,"brrt_QuotedInvestmentsEquitiesPreferredStocks","Mapped","Mapped",null,null,null,"bma_QuotedInvestmentsEquitiesPreferredStocks"]
[null,null,"  iii. Mutual Funds",null,{"$f":"+Import!P109","v":0},null,{"$f":"+Import!R109","v":0},null,{"$f":"+Import!T109","v":0},null,{"$f":"+Import!V109","v":0},null,null,"brrt_QuotedInvestmentsEquitiesMutualFunds","Mapped","Mapped",null,null,null,"bma_QuotedInvestmentsEquitiesMutualFunds"]
[null,"(d) ","Total equity investments",null,{"$f":"SUM(E20:E22)","v":0},null,{"$f":"SUM(G20:G22)","v":0},null,{"$f":"SUM(I20:I22)","v":0},null,{"$f":"SUM(K20:K22)","v":0},null,null,"brrt_QuotedInvestmentsEquities","Mapped","Mapped",null,null,null,"bma_QuotedInvestmentsTotalEquityInvestments"]
[null,"(e)","Other quoted investments",null,{"$f":"+Import!P110","v":0},null,{"$f":"+Import!R110","v":0},null,{"$f":"+Import!T110","v":0},null,{"$f":"+Import!V110","v":0},null,null,"brrt_QuotedInvestmentsOther","Mapped","Mapped",null,null,null,"bma_QuotedInvestmentsOtherInvestments"]
[null,"(f)","Total quoted investments",null,{"$f":"E18+E23+E24","v":0},null,{"$f":"G18+G23+G24","v":0},null,{"$f":"I18+I23+I24","v":0},null,{"$f":"K18+K23+K24","v":0},null,null,"brrt_QuotedInvestments","Mapped","Mapped",null,null,null,"bma_QuotedInvestmentsTotalInvestments"]
[null,null,null,null,null,null,null,null,null,null,null,null,null,"","-","-",null,null,null,""]
[null,"3.","UNQUOTED INVESTMENTS:",null,null,null,null,null,null,null,null,null,null,"","-","-"]
[null,"(a)","Bonds and Debentures",null,null,null,null,null,null,null,null,null,null,"","-","-"]
[null,null,"  i.   Held to maturity",null,{"$f":"+Import!P111","v":0},null,{"$f":"+Import!R111","v":0},null,{"$f":"+Import!T111","v":0},null,{"$f":"+Import!V111","v":0},null,null,"brrt_UnquotedInvestmentsBondsAndDebenturesHeldToMaturity","Mapped","Mapped",null,null,null,"bma_UnquotedInvestmentsBondsAndDebenturesHeldToMaturity"]
[null,null,"  ii.  Other",null,{"$f":"+Import!P112","v":0},null,{"$f":"+Import!R112","v":0},null,{"$f":"+Import!T112","v":0},null,{"$f":"+Import!V112","v":0},null,null,"brrt_UnquotedInvestmentsBondsAndDebenturesOther","Mapped","Mapped",null,null,null,"bma_UnquotedInvestmentsBondsAndDebenturesOther"]
[null,"(b)","Total Bonds and Debentures",null,{"$f":"SUM(E29:E30)","v":0},null,{"$f":"SUM(G29:G30)","v":0},null,{"$f":"SUM(I29:I30)","v":0},null,{"$f":"SUM(K29:K30)","v":0},null,null,"brrt_UnquotedInvestmentsBondsAndDebentures","Mapped","Mapped",null,null,null,"bma_UnquotedInvestmentsTotalBondsAndDebentures"]
[null,"(c) ","Equities ",null,null,null,null,null,null,null,null,null,null,"","-","-"]
[null,null,"  i.   Common stocks",null,{"$f":"+Import!P114","v":0},null,{"$f":"+Import!R114","v":0},null,{"$f":"+Import!T114","v":0},null,{"$f":"+Import!V114","v":0},null,null,"brrt_UnquotedInvestmentsEquitiesCommonStocks","Mapped","Mapped",null,null,null,"bma_UnquotedInvestmentsEquitiesCommonStocks"]
[null,null,"  ii. Preferred stocks",null,{"$f":"+Import!P115","v":0},null,{"$f":"+Import!R115","v":0},null,{"$f":"+Import!T115","v":0},null,{"$f":"+Import!V115","v":0},null,null,"brrt_UnquotedInvestmentsEquitiesPreferredStocks","Mapped","Mapped",null,null,null,"bma_UnquotedInvestmentsEquitiesPreferredStocks"]
[null,null,"  iii . Mutual Funds",null,{"$f":"+Import!P116","v":0},null,{"$f":"+Import!R116","v":0},null,{"$f":"+Import!T116","v":0},null,{"$f":"+Import!V116","v":0},null,null,"brrt_UnquotedInvestmentsEquitiesMutualFunds","Mapped","Mapped",null,null,null,"bma_UnquotedInvestmentsEquitiesMutualFunds"]
[null,"(d) ","Total equity investments",null,{"$f":"SUM(E33:E35)","v":0},null,{"$f":"SUM(G33:G35)","v":0},null,{"$f":"SUM(I33:I35)","v":0},null,{"$f":"SUM(K33:K35)","v":0},null,null,"brrt_UnquotedInvestmentsEquities","Mapped","Mapped",null,null,null,"bma_UnquotedInvestmentsTotalEquityInvestments"]
[null,"(e) ","Other unquoted investments",null,{"$f":"+Import!P117","v":0},null,{"$f":"+Import!R117","v":0},null,{"$f":"+Import!T117","v":0},null,{"$f":"+Import!V117","v":0},null,null,"brrt_UnquotedInvestmentsOther","Mapped","Mapped",null,null,null,"bma_UnquotedInvestmentsOtherInvestments"]
[null,"(f) ","Total unquoted investments",null,{"$f":"E31+E36+E37","v":0},null,{"$f":"G31+G36+G37","v":0},null,{"$f":"I31+I36+I37","v":0},null,{"$f":"K31+K36+K37","v":0},null,null,"brrt_UnquotedInvestments","Mapped","Mapped",null,null,null,"bma_UnquotedInvestmentsTotalInvestments"]
[null,null,null,null,null,null,null,null,null,null,null,null,null,"","-","-",null,null,null,""]
[null,"4.","INVESTMENTS IN AND ADVANCES TO AFFILIATES (EQUITY METHOD):",null,null,null,null,null,null,null,null,null,null,"","-","-"]
[null,"(a)","Unregulated entities that conduct ancillary services",null,{"$f":"+Import!P118","v":0},null,{"$f":"+Import!R118","v":0},null,{"$f":"+Import!T118","v":0},null,{"$f":"+Import!V118","v":0}]
[null,"(b)","Unregulated non-financial operating entities",null,{"$f":"+Import!P119","v":0},null,{"$f":"+Import!R119","v":0},null,{"$f":"+Import!T119","v":0},null,{"$f":"+Import!V119","v":0}]
[null,"(c)","Unregulated financial operating entities",null,{"$f":"+Import!P120","v":0},null,{"$f":"+Import!R120","v":0},null,{"$f":"+Import!T120","v":0},null,{"$f":"+Import!V120","v":0}]
[null,"(d)","Regulated non-insurance financial operating entities",null,{"$f":"+Import!P121","v":0},null,{"$f":"+Import!R121","v":0},null,{"$f":"+Import!T121","v":0},null,{"$f":"+Import!V121","v":0}]
[null,"(e)","Regulated insurance financial operating entities",null,{"$f":"+Import!P122","v":0},null,{"$f":"+Import!R122","v":0},null,{"$f":"+Import!T122","v":0},null,{"$f":"+Import!V122","v":0}]
[null,"(f)","Total investments in affiliates (equity method)",null,{"$f":"SUM(E41:E45)","v":0},null,{"$f":"SUM(G41:G45)","v":0},null,{"$f":"SUM(I41:I45)","v":0},null,{"$f":"SUM(K41:K45)","v":0},null,null,"brrt_InvestmentInAffiliates","Mapped","Mapped",null,null,null,"bma_InvestmentsInAndAdvancesToAffiliatesInvestmentInAffiliatesCostOrEquity"]
[null,"(g)","Advances to affiliates",null,{"$f":"+Import!P123","v":0},null,{"$f":"+Import!R123","v":0},null,{"$f":"+Import!T123","v":0},null,{"$f":"+Import!V123","v":0},null,null,"brrt_AdvancesToAffiliates","Mapped","Mapped",null,null,null,"bma_InvestmentsInAndAdvancesToAffiliatesAdvancesToAffiliates"]
[null,"(h)","Total investments in and advances to affiliates (equity method)",null,{"$f":"E46+E47","v":0},null,{"$f":"G46+G47","v":0},null,{"$f":"I46+I47","v":0},null,{"$f":"K46+K47","v":0},null,null,"brrt_InvestmentInAndAdvancesToAffiliates","Mapped","Mapped",null,null,null,"bma_InvestmentsInAndAdvancesToAffiliatesTotalInvestmentsInAndAdvancesToAffiliates"]
[null,null,null,null,null,null,null,null,null,null,null,null,null,"","-","-",null,null,null,""]
[null,"5.","INVESTMENTS IN MORTGAGE LOANS ON REAL ESTATE:",null,null,null,null,null,null,null,null,null,null,"","-","-"]
[null,"(a)","First liens",null,{"$f":"+Import!P124","v":0},null,{"$f":"+Import!R124","v":0},null,{"$f":"+Import!T124","v":0},null,{"$f":"+Import!V124","v":0},null,null,"brrt_InvestmentsInMortgageLoansOnRealEstateFirstLiens","Mapped","Mapped",null,null,null,"bma_InvestmentsInMortgageLoansOnRealEstateFirstLiens"]
[null,"(b)","Other than first liens ",null,{"$f":"+Import!P125","v":0},null,{"$f":"+Import!R125","v":0},null,{"$f":"+Import!T125","v":0},null,{"$f":"+Import!V125","v":0},null,null,"brrt_InvestmentsInMortgageLoansOnRealEstateOtherThanFirstLiens","Mapped","Mapped",null,null,null,"bma_InvestmentsInMortgageLoansOnRealEstateOtherThanFirstLiens"]
[null,"(c) ","Total investments in mortgage loans on real estate",null,{"$f":"SUM(E51:E52)","v":0},null,{"$f":"SUM(G51:G52)","v":0},null,{"$f":"SUM(I51:I52)","v":0},null,{"$f":"SUM(K51:K52)","v":0},null,null,"brrt_InvestmentsInMortgageLoansOnRealEstate","Mapped","Mapped",null,null,null,"bma_InvestmentsInMortgageLoansOnRealEstateTotalInvestmentsInMortgageLoansOnRealEstate"]
[null,null,null,null,null,null,null,null,null,null,null,null,null,"","-","-",null,null,null,""]
[null,"6.","POLICY LOANS",null,{"$f":"+Import!P126","v":0},null,{"$f":"+Import!R126","v":0},null,{"$f":"+Import!T126","v":0},null,{"$f":"+Import!V126","v":0}]
[]
[null,"7.","REAL ESTATE:",null,null,null,null,null,null,null,null,null,null,"","-","-"]
[null,"(a)","Occupied by the company (less encumbrances)",null,{"$f":"+Import!P127","v":0},null,{"$f":"+Import!R127","v":0},null,{"$f":"+Import!T127","v":0},null,{"$f":"+Import!V127","v":0},null,null,"brrt_RealEstateOccupiedByTheCompanyLessEncumbrances","Mapped","Mapped",null,null,null,"bma_RealEstateOccupiedByTheCompanyLessEncumbrances"]
[null,"(b)","Other properties (less encumbrances)",null,{"$f":"+Import!P128","v":0},null,{"$f":"+Import!R128","v":0},null,{"$f":"+Import!T128","v":0},null,{"$f":"+Import!V128","v":0},null,null,"brrt_OtherRealEstatePropertiesLessEncumbrances","Mapped","Mapped",null,null,null,"bma_RealEstateOtherPropertiesLessEncumbrances"]
[null,"(c) ","Total real estate",null,{"$f":"SUM(E58:E59)","v":0},null,{"$f":"SUM(G58:G59)","v":0},null,{"$f":"SUM(I58:I59)","v":0},null,{"$f":"SUM(K58:K59)","v":0},null,null,"brrt_RealEstate","Mapped","Mapped",null,null,null,"bma_TotalRealEstate"]
[null,null,null,null,null,null,null,null,null,null,null,null,null,"","-","-",null,null,null,""]
[null,"8.","COLLATERAL LOANS",null,{"$f":"+Import!P129","v":0},null,{"$f":"+Import!R129","v":0},null,{"$f":"+Import!T129","v":0},null,{"$f":"+Import!V129","v":0},null,null,"brrt_CollateralLoans","Mapped","Mapped",null,null,null,"bma_CollateralLoans"]
[null,null,null,null,null,null,null,null,null,null,null,null,null,"","-","-",null,null,null,""]
[null,"9.","INVESTMENT INCOME DUE AND ACCRUED",null,{"$f":"+Import!P130","v":0},null,{"$f":"+Import!R130","v":0},null,{"$f":"+Import!T130","v":0},null,{"$f":"+Import!V130","v":0},null,null,"brrt_InvestmentIncomeDueAndAccrued","Mapped","Mapped",null,null,null,"bma_InvestmentIncomeDueAndAccrued"]
[null,null,null,null,null,null,null,null,null,null,null,null,null,"","-","-",null,null,null,""]
[null,"10.","ACCOUNTS AND PREMIUMS RECEIVABLE:",null,null,null,null,null,null,null,null,null,null,"","-","-"]
[null,"(a)","In course of collection",null,{"$f":"+Import!P131","v":0},null,{"$f":"+Import!R131","v":0},null,{"$f":"+Import!T131","v":0},null,{"$f":"+Import!V131","v":0},null,null,"brrt_AccountsAndPremiumsReceivableInCourseOfCollection","Mapped","Mapped",null,null,null,"bma_AccountsAndPremiumsReceivableInCourseOfCollection"]
[null,"(b)","Deferred - not yet due",null,{"$f":"+Import!P132","v":0},null,{"$f":"+Import!R132","v":0},null,{"$f":"+Import!T132","v":0},null,{"$f":"+Import!V132","v":0}]
[null,"(c) ","Receivables from retrocessional contracts",null,{"$f":"+Import!P133","v":0},null,{"$f":"+Import!R133","v":0},null,{"$f":"+Import!T133","v":0},null,{"$f":"+Import!V133","v":0},null,null,"brrt_AccountsAndPremiumsReceivableReceivablesFromRetrocessionalContracts","Mapped","Mapped",null,null,null,"bma_AccountsAndPremiumsReceivableReceivablesFromRetrocessionalContracts"]
[null,"(d) ","Total accounts and premiums receivable",null,{"$f":"SUM(E67:E69)","v":0},null,{"$f":"SUM(G67:G69)","v":0},null,{"$f":"SUM(I67:I69)","v":0},null,{"$f":"SUM(K67:K69)","v":0},null,null,"brrt_AccountsAndPremiumsReceivable","Mapped","Mapped",null,null,null,"bma_TotalAccountsAndPremiumsReceivable"]
[null,null,null,null,null,null,null,null,null,null,null,null,null,"","-","-",null,null,null,""]
[null,"11.","REINSURANCE BALANCES RECEIVABLE:",null,null,null,null,null,null,null,null,null,null,"","-","-"]
[null,"(a)","Foreign affiliates",null,{"$f":"+Import!P134","v":0},null,{"$f":"+Import!R134","v":0},null,{"$f":"+Import!T134","v":0},null,{"$f":"+Import!V134","v":0},null,null,"brrt_ReinsuranceBalancesReceivableForeignAffiliates","Mapped","Mapped",null,null,null,"bma_ReinsuranceBalancesReceivableForeignAffiliates"]
[null,"(b)","Domestic affiliates",null,{"$f":"+Import!P135","v":0},null,{"$f":"+Import!R135","v":0},null,{"$f":"+Import!T135","v":0},null,{"$f":"+Import!V135","v":0},null,null,"brrt_ReinsuranceBalancesReceivableDomesticAffiliates","Mapped","Mapped",null,null,null,"bma_ReinsuranceBalancesReceivableDomesticAffiliates"]
[null,"(c) ","Pools & associations",null,{"$f":"+Import!P136","v":0},null,{"$f":"+Import!R136","v":0},null,{"$f":"+Import!T136","v":0},null,{"$f":"+Import!V136","v":0},null,null,"brrt_ReinsuranceBalancesReceivablePoolsAndAssociations","Mapped","Mapped",null,null,null,"bma_ReinsuranceBalancesReceivablePoolsAndAssociations"]
[null,"(d) ","All other insurers",null,{"$f":"+Import!P137","v":0},null,{"$f":"+Import!R137","v":0},null,{"$f":"+Import!T137","v":0},null,{"$f":"+Import!V137","v":0},null,null,"brrt_ReinsuranceBalancesReceivableAllOtherInsurers","Mapped","Mapped",null,null,null,"bma_ReinsuranceBalancesReceivableAllOtherInsurers"]
[null,"(e)","Total reinsurance balances receivable",null,{"$f":"SUM(E73:E76)","v":0},null,{"$f":"SUM(G73:G76)","v":0},null,{"$f":"SUM(I73:I76)","v":0},null,{"$f":"SUM(K73:K76)","v":0},null,null,"brrt_ReinsuranceBalancesReceivable","Mapped","Mapped",null,null,null,"bma_TotalReinsuranceBalancesReceivable"]
[null,null,null,null,null,null,null,null,null,null,null,null,null,"","-","-",null,null,null,""]
[null,"12.","FUNDS HELD BY CEDING REINSURERS:",null,{"$f":"+Import!P140","v":0},null,{"$f":"+Import!R140","v":0},null,{"$f":"+Import!T140","v":0},null,{"$f":"+Import!V140","v":0},null,null,"brrt_FundsHeldByCedingReinsurers","Mapped","Mapped",null,null,null,"bma_TotalFundsHeldByCedingReinsurers"]
[null,null,null,null,null,null,null,null,null,null,null,null,null,"","-","-",null,null,null,""]
[null,"13.","SUNDRY ASSETS:",null,null,null,null,null,null,null,null,null,null,"","-","-"]
[null,"(a)","Derivative instruments",null,{"$f":"+Import!P141","v":0},null,{"$f":"+Import!R141","v":0},null,{"$f":"+Import!T141","v":0},null,{"$f":"+Import!V141","v":0},null,null,"brrt_SundryAssetsDerivativeInstruments","Mapped","Mapped",null,null,null,"bma_SundryAssetsDerivativeInstruments"]
[null,"(b)","Segregated accounts companies - long-term business - variable annuities",null,{"$f":"+Import!P142","v":0},null,{"$f":"+Import!R142","v":0},null,{"$f":"+Import!T142","v":0},null,{"$f":"+Import!V142","v":0}]
[null,"(c) ","Segregated accounts companies - long-term business - others",null,{"$f":"+Import!P143","v":0},null,{"$f":"+Import!R143","v":0},null,{"$f":"+Import!T143","v":0},null,{"$f":"+Import!V143","v":0}]
[null,"(d)","Segregated accounts companies - general business",null,null,null,null,null,{"$f":"+Import!T144","v":0},null,{"$f":"+Import!V144","v":0},null,null,"brrt_SundryAssetsSegregatedAccountsCompanies","Mapped","Mapped",null,null,null,"bma_SundryAssetsSegregatedAccountsCompanies"]
[null,"(e) ","Deposit assets",null,{"$f":"+Import!P146","v":0},null,{"$f":"+Import!R146","v":0},null,{"$f":"+Import!T146","v":0},null,{"$f":"+Import!V146","v":0},null,null,"brrt_SundryAssetsDepositAssets","Mapped","Mapped",null,null,null,"bma_SundryAssetsDepositAssets"]
[null,"(f) ","Deferred acquisition costs",null,{"$f":"+Import!P147","v":0},null,{"$f":"+Import!R147","v":0},null,{"$f":"+Import!T147","v":0},null,{"$f":"+Import!V147","v":0},null,null,"brrt_SundryAssetsDepositAssets","Mapped","Mapped",null,null,null,"bma_SundryAssetsDepositAssets"]
[null,"(g) ","Net receivables for investments sold",null,{"$f":"+Import!P151","v":0},null,{"$f":"+Import!R151","v":0},null,{"$f":"+Import!T151","v":0},null,{"$f":"+Import!V151","v":0}]
[null,"(h) ","Other Sundry Assets (Specify)",null,{"$f":"+Import!P152","v":0},null,{"$f":"+Import!R152","v":0},null,{"$f":"+Import!T152","v":0},null,{"$f":"+Import!V152","v":0}]
[null,"(i) ","Other Sundry Assets (Specify)",null,{"$f":"+Import!P153","v":0},null,{"$f":"+Import!R153","v":0},null,{"$f":"+Import!T153","v":0},null,{"$f":"+Import!V153","v":0}]
[null,"(j)","Other Sundry Assets (Specify)",null,{"$f":"+Import!P154","v":0},null,{"$f":"+Import!R154","v":0},null,{"$f":"+Import!T154","v":0},null,{"$f":"+Import!V154","v":0},null,null,"brrt_SundryAssetsOther","Mapped","Mapped",null,null,null,"bma_SundryAssetsOther"]
[null,"(k)","Total sundry assets",null,{"$f":"SUM(E82:E91)","v":0},null,{"$f":"SUM(G82:G91)","v":0},null,{"$f":"SUM(I82:I91)","v":0},null,{"$f":"SUM(K82:K91)","v":0},null,null,"brrt_SundryAssets","Mapped","Mapped",null,null,null,"bma_TotalSundryAssets"]
[null,null,null,null,null,null,null,null,null,null,null,null,null,"brrt_SundryAssetsOtherDescription","Mapped",null,null,null,null,"bma_SundryAssetsOtherType"]
[null,"14.","LETTERS OF CREDIT, GUARANTEES AND OTHER INSTRUMENTS:",null,null,null,null,null,null,null,null,null,null,"","-","-"]
[null,"(a)","Letters of credit ",null,{"$f":"+Import!P155","v":0},null,{"$f":"+Import!R155","v":0},null,{"$f":"+Import!T155","v":0},null,{"$f":"+Import!V155","v":0},null,null,"brrt_AssetsLettersOfCredit","Mapped","Mapped",null,null,null,"bma_AssetsLettersOfCredit"]
[null,"(b)","Guarantees",null,{"$f":"+Import!P156","v":0},null,{"$f":"+Import!R156","v":0},null,{"$f":"+Import!T156","v":0},null,{"$f":"+Import!V156","v":0},null,null,"brrt_AssetsGuarantees","Mapped","Mapped",null,null,null,"bma_AssetsGuarantees"]
[null,"(c) ","Other instruments",null,{"$f":"+Import!P157","v":0},null,{"$f":"+Import!R157","v":0},null,{"$f":"+Import!T157","v":0},null,{"$f":"+Import!V157","v":0},null,null,"brrt_AssetsOtherInstruments","Mapped","Mapped",null,null,null,"bma_AssetsOtherInstruments"]
[null,"(e) ","Total letters of credit, guarantees and other instruments",null,{"$f":"SUM(E95:E97)","v":0},null,{"$f":"SUM(G95:G97)","v":0},null,{"$f":"SUM(I95:I97)","v":0},null,{"$f":"SUM(K95:K97)","v":0},null,null,"brrt_AssetsLettersOfCreditGuaranteesOtherInstruments","Mapped","Mapped",null,null,null,"bma_AssetsTotalLettersOfCreditGuaranteesAndOtherInstruments"]
[null,null,null,null,null,null,null,null,null,null,null,null,null,"","-","-",null,null,null,""]
[null,"15.","TOTAL",null,{"$f":"E12+E25+E38+E48+E53+E55+E60+E62+E64+E70+E77+E79+E92+E98","v":0},null,{"$f":"G12+G25+G38+G48+G53+G55+G60+G62+G64+G70+G77+G79+G92+G98","v":0},null,{"$f":"I12+I25+I38+I48+I53+I55+I60+I62+I64+I70+I77+I79+I92+I98","v":0},null,{"$f":"K12+K25+K38+K48+K53+K55+K60+K62+K64+K70+K77+K79+K92+K98","v":0},null,null,"brrt_Assets","Mapped","Mapped",null,null,null,"bma_TotalAssets"]
[]
[null,null,"INSURANCE RESERVES, OTHER LIABILITIES AND STATUTORY CAPITAL AND SURPLUS",null,null,null,null,null,null,null,null,null,null,"","-","-",null,null,null,""]
[]
[null,null,"INSURANCE RESERVES",null,null,null,null,null,null,null,null,null,null,"","-","-"]
[null,null,null,null,null,null,null,null,null,null,null,null,null,"","-","-",null,null,null,""]
[null,"16.","UNEARNED PREMIUM RESERVE"]
[null,"(a)","Gross unearned premium reserves"]
[null,"(b)","Less: Ceded unearned premium reserve"]
[null,null,"  i.   Foreign affiliates"]
[null,null,"  ii.  Domestic affiliates"]
[null,null,"  iii. Pools & associations"]
[null,null,"  iv.  All other insurers"]
[null,"(c) ","Total ceded unearned premium reserve"]
[null,"(d) ","Net unearned premium reserves",null,null,null,null,null,null,null,null,null,null,"brrt_UnearnedPremiums","Mapped","Mapped",null,null,null,"bma_UnearnedPremiums"]
[null,null,null,null,null,null,null,null,null,null,null,null,null,"","-","-",null,null,null,""]
[null,"17.","LOSS AND LOSS EXPENSE PROVISIONS:",null,null,null,null,null,null,null,null,null,null,"","-","-"]
[null,"(a)","Gross loss and loss expense provisions",null,null,null,null,null,null,null,null,null,null,"brrt_GrossLossAndLossExpenseProvisions","Mapped","Mapped",null,null,null,"bma_GrossLossAndLossExpenseProvisions"]
[null,"(b)","Less : Reinsurance recoverable balance",null,null,null,null,null,null,null,null,null,null,"","-","-"]
[null,null,"  i.   Foreign affiliates",null,null,null,null,null,null,null,null,null,null,"brrt_ReinsuranceRecoverableBalanceForeignAffiliates","Mapped","Mapped",null,null,null,"bma_LessReinsuranceRecoverableBalanceForeignAffiliates"]
[null,null,"  ii.  Domestic affiliates",null,null,null,null,null,null,null,null,null,null,"brrt_ReinsuranceRecoverableBalanceDomesticAffiliates","Mapped","Mapped",null,null,null,"bma_LessReinsuranceRecoverableBalanceDomesticAffiliates"]
[null,null,"  iii. Pools & associations",null,null,null,null,null,null,null,null,null,null,"brrt_ReinsuranceRecoverableBalancePoolsAndAssociations","Mapped","Mapped",null,null,null,"bma_LessReinsuranceRecoverableBalancePoolsAndAssociations"]
[null,null,"  iv.  All other insurers",null,null,null,null,null,null,null,null,null,null,"brrt_OtherInsurersReinsuranceRecoverableBalance","Mapped","Mapped",null,null,null,"bma_LessReinsuranceRecoverableBalanceAllOtherInsurers"]
[null,"(c) ","Total reinsurance recoverable balance",null,null,null,null,null,null,null,null,null,null,"brrt_ReinsuranceRecoverableBalance","Mapped","Mapped",null,null,null,"bma_TotalReinsuranceRecoverableBalance"]
[null,"(d) ","Net loss and loss expense provisions",null,null,null,null,null,null,null,null,null,null,"brrt_NetLossAndLossExpenseProvisions","Mapped","Mapped",null,null,null,"bma_NetLossAndLossExpenseProvisions"]
[null,null,null,null,null,null,null,null,null,null,null,null,null,"","-","-",null,null,null,""]
[null,"18.","OTHER INSURANCE RESERVES",null,null,null,null,null,null,null,null,null,null,"brrt_OtherInsuranceReserves","Mapped","Mapped",null,null,null,"bma_OtherInsuranceReservesGeneralBusiness"]
[null,null,null,null,null,null,null,null,null,null,null,null,null,"","-","-",null,null,null,""]
[null,"19.","TOTAL GENERAL BUSINESS - INSURANCE RESERVES",null,null,null,null,null,null,null,null,null,null,"brrt_InsuranceReserves","Mapped","Mapped",null,null,null,"bma_TotalGeneralBusinessInsuranceReserves"]
[null,null,null,null,null,null,null,null,null,null,null,null,null,"","-","-",null,null,null,""]
[null,null,"LONG-TERM BUSINESS INSURANCE RESERVES",null,null,null,null,null,null,null,null,null,null,"","-","-"]
[null,null,null,null,null,null,null,null,null,null,null,null,null,"","-","-",null,null,null,""]
[null,20,"RESERVES FOR REPORTED CLAIMS",null,{"$f":"+Import!P169","v":0},null,{"$f":"+Import!R169","v":0},null,{"$f":"+Import!T169","v":0},null,{"$f":"+Import!V169","v":0}]
[]
[null,21,"RESERVES FOR UNREPORTED CLAIMS",null,{"$f":"+Import!P170","v":0},null,{"$f":"+Import!R170","v":0},null,{"$f":"+Import!T170","v":0},null,{"$f":"+Import!V170","v":0}]
[]
[null,22,"POLICY RESERVES - LIFE",null,{"$f":"+Import!P171","v":0},null,{"$f":"+Import!R171","v":0},null,{"$f":"+Import!T171","v":0},null,{"$f":"+Import!V171","v":0}]
[]
[null,23,"POLICY RESERVES - ACCIDENT AND HEALTH",null,{"$f":"+Import!P172","v":0},null,{"$f":"+Import!R172","v":0},null,{"$f":"+Import!T172","v":0},null,{"$f":"+Import!V172","v":0}]
[]
[null,24,"POLICYHOLDER'S FUNDS ON DEPOSIT",null,{"$f":"+Import!P173","v":0},null,{"$f":"+Import!R173","v":0},null,{"$f":"+Import!T173","v":0},null,{"$f":"+Import!V173","v":0}]
[]
[null,25,"LIABILITY FOR FUTURE POLICYHOLDER DIVIDENDS",null,{"$f":"+Import!P174","v":0},null,{"$f":"+Import!R174","v":0},null,{"$f":"+Import!T174","v":0},null,{"$f":"+Import!V174","v":0}]
[]
[null,26,"OTHER LONG-TERM BUSINESS INSURANCE RESERVES",null,{"$f":"+Import!P175","v":0},null,{"$f":"+Import!R175","v":0},null,{"$f":"+Import!T175","v":0},null,{"$f":"+Import!V175","v":0}]
[]
[null,27,"TOTAL LONG-TERM BUSINESS INSURANCE RESERVES"]
[null,"(a)","Total Gross Long-Term Business Insurance Reserves",0,{"$f":"E154+E153","v":0},{"$f":"F154+F153","v":0},{"$f":"G154+G153","v":0},0,{"$f":"I154+I153","v":0},{"$f":"J154+J153","v":0},{"$f":"K154+K153","v":0}]
[null,"(b)","Less: Reinsurance Recoverable Balance:"]
[null,null,"(i) Foreign Affiliates",null,{"$f":"+Import!P176","v":0},null,{"$f":"+Import!R176","v":0},null,{"$f":"+Import!T176","v":0},null,{"$f":"+Import!V176","v":0}]
[null,null,"(ii) Domestic Affiliaties",null,{"$f":"+Import!P177","v":0},null,{"$f":"+Import!R177","v":0},null,{"$f":"+Import!T177","v":0},null,{"$f":"+Import!V177","v":0}]
[null,null,"(iii) Pools and Associations",null,{"$f":"+Import!P178","v":0},null,{"$f":"+Import!R178","v":0},null,{"$f":"+Import!T178","v":0},null,{"$f":"+Import!V178","v":0}]
[null,null,"(iv) All Other Insurers",null,{"$f":"+Import!P179","v":0},null,{"$f":"+Import!R179","v":0},null,{"$f":"+Import!T179","v":0},null,{"$f":"+Import!V179","v":0}]
[null,"(c)","Total Reinsurance Recoverable Balance",0,{"$f":"SUM(E149:E152)","v":0},{"$f":"SUM(F149:F152)","v":0},{"$f":"SUM(G149:G152)","v":0},0,{"$f":"SUM(I149:I152)","v":0},{"$f":"SUM(J149:J152)","v":0},{"$f":"SUM(K149:K152)","v":0}]
[null,"(d)","Net Long-Term Business Insurance Reserves",0,{"$f":"E132+E134+E136+E138+E140+E142+E144","v":0},{"$f":"F132+F134+F136+F138+F140+F142+F144","v":0},{"$f":"G132+G134+G136+G138+G140+G142+G144","v":0},0,{"$f":"I132+I134+I136+I138+I140+I142+I144","v":0},{"$f":"J132+J134+J136+J138+J140+J142+J144","v":0},{"$f":"K132+K134+K136+K138+K140+K142+K144","v":0}]
[]
[null,null,"OTHER LIABILITIES"]
[]
[null,"28.","INSURANCE AND REINSURANCE BALANCES PAYABLE",null,{"$f":"+Import!P187","v":0},null,{"$f":"+Import!R187","v":0},null,{"$f":"+Import!T187","v":0},null,{"$f":"+Import!V187","v":0},null,null,"brrt_InsuranceAndReinsuranceBalancesPayable","Mapped","Mapped",null,null,null,"bma_InsuranceAndReinsuranceBalancesPayable"]
[null,null,null,null,null,null,null,null,null,null,null,null,null,"","-","-",null,null,null,""]
[null,"29.","COMMISSIONS, EXPENSES, FEES AND TAXES PAYABLE",null,{"$f":"+Import!P188","v":0},null,{"$f":"+Import!R188","v":0},null,{"$f":"+Import!T188","v":0},null,{"$f":"+Import!V188","v":0},null,null,"brrt_CommissionsExpensesFeesAndTaxesPayable","Mapped","Mapped",null,null,null,"bma_CommissionsExpensesFeesAndTaxesPayable"]
[null,null,null,null,null,null,null,null,null,null,null,null,null,"","-","-",null,null,null,""]
[null,"30.","LOANS AND NOTES PAYABLE",null,{"$f":"+Import!P189","v":0},null,{"$f":"+Import!R189","v":0},null,{"$f":"+Import!T189","v":0},null,{"$f":"+Import!V189","v":0},null,null,"brrt_LoansAndNotesPayable","Mapped","Mapped",null,null,null,"bma_LoansAndNotesPayable"]
[null,null,null,null,null,null,null,null,null,null,null,null,null,"","-","-",null,null,null,""]
[null,"31.","(a) INCOME TAXES PAYABLE",null,{"$f":"+Import!P190","v":0},null,{"$f":"+Import!R190","v":0},null,{"$f":"+Import!T190","v":0},null,{"$f":"+Import!V190","v":0},null,null,"brrt_IncomeTaxesPayable","Mapped","Mapped",null,null,null,"bma_IncomeTaxesPayable"]
[]
[null,null,"(b) DEFERRED INCOME TAXES",null,{"$f":"+Import!P191","v":0},null,{"$f":"+Import!R191","v":0},null,{"$f":"+Import!T191","v":0},null,{"$f":"+Import!V191","v":0},null,null,"brrt_DeferredIncomeTaxes","Mapped","Mapped",null,null,null,"bma_DeferredIncomeTaxes"]
[null,null,null,null,null,null,null,null,null,null,null,null,null,"","-","-",null,null,null,""]
[null,"32.","AMOUNTS DUE TO AFFILIATES",null,{"$f":"+Import!P192","v":0},null,{"$f":"+Import!R192","v":0},null,{"$f":"+Import!T192","v":0},null,{"$f":"+Import!V192","v":0},null,null,"brrt_AmountsDueToAffiliates","Mapped","Mapped",null,null,null,"bma_AmountsDueToAffiliates"]
[null,null,null,null,null,null,null,null,null,null,null,null,null,"","-","-",null,null,null,""]
[null,"33.","ACCOUNTS PAYABLE AND ACCRUED LIABILITIES",null,{"$f":"+Import!P193","v":0},null,{"$f":"+Import!R193","v":0},null,{"$f":"+Import!T193","v":0},null,{"$f":"+Import!V193","v":0},null,null,"brrt_AccountsPayableAndAccruedLiabilities","Mapped","Mapped",null,null,null,"bma_AccountsPayableAndAccruedLiabilities"]
[null,null,null,null,null,null,null,null,null,null,null,null,null,"","-","-",null,null,null,""]
[null,"34.","FUNDS HELD UNDER REINSURANCE CONTRACTS:",null,{"$f":"+Import!P196","v":0},null,{"$f":"+Import!R196","v":0},null,{"$f":"+Import!T196","v":0},null,{"$f":"+Import!V196","v":0},null,null,"",{"$error":"#VALUE!"},{"$error":"#VALUE!"}]
[null,null,null,null,null,null,null,null,null,null,null,null,null,"","-","-",null,null,null,""]
[null,"35.","DIVIDENDS PAYABLE",null,{"$f":"+Import!P197","v":0},null,{"$f":"+Import!R197","v":0},null,{"$f":"+Import!T197","v":0},null,{"$f":"+Import!V197","v":0},null,null,"brrt_DividendsPayable","Mapped","Mapped",null,null,null,"bma_DividendsPayable"]
[null,null,null,null,null,null,null,null,null,null,null,null,null,"","-","-",null,null,null,""]
[null,"36.","SUNDRY LIABILITIES:",null,null,null,null,null,null,null,null,null,null,"","-","-"]
[null,"(a)","Derivative instruments ",null,{"$f":"+Import!P198","v":0},null,{"$f":"+Import!R198","v":0},null,{"$f":"+Import!T198","v":0},null,{"$f":"+Import!V198","v":0},null,null,"brrt_SundryLiabilitiesDerivativeInstruments","Mapped","Mapped",null,null,null,"bma_SundryLiabilitiesDerivativeInstruments"]
[null,"(b)","Segregated accounts companies",null,{"$f":"+Import!P200","v":0},null,{"$f":"+Import!R200","v":0},null,{"$f":"+Import!T200","v":0},null,{"$f":"+Import!V200","v":0},null,null,"brrt_SundryLiabilitiesSegregatedAccountsCompanies","Mapped","Mapped",null,null,null,"bma_SundryLiabilitiesSegregatedAccountsCompanies"]
[null,"(c)","Deposit liabilities",null,{"$f":"+Import!P201","v":0},null,{"$f":"+Import!R201","v":0},null,{"$f":"+Import!T201","v":0},null,{"$f":"+Import!V201","v":0},null,null,"brrt_SundryLiabilitiesDepositLiabilities","Mapped","Mapped",null,null,null,"bma_SundryLiabilitiesDepositLiabilities"]
[null,"(d)","Net payable for investments purchased",null,{"$f":"+Import!P203","v":0},null,{"$f":"+Import!R203","v":0},null,{"$f":"+Import!T203","v":0},null,{"$f":"+Import!V203","v":0}]
[null,"(e)","Other sundry liabilities (specify)",null,{"$f":"+Import!P204","v":0},null,{"$f":"+Import!R204","v":0},null,{"$f":"+Import!T204","v":0},null,{"$f":"+Import!V204","v":0}]
[null,"(f)","Other sundry liabilities (specify)",null,{"$f":"+Import!P205","v":0},null,{"$f":"+Import!R205","v":0},null,{"$f":"+Import!T205","v":0},null,{"$f":"+Import!V205","v":0}]
[null,"(g)","Other sundry liabilities (specify)",null,{"$f":"+Import!P206","v":0},null,{"$f":"+Import!R206","v":0},null,{"$f":"+Import!T206","v":0},null,{"$f":"+Import!V206","v":0},null,null,"brrt_SundryLiabilitiesOther","Mapped","Mapped",null,null,null,"bma_SundryLiabilitiesOther"]
[null,"(h)","Total sundry liabilities",null,{"$f":"SUM(E177:E183)","v":0},null,{"$f":"SUM(G177:G183)","v":0},null,{"$f":"SUM(I177:I183)","v":0},null,{"$f":"SUM(K177:K183)","v":0},null,null,"brrt_SundryLiabilities","Mapped","Mapped",null,null,null,"bma_TotalSundryLiabilities"]
[null,null,null,null,null,null,null,null,null,null,null,null,null,"brrt_SundryLiabilitiesOtherDescription","Mapped",null,null,null,null,"bma_SundryLiabilitiesOtherType"]
[null,"37.","LETTERS OF CREDIT, GUARANTEES AND OTHER INSTRUMENTS:",null,null,null,null,null,null,null,null,null,null,"","-","-"]
[null,"(a)","Letters of credit ",null,{"$f":"+Import!P207","v":0},null,{"$f":"+Import!R207","v":0},null,{"$f":"+Import!T207","v":0},null,{"$f":"+Import!V207","v":0},null,null,"brrt_LiabilitiesLettersOfCredit","Mapped","Mapped",null,null,null,"bma_LiabilitiesLettersOfCredit"]
[null,"(b)","Guarantees",null,{"$f":"+Import!P208","v":0},null,{"$f":"+Import!R208","v":0},null,{"$f":"+Import!T208","v":0},null,{"$f":"+Import!V208","v":0},null,null,"brrt_LiabilitiesGuarantees","Mapped","Mapped",null,null,null,"bma_LiabilitiesGuarantees"]
[null,"(c) ","Other instruments",null,{"$f":"+Import!P209","v":0},null,{"$f":"+Import!R209","v":0},null,{"$f":"+Import!T209","v":0},null,{"$f":"+Import!V209","v":0},null,null,"brrt_LiabilitiesOtherInstruments","Mapped","Mapped",null,null,null,"bma_LiabilitiesOtherInstruments"]
[null,"(d)","Total letters of credit, guarantees and other instruments",null,{"$f":"SUM(E187:E189)","v":0},null,{"$f":"SUM(G187:G189)","v":0},null,0,null,0,null,null,"brrt_LiabilitiesLettersOfCreditGuaranteesAndOtherInstruments","Mapped","Mapped",null,null,null,"bma_LiabilitiesTotalLettersOfCreditGuaranteesAndOtherInstruments"]
[null,null,null,null,null,null,null,null,null,null,null,null,null,"","-","-",null,null,null,""]
[null,"38.","TOTAL OTHER LIABILITIES",null,{"$f":"E158+E160+E162+E164+E166+E168+E170+E172+E174+E184+E190","v":0},null,{"$f":"G158+G160+G162+G164+G166+G168+G170+G172+G174+G184+G190","v":0},null,0,null,0,null,null,"brrt_OtherLiabilities","Mapped","Mapped",null,null,null,"bma_TotalOtherLiabilities"]
[null,null,null,null,null,null,null,null,null,null,null,null,null,"","-","-",null,null,null,""]
[null,"39.","TOTAL INSURANCE PROVISIONS AND OTHER LIABILITIES",null,{"$f":"E154+E192","v":0},null,{"$f":"G154+G192","v":0},null,0,null,0,null,null,"brrt_InsuranceReservesAndOtherLiabilities","Mapped","Mapped",null,null,null,"bma_TotalGeneralBusinessInsuranceReservesAndOtherLiabilities"]
[null,null,null,null,null,null,null,null,null,null,null,null,null,"","-","-",null,null,null,""]
[null,null,"STATUTORY CAPITAL AND SURPLUS",null,null,null,null,null,null,null,null,null,null,"","-","-"]
[null,null,null,null,null,null,null,null,null,null,null,null,null,"","-","-",null,null,null,""]
[null,"40.","TOTAL STATUTORY CAPITAL AND SURPLUS ",null,{"$f":"+'Form 8SFS'!K58","v":0},null,{"$f":"+'Form 8SFS'!M58","v":0},null,{"$f":"+'Form 8SFS'!O58","v":0},null,{"$f":"+'Form 8SFS'!Q58","v":0},null,null,null,null,null,null,null,null,"bma_TotalStatutoryCapitalAndSurplus"]
[null,null,null,null,null,null,null,null,null,null,null,null,null,"","-","-",null,null,null,""]
[null,"41.","TOTAL",null,{"$f":"E194+E198","v":0},null,{"$f":"G194+G198","v":0},null,0,null,0,null,null,"brrt_Liabilities","Mapped","Mapped",null,null,null,"bma_TotalLiabilities"]
[null,null,null,null,null,null,null,null,null,null,null,null,null,"","-","-",null,null,null,""]
[null,null,null,null,{"$f":"IF(E203=\"TRUE\",HYPERLINK(\"#'Form 1SFS'!I100\",\"TRUE\"),HYPERLINK(\"#'Form 1SFS'!I100\",\"FALSE\"))","v":"TRUE"},null,{"$f":"IF(G203=\"TRUE\",HYPERLINK(\"#'Form 1SFS'!K100\",\"TRUE\"),HYPERLINK(\"#'Form 1SFS'!K100\",\"FALSE\"))","v":"TRUE"},null,"TRUE",null,"TRUE",null,"CHECK","","-","-",null,null,null,""]
[null,null,null,null,{"$f":"IF(ROUND(('Form 1SFS LT'!E100-E200),0)=0,\"TRUE\",\"FALSE\")","v":"TRUE"},null,{"$f":"IF(ROUND(('Form 1SFS LT'!G100-G200),0)=0,\"TRUE\",\"FALSE\")","v":"TRUE"},null,"TRUE",null,"TRUE",null,null,"","-","-",null,null,null,""]
[null,null,"Difference",null,{"$f":"ROUND(('Form 1SFS LT'!E100-E200),0)","v":0},null,{"$f":"ROUND(('Form 1SFS LT'!G100-G200),0)","v":0},null,0,null,0,null,null,"","-","-"]
[]
[null,null,null,null,{"$f":"IF(E202=\"False\",\"Line 15 does not equal Line 41\",\"\")","v":""},null,{"$f":"IF(G202=\"False\",\"Line 15 does not equal Line 41\",\"\")","v":""},null,"",null,""]
[]
[null,"Supplementary Information:"]
[]
[null,"COLLATERAL HELD FOR THE BENEFIT OF CEDING (RE)INSURERS",null,null,null,null,null,null,{"$f":"I9","v":"2019-12-31"},null,{"$f":"K9","v":"2018-12-31"}]
[null,"COLLATERAL HELD ON BALANCE SHEET:"]
[null,"Cash and cash equivalents",null,null,null,null,null,null,{"$f":"Import!P214","v":0},null,{"$f":"Import!R214","v":0}]
[null,"Total quoted investments",null,null,null,null,null,null,{"$f":"Import!P215","v":0},null,{"$f":"Import!R215","v":0}]
[null,"Total unquoted investments",null,null,null,null,null,null,{"$f":"Import!P216","v":0},null,{"$f":"Import!R216","v":0}]
[null,"Funds held by ceding (re)insurers",null,null,null,null,null,null,{"$f":"Import!P217","v":0},null,{"$f":"Import!R217","v":0}]
[null,"Other asset types (specify)",null,null,{"$f":"Import!P212","v":"Input Text"},null,null,null,{"$f":"Import!P218","v":0},null,{"$f":"Import!R218","v":0}]
[null,"Total collateral held on balance sheet",null,null,null,null,null,null,{"$f":"SUM(I212:I216)","v":0},null,{"$f":"SUM(K212:K216)","v":0}]
[null,"CONTINGENT COLLATERAL"]
[null,"Outward reinsurance exposure",null,null,null,null,null,null,{"$f":"Import!P220","v":0},null,{"$f":"Import!R220","v":0}]
[null,"Letters of credit",null,null,null,null,null,null,{"$f":"Import!P221","v":0},null,{"$f":"Import!R221","v":0}]
[null,"Other contingent sources of collateral (specify)",null,null,{"$f":"Import!P213","v":"Input Text"},null,null,null,{"$f":"Import!P222","v":0},null,{"$f":"Import!R222","v":0}]
[null,"Total contingent collateral",null,null,null,null,null,null,{"$f":"SUM(I219:I221)","v":0},null,{"$f":"SUM(K219:K221)","v":0}]
[]
[null,"TOTAL COLLATERAL HELD FOR THE BENEFIT OF CEDING (RE)INSURERS",null,null,null,null,null,null,{"$f":"I217+I222","v":0},null,{"$f":"K217+K222","v":0}]
[]
[null,"Line 10 ","Collateralized balances",null,null,null,null,null,0,null,0,null,null,"brrt_CollateralizedBalances","Mapped","Mapped",null,null,null,"bma_CollateralizedBalances"]
[]
[null,"Line 11(e) ","Collateralized balances",null,null,null,null,null,0]
[]
[null,"Line 17(c) ","Collateral placed in favor of the insurer ",null,null,null,null,null,0]
[]
[null,"Line 13 ","Sundry assets",null,null,null,null,null,0,null,0,null,null,"brrt_CollateralizedBalances","Mapped","Mapped",null,null,null,"bma_CollateralizedBalances"]
[]
[null,"Line 15","Encumbered assets for policyholder obligations",null,null,null,null,null,null,null,null,null,null,null,null,null,null,null,null,"bma_GrossLossAndLossExpenseProvisionsAtBeginningOfYear"]
[null,null,null,null,null,null,null,null,null,null,null,null,null,"brrt_EncumberedAssetsAxis_brrt_EncumberedAssetsForPolicyholderObligationsMember",null,null,null,null,null,""]
[null,null,"Asset",null,"Purpose of Encumbrance",null,null,null,null,null,null,null,null,null,null,null,null,null,null,"bma_LessReinsuranceRecoverableAtBeginningOfYear"]
[null,null,"                Cash and cash equivalents",null,null,null,null,null,0,null,0,null,null,"brrt_CashAmountOfEncumbrance","Mapped","Mapped",null,null,null,""]
[null,null,"                Total quoted investments",null,null,null,null,null,0,null,0,null,null,"brrt_QuotedInvestmentsAmountOfEncumbrance","Mapped","Mapped",null,null,null,"bma_NetLossAndLossExpenseProvisionsAtBeginningOfYear"]
[null,null,"                Total unquoted investments",null,null,null,null,null,0,null,0,null,null,"brrt_UnquotedInvestmentsAmountOfEncumbrance","Mapped","Mapped",null,null,null,""]
[null,null,"                Funds held by ceding reinsurers",null,null,null,null,null,0,null,0,null,null,"brrt_FundsHeldByCedingReinsurersAmountOfEncumbrance","Mapped","Mapped"]
[null,null,"                Other assets",null,null,null,null,null,0,null,0,null,null,"brrt_OtherAssetsTypesAmountOfEncumbrance","Mapped","Mapped",null,null,null,""]
[null,null,"                Total encumbered assets",null,null,null,null,null,0,null,0,null,null,"brrt_AssetsEncumberedAmountOfEncumbrance","Mapped","Mapped",null,null,null,"bma_NetLossesIncurredAndNetLossExpensesIncurredRelatedToCurrentYear"]
[null,null,null,null,null,null,null,null,null,null,null,null,null,null,null,null,null,null,null,"bma_NetLossesIncurredAndNetLossExpensesIncurredRelatedToPriorYears"]
[null,"Line 15","Encumbered assets not securing policyholder obligations",null,null,null,null,null,null,null,null,null,null,"brrt_EncumberedAssetsAxis_brrt_EncumberedAssetsNotSecuringPolicyholderObligationsMember",null,null,null,null,null,""]
[null,null,null,null,null,null,null,null,null,null,null,null,null,null,null,null,null,null,null,"bma_TotalNetIncurredLossesAndLossExpenses"]
[null,null,"Asset",null,"Purpose of Encumbrance",null,null,null,null,null,null,null,null,null,null,null,null,null,null,""]
[null,null,"                Cash and cash equivalents",null,null,null,null,null,0,null,0,null,"brrt_CashPurposeOfEncumbrance","brrt_CashAmountOfEncumbrance","Mapped","Mapped","Mapped"]
[null,null,"                Total quoted investments",null,null,null,null,null,0,null,0,null,"brrt_QuotedInvestmentsPurposeOfEncumbrance","brrt_QuotedInvestmentsAmountOfEncumbrance","Mapped","Mapped","Mapped",null,null,""]
[null,null,"                Total unquoted investments",null,null,null,null,null,0,null,0,null,"brrt_UnquotedInvestmentsPurposeOfEncumbrance","brrt_UnquotedInvestmentsAmountOfEncumbrance","Mapped","Mapped","Mapped",null,null,"bma_NetLossesAndLossExpensesPaidOrPayableRelatedToCurrentYear"]
[null,null,"                Other assets",null,null,null,null,null,0,null,0,null,"brrt_OtherAssetsTypesPurposeOfEncumbrance","brrt_OtherAssetsTypesAmountOfEncumbrance","Mapped","Mapped","Mapped",null,null,"bma_NetLossesAndLossExpensesPaidOrPayableRelatedToPriorYears"]
[null,null,"                Total encumbered assets",null,null,null,null,null,0,null,0,null,null,"brrt_AssetsEncumberedAmountOfEncumbrance","Mapped","Mapped",null,null,null,""]
[null,null,null,null,null,null,null,null,null,null,null,null,null,null,"Mapped","Mapped",null,null,null,"bma_TotalLossesAndLossExpensesPaidOrPayable"]
[null,"Line 36","Sundry liabilities",null,null,null,null,null,0,null,0,null,null,"brrt_CollateralizedBalances","Mapped","Mapped",null,null,null,"bma_CollateralizedBalances"]
[]
[null,"Line 37","Letters of Credit, Guarantees and other Instruments",null,null,null,null,null,0,null,0,null,null,"brrt_CollateralizedBalances","Mapped","Mapped",null,null,null,"bma_CollateralizedBalances"]
[]
[null,null,"General Business"]
[null,"Line 17","Reasons for the change in the net losses incurred and net loss expenses incurred related to prior years and indicate whether additional premiums or return premiums have been accrued as a result of the prior year effects. ",null,null,null,0]
[]
[]
[null,"Line 17","Loss and loss expense provisions total restricted assets - an amount equal to the value of all that are held for security or collateral against a liability or contingent liabilit"]
[]
[]
[null,"Line 17","Loss and loss expense provision unsecured policyholder obligations - an amount equal to all policyholder obligations that are not secured by assets or collateral"]
[]
[]
[null,"Line 17","Gross loss and loss expense provisions at beginning of year",null,null,null,null,null,0,null,0,null,null,"brrt_GrossLossAndLossExpenseProvisions","Mapped","Mapped",null,null,null,""]
[null,null,null,null,null,null,null,null,null,null,null,null,null,"","-","-",null,null,null,"bma_ForeignExchangeAndOther"]
[null,null,"Less: Reinsurance recoverable at beginning of year",null,null,null,null,null,0,null,0,null,null,"brrt_ReinsuranceRecoverable","Mapped","Mapped",null,null,null,""]
[null,null,null,null,null,null,null,null,null,null,null,null,null,"","-","-",null,null,null,"bma_NetLossAndLossExpenseProvisionsAtEndOfYear"]
[null,null,"Net loss and loss expense provisions at beginning of year",null,null,null,null,null,0,null,0,null,null,"brrt_NetLossAndLossExpenseProvisions","Mapped","Mapped",null,null,null,""]
[null,null,null,null,null,null,null,null,null,null,null,null,null,"","-","-",null,null,null,"bma_AddReinsuranceRecoverableAtEndOfYear"]
[null,null,"Acquisition / Sale of loss reserves (net):",null,null,null,null,null,0,null,0]
[]
[null,null,"Net losses incurred and net loss expenses incurred related to:"]
[]
[null,null,"               Current year",null,null,null,null,null,0,null,0]
[null,null,"               Prior years",null,null,null,null,null,0,null,0]
[]
[null,null,"Total net incurred losses & loss expenses",null,null,null,null,null,0,null,0]
[]
[null,null,"Net losses and loss expenses paid or payable related to:"]
[]
[null,null,"               Current year",null,null,null,null,null,0,null,0]
[null,null,"               Prior years",null,null,null,null,null,0,null,0]
[]
[null,null,"Total losses and loss expenses paid or payable",null,null,null,null,null,0,null,0]
[]
[null,null,"Foreign exchange and other",null,null,null,null,null,0,null,0]
[]
[null,null,"Net loss and loss expense provisions at end of year",null,null,null,null,null,0,null,0]
[]
[null,null,"Add: Reinsurance recoverable at end of year",null,null,null,null,null,0,null,0,null,null,"","-","-",null,null,null,""]
[null,null,null,null,null,null,null,null,null,null,null,null,null,"","-","-"]
[null,null,"Gross loss and loss expense provisions at end of year",null,null,null,null,null,0,null,0,null,null,"brrt_GrossLossAndLossExpenseProvisions","Mapped","Mapped"]
[null,null,null,null,null,null,null,null,null,null,null,null,"",""]
[null,null,null,null,null,null,null,null,"TRUE",null,"TRUE",null,null,""]
[null,null,null,null,null,null,null,null,"TRUE",null,"TRUE"]
[null,null,"Difference",null,null,null,null,null,0,null,0]
[]
[null,null,null,null,null,null,null,null,"",null,""]
[]
[null,null,"Long-Term Business"]
[]
[null,"Line 27","Total gross long-term business insurance reserves at beginning of year",null,null,null,null,null,null,null,null,null,null,"brrt_GrossLossAndLossExpenseProvisions","Mapped","Mapped",null,null,null,""]
[null,null,null,null,null,null,null,null,null,null,null,null,null,"","-","-",null,null,null,"bma_ForeignExchangeAndOther"]
[null,null,"Less: Reinsurance recoverable on long-term business at beginning of year",null,null,null,null,null,null,null,null,null,null,"brrt_ReinsuranceRecoverable","Mapped","Mapped",null,null,null,""]
[null,null,null,null,null,null,null,null,null,null,null,null,null,"","-","-",null,null,null,"bma_NetLossAndLossExpenseProvisionsAtEndOfYear"]
[null,null,"Total net long-term business insurance reserves at beginning of year",null,null,null,null,null,0,null,0,null,null,"brrt_NetLossAndLossExpenseProvisions","Mapped","Mapped",null,null,null,""]
[null,null,null,null,null,null,null,null,null,null,null,null,null,"","-","-",null,null,null,"bma_AddReinsuranceRecoverableAtEndOfYear"]
[null,null,"Long-term business deductions related to:"]
[]
[null,null,"               Current year"]
[null,null,"               Prior years"]
[]
[null,null,"Total long-term business deductions",null,null,null,null,null,0,null,0]
[]
[null,null,"Less: Long-term business deductions paid or payable related to:"]
[]
[null,null,"               Current year"]
[null,null,"               Prior years"]
[]
[null,null,"Total long-term business deductions paid or payable",null,null,null,null,null,0,null,0]
[]
[null,null,"Total net long-term business insurance reserves at end of year",null,null,null,null,null,0,null,0]
[]
[null,null,"Add: Reinsurance recoverable on long-term business at end of year",null,null,null,null,null,null,null,null,null,null,"","-","-",null,null,null,""]
[null,null,null,null,null,null,null,null,null,null,null,null,null,"","-","-"]
[null,null,"Total gross long-term business insurance reserves at end of year",null,null,null,null,null,0,null,0,null,null,"brrt_GrossLossAndLossExpenseProvisions","Mapped","Mapped"]
[null,null,null,null,null,null,null,null,null,null,null,null,"",""]
[null,null,null,null,null,null,null,null,true,null,true,null,null,""]
[]
[null,null,"Difference",null,null,null,null,null,0,null,0]
[]
[null,"Line 27",null,null,null,null,"Investment Contracts"]
[null,null,"CURRENT YEAR",null,"Net",null,"Gross",null,"Reinsurance",null,"Net"]
[null,null,"Balance - Beginning of Year",null,0,null,0,null,0,null,0]
[null,null,"Impact of Terminations",null,0,null,0,null,0,null,0]
[null,null,"Impact of New Business",null,0,null,0,null,0,null,0]
[null,null,"Normal Change in force",null,0,null,0,null,0,null,0]
[null,null,"Management Actions and Changes in Assumptions",null,0,null,0,null,0,null,0]
[null,null,"Impact of Foreign Exchange rate changes",null,0,null,0,null,0,null,0]
[null,null,"Balance - End of Year",null,0,null,0,null,0,null,0]
[]
[null,null,"PRIOR YEAR"]
[null,null,"Balance - Beginning of Year",null,0,null,0,null,0,null,0]
[null,null,"Impact of Terminations",null,0,null,0,null,0,null,0]
[null,null,"Impact of New Business",null,0,null,0,null,0,null,0]
[null,null,"Normal Change in force",null,0,null,0,null,0,null,0]
[null,null,"Management Actions and Changes in Assumptions",null,0,null,0,null,0,null,0]
[null,null,"Impact of Foreign Exchange rate changes",null,0,null,0,null,0,null,0]
[null,null,"Balance - End of Year",null,0,null,0,null,0,null,0]

{"sheet":"Form 2SFS GB","index":16,"n_rows":119,"n_cols":24,"rows_kept":119,"cut":false,"hidden":false,"merged":[[6,4,6,6],[6,8,6,10],[5,4,5,6],[5,8,5,10]]}
[null,"STATUTORY STATEMENT OF INCOME",null,null,null,null,null,null,null,null,{"$f":"HYPERLINK(\"#'Index'!A1\",\"Return to Index\")","v":"Return to Index"}]
[null,{"$f":"'Company Information'!C7","v":"Enter Company Name"}]
[null,"For the year ending",{"$f":"'Company Information'!C3","v":"2019-12-31"},null,null,null,null,null,null,null,"FORM 2SFS GB"]
[null,{"$f":"\"expressed in\"& IF(CONFIGURATION!$B$12>1,\" ['\"&MID(CONFIGURATION!$B$12,2,LEN(CONFIGURATION!$B$12))&\"s]\",\"\")","v":"expressed in ['000s]"},{"$f":"'Form 1SFS GB'!$C$5","v":"United States Dollars"}]
[null,null,null,null,"(A)",null,"(B)",null,"(C)",null,"(D)"]
[null,null,null,null,"General Business",null,null,null,"General Business",null,null,null,null,null,{"$f":"IF(I8=\"\",\"\",TEXT(DATE(YEAR(I8+1)-1,MONTH(I8+1),DAY(I8+1)),\"mm/dd/yyyy\"))","v":"01/01/2019"},{"$f":"IF(K8=\"\",\"\",TEXT(DATE(YEAR(K8+1)-1,MONTH(K8+1),DAY(K8+1)),\"mm/dd/yyyy\"))","v":"01/01/2018"}]
[null,"STMT.",null,null,"General Account",null,null,null,"Combined: Segregated & General Account",null,null,null,null,null,{"$f":"IF(I8=\"\",\"\",TEXT(I8,\"mm/dd/yyyy\"))","v":"12/31/2019"},{"$f":"IF(K8=\"\",\"\",TEXT(K8,\"mm/dd/yyyy\"))","v":"12/31/2018"}]
[null,"LINE No.",null,null,{"$f":"'Form 1SFS GB'!$E$9","v":"2019-12-31"},null,{"$f":"'Form 1SFS GB'!$G$9","v":"2018-12-31"},null,{"$f":"'Form 1SFS GB'!$E$9","v":"2019-12-31"},null,{"$f":"'Form 1SFS GB'!$G$9","v":"2018-12-31"},null,null,""]
[null,null,null,null,{"$f":"CONFIGURATION!$D$12","v":" ('000s)"},null,{"$f":"CONFIGURATION!$D$12","v":" ('000s)"},null,{"$f":"CONFIGURATION!$D$12","v":" ('000s)"},null,{"$f":"CONFIGURATION!$D$12","v":" ('000s)"},null,null,""]
[null,null,"GENERAL BUSINESS UNDERWRITING INCOME",null,null,null,null,null,null,null,null,null,null,null,{"$f":"XBRLMap(I10,$N10,$O$6,$O$7,CONFIGURATION!$B$10,\"BMA\",CONFIGURATION!$B$1,\"bscr\",CONFIGURATION!$B$12)","v":"-"},{"$f":"XBRLMap(K10,$N10,$P$6,$P$7,CONFIGURATION!$B$10,\"BMA\",CONFIGURATION!$B$1,\"bscr\",CONFIGURATION!$B$12)","v":"-"}]
[null,null,null,null,null,null,null,null,null,null,null,null,null,"",{"$f":"XBRLMap(I11,$N11,$O$6,$O$7,CONFIGURATION!$B$10,\"BMA\",CONFIGURATION!$B$1,\"bscr\",CONFIGURATION!$B$12)","v":"-"},{"$f":"XBRLMap(K11,$N11,$P$6,$P$7,CONFIGURATION!$B$10,\"BMA\",CONFIGURATION!$B$1,\"bscr\",CONFIGURATION!$B$12)","v":"-"}]
[null,"1.","GROSS PREMIUMS WRITTEN:",null,null,null,null,null,null,null,null,null,null,null,{"$f":"XBRLMap(I12,$N12,$O$6,$O$7,CONFIGURATION!$B$10,\"BMA\",CONFIGURATION!$B$1,\"bscr\",CONFIGURATION!$B$12)","v":"-"},{"$f":"XBRLMap(K12,$N12,$P$6,$P$7,CONFIGURATION!$B$10,\"BMA\",CONFIGURATION!$B$1,\"bscr\",CONFIGURATION!$B$12)","v":"-"}]
[null,null,"(a) Direct gross premiums written",null,{"$f":"+Import!E322","v":0},null,{"$f":"+Import!G322","v":0},null,{"$f":"+Import!I322","v":0},null,{"$f":"+Import!K322","v":0},null,null,"brrt_GrossPremiumsWrittenDirect",{"$f":"XBRLMap(I13,$N13,$O$6,$O$7,CONFIGURATION!$B$10,\"BMA\",CONFIGURATION!$B$1,\"bscr\",CONFIGURATION!$B$12)","v":"Mapped"},{"$f":"XBRLMap(K13,$N13,$P$6,$P$7,CONFIGURATION!$B$10,\"BMA\",CONFIGURATION!$B$1,\"bscr\",CONFIGURATION!$B$12)","v":"Mapped"},null,null,null,null,null,null,null,"bma_DirectGrossPremiumsWritten"]
[null,null,"(b) Assumed gross premiums written",null,{"$f":"+Import!E323","v":0},null,{"$f":"+Import!G323","v":0},null,{"$f":"+Import!I323","v":0},null,{"$f":"+Import!K323","v":0},null,null,"brrt_GrossPremiumsWrittenAssumed",{"$f":"XBRLMap(I14,$N14,$O$6,$O$7,CONFIGURATION!$B$10,\"BMA\",CONFIGURATION!$B$1,\"bscr\",CONFIGURATION!$B$12)","v":"Mapped"},{"$f":"XBRLMap(K14,$N14,$P$6,$P$7,CONFIGURATION!$B$10,\"BMA\",CONFIGURATION!$B$1,\"bscr\",CONFIGURATION!$B$12)","v":"Mapped"},null,null,null,null,null,null,null,"bma_AssumedGrossPremiumsWritten"]
[null,null,"(c) Total gross premiums written",null,{"$f":"SUM(E13:E14)","v":0},null,{"$f":"SUM(G13:G14)","v":0},null,{"$f":"SUM(I13:I14)","v":0},null,{"$f":"SUM(K13:K14)","v":0},null,null,"brrt_GrossPremiumsWritten",{"$f":"XBRLMap(I15,$N15,$O$6,$O$7,CONFIGURATION!$B$10,\"BMA\",CONFIGURATION!$B$1,\"bscr\",CONFIGURATION!$B$12)","v":"Mapped"},{"$f":"XBRLMap(K15,$N15,$P$6,$P$7,CONFIGURATION!$B$10,\"BMA\",CONFIGURATION!$B$1,\"bscr\",CONFIGURATION!$B$12)","v":"Mapped"},null,null,null,null,null,null,null,"bma_TotalGrossPremiumsWritten"]
[null,null,null,null,null,null,null,null,null,null,null,null,null,"",null,null,null,null,null,null,null,null,null,""]
[null,"2.","REINSURANCE PREMIUMS CEDED",null,{"$f":"+Import!E324","v":0},null,{"$f":"+Import!G324","v":0},null,{"$f":"+Import!I324","v":0},null,{"$f":"+Import!K324","v":0},null,null,"brrt_ReinsurancePremiumsCeded",{"$f":"XBRLMap(I17,$N17,$O$6,$O$7,CONFIGURATION!$B$10,\"BMA\",CONFIGURATION!$B$1,\"bscr\",CONFIGURATION!$B$12)","v":"Mapped"},{"$f":"XBRLMap(K17,$N17,$P$6,$P$7,CONFIGURATION!$B$10,\"BMA\",CONFIGURATION!$B$1,\"bscr\",CONFIGURATION!$B$12)","v":"Mapped"},null,null,null,null,null,null,null,"bma_ReinsurancePremiumsCeded"]
[null,null,null,null,null,null,null,null,null,null,null,null,null,"",{"$f":"XBRLMap(I18,$N18,$O$6,$O$7,CONFIGURATION!$B$10,\"BMA\",CONFIGURATION!$B$1,\"bscr\",CONFIGURATION!$B$12)","v":"-"},{"$f":"XBRLMap(K18,$N18,$P$6,$P$7,CONFIGURATION!$B$10,\"BMA\",CONFIGURATION!$B$1,\"bscr\",CONFIGURATION!$B$12)","v":"-"},null,null,null,null,null,null,null,""]
[null,"3.","NET PREMIUMS WRITTEN",null,{"$f":"E15-E17","v":0},null,{"$f":"G15-G17","v":0},null,{"$f":"I15-I17","v":0},null,{"$f":"K15-K17","v":0},null,null,"brrt_NetPremiumsWritten",{"$f":"XBRLMap(I19,$N19,$O$6,$O$7,CONFIGURATION!$B$10,\"BMA\",CONFIGURATION!$B$1,\"bscr\",CONFIGURATION!$B$12)","v":"Mapped"},{"$f":"XBRLMap(K19,$N19,$P$6,$P$7,CONFIGURATION!$B$10,\"BMA\",CONFIGURATION!$B$1,\"bscr\",CONFIGURATION!$B$12)","v":"Mapped"},null,null,null,null,null,null,null,"bma_NetPremiumsWritten"]
[null,null,null,null,null,null,null,null,null,null,null,null,null,"",{"$f":"XBRLMap(I20,$N20,$O$6,$O$7,CONFIGURATION!$B$10,\"BMA\",CONFIGURATION!$B$1,\"bscr\",CONFIGURATION!$B$12)","v":"-"},{"$f":"XBRLMap(K20,$N20,$P$6,$P$7,CONFIGURATION!$B$10,\"BMA\",CONFIGURATION!$B$1,\"bscr\",CONFIGURATION!$B$12)","v":"-"},null,null,null,null,null,null,null,""]
[null,"4.","INCREASE (DECREASE) IN UNEARNED PREMIUMS",null,{"$f":"+Import!E325","v":0},null,{"$f":"+Import!G325","v":0},null,{"$f":"+Import!I325","v":0},null,{"$f":"+Import!K325","v":0},null,null,"brrt_IncreaseDecreaseInUnearnedPremiums",{"$f":"XBRLMap(I21,$N21,$O$6,$O$7,CONFIGURATION!$B$10,\"BMA\",CONFIGURATION!$B$1,\"bscr\",CONFIGURATION!$B$12)","v":"Mapped"},{"$f":"XBRLMap(K21,$N21,$P$6,$P$7,CONFIGURATION!$B$10,\"BMA\",CONFIGURATION!$B$1,\"bscr\",CONFIGURATION!$B$12)","v":"Mapped"},null,null,null,null,null,null,null,"bma_IncreaseDecreaseInUnearnedPremiums"]
[null,null,null,null,null,null,null,null,null,null,null,null,null,"",{"$f":"XBRLMap(I22,$N22,$O$6,$O$7,CONFIGURATION!$B$10,\"BMA\",CONFIGURATION!$B$1,\"bscr\",CONFIGURATION!$B$12)","v":"-"},{"$f":"XBRLMap(K22,$N22,$P$6,$P$7,CONFIGURATION!$B$10,\"BMA\",CONFIGURATION!$B$1,\"bscr\",CONFIGURATION!$B$12)","v":"-"},null,null,null,null,null,null,null,""]
[null,"5.","NET PREMIUMS EARNED",null,{"$f":"E19+E21","v":0},null,{"$f":"G19+G21","v":0},null,{"$f":"I19+I21","v":0},null,{"$f":"K19+K21","v":0},null,null,"brrt_NetPremiumsEarned",{"$f":"XBRLMap(I23,$N23,$O$6,$O$7,CONFIGURATION!$B$10,\"BMA\",CONFIGURATION!$B$1,\"bscr\",CONFIGURATION!$B$12)","v":"Mapped"},{"$f":"XBRLMap(K23,$N23,$P$6,$P$7,CONFIGURATION!$B$10,\"BMA\",CONFIGURATION!$B$1,\"bscr\",CONFIGURATION!$B$12)","v":"Mapped"},null,null,null,null,null,null,null,"bma_NetPremiumsEarned"]
[null,null,null,null,null,null,null,null,null,null,null,null,null,"",{"$f":"XBRLMap(I24,$N24,$O$6,$O$7,CONFIGURATION!$B$10,\"BMA\",CONFIGURATION!$B$1,\"bscr\",CONFIGURATION!$B$12)","v":"-"},{"$f":"XBRLMap(K24,$N24,$P$6,$P$7,CONFIGURATION!$B$10,\"BMA\",CONFIGURATION!$B$1,\"bscr\",CONFIGURATION!$B$12)","v":"-"},null,null,null,null,null,null,null,""]
[null,"6.","OTHER INSURANCE INCOME",null,{"$f":"+Import!E326","v":0},null,{"$f":"+Import!G326","v":0},null,{"$f":"+Import!I326","v":0},null,{"$f":"+Import!K326","v":0},null,null,"brrt_OtherInsuranceIncome",{"$f":"XBRLMap(I25,$N25,$O$6,$O$7,CONFIGURATION!$B$10,\"BMA\",CONFIGURATION!$B$1,\"bscr\",CONFIGURATION!$B$12)","v":"Mapped"},{"$f":"XBRLMap(K25,$N25,$P$6,$P$7,CONFIGURATION!$B$10,\"BMA\",CONFIGURATION!$B$1,\"bscr\",CONFIGURATION!$B$12)","v":"Mapped"},null,null,null,null,null,null,null,"bma_OtherInsuranceIncome"]
[null,null,null,null,null,null,null,null,null,null,null,null,null,"",{"$f":"XBRLMap(I26,$N26,$O$6,$O$7,CONFIGURATION!$B$10,\"BMA\",CONFIGURATION!$B$1,\"bscr\",CONFIGURATION!$B$12)","v":"-"},{"$f":"XBRLMap(K26,$N26,$P$6,$P$7,CONFIGURATION!$B$10,\"BMA\",CONFIGURATION!$B$1,\"bscr\",CONFIGURATION!$B$12)","v":"-"},null,null,null,null,null,null,null,""]
[null,"7.","TOTAL GENERAL BUSINESS UNDERWRITING INCOME",null,{"$f":"E23+E25","v":0},null,{"$f":"G23+G25","v":0},null,{"$f":"I23+I25","v":0},null,{"$f":"K23+K25","v":0},null,null,"brrt_UnderwritingIncome",{"$f":"XBRLMap(I27,$N27,$O$6,$O$7,CONFIGURATION!$B$10,\"BMA\",CONFIGURATION!$B$1,\"bscr\",CONFIGURATION!$B$12)","v":"Mapped"},{"$f":"XBRLMap(K27,$N27,$P$6,$P$7,CONFIGURATION!$B$10,\"BMA\",CONFIGURATION!$B$1,\"bscr\",CONFIGURATION!$B$12)","v":"Mapped"},null,null,null,null,null,null,null,"bma_UnderwritingIncomeTotal"]
[null,null,null,null,null,null,null,null,null,null,null,null,null,"",{"$f":"XBRLMap(I28,$N28,$O$6,$O$7,CONFIGURATION!$B$10,\"BMA\",CONFIGURATION!$B$1,\"bscr\",CONFIGURATION!$B$12)","v":"-"},{"$f":"XBRLMap(K28,$N28,$P$6,$P$7,CONFIGURATION!$B$10,\"BMA\",CONFIGURATION!$B$1,\"bscr\",CONFIGURATION!$B$12)","v":"-"},null,null,null,null,null,null,null,""]
[null,null,"GENERAL BUSINESS UNDERWRITING EXPENSES",null,null,null,null,null,null,null,null,null,null,"",{"$f":"XBRLMap(I29,$N29,$O$6,$O$7,CONFIGURATION!$B$10,\"BMA\",CONFIGURATION!$B$1,\"bscr\",CONFIGURATION!$B$12)","v":"-"},{"$f":"XBRLMap(K29,$N29,$P$6,$P$7,CONFIGURATION!$B$10,\"BMA\",CONFIGURATION!$B$1,\"bscr\",CONFIGURATION!$B$12)","v":"-"}]
[null,null,null,null,null,null,null,null,null,null,null,null,null,"",{"$f":"XBRLMap(I30,$N30,$O$6,$O$7,CONFIGURATION!$B$10,\"BMA\",CONFIGURATION!$B$1,\"bscr\",CONFIGURATION!$B$12)","v":"-"},{"$f":"XBRLMap(K30,$N30,$P$6,$P$7,CONFIGURATION!$B$10,\"BMA\",CONFIGURATION!$B$1,\"bscr\",CONFIGURATION!$B$12)","v":"-"},null,null,null,null,null,null,null,""]
[null,"8.","NET LOSSES INCURRED AND NET LOSS EXPENSES INCURRED",null,{"$f":"+Import!E327","v":0},null,{"$f":"+Import!G327","v":0},null,{"$f":"+Import!I327","v":0},null,{"$f":"+Import!K327","v":0},null,null,"brrt_NetLossesAndNetLossExpensesIncurred",{"$f":"XBRLMap(I31,$N31,$O$6,$O$7,CONFIGURATION!$B$10,\"BMA\",CONFIGURATION!$B$1,\"bscr\",CONFIGURATION!$B$12)","v":"Mapped"},{"$f":"XBRLMap(K31,$N31,$P$6,$P$7,CONFIGURATION!$B$10,\"BMA\",CONFIGURATION!$B$1,\"bscr\",CONFIGURATION!$B$12)","v":"Mapped"},null,null,null,null,null,null,null,"bma_NetLossesIncurredAndNetLossExpensesIncurred"]
[null,null,null,null,null,null,null,null,null,null,null,null,null,"",{"$f":"XBRLMap(I32,$N32,$O$6,$O$7,CONFIGURATION!$B$10,\"BMA\",CONFIGURATION!$B$1,\"bscr\",CONFIGURATION!$B$12)","v":"-"},{"$f":"XBRLMap(K32,$N32,$P$6,$P$7,CONFIGURATION!$B$10,\"BMA\",CONFIGURATION!$B$1,\"bscr\",CONFIGURATION!$B$12)","v":"-"},null,null,null,null,null,null,null,""]
[null,"9.","COMMISSIONS AND BROKERAGE",null,{"$f":"+Import!E328","v":0},null,{"$f":"+Import!G328","v":0},null,{"$f":"+Import!I328","v":0},null,{"$f":"+Import!K328","v":0},null,null,"brrt_CommissionsAndBrokerage",{"$f":"XBRLMap(I33,$N33,$O$6,$O$7,CONFIGURATION!$B$10,\"BMA\",CONFIGURATION!$B$1,\"bscr\",CONFIGURATION!$B$12)","v":"Mapped"},{"$f":"XBRLMap(K33,$N33,$P$6,$P$7,CONFIGURATION!$B$10,\"BMA\",CONFIGURATION!$B$1,\"bscr\",CONFIGURATION!$B$12)","v":"Mapped"},null,null,null,null,null,null,null,"bma_CommissionsAndBrokerage"]
[null,null,null,null,null,null,null,null,null,null,null,null,null,"",{"$f":"XBRLMap(I34,$N34,$O$6,$O$7,CONFIGURATION!$B$10,\"BMA\",CONFIGURATION!$B$1,\"bscr\",CONFIGURATION!$B$12)","v":"-"},{"$f":"XBRLMap(K34,$N34,$P$6,$P$7,CONFIGURATION!$B$10,\"BMA\",CONFIGURATION!$B$1,\"bscr\",CONFIGURATION!$B$12)","v":"-"},null,null,null,null,null,null,null,""]
[null,"10.","TOTAL GENERAL BUSINESS UNDERWRITING EXPENSES",null,{"$f":"E31+E33","v":0},null,{"$f":"G31+G33","v":0},null,{"$f":"I31+I33","v":0},null,{"$f":"K31+K33","v":0}]
[]
[null,"11.","NET UNDERWRITING PROFIT (LOSS) - GENERAL BUSINESS",null,{"$f":"E27-E35","v":0},null,{"$f":"G27-G35","v":0},null,{"$f":"I27-I35","v":0},null,{"$f":"K27-K35","v":0}]
[]
[null,null,"LONG-TERM BUSINESS UNDERWRITING INCOME"]
[]
[null,"12.","GROSS PREMIUMS AND OTHER CONSIDERATIONS:"]
[null,null,"(a) Direct gross premiums and other considerations",null,null,null,null,null,{"$f":"+Import!I329","v":0},null,{"$f":"+Import!K329","v":0}]
[null,null,"(b) Assumed gross premiums and other considerations",null,null,null,null,null,{"$f":"+Import!I330","v":0},null,{"$f":"+Import!K330","v":0}]
[null,null,"(c) Total gross premiums and other considerations",null,null,null,null,null,{"$f":"SUM(I42:I43)","v":0},null,{"$f":"SUM(K42:K43)","v":0}]
[]
[null,"13.","PREMIUMS CEDED",null,null,null,null,null,{"$f":"+Import!I331","v":0},null,{"$f":"+Import!K331","v":0}]
[]
[null,"14.","NET PREMIUMS AND OTHER CONSIDERATIONS:"]
[null,null,"(a) Life",null,null,null,null,null,{"$f":"+Import!I332","v":0},null,{"$f":"+Import!K332","v":0}]
[null,null,"(b) Annuities",null,null,null,null,null,{"$f":"+Import!I333","v":0},null,{"$f":"+Import!K333","v":0}]
[null,null,"(c) Accident and health",null,null,null,null,null,{"$f":"+Import!I334","v":0},null,{"$f":"+Import!K334","v":0}]
[null,null,"(d) Total net premiums and other considerations",null,null,null,null,null,{"$f":"SUM(I49:I51)","v":0},null,{"$f":"SUM(K49:K51)","v":0}]
[]
[null,"15.","OTHER INSURANCE INCOME",null,null,null,null,null,{"$f":"+Import!I335","v":0},null,{"$f":"+Import!K335","v":0}]
[]
[null,"16.","TOTAL LONG-TERM BUSINESS UNDERWRITING INCOME",null,null,null,null,null,{"$f":"I52+I54","v":0},null,{"$f":"K52+K54","v":0}]
[]
[null,null,"LONG-TERM BUSINESS DEDUCTIONS AND EXPENSES"]
[]
[null,"17.","CLAIMS - LIFE",null,null,null,null,null,{"$f":"+Import!I336","v":0},null,{"$f":"+Import!K336","v":0}]
[]
[null,"18.","POLICYHOLDERS' DIVIDENDS",null,null,null,null,null,{"$f":"+Import!I337","v":0},null,{"$f":"+Import!K337","v":0}]
[]
[null,"19.","SURRENDERS",null,null,null,null,null,{"$f":"+Import!I338","v":0},null,{"$f":"+Import!K338","v":0}]
[]
[null,"20.","MATURITIES",null,null,null,null,null,{"$f":"+Import!I339","v":0},null,{"$f":"+Import!K339","v":0}]
[]
[null,"21.","ANNUITIES",null,null,null,null,null,{"$f":"+Import!I340","v":0},null,{"$f":"+Import!K340","v":0}]
[]
[null,"22.","ACCIDENT AND HEALTH BENEFITS",null,null,null,null,null,{"$f":"+Import!I341","v":0},null,{"$f":"+Import!K341","v":0}]
[]
[null,"23.","COMMISSIONS",null,null,null,null,null,{"$f":"+Import!I342","v":0},null,{"$f":"+Import!K342","v":0}]
[]
[null,"24.","OTHER",null,null,null,null,null,{"$f":"+Import!I343","v":0},null,{"$f":"+Import!K343","v":0}]
[]
[null,"25.","TOTAL LONG-TERM BUSINESS DEDUCTIONS AND EXPENSES",null,null,null,null,null,{"$f":"I60+I62+I64+I66+I68+I70+I72+I74","v":0},null,{"$f":"K60+K62+K64+K66+K68+K70+K72+K74","v":0}]
[]
[null,"26.","INCREASE (DECREASE) IN POLICY RESERVES:"]
[null,null,"(a) Life",null,null,null,null,null,{"$f":"+Import!I344","v":0},null,{"$f":"+Import!K344","v":0}]
[null,null,"(b) Annuities",null,null,null,null,null,{"$f":"+Import!I345","v":0},null,{"$f":"+Import!K345","v":0}]
[null,null,"(c) Accident and health",null,null,null,null,null,{"$f":"+Import!I346","v":0},null,{"$f":"+Import!K346","v":0}]
[null,null,"(d) Total increase (decrease) in policy reserves",null,null,null,null,null,{"$f":"SUM(I79:I81)","v":0},null,{"$f":"SUM(K79:K81)","v":0}]
[]
[null,"27.","TOTAL LONG-TERM BUSINESS EXPENSES",null,null,null,null,null,{"$f":"I76+I82","v":0},null,{"$f":"K76+K82","v":0}]
[]
[null,"28.","NET UNDERWRITING PROFIT (LOSS) - LONG-TERM BUSINESS",null,null,null,null,null,{"$f":"I56-I84","v":0},null,{"$f":"K56-K84","v":0}]
[]
[null,"29.","COMBINED NET UNDERWRITING PROFIT (LOSS) BEFORE "]
[null,null,"THE UNDERNOTED ITEMS",null,{"$f":"E37+E86","v":0},null,{"$f":"G37+G86","v":0},null,{"$f":"I37+I86","v":0},null,{"$f":"K37+K86","v":0}]
[]
[null,null,"UNDERNOTED ITEMS"]
[]
[null,"30.","COMBINED OPERATING EXPENSES:"]
[null,null,"(a) General and administrative ",null,{"$f":"Import!E347","v":0},null,{"$f":"Import!G347","v":0},null,{"$f":"+Import!I347","v":0},null,{"$f":"+Import!K347","v":0}]
[null,null,"(b) Personnel Costs  ",null,{"$f":"Import!E348","v":0},null,{"$f":"Import!G348","v":0},null,{"$f":"+Import!I348","v":0},null,{"$f":"+Import!K348","v":0}]
[null,null,"(c) Other  ",null,{"$f":"Import!E349","v":0},null,{"$f":"Import!G349","v":0},null,{"$f":"+Import!I349","v":0},null,{"$f":"+Import!K349","v":0}]
[null,null,"(d) Total combined operating expenses  ",null,{"$f":"SUM(E94:E96)","v":0},null,{"$f":"SUM(G94:G96)","v":0},null,{"$f":"SUM(I94:I96)","v":0},null,{"$f":"SUM(K94:K96)","v":0}]
[]
[null,"31.","COMBINED INVESTMENT INCOME - NET",null,{"$f":"Import!E350","v":0},null,{"$f":"Import!G350","v":0},null,{"$f":"+Import!I350","v":0},null,{"$f":"+Import!K350","v":0}]
[null,null,null,null,null,null,null,null,null,null,null,null,null,"",{"$f":"XBRLMap(I100,$N100,$O$6,$O$7,CONFIGURATION!$B$10,\"BMA\",CONFIGURATION!$B$1,\"bscr\",CONFIGURATION!$B$12)","v":"-"},{"$f":"XBRLMap(K100,$N100,$P$6,$P$7,CONFIGURATION!$B$10,\"BMA\",CONFIGURATION!$B$1,\"bscr\",CONFIGURATION!$B$12)","v":"-"},null,null,null,null,null,null,null,""]
[null,"32.","COMBINED OTHER INCOME (DEDUCTIONS)",null,{"$f":"Import!E351","v":0},null,{"$f":"Import!G351","v":0},null,{"$f":"+Import!I351","v":0},null,{"$f":"+Import!K351","v":0}]
[]
[null,"33.","COMBINED INCOME BEFORE TAXES",null,{"$f":"E89-E97+E99+E101","v":0},null,{"$f":"G89-G97+G99+G101","v":0},null,{"$f":"I89-I97+I99+I101","v":0},null,{"$f":"K89-K97+K99+K101","v":0}]
[]
[null,"34.","COMBINED INCOME TAXES (IF APPLICABLE):",null,null,null,null,null,null,null,null,null,null,"",{"$f":"XBRLMap(I105,$N105,$O$6,$O$7,CONFIGURATION!$B$10,\"BMA\",CONFIGURATION!$B$1,\"bscr\",CONFIGURATION!$B$12)","v":"-"},{"$f":"XBRLMap(K105,$N105,$P$6,$P$7,CONFIGURATION!$B$10,\"BMA\",CONFIGURATION!$B$1,\"bscr\",CONFIGURATION!$B$12)","v":"-"}]
[null,null,"(a) Current",null,{"$f":"Import!E352","v":0},null,{"$f":"Import!G352","v":0},null,{"$f":"+Import!I352","v":0},null,{"$f":"+Import!K352","v":0},null,null,"brrt_IncomeTaxesCurrent",{"$f":"XBRLMap(I106,$N106,$O$6,$O$7,CONFIGURATION!$B$10,\"BMA\",CONFIGURATION!$B$1,\"bscr\",CONFIGURATION!$B$12)","v":"Mapped"},{"$f":"XBRLMap(K106,$N106,$P$6,$P$7,CONFIGURATION!$B$10,\"BMA\",CONFIGURATION!$B$1,\"bscr\",CONFIGURATION!$B$12)","v":"Mapped"},null,null,null,null,null,null,null,"bma_IncomeTaxesCurrent"]
[null,null,"(b) Deferred",null,{"$f":"Import!E353","v":0},null,{"$f":"Import!G353","v":0},null,{"$f":"+Import!I353","v":0},null,{"$f":"+Import!K353","v":0},null,null,"brrt_IncomeTaxesDeferred",{"$f":"XBRLMap(I107,$N107,$O$6,$O$7,CONFIGURATION!$B$10,\"BMA\",CONFIGURATION!$B$1,\"bscr\",CONFIGURATION!$B$12)","v":"Mapped"},{"$f":"XBRLMap(K107,$N107,$P$6,$P$7,CONFIGURATION!$B$10,\"BMA\",CONFIGURATION!$B$1,\"bscr\",CONFIGURATION!$B$12)","v":"Mapped"},null,null,null,null,null,null,null,"bma_IncomeTaxesDeferred"]
[null,null,"(c) Total ",null,{"$f":"E106+E107","v":0},null,{"$f":"G106+G107","v":0},null,{"$f":"I106+I107","v":0},null,{"$f":"K106+K107","v":0},null,null,"brrt_IncomeTaxes",{"$f":"XBRLMap(I108,$N108,$O$6,$O$7,CONFIGURATION!$B$10,\"BMA\",CONFIGURATION!$B$1,\"bscr\",CONFIGURATION!$B$12)","v":"Mapped"},{"$f":"XBRLMap(K108,$N108,$P$6,$P$7,CONFIGURATION!$B$10,\"BMA\",CONFIGURATION!$B$1,\"bscr\",CONFIGURATION!$B$12)","v":"Mapped"},null,null,null,null,null,null,null,"bma_IncomeTaxesTotal"]
[null,null,null,null,null,null,null,null,null,null,null,null,null,"",{"$f":"XBRLMap(I109,$N109,$O$6,$O$7,CONFIGURATION!$B$10,\"BMA\",CONFIGURATION!$B$1,\"bscr\",CONFIGURATION!$B$12)","v":"-"},{"$f":"XBRLMap(K109,$N109,$P$6,$P$7,CONFIGURATION!$B$10,\"BMA\",CONFIGURATION!$B$1,\"bscr\",CONFIGURATION!$B$12)","v":"-"},null,null,null,null,null,null,null,""]
[null,"35.","COMBINED INCOME BEFORE REALIZED GAINS (LOSSES)",null,{"$f":"E103-E108","v":0},null,{"$f":"G103-G108","v":0},null,{"$f":"I103-I108","v":0},null,{"$f":"K103-K108","v":0},null,null,"brrt_IncomeBeforeRealizedGainsLosses",{"$f":"XBRLMap(I110,$N110,$O$6,$O$7,CONFIGURATION!$B$10,\"BMA\",CONFIGURATION!$B$1,\"bscr\",CONFIGURATION!$B$12)","v":"Mapped"},{"$f":"XBRLMap(K110,$N110,$P$6,$P$7,CONFIGURATION!$B$10,\"BMA\",CONFIGURATION!$B$1,\"bscr\",CONFIGURATION!$B$12)","v":"Mapped"},null,null,null,null,null,null,null,"bma_IncomeBeforeRealizedGainsLosses"]
[null,null,null,null,null,null,null,null,null,null,null,null,null,"",{"$f":"XBRLMap(I111,$N111,$O$6,$O$7,CONFIGURATION!$B$10,\"BMA\",CONFIGURATION!$B$1,\"bscr\",CONFIGURATION!$B$12)","v":"-"},{"$f":"XBRLMap(K111,$N111,$P$6,$P$7,CONFIGURATION!$B$10,\"BMA\",CONFIGURATION!$B$1,\"bscr\",CONFIGURATION!$B$12)","v":"-"},null,null,null,null,null,null,null,""]
[null,"36.","COMBINED REALIZED GAINS (LOSSES)",null,{"$f":"Import!E354","v":0},null,{"$f":"Import!G354","v":0},null,{"$f":"+Import!I354","v":0},null,{"$f":"+Import!K354","v":0},null,null,"brrt_RealizedGainsLosses",{"$f":"XBRLMap(I112,$N112,$O$6,$O$7,CONFIGURATION!$B$10,\"BMA\",CONFIGURATION!$B$1,\"bscr\",CONFIGURATION!$B$12)","v":"Mapped"},{"$f":"XBRLMap(K112,$N112,$P$6,$P$7,CONFIGURATION!$B$10,\"BMA\",CONFIGURATION!$B$1,\"bscr\",CONFIGURATION!$B$12)","v":"Mapped"},null,null,null,null,null,null,null,"bma_RealizedGainsLosses"]
[null,null,null,null,null,null,null,null,null,null,null,null,null,"",{"$f":"XBRLMap(I113,$N113,$O$6,$O$7,CONFIGURATION!$B$10,\"BMA\",CONFIGURATION!$B$1,\"bscr\",CONFIGURATION!$B$12)","v":"-"},{"$f":"XBRLMap(K113,$N113,$P$6,$P$7,CONFIGURATION!$B$10,\"BMA\",CONFIGURATION!$B$1,\"bscr\",CONFIGURATION!$B$12)","v":"-"},null,null,null,null,null,null,null,""]
[null,"37.","COMBINED INTEREST CHARGES",null,{"$f":"Import!E355","v":0},null,{"$f":"Import!G355","v":0},null,{"$f":"+Import!I355","v":0},null,{"$f":"+Import!K355","v":0}]
[]
[null,"38.","NET INCOME",null,{"$f":"E110+E112-E114","v":0},null,{"$f":"G110+G112-G114","v":0},null,{"$f":"I110+I112-I114","v":0},null,{"$f":"K110+K112-K114","v":0},null,null,"brrt_NetIncome",{"$f":"XBRLMap(I116,$N116,$O$6,$O$7,CONFIGURATION!$B$10,\"BMA\",CONFIGURATION!$B$1,\"bscr\",CONFIGURATION!$B$12)","v":"Mapped"},{"$f":"XBRLMap(K116,$N116,$P$6,$P$7,CONFIGURATION!$B$10,\"BMA\",CONFIGURATION!$B$1,\"bscr\",CONFIGURATION!$B$12)","v":"Mapped"},null,null,null,null,null,null,null,"bma_NetIncome"]
[null,null,null,null,null,null,null,null,null,null,null,null,null,""]
[null,null,null,null,null,null,null,null,null,null,null,null,null,""]
[null,null,null,null,null,null,null,null,null,null,null,null,null,""]

{"sheet":"Form 2SFS LT","index":17,"n_rows":119,"n_cols":24,"rows_kept":119,"cut":false,"hidden":false,"merged":[[1,4,3,6],[5,4,5,6],[5,8,5,10],[6,4,6,6],[6,8,6,10]]}
[null,"STATUTORY STATEMENT OF INCOME",null,null,null,null,null,null,null,null,{"$f":"HYPERLINK(\"#'Index'!A1\",\"Return to Index\")","v":"Return to Index"}]
[null,"Enter Company Name"]
[null,"For the year ending","2019-12-31",null,null,null,null,null,null,null,"FORM 2SFS LT"]
[null,"expressed in ['000s]","United States Dollars"]
[null,null,null,null,"(A)",null,"(B)",null,"(C)",null,"(D)"]
[null,null,null,null,"Long-Term Business",null,null,null,"Long-Term Business",null,null,null,null,null,"01/01/2019","01/01/2018"]
[null,"STMT.",null,null,"General Account",null,null,null,"Combined: Segregated & General Account",null,null,null,null,null,"12/31/2019","12/31/2018"]
[null,"LINE No.",null,null,{"$f":"'Form 1SFS GB'!$E$9","v":"2019-12-31"},null,{"$f":"'Form 1SFS GB'!$G$9","v":"2018-12-31"},null,{"$f":"'Form 1SFS GB'!$E$9","v":"2019-12-31"},null,{"$f":"'Form 1SFS GB'!$G$9","v":"2018-12-31"},null,null,""]
[null,null,null,null,{"$f":"CONFIGURATION!$D$12","v":" ('000s)"},null,{"$f":"CONFIGURATION!$D$12","v":" ('000s)"},null,{"$f":"CONFIGURATION!$D$12","v":" ('000s)"},null,{"$f":"CONFIGURATION!$D$12","v":" ('000s)"},null,null,""]
[null,null,"GENERAL BUSINESS UNDERWRITING INCOME",null,null,null,null,null,null,null,null,null,null,null,"-","-"]
[null,null,null,null,null,null,null,null,null,null,null,null,null,"","-","-"]
[null,"1.","GROSS PREMIUMS WRITTEN:",null,null,null,null,null,null,null,null,null,null,null,"-","-"]
[null,null,"(a) Direct gross premiums written",null,null,null,null,null,{"$f":"Import!T322","v":0},null,{"$f":"Import!V322","v":0},null,null,"brrt_GrossPremiumsWrittenDirect","Mapped","Mapped",null,null,null,null,null,null,null,"bma_DirectGrossPremiumsWritten"]
[null,null,"(b) Assumed gross premiums written",null,null,null,null,null,{"$f":"Import!T323","v":0},null,{"$f":"Import!V323","v":0},null,null,"brrt_GrossPremiumsWrittenAssumed","Mapped","Mapped",null,null,null,null,null,null,null,"bma_AssumedGrossPremiumsWritten"]
[null,null,"(c) Total gross premiums written",null,null,null,null,null,{"$f":"SUM(I13:I14)","v":0},null,{"$f":"SUM(K13:K14)","v":0},null,null,"brrt_GrossPremiumsWritten","Mapped","Mapped",null,null,null,null,null,null,null,"bma_TotalGrossPremiumsWritten"]
[null,null,null,null,null,null,null,null,null,null,null,null,null,"",null,null,null,null,null,null,null,null,null,""]
[null,"2.","REINSURANCE PREMIUMS CEDED",null,null,null,null,null,{"$f":"Import!T324","v":0},null,{"$f":"Import!V324","v":0},null,null,"brrt_ReinsurancePremiumsCeded","Mapped","Mapped",null,null,null,null,null,null,null,"bma_ReinsurancePremiumsCeded"]
[null,null,null,null,null,null,null,null,null,null,null,null,null,"","-","-",null,null,null,null,null,null,null,""]
[null,"3.","NET PREMIUMS WRITTEN",null,null,null,null,null,{"$f":"I15-I17","v":0},null,{"$f":"K15-K17","v":0},null,null,"brrt_NetPremiumsWritten","Mapped","Mapped",null,null,null,null,null,null,null,"bma_NetPremiumsWritten"]
[null,null,null,null,null,null,null,null,null,null,null,null,null,"","-","-",null,null,null,null,null,null,null,""]
[null,"4.","INCREASE (DECREASE) IN UNEARNED PREMIUMS",null,null,null,null,null,{"$f":"Import!T325","v":0},null,{"$f":"Import!V325","v":0},null,null,"brrt_IncreaseDecreaseInUnearnedPremiums","Mapped","Mapped",null,null,null,null,null,null,null,"bma_IncreaseDecreaseInUnearnedPremiums"]
[null,null,null,null,null,null,null,null,null,null,null,null,null,"","-","-",null,null,null,null,null,null,null,""]
[null,"5.","NET PREMIUMS EARNED",null,null,null,null,null,{"$f":"I19+I21","v":0},null,{"$f":"K19+K21","v":0},null,null,"brrt_NetPremiumsEarned","Mapped","Mapped",null,null,null,null,null,null,null,"bma_NetPremiumsEarned"]
[null,null,null,null,null,null,null,null,null,null,null,null,null,"","-","-",null,null,null,null,null,null,null,""]
[null,"6.","OTHER INSURANCE INCOME",null,null,null,null,null,{"$f":"Import!T326","v":0},null,{"$f":"Import!V326","v":0},null,null,"brrt_OtherInsuranceIncome","Mapped","Mapped",null,null,null,null,null,null,null,"bma_OtherInsuranceIncome"]
[null,null,null,null,null,null,null,null,null,null,null,null,null,"","-","-",null,null,null,null,null,null,null,""]
[null,"7.","TOTAL GENERAL BUSINESS UNDERWRITING INCOME",null,null,null,null,null,{"$f":"I23+I25","v":0},null,{"$f":"K23+K25","v":0},null,null,"brrt_UnderwritingIncome","Mapped","Mapped",null,null,null,null,null,null,null,"bma_UnderwritingIncomeTotal"]
[null,null,null,null,null,null,null,null,null,null,null,null,null,"","-","-",null,null,null,null,null,null,null,""]
[null,null,"GENERAL BUSINESS UNDERWRITING EXPENSES",null,null,null,null,null,null,null,null,null,null,"","-","-"]
[null,null,null,null,null,null,null,null,null,null,null,null,null,"","-","-",null,null,null,null,null,null,null,""]
[null,"8.","NET LOSSES INCURRED AND NET LOSS EXPENSES INCURRED",null,null,null,null,null,{"$f":"Import!T327","v":0},null,{"$f":"Import!V327","v":0},null,null,"brrt_NetLossesAndNetLossExpensesIncurred","Mapped","Mapped",null,null,null,null,null,null,null,"bma_NetLossesIncurredAndNetLossExpensesIncurred"]
[null,null,null,null,null,null,null,null,null,null,null,null,null,"","-","-",null,null,null,null,null,null,null,""]
[null,"9.","COMMISSIONS AND BROKERAGE",null,null,null,null,null,{"$f":"Import!T328","v":0},null,{"$f":"Import!V328","v":0},null,null,"brrt_CommissionsAndBrokerage","Mapped","Mapped",null,null,null,null,null,null,null,"bma_CommissionsAndBrokerage"]
[null,null,null,null,null,null,null,null,null,null,null,null,null,"","-","-",null,null,null,null,null,null,null,""]
[null,"10.","TOTAL GENERAL BUSINESS UNDERWRITING EXPENSES",null,null,null,null,null,{"$f":"I31+I33","v":0},null,{"$f":"K31+K33","v":0}]
[]
[null,"11.","NET UNDERWRITING PROFIT (LOSS) - GENERAL BUSINESS",null,null,null,null,null,{"$f":"I27-I35","v":0},null,{"$f":"K27-K35","v":0}]
[]
[null,null,"LONG-TERM BUSINESS UNDERWRITING INCOME"]
[]
[null,"12.","GROSS PREMIUMS AND OTHER CONSIDERATIONS:"]
[null,null,"(a) Direct gross premiums and other considerations",null,{"$f":"+Import!P329","v":0},null,{"$f":"+Import!R329","v":0},null,{"$f":"+Import!T329","v":0},null,{"$f":"+Import!V329","v":0}]
[null,null,"(b) Assumed gross premiums and other considerations",null,{"$f":"+Import!P330","v":0},null,{"$f":"+Import!R330","v":0},null,{"$f":"+Import!T330","v":0},null,{"$f":"+Import!V330","v":0}]
[null,null,"(c) Total gross premiums and other considerations",null,{"$f":"SUM(E42:E43)","v":0},null,{"$f":"SUM(G42:G43)","v":0},null,{"$f":"SUM(I42:I43)","v":0},null,{"$f":"SUM(K42:K43)","v":0}]
[]
[null,"13.","PREMIUMS CEDED",null,{"$f":"+Import!P331","v":0},null,{"$f":"+Import!R331","v":0},null,{"$f":"+Import!T331","v":0},null,{"$f":"+Import!V331","v":0}]
[]
[null,"14.","NET PREMIUMS AND OTHER CONSIDERATIONS:"]
[null,null,"(a) Life",null,{"$f":"+Import!P332","v":0},null,{"$f":"+Import!R332","v":0},null,{"$f":"+Import!T332","v":0},null,{"$f":"+Import!V332","v":0}]
[null,null,"(b) Annuities",null,{"$f":"+Import!P333","v":0},null,{"$f":"+Import!R333","v":0},null,{"$f":"+Import!T333","v":0},null,{"$f":"+Import!V333","v":0}]
[null,null,"(c) Accident and health",null,{"$f":"+Import!P334","v":0},null,{"$f":"+Import!R334","v":0},null,{"$f":"+Import!T334","v":0},null,{"$f":"+Import!V334","v":0}]
[null,null,"(d) Total net premiums and other considerations",null,{"$f":"SUM(E49:E51)","v":0},null,{"$f":"SUM(G49:G51)","v":0},null,{"$f":"SUM(I49:I51)","v":0},null,{"$f":"SUM(K49:K51)","v":0}]
[]
[null,"15.","OTHER INSURANCE INCOME",null,{"$f":"+Import!P335","v":0},null,{"$f":"+Import!R335","v":0},null,{"$f":"+Import!T335","v":0},null,{"$f":"+Import!V335","v":0}]
[]
[null,"16.","TOTAL LONG-TERM BUSINESS UNDERWRITING INCOME",null,{"$f":"E52+E54","v":0},null,{"$f":"G52+G54","v":0},null,{"$f":"I52+I54","v":0},null,{"$f":"K52+K54","v":0}]
[]
[null,null,"LONG-TERM BUSINESS DEDUCTIONS AND EXPENSES"]
[]
[null,"17.","CLAIMS - LIFE",null,{"$f":"+Import!P336","v":0},null,{"$f":"+Import!R336","v":0},null,{"$f":"+Import!T336","v":0},null,{"$f":"+Import!V336","v":0}]
[]
[null,"18.","POLICYHOLDERS' DIVIDENDS",null,{"$f":"+Import!P337","v":0},null,{"$f":"+Import!R337","v":0},null,{"$f":"+Import!T337","v":0},null,{"$f":"+Import!V337","v":0}]
[]
[null,"19.","SURRENDERS",null,{"$f":"+Import!P338","v":0},null,{"$f":"+Import!R338","v":0},null,{"$f":"+Import!T338","v":0},null,{"$f":"+Import!V338","v":0}]
[]
[null,"20.","MATURITIES",null,{"$f":"+Import!P339","v":0},null,{"$f":"+Import!R339","v":0},null,{"$f":"+Import!T339","v":0},null,{"$f":"+Import!V339","v":0}]
[]
[null,"21.","ANNUITIES",null,{"$f":"+Import!P340","v":0},null,{"$f":"+Import!R340","v":0},null,{"$f":"+Import!T340","v":0},null,{"$f":"+Import!V340","v":0}]
[]
[null,"22.","ACCIDENT AND HEALTH BENEFITS",null,{"$f":"+Import!P341","v":0},null,{"$f":"+Import!R341","v":0},null,{"$f":"+Import!T341","v":0},null,{"$f":"+Import!V341","v":0}]
[]
[null,"23.","COMMISSIONS",null,{"$f":"+Import!P342","v":0},null,{"$f":"+Import!R342","v":0},null,{"$f":"+Import!T342","v":0},null,{"$f":"+Import!V342","v":0}]
[]
[null,"24.","OTHER",null,{"$f":"+Import!P343","v":0},null,{"$f":"+Import!R343","v":0},null,{"$f":"+Import!T343","v":0},null,{"$f":"+Import!V343","v":0}]
[]
[null,"25.","TOTAL LONG-TERM BUSINESS DEDUCTIONS AND EXPENSES",null,{"$f":"E60+E62+E64+E66+E68+E70+E72+E74","v":0},null,{"$f":"G60+G62+G64+G66+G68+G70+G72+G74","v":0},null,{"$f":"I60+I62+I64+I66+I68+I70+I72+I74","v":0},null,{"$f":"K60+K62+K64+K66+K68+K70+K72+K74","v":0}]
[]
[null,"26.","INCREASE (DECREASE) IN POLICY RESERVES:"]
[null,null,"(a) Life",null,{"$f":"+Import!P344","v":0},null,{"$f":"+Import!R344","v":0},null,{"$f":"+Import!T344","v":0},null,{"$f":"+Import!V344","v":0}]
[null,null,"(b) Annuities",null,{"$f":"+Import!P345","v":0},null,{"$f":"+Import!R345","v":0},null,{"$f":"+Import!T345","v":0},null,{"$f":"+Import!V345","v":0}]
[null,null,"(c) Accident and health",null,{"$f":"+Import!P346","v":0},null,{"$f":"+Import!R346","v":0},null,{"$f":"+Import!T346","v":0},null,{"$f":"+Import!V346","v":0}]
[null,null,"(d) Total increase (decrease) in policy reserves",null,{"$f":"SUM(E79:E81)","v":0},null,{"$f":"SUM(G79:G81)","v":0},null,{"$f":"SUM(I79:I81)","v":0},null,{"$f":"SUM(K79:K81)","v":0}]
[]
[null,"27.","TOTAL LONG-TERM BUSINESS EXPENSES",null,{"$f":"E76+E82","v":0},null,{"$f":"G76+G82","v":0},null,{"$f":"I76+I82","v":0},null,{"$f":"K76+K82","v":0}]
[]
[null,"28.","NET UNDERWRITING PROFIT (LOSS) - LONG-TERM BUSINESS",null,{"$f":"E56-E84","v":0},null,{"$f":"G56-G84","v":0},null,{"$f":"I56-I84","v":0},null,{"$f":"K56-K84","v":0}]
[]
[null,"29.","COMBINED NET UNDERWRITING PROFIT (LOSS) BEFORE "]
[null,null,"THE UNDERNOTED ITEMS",null,{"$f":"E86","v":0},null,{"$f":"G86","v":0},null,{"$f":"I37+I86","v":0},null,{"$f":"K37+K86","v":0}]
[]
[null,null,"UNDERNOTED ITEMS"]
[]
[null,"30.","COMBINED OPERATING EXPENSES:"]
[null,null,"(a) General and administrative ",null,{"$f":"+Import!P347","v":0},null,{"$f":"+Import!R347","v":0},null,{"$f":"+Import!T347","v":0},null,{"$f":"+Import!V347","v":0}]
[null,null,"(b) Personnel Costs  ",null,{"$f":"+Import!P348","v":0},null,{"$f":"+Import!R348","v":0},null,{"$f":"+Import!T348","v":0},null,{"$f":"+Import!V348","v":0}]
[null,null,"(c) Other  ",null,{"$f":"+Import!P349","v":0},null,{"$f":"+Import!R349","v":0},null,{"$f":"+Import!T349","v":0},null,{"$f":"+Import!V349","v":0}]
[null,null,"(d) Total combined operating expenses  ",null,{"$f":"SUM(E94:E96)","v":0},null,{"$f":"SUM(G94:G96)","v":0},null,{"$f":"SUM(I94:I96)","v":0},null,{"$f":"SUM(K94:K96)","v":0}]
[]
[null,"31.","COMBINED INVESTMENT INCOME - NET",null,{"$f":"+Import!P350","v":0},null,{"$f":"+Import!R350","v":0},null,{"$f":"+Import!T350","v":0},null,{"$f":"+Import!V350","v":0}]
[null,null,null,null,null,null,null,null,null,null,null,null,null,"","-","-",null,null,null,null,null,null,null,""]
[null,"32.","COMBINED OTHER INCOME (DEDUCTIONS)",null,{"$f":"+Import!P351","v":0},null,{"$f":"+Import!R351","v":0},null,{"$f":"+Import!T351","v":0},null,{"$f":"+Import!V351","v":0}]
[]
[null,"33.","COMBINED INCOME BEFORE TAXES",null,{"$f":"E89-E97+E99+E101","v":0},null,{"$f":"G89-G97+G99+G101","v":0},null,{"$f":"I89-I97+I99+I101","v":0},null,{"$f":"K89-K97+K99+K101","v":0}]
[]
[null,"34.","COMBINED INCOME TAXES (IF APPLICABLE):",null,null,null,null,null,null,null,null,null,null,"","-","-"]
[null,null,"(a) Current",null,{"$f":"+Import!P352","v":0},null,{"$f":"+Import!R352","v":0},null,{"$f":"+Import!T352","v":0},null,{"$f":"+Import!V352","v":0},null,null,"brrt_IncomeTaxesCurrent","Mapped","Mapped",null,null,null,null,null,null,null,"bma_IncomeTaxesCurrent"]
[null,null,"(b) Deferred",null,{"$f":"+Import!P353","v":0},null,{"$f":"+Import!R353","v":0},null,{"$f":"+Import!T353","v":0},null,{"$f":"+Import!V353","v":0},null,null,"brrt_IncomeTaxesDeferred","Mapped","Mapped",null,null,null,null,null,null,null,"bma_IncomeTaxesDeferred"]
[null,null,"(c) Total ",null,{"$f":"E106+E107","v":0},null,{"$f":"G106+G107","v":0},null,{"$f":"I106+I107","v":0},null,{"$f":"K106+K107","v":0},null,null,"brrt_IncomeTaxes","Mapped","Mapped",null,null,null,null,null,null,null,"bma_IncomeTaxesTotal"]
[null,null,null,null,null,null,null,null,null,null,null,null,null,"","-","-",null,null,null,null,null,null,null,""]
[null,"35.","COMBINED INCOME BEFORE REALIZED GAINS (LOSSES)",null,{"$f":"E103-E108","v":0},null,{"$f":"G103-G108","v":0},null,{"$f":"I103-I108","v":0},null,{"$f":"K103-K108","v":0},null,null,"brrt_IncomeBeforeRealizedGainsLosses","Mapped","Mapped",null,null,null,null,null,null,null,"bma_IncomeBeforeRealizedGainsLosses"]
[null,null,null,null,null,null,null,null,null,null,null,null,null,"","-","-",null,null,null,null,null,null,null,""]
[null,"36.","COMBINED REALIZED GAINS (LOSSES)",null,{"$f":"+Import!P354","v":0},null,{"$f":"+Import!R354","v":0},null,{"$f":"+Import!T354","v":0},null,{"$f":"+Import!V354","v":0},null,null,"brrt_RealizedGainsLosses","Mapped","Mapped",null,null,null,null,null,null,null,"bma_RealizedGainsLosses"]
[null,null,null,null,null,null,null,null,null,null,null,null,null,"","-","-",null,null,null,null,null,null,null,""]
[null,"37.","COMBINED INTEREST CHARGES",null,{"$f":"+Import!P355","v":0},null,{"$f":"+Import!R355","v":0},null,{"$f":"+Import!T355","v":0},null,{"$f":"+Import!V355","v":0}]
[]
[null,"38.","NET INCOME",null,{"$f":"E110+E112-E114","v":0},null,{"$f":"G110+G112-G114","v":0},null,{"$f":"I110+I112-I114","v":0},null,{"$f":"K110+K112-K114","v":0},null,null,"brrt_NetIncome","Mapped","Mapped",null,null,null,null,null,null,null,"bma_NetIncome"]
[null,null,null,null,null,null,null,null,null,null,null,null,null,""]
[null,null,null,null,null,null,null,null,null,null,null,null,null,""]
[null,null,null,null,null,null,null,null,null,null,null,null,null,""]

{"sheet":"Form 8SFS","index":18,"n_rows":75,"n_cols":28,"rows_kept":75,"cut":false,"hidden":false,"merged":[[61,2,61,5],[62,2,62,5],[64,2,64,5],[2,2,2,3],[3,2,3,3],[45,2,45,4],[1,6,3,12],[5,14,5,16],[5,10,5,12],[4,10,4,12],[4,6,4,8],[5,6,5,8],[4,14,4,16]]}
[null,"STATUTORY STATEMENT OF CAPITAL AND SURPLUS ",null,null,null,null,null,null,null,null,null,null,null,null,null,null,{"$f":"HYPERLINK(\"#'Index'!A1\",\"Return to Index\")","v":"Return to Index"}]
[null,{"$f":"'Company Information'!C7","v":"Enter Company Name"}]
[null,"For the year ending",{"$f":"'Company Information'!C3","v":"2019-12-31"},null,null,null,null,null,null,null,null,null,null,null,null,null,"FORM 8SFS"]
[null,{"$f":"\"expressed in\"& IF(CONFIGURATION!$B$12>1,\" ['\"&MID(CONFIGURATION!$B$12,2,LEN(CONFIGURATION!$B$12))&\"s]\",\"\")","v":"expressed in ['000s]"},{"$f":"'Form 1SFS GB'!$C$5","v":"United States Dollars"}]
[null,null,null,null,null,null,"General Business",null,null,null,"Long-Term Business",null,null,null,"General and Long-Term Business"]
[null,"STMT.",null,null,null,null,"General Account",null,null,null,"General Account",null,null,null,"Combined: Segregated & General Account",null,null,null,null,null,null,null,{"$f":"IF(O7=\"\",\"\",TEXT(DATE(YEAR(O7+1)-1,MONTH(O7+1),DAY(O7+1)),\"mm/dd/yyyy\"))","v":"01/01/2019"},{"$f":"IF(Q7=\"\",\"\",TEXT(DATE(YEAR(Q7+1)-1,MONTH(Q7+1),DAY(Q7+1)),\"mm/dd/yyyy\"))","v":"01/01/2018"}]
[null,"LINE No.",null,null,null,null,{"$f":"'Form 1SFS GB'!$E$9","v":"2019-12-31"},null,{"$f":"'Form 1SFS GB'!$G$9","v":"2018-12-31"},null,{"$f":"'Form 1SFS GB'!$E$9","v":"2019-12-31"},null,{"$f":"'Form 1SFS GB'!$G$9","v":"2018-12-31"},null,{"$f":"'Form 1SFS GB'!$E$9","v":"2019-12-31"},null,{"$f":"'Form 1SFS GB'!$G$9","v":"2018-12-31"},null,null,null,null,null,{"$f":"IF(O7=\"\",\"\",TEXT(O7,\"mm/dd/yyyy\"))","v":"12/31/2019"},{"$f":"IF(Q7=\"\",\"\",TEXT(Q7,\"mm/dd/yyyy\"))","v":"12/31/2018"}]
[null,null,null,null,null,null,{"$f":"CONFIGURATION!$D$12","v":" ('000s)"},null,{"$f":"CONFIGURATION!$D$12","v":" ('000s)"},null,{"$f":"CONFIGURATION!$D$12","v":" ('000s)"},null,{"$f":"CONFIGURATION!$D$12","v":" ('000s)"},null,{"$f":"CONFIGURATION!$D$12","v":" ('000s)"},null,{"$f":"CONFIGURATION!$D$12","v":" ('000s)"}]
[null,"1.","STATUTORY CAPITAL",null,null,null,null,null,null,null,null,null,null,null,null,null,null,null,null,null,null,null,{"$f":"XBRLMap(O9,$V9,$W$6,$W$7,CONFIGURATION!$B$10,\"BMA\",CONFIGURATION!$B$1,\"bscr\",CONFIGURATION!$B$12)","v":"-"},{"$f":"XBRLMap(Q9,$V9,$X$6,$X$7,CONFIGURATION!$B$10,\"BMA\",CONFIGURATION!$B$1,\"bscr\",CONFIGURATION!$B$12)","v":"-"}]
[]
[null,"(a)","Capital Stock",null,null,null,{"$f":"Import!E358","v":0},null,{"$f":"Import!G358","v":0},null,{"$f":"Import!P358","v":0},null,{"$f":"Import!R358","v":0}]
[null,null,"(i) Common Shares",null,null,null,null,null,null,null,null,null,null,null,{"$f":"Import!I359","v":0},null,{"$f":"Import!K359","v":0},null,null,null,null,"brrt_CommonShares",{"$f":"XBRLMap(O12,$V12,$W$6,$W$7,CONFIGURATION!$B$10,\"BMA\",CONFIGURATION!$B$1,\"bscr\",CONFIGURATION!$B$12)","v":"Mapped"},{"$f":"XBRLMap(Q12,$V12,$X$6,$X$7,CONFIGURATION!$B$10,\"BMA\",CONFIGURATION!$B$1,\"bscr\",CONFIGURATION!$B$12)","v":"Mapped"},null,null,null,"bma_CapitalStock"]
[null,null,"authorized",null,"shares of par",null,null,null,null,null,null,null,null,null,null,null,null,null,null,null,null,"brrt_CommonSharesAuthorized",{"$f":"XBRLMap(D13,$V13,$W$6,$W$7,\"\",\"BMA\",CONFIGURATION!$B$1,\"bscr\")","v":"Mapped"},null,null,null,null,"bma_CapitalStockAuthorized"]
[null,null,"value",null,"each issued and",null,null,null,null,null,null,null,null,null,null,null,null,null,null,null,null,"brrt_CommonSharesValue",{"$f":"XBRLMap(D14,$V14,$W$6,$W$7,CONFIGURATION!$B$10,\"BMA\",CONFIGURATION!$B$1,\"bscr\")","v":"Mapped"},null,null,null,null,"bma_CapitalStockValue"]
[null,null,"fully paid",null,"shares",null,null,null,null,null,null,null,null,null,null,null,null,null,null,null,null,"brrt_CommonSharesFullyPaid",{"$f":"XBRLMap(D15,$V15,$W$6,$W$7,CONFIGURATION!$B$10,\"BMA\",CONFIGURATION!$B$1,\"bscr\")","v":"Mapped"},null,null,null,null,"bma_CapitalStockFullyPaid"]
[]
[null,null,"(ii) Preferred Shares",null,null,null,null,null,null,null,null,null,null,null,{"$f":"Import!I360","v":0},null,{"$f":"Import!K360","v":0},null,null,null,null,"brrt_PreferredShares",{"$f":"XBRLMap(O17,$V17,$W$6,$W$7,CONFIGURATION!$B$10,\"BMA\",CONFIGURATION!$B$1,\"bscr\",CONFIGURATION!$B$12)","v":"Mapped"},{"$f":"XBRLMap(Q17,$V17,$X$6,$X$7,CONFIGURATION!$B$10,\"BMA\",CONFIGURATION!$B$1,\"bscr\",CONFIGURATION!$B$12)","v":"Mapped"}]
[null,null,"authorized",null,"shares of par",null,null,null,null,null,null,null,null,null,null,null,null,null,null,null,null,"brrt_PreferredSharesAuthorized",{"$f":"XBRLMap(D18,$V18,$W$6,$W$7,\"\",\"BMA\",CONFIGURATION!$B$1,\"bscr\")","v":"Mapped"}]
[null,null,"value",null,"each issued and",null,null,null,null,null,null,null,null,null,null,null,null,null,null,null,null,"brrt_PreferredSharesValue",{"$f":"XBRLMap(D19,$V19,$W$6,$W$7,CONFIGURATION!$B$10,\"BMA\",CONFIGURATION!$B$1,\"bscr\")","v":"Mapped"}]
[null,null,"fully paid",null,"shares",null,null,null,null,null,null,null,null,null,null,null,null,null,null,null,null,"brrt_PreferredSharesFullyPaid",{"$f":"XBRLMap(D20,$V20,$W$6,$W$7,CONFIGURATION!$B$10,\"BMA\",CONFIGURATION!$B$1,\"bscr\")","v":"Mapped"}]
[null,null,"aggregate liquidation value for —"]
[null,null,{"$f":"O7","v":"2019-12-31"},null,null,null,null,null,null,null,null,null,null,null,null,null,null,null,null,null,null,"brrt_PreferredSharesAggregateLiquidationValue",{"$f":"XBRLMap(D22,$V22,$W$6,$W$7,CONFIGURATION!$B$10,\"BMA\",CONFIGURATION!$B$1,\"bscr\",CONFIGURATION!$B$12)","v":"Mapped"},{"$f":"XBRLMap(D23,$V22,$X$6,$X$7,CONFIGURATION!$B$10,\"BMA\",CONFIGURATION!$B$1,\"bscr\",CONFIGURATION!$B$12)","v":"Mapped"}]
[null,null,{"$f":"Q7","v":"2018-12-31"}]
[]
[null,null,"(iii) Treasury Shares",null,null,null,null,null,null,null,null,null,null,null,{"$f":"Import!I361","v":0},null,{"$f":"Import!K361","v":0},null,null,null,null,"brrt_TreasuryShares",{"$f":"XBRLMap(O25,$V25,$W$6,$W$7,CONFIGURATION!$B$10,\"BMA\",CONFIGURATION!$B$1,\"bscr\",CONFIGURATION!$B$12)","v":"Mapped"},{"$f":"XBRLMap(Q25,$V25,$X$6,$X$7,CONFIGURATION!$B$10,\"BMA\",CONFIGURATION!$B$1,\"bscr\",CONFIGURATION!$B$12)","v":"Mapped"}]
[null,null,"repurchased",null,"shares of par",null,null,null,null,null,null,null,null,null,null,null,null,null,null,null,null,"brrt_TreasurySharesRepurchased",{"$f":"XBRLMap(D26,$V26,$W$6,$W$7,\"\",\"BMA\",CONFIGURATION!$B$1,\"bscr\")","v":"Mapped"}]
[null,null,"value",null,"each issued",null,null,null,null,null,null,null,null,null,null,null,null,null,null,null,null,"brrt_TreasurySharesValue",{"$f":"XBRLMap(D27,$V27,$W$6,$W$7,CONFIGURATION!$B$10,\"BMA\",CONFIGURATION!$B$1,\"bscr\")","v":"Mapped"}]
[null,null,null,null,null,null,null,null,null,null,null,null,null,null,null,null,null,null,null,null,null,"",null,null,null,null,null,""]
[null,"(b)","Contributed surplus",null,null,null,{"$f":"Import!E362","v":0},null,{"$f":"Import!G362","v":0},null,{"$f":"Import!P362","v":0},null,{"$f":"Import!R362","v":0},null,{"$f":"Import!I362","v":0},null,{"$f":"Import!K362","v":0},null,null,null,null,"brrt_ContributedSurplus",{"$f":"XBRLMap(O29,$V29,$W$6,$W$7,CONFIGURATION!$B$10,\"BMA\",CONFIGURATION!$B$1,\"bscr\",CONFIGURATION!$B$12)","v":"Mapped"},{"$f":"XBRLMap(Q29,$V29,$X$6,$X$7,CONFIGURATION!$B$10,\"BMA\",CONFIGURATION!$B$1,\"bscr\",CONFIGURATION!$B$12)","v":"Mapped"},null,null,null,"bma_ContributedSurplus"]
[null,null,null,null,null,null,null,null,null,null,null,null,null,null,null,null,null,null,null,null,null,"",{"$f":"XBRLMap(O30,$V30,$W$6,$W$7,CONFIGURATION!$B$10,\"BMA\",CONFIGURATION!$B$1,\"bscr\",CONFIGURATION!$B$12)","v":"-"},{"$f":"XBRLMap(Q30,$V30,$X$6,$X$7,CONFIGURATION!$B$10,\"BMA\",CONFIGURATION!$B$1,\"bscr\",CONFIGURATION!$B$12)","v":"-"},null,null,null,""]
[null,"(c)","Any other fixed capital",null,null,null,null,null,null,null,null,null,null,null,null,null,null,null,null,null,null,"",{"$f":"XBRLMap(O31,$V31,$W$6,$W$7,CONFIGURATION!$B$10,\"BMA\",CONFIGURATION!$B$1,\"bscr\",CONFIGURATION!$B$12)","v":"-"},{"$f":"XBRLMap(Q31,$V31,$X$6,$X$7,CONFIGURATION!$B$10,\"BMA\",CONFIGURATION!$B$1,\"bscr\",CONFIGURATION!$B$12)","v":"-"},null,null,null,""]
[null,null,"(i) Hybrid capital instruments",null,null,null,{"$f":"Import!E363","v":0},null,{"$f":"Import!G363","v":0},null,{"$f":"Import!P363","v":0},null,{"$f":"Import!R363","v":0},null,{"$f":"Import!I363","v":0},null,{"$f":"Import!K363","v":0},null,null,null,null,"brrt_AnyOtherFixedCapitalHybridCapitalInstruments",{"$f":"XBRLMap(O32,$V32,$W$6,$W$7,CONFIGURATION!$B$10,\"BMA\",CONFIGURATION!$B$1,\"bscr\",CONFIGURATION!$B$12)","v":"Mapped"},{"$f":"XBRLMap(Q32,$V32,$X$6,$X$7,CONFIGURATION!$B$10,\"BMA\",CONFIGURATION!$B$1,\"bscr\",CONFIGURATION!$B$12)","v":"Mapped"},null,null,null,"bma_AnyOtherFixedCapital"]
[null,null,"(ii) Guarantees and others",null,null,null,{"$f":"Import!E364","v":0},null,{"$f":"Import!G364","v":0},null,{"$f":"Import!P364","v":0},null,{"$f":"Import!R364","v":0},null,{"$f":"Import!I364","v":0},null,{"$f":"Import!K364","v":0},null,null,null,null,"brrt_AnyOtherFixedCapitalGuaranteesAndOthers",{"$f":"XBRLMap(O33,$V33,$W$6,$W$7,CONFIGURATION!$B$10,\"BMA\",CONFIGURATION!$B$1,\"bscr\",CONFIGURATION!$B$12)","v":"Mapped"},{"$f":"XBRLMap(Q33,$V33,$X$6,$X$7,CONFIGURATION!$B$10,\"BMA\",CONFIGURATION!$B$1,\"bscr\",CONFIGURATION!$B$12)","v":"Mapped"},null,null,null,"bma_AnyOtherFixedCapitalType"]
[null,null,"(iii) Total any other fixed capital",null,null,null,{"$f":"SUM(G32:G33)","v":0},null,{"$f":"SUM(I32:I33)","v":0},null,{"$f":"SUM(K32:K33)","v":0},null,{"$f":"SUM(M32:M33)","v":0},null,{"$f":"SUM(O32:O33)","v":0},null,{"$f":"SUM(Q32:Q33)","v":0},null,null,null,null,"brrt_AnyOtherFixedCapital",{"$f":"XBRLMap(O34,$V34,$W$6,$W$7,CONFIGURATION!$B$10,\"BMA\",CONFIGURATION!$B$1,\"bscr\",CONFIGURATION!$B$12)","v":"Mapped"},{"$f":"XBRLMap(Q34,$V34,$X$6,$X$7,CONFIGURATION!$B$10,\"BMA\",CONFIGURATION!$B$1,\"bscr\",CONFIGURATION!$B$12)","v":"Mapped"},null,null,null,"bma_TotalStatutoryCapital"]
[null,null,null,null,null,null,null,null,null,null,null,null,null,null,null,null,null,null,null,null,null,"",null,null,null,null,null,""]
[null,"(d)","Total Statutory Capital",null,null,null,{"$f":"G11+G29+G34","v":0},null,{"$f":"I11+I29+I34","v":0},null,{"$f":"K11+K29+K34","v":0},null,{"$f":"M11+M29+M34","v":0},null,{"$f":"O12+O17-O25+O29+O34","v":0},null,{"$f":"Q12+Q17-Q25+Q29+Q34","v":0},null,null,null,null,"brrt_StatutoryCapital",{"$f":"XBRLMap(O36,$V36,$W$6,$W$7,CONFIGURATION!$B$10,\"BMA\",CONFIGURATION!$B$1,\"bscr\",CONFIGURATION!$B$12)","v":"Mapped"},{"$f":"XBRLMap(Q36,$V36,$X$6,$X$7,CONFIGURATION!$B$10,\"BMA\",CONFIGURATION!$B$1,\"bscr\",CONFIGURATION!$B$12)","v":"Mapped"}]
[null,null,null,null,null,null,null,null,null,null,null,null,null,null,null,null,null,null,null,null,null,"",{"$f":"XBRLMap(O37,$V37,$W$6,$W$7,CONFIGURATION!$B$10,\"BMA\",CONFIGURATION!$B$1,\"bscr\",CONFIGURATION!$B$12)","v":"-"},{"$f":"XBRLMap(Q37,$V37,$X$6,$X$7,CONFIGURATION!$B$10,\"BMA\",CONFIGURATION!$B$1,\"bscr\",CONFIGURATION!$B$12)","v":"-"},null,null,null,""]
[null,"2.","STATUTORY SURPLUS:",null,null,null,null,null,null,null,null,null,null,null,null,null,null,null,null,null,null,"",{"$f":"XBRLMap(O38,$V38,$W$6,$W$7,CONFIGURATION!$B$10,\"BMA\",CONFIGURATION!$B$1,\"bscr\",CONFIGURATION!$B$12)","v":"-"},{"$f":"XBRLMap(Q38,$V38,$X$6,$X$7,CONFIGURATION!$B$10,\"BMA\",CONFIGURATION!$B$1,\"bscr\",CONFIGURATION!$B$12)","v":"-"},null,null,null,""]
[null,null,null,null,null,null,null,null,null,null,null,null,null,null,null,null,null,null,null,null,null,"",{"$f":"XBRLMap(O39,$V39,$W$6,$W$7,CONFIGURATION!$B$10,\"BMA\",CONFIGURATION!$B$1,\"bscr\",CONFIGURATION!$B$12)","v":"-"},{"$f":"XBRLMap(Q39,$V39,$X$6,$X$7,CONFIGURATION!$B$10,\"BMA\",CONFIGURATION!$B$1,\"bscr\",CONFIGURATION!$B$12)","v":"-"},null,null,null,"bma_AddIncomeForYear"]
[null,"(a)","Statutory Surplus - Beginning of Year",null,null,null,{"$f":"Import!E365","v":0},null,{"$f":"Import!G365","v":0},null,{"$f":"Import!P365","v":0},null,{"$f":"Import!R365","v":0},null,{"$f":"Import!I365","v":0},null,{"$f":"Import!K365","v":0},null,null,null,null,"brrt_StatutorySurplus",{"$f":"XBRLMap(O40,$V40,$W$6,$W$6,CONFIGURATION!$B$10,\"BMA\",CONFIGURATION!$B$1,\"bscr\",CONFIGURATION!$B$12)","v":"Mapped"},{"$f":"XBRLMap(Q40,$V40,$X$6,$X$6,CONFIGURATION!$B$10,\"BMA\",CONFIGURATION!$B$1,\"bscr\",CONFIGURATION!$B$12)","v":"Mapped"},null,null,null,""]
[null,null,null,null,null,null,null,null,null,null,null,null,null,null,null,null,null,null,null,null,null,"",{"$f":"XBRLMap(O41,$V41,$W$6,$W$7,CONFIGURATION!$B$10,\"BMA\",CONFIGURATION!$B$1,\"bscr\",CONFIGURATION!$B$12)","v":"-"},{"$f":"XBRLMap(Q41,$V41,$X$6,$X$7,CONFIGURATION!$B$10,\"BMA\",CONFIGURATION!$B$1,\"bscr\",CONFIGURATION!$B$12)","v":"-"},null,null,null,"bma_LessDividendsPaidAndPayable"]
[null,"(b)","Add: Income for Year",null,null,null,{"$f":"'Form 2SFS GB'!E116","v":0},null,{"$f":"'Form 2SFS GB'!G116","v":0},null,{"$f":"'Form 2SFS LT'!E116","v":0},null,{"$f":"'Form 2SFS LT'!G116","v":0},null,{"$f":"'Form 2SFS GB'!I116","v":0},null,{"$f":"'Form 2SFS GB'!K116","v":0},null,null,null,null,null,null,null,null,null,null,""]
[null,null,null,null,null,null,null,null,null,null,null,null,null,null,null,null,null,null,null,0,null,"",{"$f":"XBRLMap(O43,$V43,$W$6,$W$7,CONFIGURATION!$B$10,\"BMA\",CONFIGURATION!$B$1,\"bscr\",CONFIGURATION!$B$12)","v":"-"},{"$f":"XBRLMap(Q43,$V43,$X$6,$X$7,CONFIGURATION!$B$10,\"BMA\",CONFIGURATION!$B$1,\"bscr\",CONFIGURATION!$B$12)","v":"-"},null,null,null,"bma_AddDeductChangeInUnrealizedAppreciationDepreciationOfInvestments"]
[null,"(c)","Less: Dividends paid and payable",null,null,null,{"$f":"Import!E366","v":0},null,{"$f":"Import!G366","v":0},null,{"$f":"Import!P366","v":0},null,{"$f":"Import!R366","v":0},null,{"$f":"Import!I366","v":0},null,{"$f":"Import!K366","v":0},null,null,null,null,"brrt_DividendsPaidAndPayable",{"$f":"XBRLMap(O44,$V44,$W$6,$W$7,CONFIGURATION!$B$10,\"BMA\",CONFIGURATION!$B$1,\"bscr\",CONFIGURATION!$B$12)","v":"Mapped"},{"$f":"XBRLMap(Q44,$V44,$X$6,$X$7,CONFIGURATION!$B$10,\"BMA\",CONFIGURATION!$B$1,\"bscr\",CONFIGURATION!$B$12)","v":"Mapped"},null,null,null,""]
[null,null,null,null,null,null,null,null,null,null,null,null,null,null,null,null,null,null,null,null,null,"",{"$f":"XBRLMap(O45,$V45,$W$6,$W$7,CONFIGURATION!$B$10,\"BMA\",CONFIGURATION!$B$1,\"bscr\",CONFIGURATION!$B$12)","v":"-"},{"$f":"XBRLMap(Q45,$V45,$X$6,$X$7,CONFIGURATION!$B$10,\"BMA\",CONFIGURATION!$B$1,\"bscr\",CONFIGURATION!$B$12)","v":"-"},null,null,null,"bma_AddDeductChangeInNonAdmittedAssets"]
[null,"(d)","Add (Deduct): Change in unrealized appreciation (depreciation) of investments",null,null,null,{"$f":"Import!E367","v":0},null,{"$f":"Import!G367","v":0},null,{"$f":"Import!P367","v":0},null,{"$f":"Import!R367","v":0},null,{"$f":"Import!I367","v":0},null,{"$f":"Import!K367","v":0},null,null,null,null,"brrt_ChangeInUnrealizedAppreciationDepreciationOfInvestments",{"$f":"XBRLMap(O46,$V46,$W$6,$W$7,CONFIGURATION!$B$10,\"BMA\",CONFIGURATION!$B$1,\"bscr\",CONFIGURATION!$B$12)","v":"Mapped"},{"$f":"XBRLMap(Q46,$V46,$X$6,$X$7,CONFIGURATION!$B$10,\"BMA\",CONFIGURATION!$B$1,\"bscr\",CONFIGURATION!$B$12)","v":"Mapped"},null,null,null,""]
[null,null,null,null,null,null,null,null,null,null,null,null,null,null,null,null,null,null,null,null,null,"",{"$f":"XBRLMap(O47,$V47,$W$6,$W$7,CONFIGURATION!$B$10,\"BMA\",CONFIGURATION!$B$1,\"bscr\",CONFIGURATION!$B$12)","v":"-"},{"$f":"XBRLMap(Q47,$V47,$X$6,$X$7,CONFIGURATION!$B$10,\"BMA\",CONFIGURATION!$B$1,\"bscr\",CONFIGURATION!$B$12)","v":"-"},null,null,null,"bma_AddDeductChangeInAppraisalOfRealEstate"]
[null,"(e)","Add (Deduct): Change in non-admitted assets",null,null,null,{"$f":"Import!E368","v":0},null,{"$f":"Import!G368","v":0},null,{"$f":"Import!P368","v":0},null,{"$f":"Import!R368","v":0},null,{"$f":"Import!I368","v":0},null,{"$f":"Import!K368","v":0},null,null,null,null,"brrt_ChangeInNonAdmittedAssets",{"$f":"XBRLMap(O48,$V48,$W$6,$W$7,CONFIGURATION!$B$10,\"BMA\",CONFIGURATION!$B$1,\"bscr\",CONFIGURATION!$B$12)","v":"Mapped"},{"$f":"XBRLMap(Q48,$V48,$X$6,$X$7,CONFIGURATION!$B$10,\"BMA\",CONFIGURATION!$B$1,\"bscr\",CONFIGURATION!$B$12)","v":"Mapped"},null,null,null,""]
[null,null,null,null,null,null,null,null,null,null,null,null,null,null,null,null,null,null,null,null,null,"",{"$f":"XBRLMap(O49,$V49,$W$6,$W$7,CONFIGURATION!$B$10,\"BMA\",CONFIGURATION!$B$1,\"bscr\",CONFIGURATION!$B$12)","v":"-"},{"$f":"XBRLMap(Q49,$V49,$X$6,$X$7,CONFIGURATION!$B$10,\"BMA\",CONFIGURATION!$B$1,\"bscr\",CONFIGURATION!$B$12)","v":"-"},null,null,null,"bma_AddDeductChangeInAnyOtherStatutoryCapital"]
[null,"(f)","Add (Deduct): Change in appraisal of real estate",null,null,null,{"$f":"Import!E369","v":0},null,{"$f":"Import!G369","v":0},null,{"$f":"Import!P369","v":0},null,{"$f":"Import!R369","v":0},null,{"$f":"Import!I369","v":0},null,{"$f":"Import!K369","v":0},null,null,null,null,"brrt_ChangeInAppraisalOfRealEstate",{"$f":"XBRLMap(O50,$V50,$W$6,$W$7,CONFIGURATION!$B$10,\"BMA\",CONFIGURATION!$B$1,\"bscr\",CONFIGURATION!$B$12)","v":"Mapped"},{"$f":"XBRLMap(Q50,$V50,$X$6,$X$7,CONFIGURATION!$B$10,\"BMA\",CONFIGURATION!$B$1,\"bscr\",CONFIGURATION!$B$12)","v":"Mapped"},null,null,null,""]
[null,null,null,null,null,null,null,null,null,null,null,null,null,null,null,null,null,null,null,null,null,"",{"$f":"XBRLMap(O51,$V51,$W$6,$W$7,CONFIGURATION!$B$10,\"BMA\",CONFIGURATION!$B$1,\"bscr\",CONFIGURATION!$B$12)","v":"-"},{"$f":"XBRLMap(Q51,$V51,$X$6,$X$7,CONFIGURATION!$B$10,\"BMA\",CONFIGURATION!$B$1,\"bscr\",CONFIGURATION!$B$12)","v":"-"},null,null,null,"bma_StatutorySurplusEndOfYear"]
[null,"(g)","Add (Deduct): Change in any other statutory capital",null,null,null,{"$f":"Import!E370","v":0},null,{"$f":"Import!G370","v":0},null,{"$f":"Import!P370","v":0},null,{"$f":"Import!R370","v":0},null,{"$f":"Import!I370","v":0},null,null,null,null,null,null,"brrt_ChangeInAnyOtherStatutoryCapital",{"$f":"XBRLMap(O52,$V52,$W$6,$W$7,CONFIGURATION!$B$10,\"BMA\",CONFIGURATION!$B$1,\"bscr\",CONFIGURATION!$B$12)","v":"Mapped"},{"$f":"XBRLMap(Q52,$V52,$X$6,$X$7,CONFIGURATION!$B$10,\"BMA\",CONFIGURATION!$B$1,\"bscr\",CONFIGURATION!$B$12)","v":"Mapped"},null,null,null,""]
[null,null,null,null,null,null,null,null,null,null,null,null,null,null,null,null,null,null,null,null,null,"",{"$f":"XBRLMap(O53,$V53,$W$6,$W$7,CONFIGURATION!$B$10,\"BMA\",CONFIGURATION!$B$1,\"bscr\",CONFIGURATION!$B$12)","v":"-"},{"$f":"XBRLMap(Q53,$V53,$X$6,$X$7,CONFIGURATION!$B$10,\"BMA\",CONFIGURATION!$B$1,\"bscr\",CONFIGURATION!$B$12)","v":"-"},null,null,null,"bma_StatutoryStatementTotalStatutoryCapitalAndSurplus"]
[null,"(h)","Statutory Surplus - End of Year",null,null,null,{"$f":"G40+G42+G44+G46+G48+G50+G52","v":0},null,{"$f":"I40+I42+I44+I46+I48+I50+I52","v":0},null,{"$f":"K40+K42+K44+K46+K48+K50+K52","v":0},null,{"$f":"M40+M42+M44+M46+M48+M50+M52","v":0},null,{"$f":"O40+O42+O44+O46+O48+O50+O52","v":0},null,{"$f":"Q40+Q42+Q44+Q46+Q48+Q50+Q52","v":0},null,null,null,null,"brrt_StatutorySurplus",{"$f":"XBRLMap(O54,$V54,$W$6,$W$7,CONFIGURATION!$B$10,\"BMA\",CONFIGURATION!$B$1,\"bscr\",CONFIGURATION!$B$12)","v":"Mapped"},{"$f":"XBRLMap(Q54,$V54,$X$6,$X$7,CONFIGURATION!$B$10,\"BMA\",CONFIGURATION!$B$1,\"bscr\",CONFIGURATION!$B$12)","v":"Mapped"}]
[null,null,null,null,null,null,null,null,null,null,null,null,null,null,null,null,null,null,null,null,null,"",{"$f":"XBRLMap(O55,$V55,$W$6,$W$7,CONFIGURATION!$B$10,\"BMA\",CONFIGURATION!$B$1,\"bscr\",CONFIGURATION!$B$12)","v":"-"},{"$f":"XBRLMap(Q55,$V55,$X$6,$X$7,CONFIGURATION!$B$10,\"BMA\",CONFIGURATION!$B$1,\"bscr\",CONFIGURATION!$B$12)","v":"-"}]
[null,"3.","MINORITY INTEREST",null,null,null,{"$f":"Import!E371","v":0},null,{"$f":"Import!G371","v":0},null,{"$f":"Import!P371","v":0},null,{"$f":"Import!R371","v":0},null,{"$f":"Import!I371","v":0},null,{"$f":"Import!K371","v":0}]
[]
[null,"4.","TOTAL STATUTORY CAPITAL AND SURPLUS",null,null,null,{"$f":"G36+G54+G56","v":0},null,{"$f":"I36+I54+I56","v":0},null,{"$f":"K36+K54+K56","v":0},null,{"$f":"M36+M54+M56","v":0},null,{"$f":"O36+O54+O56","v":0},null,{"$f":"Q36+Q54+Q56","v":0},null,null,null,null,"brrt_StatutoryCapitalAndSurplus",{"$f":"XBRLMap(O58,$V58,$W$6,$W$7,CONFIGURATION!$B$10,\"BMA\",CONFIGURATION!$B$1,\"bscr\",CONFIGURATION!$B$12)","v":"Mapped"},{"$f":"XBRLMap(Q58,$V58,$X$6,$X$7,CONFIGURATION!$B$10,\"BMA\",CONFIGURATION!$B$1,\"bscr\",CONFIGURATION!$B$12)","v":"Mapped"}]
[]
[null,"Supplementary Information:"]
[]
[null,null,"Total Statutory Capital and Surplus",null,null,null,{"$f":"G58","v":0},null,{"$f":"I58","v":0},null,{"$f":"K58","v":0},null,{"$f":"M58","v":0},null,{"$f":"O58","v":0},null,{"$f":"Q58","v":0}]
[null,null,"Deduct Assets Backing Collateral if included in Total Statutory Capital and Surplus",null,null,null,null,null,null,null,null,null,null,null,{"$f":"Import!I372","v":0},null,{"$f":"Import!K372","v":0},null,null,null,null,"brrt_ChangeInNonAdmittedAssets",{"$f":"XBRLMap(O63,$V63,$W$6,$W$7,CONFIGURATION!$B$10,\"BMA\",CONFIGURATION!$B$1,\"bscr\",CONFIGURATION!$B$12)","v":"Mapped"},{"$f":"XBRLMap(Q63,$V63,$X$6,$X$7,CONFIGURATION!$B$10,\"BMA\",CONFIGURATION!$B$1,\"bscr\",CONFIGURATION!$B$12)","v":"Mapped"},null,null,null,""]
[null,null,null,null,null,null,null,null,null,null,null,null,null,null,null,null,null,null,null,null,null,"",{"$f":"XBRLMap(O64,$V64,$W$6,$W$7,CONFIGURATION!$B$10,\"BMA\",CONFIGURATION!$B$1,\"bscr\",CONFIGURATION!$B$12)","v":"-"},{"$f":"XBRLMap(Q64,$V64,$X$6,$X$7,CONFIGURATION!$B$10,\"BMA\",CONFIGURATION!$B$1,\"bscr\",CONFIGURATION!$B$12)","v":"-"},null,null,null,"bma_AddDeductChangeInAnyOtherStatutoryCapital"]
[null,null,"Total Statutory Capital and Surplus  (excluding assets backing collateral) ",null,null,null,null,null,null,null,null,null,null,null,{"$f":"O62-O63","v":0},null,{"$f":"Q62-Q63","v":0},null,null,null,null,"brrt_ChangeInAppraisalOfRealEstate",{"$f":"XBRLMap(O65,$V65,$W$6,$W$7,CONFIGURATION!$B$10,\"BMA\",CONFIGURATION!$B$1,\"bscr\",CONFIGURATION!$B$12)","v":"Mapped"},{"$f":"XBRLMap(Q65,$V65,$X$6,$X$7,CONFIGURATION!$B$10,\"BMA\",CONFIGURATION!$B$1,\"bscr\",CONFIGURATION!$B$12)","v":"Mapped"},null,null,null,""]
[null,null,null,null,null,null,null,null,null,null,null,null,null,null,null,null,null,null,null,null,null,"",{"$f":"XBRLMap(O66,$V66,$W$6,$W$7,CONFIGURATION!$B$10,\"BMA\",CONFIGURATION!$B$1,\"bscr\",CONFIGURATION!$B$12)","v":"-"},{"$f":"XBRLMap(Q66,$V66,$X$6,$X$7,CONFIGURATION!$B$10,\"BMA\",CONFIGURATION!$B$1,\"bscr\",CONFIGURATION!$B$12)","v":"-"},null,null,null,"bma_StatutorySurplusEndOfYear"]
[]
[]
[null,null,"Where is Capital Backing Capital Requirement Held:  ",null,null,null,null,null,null,null,null,null,null,null,null,null,null,null,null,null,null,"brrt_ChangeInAnyOtherStatutoryCapital",{"$f":"XBRLMap(O69,$V69,$W$6,$W$7,CONFIGURATION!$B$10,\"BMA\",CONFIGURATION!$B$1,\"bscr\",CONFIGURATION!$B$12)","v":"Mapped"},{"$f":"XBRLMap(Q69,$V69,$X$6,$X$7,CONFIGURATION!$B$10,\"BMA\",CONFIGURATION!$B$1,\"bscr\",CONFIGURATION!$B$12)","v":"Mapped"},null,null,null,""]
[null,null,null,null,null,null,null,null,null,null,null,null,null,null,null,null,null,null,null,null,null,"",{"$f":"XBRLMap(O70,$V70,$W$6,$W$7,CONFIGURATION!$B$10,\"BMA\",CONFIGURATION!$B$1,\"bscr\",CONFIGURATION!$B$12)","v":"-"},{"$f":"XBRLMap(Q70,$V70,$X$6,$X$7,CONFIGURATION!$B$10,\"BMA\",CONFIGURATION!$B$1,\"bscr\",CONFIGURATION!$B$12)","v":"-"},null,null,null,"bma_StatutoryStatementTotalStatutoryCapitalAndSurplus"]
[null,null,"Capital Backing Operational Risk",null,null,null,{"$f":"Import!E372","v":0},null,{"$f":"Import!G372","v":0},null,{"$f":"Import!P372","v":0},null,{"$f":"Import!R372","v":0},null,{"$f":"Import!I373","v":0},null,{"$f":"Import!K373","v":0},null,null,null,null,"brrt_StatutorySurplus",{"$f":"XBRLMap(O71,$V71,$W$6,$W$7,CONFIGURATION!$B$10,\"BMA\",CONFIGURATION!$B$1,\"bscr\",CONFIGURATION!$B$12)","v":"Mapped"},{"$f":"XBRLMap(Q71,$V71,$X$6,$X$7,CONFIGURATION!$B$10,\"BMA\",CONFIGURATION!$B$1,\"bscr\",CONFIGURATION!$B$12)","v":"Mapped"}]
[null,null,null,null,null,null,null,null,null,null,null,null,null,null,null,null,null,null,null,null,null,"",{"$f":"XBRLMap(O72,$V72,$W$6,$W$7,CONFIGURATION!$B$10,\"BMA\",CONFIGURATION!$B$1,\"bscr\",CONFIGURATION!$B$12)","v":"-"},{"$f":"XBRLMap(Q72,$V72,$X$6,$X$7,CONFIGURATION!$B$10,\"BMA\",CONFIGURATION!$B$1,\"bscr\",CONFIGURATION!$B$12)","v":"-"},null,null,null,"bma_StatutoryStatementTotalStatutoryCapitalAndSurplus"]
[null,null,"Capital Backing Market Risk",null,null,null,{"$f":"Import!E374","v":0},null,{"$f":"Import!G374","v":0},null,{"$f":"Import!P374","v":0},null,{"$f":"Import!R374","v":0},null,{"$f":"Import!I374","v":0},null,{"$f":"Import!K374","v":0}]
[null,null,null,null,null,null,null,null,null,null,null,null,null,null,null,null,null,null,null,null,null,"",{"$f":"XBRLMap(O74,$V74,$W$6,$W$7,CONFIGURATION!$B$10,\"BMA\",CONFIGURATION!$B$1,\"bscr\",CONFIGURATION!$B$12)","v":"-"},{"$f":"XBRLMap(Q74,$V74,$X$6,$X$7,CONFIGURATION!$B$10,\"BMA\",CONFIGURATION!$B$1,\"bscr\",CONFIGURATION!$B$12)","v":"-"},null,null,null,"bma_StatutoryStatementTotalStatutoryCapitalAndSurplus"]
[null,null,"Capital Backing Credit Risk",null,null,null,{"$f":"Import!E375","v":0},null,{"$f":"Import!G375","v":0},null,{"$f":"Import!P375","v":0},null,{"$f":"Import!R375","v":0},null,{"$f":"Import!I375","v":0},null,{"$f":"Import!K375","v":0}]

{"sheet":"Schedule II","index":19,"n_rows":176,"n_cols":25,"rows_kept":176,"cut":false,"hidden":false,"merged":[[1,2,1,4],[7,3,7,5],[7,7,7,9],[7,11,7,13],[7,15,7,17],[94,4,94,14],[95,7,95,9],[95,11,95,13],[25,11,25,13],[2,3,2,5],[3,3,3,5],[24,4,24,14],[25,7,25,9],[7,19,7,21],[77,3,77,5],[77,7,77,9],[77,11,77,13],[77,15,77,17],[77,19,77,21]]}
[null,"SCHEDULE OF FIXED INCOME & EQUITY INVESTMENTS BY BSCR RATING",null,null,null,null,null,null,null,null,null,null,null,null,null,null,null,null,null,null,null,{"$f":"HYPERLINK(\"#'Index'!A1\",\"Return to Index\")","v":"Return to Index"}]
[null,null,{"$f":"'Company Information'!C7","v":"Enter Company Name"}]
[null,null,"As at",{"$f":"'Company Information'!C3","v":"2019-12-31"},null,null,null,null,null,null,null,null,null,null,null,null,null,null,null,null,null,"SCHEDULE II"]
[null,null,{"$f":"\"expressed in\"& IF(CONFIGURATION!$B$12>1,\" ['\"&MID(CONFIGURATION!$B$12,2,LEN(CONFIGURATION!$B$12))&\"s]\",\"\")","v":"expressed in ['000s]"},{"$f":"'Form 1SFS GB'!C5","v":"United States Dollars"}]
[]
[null,null,"SECTION A.  COLLATERAL ASSETS WHERE MARKET RISK IS BORNE BY THE COLLATERALIZED INSURER"]
[null,null,null,"(1)",null,"(2)",null,"(3)",null,"(4)",null,"(5)",null,"(6)",null,"(7)",null,"(8)",null,"(9)",null,"(10)"]
[null,null,null,"CORPORATE & SOVEREIGN BONDS",null,null,null,"RESIDENTIAL MORTGAGE-BACKED SECURITIES",null,null,null,"COMMERCIAL MORTGAGE-BACKED SECURITIES / ASSET-BACKED SECURITIES",null,null,null,"BOND MUTUAL FUNDS",null,null,null,"TOTAL"]
[null,null,null,{"$f":"'Form 1SFS GB'!$E$9","v":"2019-12-31"},null,{"$f":"'Form 1SFS GB'!$G$9","v":"2018-12-31"},null,{"$f":"'Form 1SFS GB'!$E$9","v":"2019-12-31"},null,{"$f":"'Form 1SFS GB'!$G$9","v":"2018-12-31"},null,{"$f":"'Form 1SFS GB'!$E$9","v":"2019-12-31"},null,{"$f":"'Form 1SFS GB'!$G$9","v":"2018-12-31"},null,{"$f":"'Form 1SFS GB'!$E$9","v":"2019-12-31"},null,{"$f":"'Form 1SFS GB'!$G$9","v":"2018-12-31"},null,{"$f":"'Form 1SFS GB'!$E$9","v":"2019-12-31"},null,{"$f":"'Form 1SFS GB'!$G$9","v":"2018-12-31"}]
[null,null,null,{"$f":"'Form 1SFS GB'!$E$10","v":" ('000s)"},null,{"$f":"'Form 1SFS GB'!$G$10","v":" ('000s)"},null,{"$f":"'Form 1SFS GB'!$E$10","v":" ('000s)"},null,{"$f":"'Form 1SFS GB'!$G$10","v":" ('000s)"},null,{"$f":"'Form 1SFS GB'!$E$10","v":" ('000s)"},null,{"$f":"'Form 1SFS GB'!$G$10","v":" ('000s)"},null,{"$f":"'Form 1SFS GB'!$E$10","v":" ('000s)"},null,{"$f":"'Form 1SFS GB'!$G$10","v":" ('000s)"},null,{"$f":"'Form 1SFS GB'!$E$10","v":" ('000s)"},null,{"$f":"'Form 1SFS GB'!$G$10","v":" ('000s)"}]
[null,"Line no. "]
[null,"Quoted and Unquoted Bonds and Debentures"]
[null,1,"BSCR Rating 0",{"$f":"Import!E378","v":0},null,{"$f":"Import!G378","v":0},null,null,null,null,null,null,null,null,null,{"$f":"Import!E403","v":0},null,{"$f":"Import!G403","v":0},null,{"$f":"D13+H13+L13+P13","v":0},null,{"$f":"F13+J13+N13+R13","v":0},null,null,"brrt_RiskGradeAxis_brrt_BSCRRating0Member"]
[null,2,"BSCR Rating 1",{"$f":"Import!E379","v":0},null,{"$f":"Import!G379","v":0},null,{"$f":"Import!E387","v":0},null,{"$f":"Import!G387","v":0},null,{"$f":"Import!E395","v":0},null,{"$f":"Import!G395","v":0},null,{"$f":"Import!E404","v":0},null,{"$f":"Import!G404","v":0},null,{"$f":"D14+H14+L14+P14","v":0},null,0,null,null,"brrt_RiskGradeAxis_brrt_BSCRRating1Member"]
[null,3,"BSCR Rating 2",{"$f":"Import!E380","v":0},null,{"$f":"Import!G380","v":0},null,{"$f":"Import!E388","v":0},null,{"$f":"Import!G388","v":0},null,{"$f":"Import!E396","v":0},null,{"$f":"Import!G396","v":0},null,{"$f":"Import!E405","v":0},null,{"$f":"Import!G405","v":0},null,0,null,0,null,null,"brrt_RiskGradeAxis_brrt_BSCRRating2Member"]
[null,4,"BSCR Rating 3",{"$f":"Import!E381","v":0},null,{"$f":"Import!G381","v":0},null,{"$f":"Import!E389","v":0},null,{"$f":"Import!G389","v":0},null,{"$f":"Import!E397","v":0},null,{"$f":"Import!G397","v":0},null,{"$f":"Import!E406","v":0},null,{"$f":"Import!G406","v":0},null,0,null,0,null,null,"brrt_RiskGradeAxis_brrt_BSCRRating3Member"]
[null,5,"BSCR Rating 4",{"$f":"Import!E382","v":0},null,{"$f":"Import!G382","v":0},null,{"$f":"Import!E390","v":0},null,{"$f":"Import!G390","v":0},null,{"$f":"Import!E398","v":0},null,{"$f":"Import!G398","v":0},null,{"$f":"Import!E407","v":0},null,{"$f":"Import!G407","v":0},null,0,null,0,null,null,"brrt_RiskGradeAxis_brrt_BSCRRating4Member"]
[null,6,"BSCR Rating 5",{"$f":"Import!E383","v":0},null,{"$f":"Import!G383","v":0},null,{"$f":"Import!E391","v":0},null,{"$f":"Import!G391","v":0},null,{"$f":"Import!E399","v":0},null,{"$f":"Import!G399","v":0},null,{"$f":"Import!E408","v":0},null,{"$f":"Import!G408","v":0},null,0,null,0,null,null,"brrt_RiskGradeAxis_brrt_BSCRRating5Member"]
[null,7,"BSCR Rating 6",{"$f":"Import!E384","v":0},null,{"$f":"Import!G384","v":0},null,{"$f":"Import!E392","v":0},null,{"$f":"Import!G392","v":0},null,{"$f":"Import!E400","v":0},null,{"$f":"Import!G400","v":0},null,{"$f":"Import!E409","v":0},null,{"$f":"Import!G409","v":0},null,0,null,0,null,null,"brrt_RiskGradeAxis_brrt_BSCRRating6Member"]
[null,8,"BSCR Rating 7",{"$f":"Import!E385","v":0},null,{"$f":"Import!G385","v":0},null,{"$f":"Import!E393","v":0},null,{"$f":"Import!G393","v":0},null,{"$f":"Import!E401","v":0},null,{"$f":"Import!G401","v":0},null,{"$f":"Import!E410","v":0},null,{"$f":"Import!G410","v":0},null,0,null,0,null,null,"brrt_RiskGradeAxis_brrt_BSCRRating7Member"]
[null,9,"BSCR Rating 8",{"$f":"Import!E386","v":0},null,{"$f":"Import!G386","v":0},null,{"$f":"Import!E394","v":0},null,{"$f":"Import!G394","v":0},null,{"$f":"Import!E402","v":0},null,{"$f":"Import!G402","v":0},null,{"$f":"Import!E411","v":0},null,{"$f":"Import!G411","v":0},null,0,null,0,null,null,"brrt_RiskGradeAxis_brrt_BSCRRating8Member"]
[]
[null,10,"Total Quoted and Unquoted Bonds",{"$f":"SUM(D13:D21)","v":0},null,{"$f":"SUM(F13:F21)","v":0},null,{"$f":"SUM(H13:H21)","v":0},null,{"$f":"SUM(J13:J21)","v":0},null,{"$f":"SUM(L13:L21)","v":0},null,{"$f":"SUM(N13:N21)","v":0},null,{"$f":"SUM(P12:P21)","v":0},null,{"$f":"SUM(R12:R21)","v":0},null,{"$f":"SUM(T13:T21)","v":0},null,{"$f":"SUM(V13:V21)","v":0},null,null,"brrt_RiskGradeAxis_brrt_TotalMember"]
[]
[null,"Other Securities",null,null,"This Section is Only Applicable to Companies that have Mortgage Backed Securities that have been Reclassified in Accordance with the NAIC and that elect to use NAIC reclassifications to map to the BSCR classes"]
[null,11,"Insured/Guaranteed Mortgages",null,null,null,null,"VALUES OF RESIDENTIAL MORTGAGE BACKED SECURITIES",null,null,null,"VALUES OF COMMERCIAL MORTGAGE BACKED SECURITIES / ASSET BACKED SECURITIES",null,null,null,null,null,null,null,{"$f":"Import!E412","v":0},null,{"$f":"Import!G412","v":0}]
[null,12,"Other Commercial and Farm Mortgages",null,null,null,null,"Original Classification",null,"Revised Classification",null,"Original Classification",null,"Revised Classification",null,null,null,null,null,{"$f":"Import!E413","v":0},null,{"$f":"Import!G413","v":0}]
[null,13,"Other Residential Mortgages",null,null,"NAIC Class 1",null,{"$f":"Import!E441","v":0},null,{"$f":"Import!E448","v":0},null,{"$f":"Import!E455","v":0},null,{"$f":"Import!E462","v":0},null,null,null,null,null,{"$f":"Import!E414","v":0},null,{"$f":"Import!G414","v":0}]
[null,14,"Mortgages Not In Good Standing",null,null,"NAIC Class 2",null,{"$f":"Import!E442","v":0},null,{"$f":"Import!E449","v":0},null,{"$f":"Import!E456","v":0},null,{"$f":"Import!E463","v":0},null,null,null,null,null,{"$f":"Import!E415","v":0},null,{"$f":"Import!G415","v":0}]
[null,15,"Other Loans",null,null,"NAIC Class 3",null,{"$f":"Import!E443","v":0},null,{"$f":"Import!E450","v":0},null,{"$f":"Import!E457","v":0},null,{"$f":"Import!E464","v":0},null,null,null,null,null,{"$f":"Import!E416","v":0},null,{"$f":"Import!G416","v":0}]
[null,null,null,null,null,"NAIC Class 4",null,{"$f":"Import!E444","v":0},null,{"$f":"Import!E451","v":0},null,{"$f":"Import!E458","v":0},null,{"$f":"Import!E465","v":0}]
[null,16,"Total Other Securities",null,null,"NAIC Class 5",null,{"$f":"Import!E445","v":0},null,{"$f":"Import!E452","v":0},null,{"$f":"Import!E459","v":0},null,{"$f":"Import!E466","v":0},null,null,null,null,null,{"$f":"SUM(T26:T31)","v":0},null,{"$f":"SUM(V26:V31)","v":0}]
[null,null,null,null,null,"NAIC Class 6",null,{"$f":"Import!E446","v":0},null,{"$f":"Import!E453","v":0},null,{"$f":"Import!E460","v":0},null,{"$f":"Import!E467","v":0}]
[null,"Equities Holdings"]
[null,17,"Strategic Holdings - Listed",null,null,null,null,{"$f":"SUM(H28:H33)","v":0},null,{"$f":"SUM(J28:J33)","v":0},null,{"$f":"SUM(L28:L33)","v":0},null,{"$f":"SUM(N28:N33)","v":0},null,null,null,null,null,{"$f":"Import!E417","v":0},null,{"$f":"Import!G417","v":0}]
[null,18,"Duration Based",null,null,null,null,null,null,null,null,null,null,null,null,null,null,null,null,{"$f":"Import!E418","v":0},null,{"$f":"Import!G418","v":0}]
[null,19,"Listed Equity Securities in Developed Markets",null,null,null,null,null,null,null,null,null,null,null,null,null,null,null,null,{"$f":"Import!E419","v":0},null,{"$f":"Import!G419","v":0}]
[null,20,"Preferred Stocks, BSCR Rating 1",null,null,null,null,null,null,null,null,null,null,null,null,null,null,null,null,{"$f":"Import!E420","v":0},null,{"$f":"Import!G420","v":0}]
[null,21,"Preferred Stocks, BSCR Rating 2",null,null,null,null,null,null,null,null,null,null,null,null,null,null,null,null,{"$f":"Import!E421","v":0},null,{"$f":"Import!G421","v":0}]
[null,22,"Preferred Stocks, BSCR Rating 3",null,null,null,null,null,null,null,null,null,null,null,null,null,null,null,null,{"$f":"Import!E422","v":0},null,{"$f":"Import!G422","v":0}]
[null,23,"Preferred Stocks, BSCR Rating 4",null,null,null,null,null,null,null,null,null,null,null,null,null,null,null,null,{"$f":"Import!E423","v":0},null,{"$f":"Import!G423","v":0}]
[null,24,"Preferred Stocks, BSCR Rating 5",null,null,null,null,null,null,null,null,null,null,null,null,null,null,null,null,{"$f":"Import!E424","v":0},null,{"$f":"Import!G424","v":0}]
[null,25,"Preferred Stocks, BSCR Rating 6",null,null,null,null,null,null,null,null,null,null,null,null,null,null,null,null,{"$f":"Import!E425","v":0},null,{"$f":"Import!G425","v":0}]
[null,26,"Preferred Stocks, BSCR Rating 7",null,null,null,null,null,null,null,null,null,null,null,null,null,null,null,null,{"$f":"Import!E426","v":0},null,{"$f":"Import!G426","v":0}]
[null,27,"Preferred Stocks, BSCR Rating 8",null,null,null,null,null,null,null,null,null,null,null,null,null,null,null,null,{"$f":"Import!E427","v":0},null,{"$f":"Import!G427","v":0}]
[null,28,"Equity Derivatives on Type 1 Equities",null,null,null,null,null,null,null,null,null,null,null,null,null,null,null,null,{"$f":"Import!E428","v":0},null,{"$f":"Import!G428","v":0}]
[null,29,"Strategic Holdings - Unlisted",null,null,null,null,null,null,null,null,null,null,null,null,null,null,null,null,{"$f":"Import!E429","v":0},null,{"$f":"Import!G429","v":0}]
[null,30,"Other Equities / Other Assets",null,null,null,null,null,null,null,null,null,null,null,null,null,null,null,null,{"$f":"Import!E430","v":0},null,{"$f":"Import!G430","v":0}]
[null,31,"Letters of Credit",null,null,null,null,null,null,null,null,null,null,null,null,null,null,null,null,{"$f":"Import!E431","v":0},null,{"$f":"Import!G431","v":0}]
[null,32,"Intangible assets",null,null,null,null,null,null,null,null,null,null,null,null,null,null,null,null,{"$f":"Import!E432","v":0},null,{"$f":"Import!G432","v":0}]
[null,33,"Pension Benefit Surplus",null,null,null,null,null,null,null,null,null,null,null,null,null,null,null,null,{"$f":"Import!E433","v":0},null,{"$f":"Import!G433","v":0}]
[null,34,"Equity Derivatives on Type 2 Equities",null,null,null,null,null,null,null,null,null,null,null,null,null,null,null,null,{"$f":"Import!E434","v":0},null,{"$f":"Import!G434","v":0}]
[null,35,"Infrastructure",null,null,null,null,null,null,null,null,null,null,null,null,null,null,null,null,{"$f":"Import!E435","v":0},null,{"$f":"Import!G435","v":0}]
[null,36,"Derivatives on Infrastructure",null,null,null,null,null,null,null,null,null,null,null,null,null,null,null,null,{"$f":"Import!E436","v":0},null,{"$f":"Import!G436","v":0}]
[null,37,"Equity Real Estate 1",null,null,null,null,null,null,null,null,null,null,null,null,null,null,null,null,{"$f":"Import!E437","v":0},null,{"$f":"Import!G437","v":0}]
[null,38,"Equity Real Estate 2",null,null,null,null,null,null,null,null,null,null,null,null,null,null,null,null,{"$f":"Import!E438","v":0},null,{"$f":"Import!G438","v":0}]
[]
[null,39,"Total Equity Holdings",null,null,null,null,null,null,null,null,null,null,null,null,null,null,null,null,{"$f":"SUM(T35:T56)","v":0},null,{"$f":"SUM(V35:V56)","v":0}]
[]
[null,"OTHER INVESTMENTS HELD AS COLLATERAL"]
[null,"  - Bonds and Debentures",null,null,null,null,null,null,null,null,null,null,null,null,null,null,null,null,null,{"$f":"Import!E439","v":0},null,{"$f":"Import!G439","v":0}]
[null,"  - Equity Holdings",null,null,null,null,null,null,null,null,null,null,null,null,null,null,null,null,null,{"$f":"Import!E440","v":0},null,{"$f":"Import!G440","v":0}]
[]
[null,"  - TOTAL",null,null,null,null,null,null,null,null,null,null,null,null,null,null,null,null,null,{"$f":"SUM(T61:T62)","v":0},null,{"$f":"SUM(V61:V62)","v":0}]
[]
[null,"TOTAL INVESTMENTS HELD AS COLLATERAL"]
[null,"  - Bonds and Debentures",null,null,null,null,null,null,null,null,null,null,null,null,null,null,null,null,null,{"$f":"T23+T32+T61","v":0},null,{"$f":"V23+V32+V61","v":0}]
[null,"  - Equity Holdings",null,null,null,null,null,null,null,null,null,null,null,null,null,null,null,null,null,{"$f":"T58+T62","v":0},null,{"$f":"V58+V62","v":0}]
[]
[null,"  - TOTAL",null,null,null,null,null,null,null,null,null,null,null,null,null,null,null,null,null,{"$f":"SUM(T67:T68)","v":0},null,{"$f":"SUM(V67:V68)","v":0}]
[]
[null,null,null,null,null,null,null,null,null,null,null,null,null,null,null,null,null,null,null,{"$f":"IF(T73<>0,\"FALSE\",\"TRUE\")","v":"TRUE"},null,{"$f":"IF(V73<>0,\"FALSE\",\"TRUE\")","v":"TRUE"}]
[null,null,null,null,null,null,null,null,null,null,null,null,null,null,null,null,null,null,null,{"$f":"ROUND(T70-'Form 1SFS GB'!I217+'Form 1SFS LT'!I217,0)","v":0},null,{"$f":"ROUND(V70-'Form 1SFS GB'!K217+'Form 1SFS LT'!K217,0)","v":0}]
[]
[]
[null,null,"SECTION B.  INVESTMENTS HELD IN THE COLLATERALIZED INSURERS OWN ACCOUNT"]
[null,null,null,"(1)",null,"(2)",null,"(3)",null,"(4)",null,"(5)",null,"(6)",null,"(7)",null,"(8)",null,"(11)",null,"(12)"]
[null,null,null,"CORPORATE & SOVEREIGN BONDS",null,null,null,"RESIDENTIAL MORTGAGE-BACKED SECURITIES",null,null,null,"COMMERCIAL MORTGAGE-BACKED SECURITIES / ASSET-BACKED SECURITIES",null,null,null,"BOND MUTUAL FUNDS",null,null,null,"TOTAL"]
[null,null,null,{"$f":"'Form 1SFS GB'!$E$9","v":"2019-12-31"},null,{"$f":"'Form 1SFS GB'!$G$9","v":"2018-12-31"},null,{"$f":"'Form 1SFS GB'!$E$9","v":"2019-12-31"},null,{"$f":"'Form 1SFS GB'!$G$9","v":"2018-12-31"},null,{"$f":"'Form 1SFS GB'!$E$9","v":"2019-12-31"},null,{"$f":"'Form 1SFS GB'!$G$9","v":"2018-12-31"},null,{"$f":"'Form 1SFS GB'!$E$9","v":"2019-12-31"},null,{"$f":"'Form 1SFS GB'!$G$9","v":"2018-12-31"},null,{"$f":"'Form 1SFS GB'!$E$9","v":"2019-12-31"},null,{"$f":"'Form 1SFS GB'!$G$9","v":"2018-12-31"}]
[null,null,null,{"$f":"'Form 1SFS GB'!$E$10","v":" ('000s)"},null,{"$f":"'Form 1SFS GB'!$G$10","v":" ('000s)"},null,{"$f":"'Form 1SFS GB'!$E$10","v":" ('000s)"},null,{"$f":"'Form 1SFS GB'!$G$10","v":" ('000s)"},null,{"$f":"'Form 1SFS GB'!$E$10","v":" ('000s)"},null,{"$f":"'Form 1SFS GB'!$G$10","v":" ('000s)"},null,{"$f":"'Form 1SFS GB'!$E$10","v":" ('000s)"},null,{"$f":"'Form 1SFS GB'!$G$10","v":" ('000s)"},null,{"$f":"'Form 1SFS GB'!$E$10","v":" ('000s)"},null,{"$f":"'Form 1SFS GB'!$G$10","v":" ('000s)"}]
[null,"Line no. "]
[null,"Quoted and Unquoted Bonds and Debentures"]
[null,1,"BSCR Rating 0",{"$f":"Import!I378","v":0},null,{"$f":"Import!K378","v":0},null,null,null,null,null,null,null,null,null,{"$f":"Import!I403","v":0},null,{"$f":"Import!K403","v":0},null,{"$f":"D83+H83+L83+P83","v":0},null,{"$f":"F83+J83+N83+R83","v":0},null,null,"brrt_RiskGradeAxis_brrt_BSCRRating0Member"]
[null,2,"BSCR Rating 1",{"$f":"Import!I379","v":0},null,{"$f":"Import!K379","v":0},null,{"$f":"Import!I387","v":0},null,{"$f":"Import!K387","v":0},null,{"$f":"Import!I395","v":0},null,{"$f":"Import!K395","v":0},null,{"$f":"Import!I404","v":0},null,{"$f":"Import!K404","v":0},null,{"$f":"D84+H84+L84+P84","v":0},null,0,null,null,"brrt_RiskGradeAxis_brrt_BSCRRating1Member"]
[null,3,"BSCR Rating 2",{"$f":"Import!I380","v":0},null,{"$f":"Import!K380","v":0},null,{"$f":"Import!I388","v":0},null,{"$f":"Import!K388","v":0},null,{"$f":"Import!I396","v":0},null,{"$f":"Import!K396","v":0},null,{"$f":"Import!I405","v":0},null,{"$f":"Import!K405","v":0},null,0,null,0,null,null,"brrt_RiskGradeAxis_brrt_BSCRRating2Member"]
[null,4,"BSCR Rating 3",{"$f":"Import!I381","v":0},null,{"$f":"Import!K381","v":0},null,{"$f":"Import!I389","v":0},null,{"$f":"Import!K389","v":0},null,{"$f":"Import!I397","v":0},null,{"$f":"Import!K397","v":0},null,{"$f":"Import!I406","v":0},null,{"$f":"Import!K406","v":0},null,0,null,0,null,null,"brrt_RiskGradeAxis_brrt_BSCRRating3Member"]
[null,5,"BSCR Rating 4",{"$f":"Import!I382","v":0},null,{"$f":"Import!K382","v":0},null,{"$f":"Import!I390","v":0},null,{"$f":"Import!K390","v":0},null,{"$f":"Import!I398","v":0},null,{"$f":"Import!K398","v":0},null,{"$f":"Import!I407","v":0},null,{"$f":"Import!K407","v":0},null,0,null,0,null,null,"brrt_RiskGradeAxis_brrt_BSCRRating4Member"]
[null,6,"BSCR Rating 5",{"$f":"Import!I383","v":0},null,{"$f":"Import!K383","v":0},null,{"$f":"Import!I391","v":0},null,{"$f":"Import!K391","v":0},null,{"$f":"Import!I399","v":0},null,{"$f":"Import!K399","v":0},null,{"$f":"Import!I408","v":0},null,{"$f":"Import!K408","v":0},null,0,null,0,null,null,"brrt_RiskGradeAxis_brrt_BSCRRating5Member"]
[null,7,"BSCR Rating 6",{"$f":"Import!I384","v":0},null,{"$f":"Import!K384","v":0},null,{"$f":"Import!I392","v":0},null,{"$f":"Import!K392","v":0},null,{"$f":"Import!I400","v":0},null,{"$f":"Import!K400","v":0},null,{"$f":"Import!I409","v":0},null,{"$f":"Import!K409","v":0},null,0,null,0,null,null,"brrt_RiskGradeAxis_brrt_BSCRRating6Member"]
[null,8,"BSCR Rating 7",{"$f":"Import!I385","v":0},null,{"$f":"Import!K385","v":0},null,{"$f":"Import!I393","v":0},null,{"$f":"Import!K393","v":0},null,{"$f":"Import!I401","v":0},null,{"$f":"Import!K401","v":0},null,{"$f":"Import!I410","v":0},null,{"$f":"Import!K410","v":0},null,0,null,0,null,null,"brrt_RiskGradeAxis_brrt_BSCRRating7Member"]
[null,9,"BSCR Rating 8",{"$f":"Import!I386","v":0},null,{"$f":"Import!K386","v":0},null,{"$f":"Import!I394","v":0},null,{"$f":"Import!K394","v":0},null,{"$f":"Import!I402","v":0},null,{"$f":"Import!K402","v":0},null,{"$f":"Import!I411","v":0},null,{"$f":"Import!K411","v":0},null,0,null,0,null,null,"brrt_RiskGradeAxis_brrt_BSCRRating8Member"]
[]
[null,10,"Total Quoted and Unquoted Bonds",{"$f":"SUM(D83:D91)","v":0},null,{"$f":"SUM(F83:F91)","v":0},null,{"$f":"SUM(H83:H91)","v":0},null,{"$f":"SUM(J83:J91)","v":0},null,{"$f":"SUM(L83:L91)","v":0},null,{"$f":"SUM(N83:N91)","v":0},null,{"$f":"SUM(P82:P91)","v":0},null,{"$f":"SUM(R82:R91)","v":0},null,{"$f":"SUM(T83:T91)","v":0},null,{"$f":"SUM(V83:V91)","v":0},null,null,"brrt_RiskGradeAxis_brrt_TotalMember"]
[]
[null,"Other Securities",null,null,"This Section is Only Applicable to Companies that have Mortgage Backed Securities that have been Reclassified in Accordance with the NAIC and that elect to use NAIC reclassifications to map to the BSCR classes"]
[null,11,"Insured/Guaranteed Mortgages",null,null,null,null,"VALUES OF RESIDENTIAL MORTGAGE BACKED SECURITIES",null,null,null,"VALUES OF COMMERCIAL MORTGAGE BACKED SECURITIES / ASSET BACKED SECURITIES",null,null,null,null,null,null,null,{"$f":"Import!I412","v":0},null,{"$f":"Import!K412","v":0}]
[null,12,"Other Commercial and Farm Mortgages",null,null,null,null,"Original Classification",null,"Revised Classification",null,"Original Classification",null,"Revised Classification",null,null,null,null,null,{"$f":"Import!I413","v":0},null,{"$f":"Import!K413","v":0}]
[null,13,"Other Residential Mortgages",null,null,"NAIC Class 1",null,{"$f":"Import!I441","v":0},null,{"$f":"Import!I448","v":0},null,{"$f":"Import!I455","v":0},null,{"$f":"Import!I462","v":0},null,null,null,null,null,{"$f":"Import!I414","v":0},null,{"$f":"Import!K414","v":0}]
[null,14,"Mortgages Not In Good Standing",null,null,"NAIC Class 2",null,{"$f":"Import!I442","v":0},null,{"$f":"Import!I449","v":0},null,{"$f":"Import!I456","v":0},null,{"$f":"Import!I463","v":0},null,null,null,null,null,{"$f":"Import!I415","v":0},null,{"$f":"Import!K415","v":0}]
[null,15,"Other Loans",null,null,"NAIC Class 3",null,{"$f":"Import!I443","v":0},null,{"$f":"Import!I450","v":0},null,{"$f":"Import!I457","v":0},null,{"$f":"Import!I464","v":0},null,null,null,null,null,{"$f":"Import!I416","v":0},null,{"$f":"Import!K416","v":0}]
[null,null,null,null,null,"NAIC Class 4",null,{"$f":"Import!I444","v":0},null,{"$f":"Import!I451","v":0},null,{"$f":"Import!I458","v":0},null,{"$f":"Import!I465","v":0}]
[null,16,"Total Other Securities",null,null,"NAIC Class 5",null,{"$f":"Import!I445","v":0},null,{"$f":"Import!I452","v":0},null,{"$f":"Import!I459","v":0},null,{"$f":"Import!I466","v":0},null,null,null,null,null,{"$f":"SUM(T96:T101)","v":0},null,{"$f":"SUM(V96:V101)","v":0}]
[null,null,null,null,null,"NAIC Class 6",null,{"$f":"Import!I446","v":0},null,{"$f":"Import!I453","v":0},null,{"$f":"Import!I460","v":0},null,{"$f":"Import!I467","v":0}]
[null,"Equities Holdings"]
[null,17,"Strategic Holdings - Listed",null,null,null,null,{"$f":"SUM(H98:H103)","v":0},null,{"$f":"SUM(J98:J103)","v":0},null,{"$f":"SUM(L98:L103)","v":0},null,{"$f":"SUM(N98:N103)","v":0},null,null,null,null,null,{"$f":"Import!I417","v":0},null,{"$f":"Import!K417","v":0}]
[null,18,"Duration Based",null,null,null,null,null,null,null,null,null,null,null,null,null,null,null,null,{"$f":"Import!I418","v":0},null,{"$f":"Import!K418","v":0}]
[null,19,"Listed Equity Securities in Developed Markets",null,null,null,null,null,null,null,null,null,null,null,null,null,null,null,null,{"$f":"Import!I419","v":0},null,{"$f":"Import!K419","v":0}]
[null,20,"Preferred Stocks, BSCR Rating 1",null,null,null,null,null,null,null,null,null,null,null,null,null,null,null,null,{"$f":"Import!I420","v":0},null,{"$f":"Import!K420","v":0}]
[null,21,"Preferred Stocks, BSCR Rating 2",null,null,null,null,null,null,null,null,null,null,null,null,null,null,null,null,{"$f":"Import!I421","v":0},null,{"$f":"Import!K421","v":0}]
[null,22,"Preferred Stocks, BSCR Rating 3",null,null,null,null,null,null,null,null,null,null,null,null,null,null,null,null,{"$f":"Import!I422","v":0},null,{"$f":"Import!K422","v":0}]
[null,23,"Preferred Stocks, BSCR Rating 4",null,null,null,null,null,null,null,null,null,null,null,null,null,null,null,null,{"$f":"Import!I423","v":0},null,{"$f":"Import!K423","v":0}]
[null,24,"Preferred Stocks, BSCR Rating 5",null,null,null,null,null,null,null,null,null,null,null,null,null,null,null,null,{"$f":"Import!I424","v":0},null,{"$f":"Import!K424","v":0}]
[null,25,"Preferred Stocks, BSCR Rating 6",null,null,null,null,null,null,null,null,null,null,null,null,null,null,null,null,{"$f":"Import!I425","v":0},null,{"$f":"Import!K425","v":0}]
[null,26,"Preferred Stocks, BSCR Rating 7",null,null,null,null,null,null,null,null,null,null,null,null,null,null,null,null,{"$f":"Import!I426","v":0},null,{"$f":"Import!K426","v":0}]
[null,27,"Preferred Stocks, BSCR Rating 8",null,null,null,null,null,null,null,null,null,null,null,null,null,null,null,null,{"$f":"Import!I427","v":0},null,{"$f":"Import!K427","v":0}]
[null,28,"Equity Derivatives on Type 1 Equities",null,null,null,null,null,null,null,null,null,null,null,null,null,null,null,null,{"$f":"Import!I428","v":0},null,{"$f":"Import!K428","v":0}]
[null,29,"Strategic Holdings - Unlisted",null,null,null,null,null,null,null,null,null,null,null,null,null,null,null,null,{"$f":"Import!I429","v":0},null,{"$f":"Import!K429","v":0}]
[null,30,"Other Equities / Other Assets",null,null,null,null,null,null,null,null,null,null,null,null,null,null,null,null,{"$f":"Import!I430","v":0},null,{"$f":"Import!K430","v":0}]
[null,31,"Letters of Credit",null,null,null,null,null,null,null,null,null,null,null,null,null,null,null,null,{"$f":"Import!I431","v":0},null,{"$f":"Import!K431","v":0}]
[null,32,"Intangible assets",null,null,null,null,null,null,null,null,null,null,null,null,null,null,null,null,{"$f":"Import!I432","v":0},null,{"$f":"Import!K432","v":0}]
[null,33,"Pension Benefit Surplus",null,null,null,null,null,null,null,null,null,null,null,null,null,null,null,null,{"$f":"Import!I433","v":0},null,{"$f":"Import!K433","v":0}]
[null,34,"Equity Derivatives on Type 2 Equities",null,null,null,null,null,null,null,null,null,null,null,null,null,null,null,null,{"$f":"Import!I434","v":0},null,{"$f":"Import!K434","v":0}]
[null,35,"Infrastructure",null,null,null,null,null,null,null,null,null,null,null,null,null,null,null,null,{"$f":"Import!I435","v":0},null,{"$f":"Import!K435","v":0}]
[null,36,"Derivatives on Infrastructure",null,null,null,null,null,null,null,null,null,null,null,null,null,null,null,null,{"$f":"Import!I436","v":0},null,{"$f":"Import!K436","v":0}]
[null,37,"Equity Real Estate 1",null,null,null,null,null,null,null,null,null,null,null,null,null,null,null,null,{"$f":"Import!I437","v":0},null,{"$f":"Import!K437","v":0}]
[null,38,"Equity Real Estate 2",null,null,null,null,null,null,null,null,null,null,null,null,null,null,null,null,{"$f":"Import!I438","v":0},null,{"$f":"Import!K438","v":0}]
[]
[null,39,"Total Equity Holdings",null,null,null,null,null,null,null,null,null,null,null,null,null,null,null,null,{"$f":"SUM(T105:T126)","v":0},null,{"$f":"SUM(V105:V126)","v":0}]
[]
[]
[]
[]
[]
[null,null,null,{"$f":"IF(D9=\"\",\"\",TEXT(DATE(YEAR(D9+1)-1,MONTH(D9+1),DAY(D9+1)),\"mm/dd/yyyy\"))","v":"01/01/2019"},null,{"$f":"IF(F9=\"\",\"\",TEXT(DATE(YEAR(F9+1)-1,MONTH(F9+1),DAY(F9+1)),\"mm/dd/yyyy\"))","v":"01/01/2018"}]
[null,null,null,{"$f":"IF(D9=\"\",\"\",TEXT(D9,\"mm/dd/yyyy\"))","v":"12/31/2019"},null,{"$f":"IF(F9=\"\",\"\",TEXT(F9,\"mm/dd/yyyy\"))","v":"12/31/2018"}]
[null,null,null,"brrt_BondsAndDebentures",null,"brrt_BondsAndDebentures",null,"brrt_BondsAndDebentures",null,"brrt_BondsAndDebentures",null,"brrt_BondsAndDebentures",null,"brrt_BondsAndDebentures",null,"brrt_BondsAndDebentures",null,"brrt_BondsAndDebentures",null,"brrt_BondsAndDebentures",null,"brrt_BondsAndDebentures"]
[null,null,null,"brrt_SecurityTypeAxis_brrt_CorporateSovereignBondsMember",null,"brrt_SecurityTypeAxis_brrt_CorporateSovereignBondsMember",null,"brrt_SecurityTypeAxis_brrt_ResidentialMortgageBackedSecuritiesMember",null,"brrt_SecurityTypeAxis_brrt_ResidentialMortgageBackedSecuritiesMember",null,"brrt_SecurityTypeAxis_brrt_CommercialMortgageBackedSecuritiesAssetBackedSecuritiesMember",null,"brrt_SecurityTypeAxis_brrt_CommercialMortgageBackedSecuritiesAssetBackedSecuritiesMember",null,"brrt_SecurityTypeAxis_brrt_MutualFundsMember",null,"brrt_SecurityTypeAxis_brrt_MutualFundsMember",null,"brrt_SecurityTypeAxis_brrt_TotalMember",null,"brrt_SecurityTypeAxis_brrt_TotalMember"]
[null,null,null,{"$f":"XBRLMap(D13,D$136&\".\"&$Y13&\".\"&$D$137,$D$134,$D$135,CONFIGURATION!$B$10,\"BMA\",CONFIGURATION!$B$1,\"bscr\",CONFIGURATION!$B$12)","v":"Mapped"},null,{"$f":"XBRLMap(F13,F$136&\".\"&$Y13&\".\"&$F$137,$F$134,$F$135,CONFIGURATION!$B$10,\"BMA\",CONFIGURATION!$B$1,\"bscr\",CONFIGURATION!$B$12)","v":"Mapped"},null,null,null,null,null,null,null,null,null,{"$f":"XBRLMap(P13,P$136&\".\"&$Y13&\".\"&$P$137,$D$134,$D$135,CONFIGURATION!$B$10,\"BMA\",CONFIGURATION!$B$1,\"bscr\",CONFIGURATION!$B$12)","v":"Mapped"},null,{"$f":"XBRLMap(R13,R$136&\".\"&$Y13&\".\"&$R$137,$F$134,$F$135,CONFIGURATION!$B$10,\"BMA\",CONFIGURATION!$B$1,\"bscr\",CONFIGURATION!$B$12)","v":"Mapped"},null,{"$f":"XBRLMap(T13,T$136&\".\"&$Y13&\".\"&$T$137,$D$134,$D$135,CONFIGURATION!$B$10,\"BMA\",CONFIGURATION!$B$1,\"bscr\",CONFIGURATION!$B$12)","v":"Mapped"},null,{"$f":"XBRLMap(V13,V$136&\".\"&$Y13&\".\"&$V$137,$F$134,$F$135,CONFIGURATION!$B$10,\"BMA\",CONFIGURATION!$B$1,\"bscr\",CONFIGURATION!$B$12)","v":"Mapped"}]
[null,null,null,{"$f":"XBRLMap(D14,D$136&\".\"&$Y14&\".\"&$D$137,$D$134,$D$135,CONFIGURATION!$B$10,\"BMA\",CONFIGURATION!$B$1,\"bscr\",CONFIGURATION!$B$12)","v":"Mapped"},null,{"$f":"XBRLMap(F14,F$136&\".\"&$Y14&\".\"&$F$137,$F$134,$F$135,CONFIGURATION!$B$10,\"BMA\",CONFIGURATION!$B$1,\"bscr\",CONFIGURATION!$B$12)","v":"Mapped"},null,{"$f":"XBRLMap(H14,H$136&\".\"&$Y14&\".\"&$H$137,$D$134,$D$135,CONFIGURATION!$B$10,\"BMA\",CONFIGURATION!$B$1,\"bscr\",CONFIGURATION!$B$12)","v":"Mapped"},null,{"$f":"XBRLMap(J14,J$136&\".\"&$Y14&\".\"&$J$137,$F$134,$F$135,CONFIGURATION!$B$10,\"BMA\",CONFIGURATION!$B$1,\"bscr\",CONFIGURATION!$B$12)","v":"Mapped"},null,{"$f":"XBRLMap(L14,L$136&\".\"&$Y14&\".\"&$L$137,$D$134,$D$135,CONFIGURATION!$B$10,\"BMA\",CONFIGURATION!$B$1,\"bscr\",CONFIGURATION!$B$12)","v":"Mapped"},null,{"$f":"XBRLMap(N14,N$136&\".\"&$Y14&\".\"&$N$137,$F$134,$F$135,CONFIGURATION!$B$10,\"BMA\",CONFIGURATION!$B$1,\"bscr\",CONFIGURATION!$B$12)","v":"Mapped"},null,{"$f":"XBRLMap(P14,P$136&\".\"&$Y14&\".\"&$P$137,$D$134,$D$135,CONFIGURATION!$B$10,\"BMA\",CONFIGURATION!$B$1,\"bscr\",CONFIGURATION!$B$12)","v":"Mapped"},null,{"$f":"XBRLMap(R14,R$136&\".\"&$Y14&\".\"&$R$137,$F$134,$F$135,CONFIGURATION!$B$10,\"BMA\",CONFIGURATION!$B$1,\"bscr\",CONFIGURATION!$B$12)","v":"Mapped"},null,{"$f":"XBRLMap(T14,T$136&\".\"&$Y14&\".\"&$T$137,$D$134,$D$135,CONFIGURATION!$B$10,\"BMA\",CONFIGURATION!$B$1,\"bscr\",CONFIGURATION!$B$12)","v":"Mapped"},null,{"$f":"XBRLMap(V14,V$136&\".\"&$Y14&\".\"&$V$137,$F$134,$F$135,CONFIGURATION!$B$10,\"BMA\",CONFIGURATION!$B$1,\"bscr\",CONFIGURATION!$B$12)","v":"Mapped"}]
[null,null,null,{"$f":"XBRLMap(D15,D$136&\".\"&$Y15&\".\"&$D$137,$D$134,$D$135,CONFIGURATION!$B$10,\"BMA\",CONFIGURATION!$B$1,\"bscr\",CONFIGURATION!$B$12)","v":"Mapped"},null,{"$f":"XBRLMap(F15,F$136&\".\"&$Y15&\".\"&$F$137,$F$134,$F$135,CONFIGURATION!$B$10,\"BMA\",CONFIGURATION!$B$1,\"bscr\",CONFIGURATION!$B$12)","v":"Mapped"},null,{"$f":"XBRLMap(H15,H$136&\".\"&$Y15&\".\"&$H$137,$D$134,$D$135,CONFIGURATION!$B$10,\"BMA\",CONFIGURATION!$B$1,\"bscr\",CONFIGURATION!$B$12)","v":"Mapped"},null,{"$f":"XBRLMap(J15,J$136&\".\"&$Y15&\".\"&$J$137,$F$134,$F$135,CONFIGURATION!$B$10,\"BMA\",CONFIGURATION!$B$1,\"bscr\",CONFIGURATION!$B$12)","v":"Mapped"},null,{"$f":"XBRLMap(L15,L$136&\".\"&$Y15&\".\"&$L$137,$D$134,$D$135,CONFIGURATION!$B$10,\"BMA\",CONFIGURATION!$B$1,\"bscr\",CONFIGURATION!$B$12)","v":"Mapped"},null,{"$f":"XBRLMap(N15,N$136&\".\"&$Y15&\".\"&$N$137,$F$134,$F$135,CONFIGURATION!$B$10,\"BMA\",CONFIGURATION!$B$1,\"bscr\",CONFIGURATION!$B$12)","v":"Mapped"},null,{"$f":"XBRLMap(P15,P$136&\".\"&$Y15&\".\"&$P$137,$D$134,$D$135,CONFIGURATION!$B$10,\"BMA\",CONFIGURATION!$B$1,\"bscr\",CONFIGURATION!$B$12)","v":"Mapped"},null,{"$f":"XBRLMap(R15,R$136&\".\"&$Y15&\".\"&$R$137,$F$134,$F$135,CONFIGURATION!$B$10,\"BMA\",CONFIGURATION!$B$1,\"bscr\",CONFIGURATION!$B$12)","v":"Mapped"},null,{"$f":"XBRLMap(T15,T$136&\".\"&$Y15&\".\"&$T$137,$D$134,$D$135,CONFIGURATION!$B$10,\"BMA\",CONFIGURATION!$B$1,\"bscr\",CONFIGURATION!$B$12)","v":"Mapped"},null,{"$f":"XBRLMap(V15,V$136&\".\"&$Y15&\".\"&$V$137,$F$134,$F$135,CONFIGURATION!$B$10,\"BMA\",CONFIGURATION!$B$1,\"bscr\",CONFIGURATION!$B$12)","v":"Mapped"}]
[null,null,null,{"$f":"XBRLMap(D16,D$136&\".\"&$Y16&\".\"&$D$137,$D$134,$D$135,CONFIGURATION!$B$10,\"BMA\",CONFIGURATION!$B$1,\"bscr\",CONFIGURATION!$B$12)","v":"Mapped"},null,{"$f":"XBRLMap(F16,F$136&\".\"&$Y16&\".\"&$F$137,$F$134,$F$135,CONFIGURATION!$B$10,\"BMA\",CONFIGURATION!$B$1,\"bscr\",CONFIGURATION!$B$12)","v":"Mapped"},null,{"$f":"XBRLMap(H16,H$136&\".\"&$Y16&\".\"&$H$137,$D$134,$D$135,CONFIGURATION!$B$10,\"BMA\",CONFIGURATION!$B$1,\"bscr\",CONFIGURATION!$B$12)","v":"Mapped"},null,{"$f":"XBRLMap(J16,J$136&\".\"&$Y16&\".\"&$J$137,$F$134,$F$135,CONFIGURATION!$B$10,\"BMA\",CONFIGURATION!$B$1,\"bscr\",CONFIGURATION!$B$12)","v":"Mapped"},null,{"$f":"XBRLMap(L16,L$136&\".\"&$Y16&\".\"&$L$137,$D$134,$D$135,CONFIGURATION!$B$10,\"BMA\",CONFIGURATION!$B$1,\"bscr\",CONFIGURATION!$B$12)","v":"Mapped"},null,{"$f":"XBRLMap(N16,N$136&\".\"&$Y16&\".\"&$N$137,$F$134,$F$135,CONFIGURATION!$B$10,\"BMA\",CONFIGURATION!$B$1,\"bscr\",CONFIGURATION!$B$12)","v":"Mapped"},null,{"$f":"XBRLMap(P16,P$136&\".\"&$Y16&\".\"&$P$137,$D$134,$D$135,CONFIGURATION!$B$10,\"BMA\",CONFIGURATION!$B$1,\"bscr\",CONFIGURATION!$B$12)","v":"Mapped"},null,{"$f":"XBRLMap(R16,R$136&\".\"&$Y16&\".\"&$R$137,$F$134,$F$135,CONFIGURATION!$B$10,\"BMA\",CONFIGURATION!$B$1,\"bscr\",CONFIGURATION!$B$12)","v":"Mapped"},null,{"$f":"XBRLMap(T16,T$136&\".\"&$Y16&\".\"&$T$137,$D$134,$D$135,CONFIGURATION!$B$10,\"BMA\",CONFIGURATION!$B$1,\"bscr\",CONFIGURATION!$B$12)","v":"Mapped"},null,{"$f":"XBRLMap(V16,V$136&\".\"&$Y16&\".\"&$V$137,$F$134,$F$135,CONFIGURATION!$B$10,\"BMA\",CONFIGURATION!$B$1,\"bscr\",CONFIGURATION!$B$12)","v":"Mapped"}]
[null,null,null,{"$f":"XBRLMap(D17,D$136&\".\"&$Y17&\".\"&$D$137,$D$134,$D$135,CONFIGURATION!$B$10,\"BMA\",CONFIGURATION!$B$1,\"bscr\",CONFIGURATION!$B$12)","v":"Mapped"},null,{"$f":"XBRLMap(F17,F$136&\".\"&$Y17&\".\"&$F$137,$F$134,$F$135,CONFIGURATION!$B$10,\"BMA\",CONFIGURATION!$B$1,\"bscr\",CONFIGURATION!$B$12)","v":"Mapped"},null,{"$f":"XBRLMap(H17,H$136&\".\"&$Y17&\".\"&$H$137,$D$134,$D$135,CONFIGURATION!$B$10,\"BMA\",CONFIGURATION!$B$1,\"bscr\",CONFIGURATION!$B$12)","v":"Mapped"},null,{"$f":"XBRLMap(J17,J$136&\".\"&$Y17&\".\"&$J$137,$F$134,$F$135,CONFIGURATION!$B$10,\"BMA\",CONFIGURATION!$B$1,\"bscr\",CONFIGURATION!$B$12)","v":"Mapped"},null,{"$f":"XBRLMap(L17,L$136&\".\"&$Y17&\".\"&$L$137,$D$134,$D$135,CONFIGURATION!$B$10,\"BMA\",CONFIGURATION!$B$1,\"bscr\",CONFIGURATION!$B$12)","v":"Mapped"},null,{"$f":"XBRLMap(N17,N$136&\".\"&$Y17&\".\"&$N$137,$F$134,$F$135,CONFIGURATION!$B$10,\"BMA\",CONFIGURATION!$B$1,\"bscr\",CONFIGURATION!$B$12)","v":"Mapped"},null,{"$f":"XBRLMap(P17,P$136&\".\"&$Y17&\".\"&$P$137,$D$134,$D$135,CONFIGURATION!$B$10,\"BMA\",CONFIGURATION!$B$1,\"bscr\",CONFIGURATION!$B$12)","v":"Mapped"},null,{"$f":"XBRLMap(R17,R$136&\".\"&$Y17&\".\"&$R$137,$F$134,$F$135,CONFIGURATION!$B$10,\"BMA\",CONFIGURATION!$B$1,\"bscr\",CONFIGURATION!$B$12)","v":"Mapped"},null,{"$f":"XBRLMap(T17,T$136&\".\"&$Y17&\".\"&$T$137,$D$134,$D$135,CONFIGURATION!$B$10,\"BMA\",CONFIGURATION!$B$1,\"bscr\",CONFIGURATION!$B$12)","v":"Mapped"},null,{"$f":"XBRLMap(V17,V$136&\".\"&$Y17&\".\"&$V$137,$F$134,$F$135,CONFIGURATION!$B$10,\"BMA\",CONFIGURATION!$B$1,\"bscr\",CONFIGURATION!$B$12)","v":"Mapped"}]
[null,null,null,{"$f":"XBRLMap(D18,D$136&\".\"&$Y18&\".\"&$D$137,$D$134,$D$135,CONFIGURATION!$B$10,\"BMA\",CONFIGURATION!$B$1,\"bscr\",CONFIGURATION!$B$12)","v":"Mapped"},null,{"$f":"XBRLMap(F18,F$136&\".\"&$Y18&\".\"&$F$137,$F$134,$F$135,CONFIGURATION!$B$10,\"BMA\",CONFIGURATION!$B$1,\"bscr\",CONFIGURATION!$B$12)","v":"Mapped"},null,{"$f":"XBRLMap(H18,H$136&\".\"&$Y18&\".\"&$H$137,$D$134,$D$135,CONFIGURATION!$B$10,\"BMA\",CONFIGURATION!$B$1,\"bscr\",CONFIGURATION!$B$12)","v":"Mapped"},null,{"$f":"XBRLMap(J18,J$136&\".\"&$Y18&\".\"&$J$137,$F$134,$F$135,CONFIGURATION!$B$10,\"BMA\",CONFIGURATION!$B$1,\"bscr\",CONFIGURATION!$B$12)","v":"Mapped"},null,{"$f":"XBRLMap(L18,L$136&\".\"&$Y18&\".\"&$L$137,$D$134,$D$135,CONFIGURATION!$B$10,\"BMA\",CONFIGURATION!$B$1,\"bscr\",CONFIGURATION!$B$12)","v":"Mapped"},null,{"$f":"XBRLMap(N18,N$136&\".\"&$Y18&\".\"&$N$137,$F$134,$F$135,CONFIGURATION!$B$10,\"BMA\",CONFIGURATION!$B$1,\"bscr\",CONFIGURATION!$B$12)","v":"Mapped"},null,{"$f":"XBRLMap(P18,P$136&\".\"&$Y18&\".\"&$P$137,$D$134,$D$135,CONFIGURATION!$B$10,\"BMA\",CONFIGURATION!$B$1,\"bscr\",CONFIGURATION!$B$12)","v":"Mapped"},null,{"$f":"XBRLMap(R18,R$136&\".\"&$Y18&\".\"&$R$137,$F$134,$F$135,CONFIGURATION!$B$10,\"BMA\",CONFIGURATION!$B$1,\"bscr\",CONFIGURATION!$B$12)","v":"Mapped"},null,{"$f":"XBRLMap(T18,T$136&\".\"&$Y18&\".\"&$T$137,$D$134,$D$135,CONFIGURATION!$B$10,\"BMA\",CONFIGURATION!$B$1,\"bscr\",CONFIGURATION!$B$12)","v":"Mapped"},null,{"$f":"XBRLMap(V18,V$136&\".\"&$Y18&\".\"&$V$137,$F$134,$F$135,CONFIGURATION!$B$10,\"BMA\",CONFIGURATION!$B$1,\"bscr\",CONFIGURATION!$B$12)","v":"Mapped"}]
[null,null,null,{"$f":"XBRLMap(D19,D$136&\".\"&$Y19&\".\"&$D$137,$D$134,$D$135,CONFIGURATION!$B$10,\"BMA\",CONFIGURATION!$B$1,\"bscr\",CONFIGURATION!$B$12)","v":"Mapped"},null,{"$f":"XBRLMap(F19,F$136&\".\"&$Y19&\".\"&$F$137,$F$134,$F$135,CONFIGURATION!$B$10,\"BMA\",CONFIGURATION!$B$1,\"bscr\",CONFIGURATION!$B$12)","v":"Mapped"},null,{"$f":"XBRLMap(H19,H$136&\".\"&$Y19&\".\"&$H$137,$D$134,$D$135,CONFIGURATION!$B$10,\"BMA\",CONFIGURATION!$B$1,\"bscr\",CONFIGURATION!$B$12)","v":"Mapped"},null,{"$f":"XBRLMap(J19,J$136&\".\"&$Y19&\".\"&$J$137,$F$134,$F$135,CONFIGURATION!$B$10,\"BMA\",CONFIGURATION!$B$1,\"bscr\",CONFIGURATION!$B$12)","v":"Mapped"},null,{"$f":"XBRLMap(L19,L$136&\".\"&$Y19&\".\"&$L$137,$D$134,$D$135,CONFIGURATION!$B$10,\"BMA\",CONFIGURATION!$B$1,\"bscr\",CONFIGURATION!$B$12)","v":"Mapped"},null,{"$f":"XBRLMap(N19,N$136&\".\"&$Y19&\".\"&$N$137,$F$134,$F$135,CONFIGURATION!$B$10,\"BMA\",CONFIGURATION!$B$1,\"bscr\",CONFIGURATION!$B$12)","v":"Mapped"},null,{"$f":"XBRLMap(P19,P$136&\".\"&$Y19&\".\"&$P$137,$D$134,$D$135,CONFIGURATION!$B$10,\"BMA\",CONFIGURATION!$B$1,\"bscr\",CONFIGURATION!$B$12)","v":"Mapped"},null,{"$f":"XBRLMap(R19,R$136&\".\"&$Y19&\".\"&$R$137,$F$134,$F$135,CONFIGURATION!$B$10,\"BMA\",CONFIGURATION!$B$1,\"bscr\",CONFIGURATION!$B$12)","v":"Mapped"},null,{"$f":"XBRLMap(T19,T$136&\".\"&$Y19&\".\"&$T$137,$D$134,$D$135,CONFIGURATION!$B$10,\"BMA\",CONFIGURATION!$B$1,\"bscr\",CONFIGURATION!$B$12)","v":"Mapped"},null,{"$f":"XBRLMap(V19,V$136&\".\"&$Y19&\".\"&$V$137,$F$134,$F$135,CONFIGURATION!$B$10,\"BMA\",CONFIGURATION!$B$1,\"bscr\",CONFIGURATION!$B$12)","v":"Mapped"}]
[null,null,null,{"$f":"XBRLMap(D20,D$136&\".\"&$Y20&\".\"&$D$137,$D$134,$D$135,CONFIGURATION!$B$10,\"BMA\",CONFIGURATION!$B$1,\"bscr\",CONFIGURATION!$B$12)","v":"Mapped"},null,{"$f":"XBRLMap(F20,F$136&\".\"&$Y20&\".\"&$F$137,$F$134,$F$135,CONFIGURATION!$B$10,\"BMA\",CONFIGURATION!$B$1,\"bscr\",CONFIGURATION!$B$12)","v":"Mapped"},null,{"$f":"XBRLMap(H20,H$136&\".\"&$Y20&\".\"&$H$137,$D$134,$D$135,CONFIGURATION!$B$10,\"BMA\",CONFIGURATION!$B$1,\"bscr\",CONFIGURATION!$B$12)","v":"Mapped"},null,{"$f":"XBRLMap(J20,J$136&\".\"&$Y20&\".\"&$J$137,$F$134,$F$135,CONFIGURATION!$B$10,\"BMA\",CONFIGURATION!$B$1,\"bscr\",CONFIGURATION!$B$12)","v":"Mapped"},null,{"$f":"XBRLMap(L20,L$136&\".\"&$Y20&\".\"&$L$137,$D$134,$D$135,CONFIGURATION!$B$10,\"BMA\",CONFIGURATION!$B$1,\"bscr\",CONFIGURATION!$B$12)","v":"Mapped"},null,{"$f":"XBRLMap(N20,N$136&\".\"&$Y20&\".\"&$N$137,$F$134,$F$135,CONFIGURATION!$B$10,\"BMA\",CONFIGURATION!$B$1,\"bscr\",CONFIGURATION!$B$12)","v":"Mapped"},null,{"$f":"XBRLMap(P20,P$136&\".\"&$Y20&\".\"&$P$137,$D$134,$D$135,CONFIGURATION!$B$10,\"BMA\",CONFIGURATION!$B$1,\"bscr\",CONFIGURATION!$B$12)","v":"Mapped"},null,{"$f":"XBRLMap(R20,R$136&\".\"&$Y20&\".\"&$R$137,$F$134,$F$135,CONFIGURATION!$B$10,\"BMA\",CONFIGURATION!$B$1,\"bscr\",CONFIGURATION!$B$12)","v":"Mapped"},null,{"$f":"XBRLMap(T20,T$136&\".\"&$Y20&\".\"&$T$137,$D$134,$D$135,CONFIGURATION!$B$10,\"BMA\",CONFIGURATION!$B$1,\"bscr\",CONFIGURATION!$B$12)","v":"Mapped"},null,{"$f":"XBRLMap(V20,V$136&\".\"&$Y20&\".\"&$V$137,$F$134,$F$135,CONFIGURATION!$B$10,\"BMA\",CONFIGURATION!$B$1,\"bscr\",CONFIGURATION!$B$12)","v":"Mapped"}]
[null,null,null,{"$f":"XBRLMap(D21,D$136&\".\"&$Y21&\".\"&$D$137,$D$134,$D$135,CONFIGURATION!$B$10,\"BMA\",CONFIGURATION!$B$1,\"bscr\",CONFIGURATION!$B$12)","v":"Mapped"},null,{"$f":"XBRLMap(F21,F$136&\".\"&$Y21&\".\"&$F$137,$F$134,$F$135,CONFIGURATION!$B$10,\"BMA\",CONFIGURATION!$B$1,\"bscr\",CONFIGURATION!$B$12)","v":"Mapped"},null,{"$f":"XBRLMap(H21,H$136&\".\"&$Y21&\".\"&$H$137,$D$134,$D$135,CONFIGURATION!$B$10,\"BMA\",CONFIGURATION!$B$1,\"bscr\",CONFIGURATION!$B$12)","v":"Mapped"},null,{"$f":"XBRLMap(J21,J$136&\".\"&$Y21&\".\"&$J$137,$F$134,$F$135,CONFIGURATION!$B$10,\"BMA\",CONFIGURATION!$B$1,\"bscr\",CONFIGURATION!$B$12)","v":"Mapped"},null,{"$f":"XBRLMap(L21,L$136&\".\"&$Y21&\".\"&$L$137,$D$134,$D$135,CONFIGURATION!$B$10,\"BMA\",CONFIGURATION!$B$1,\"bscr\",CONFIGURATION!$B$12)","v":"Mapped"},null,{"$f":"XBRLMap(N21,N$136&\".\"&$Y21&\".\"&$N$137,$F$134,$F$135,CONFIGURATION!$B$10,\"BMA\",CONFIGURATION!$B$1,\"bscr\",CONFIGURATION!$B$12)","v":"Mapped"},null,{"$f":"XBRLMap(P21,P$136&\".\"&$Y21&\".\"&$P$137,$D$134,$D$135,CONFIGURATION!$B$10,\"BMA\",CONFIGURATION!$B$1,\"bscr\",CONFIGURATION!$B$12)","v":"Mapped"},null,{"$f":"XBRLMap(R21,R$136&\".\"&$Y21&\".\"&$R$137,$F$134,$F$135,CONFIGURATION!$B$10,\"BMA\",CONFIGURATION!$B$1,\"bscr\",CONFIGURATION!$B$12)","v":"Mapped"},null,{"$f":"XBRLMap(T21,T$136&\".\"&$Y21&\".\"&$T$137,$D$134,$D$135,CONFIGURATION!$B$10,\"BMA\",CONFIGURATION!$B$1,\"bscr\",CONFIGURATION!$B$12)","v":"Mapped"},null,{"$f":"XBRLMap(V21,V$136&\".\"&$Y21&\".\"&$V$137,$F$134,$F$135,CONFIGURATION!$B$10,\"BMA\",CONFIGURATION!$B$1,\"bscr\",CONFIGURATION!$B$12)","v":"Mapped"}]
[]
[null,null,null,{"$f":"XBRLMap(D23,D$136&\".\"&$Y23&\".\"&$D$137,$D$134,$D$135,CONFIGURATION!$B$10,\"BMA\",CONFIGURATION!$B$1,\"bscr\",CONFIGURATION!$B$12)","v":"Mapped"},null,{"$f":"XBRLMap(F23,F$136&\".\"&$Y23&\".\"&$F$137,$F$134,$F$135,CONFIGURATION!$B$10,\"BMA\",CONFIGURATION!$B$1,\"bscr\",CONFIGURATION!$B$12)","v":"Mapped"},null,{"$f":"XBRLMap(H23,H$136&\".\"&$Y23&\".\"&$H$137,$D$134,$D$135,CONFIGURATION!$B$10,\"BMA\",CONFIGURATION!$B$1,\"bscr\",CONFIGURATION!$B$12)","v":"Mapped"},null,{"$f":"XBRLMap(J23,J$136&\".\"&$Y23&\".\"&$J$137,$F$134,$F$135,CONFIGURATION!$B$10,\"BMA\",CONFIGURATION!$B$1,\"bscr\",CONFIGURATION!$B$12)","v":"Mapped"},null,{"$f":"XBRLMap(L23,L$136&\".\"&$Y23&\".\"&$L$137,$D$134,$D$135,CONFIGURATION!$B$10,\"BMA\",CONFIGURATION!$B$1,\"bscr\",CONFIGURATION!$B$12)","v":"Mapped"},null,{"$f":"XBRLMap(N23,N$136&\".\"&$Y23&\".\"&$N$137,$F$134,$F$135,CONFIGURATION!$B$10,\"BMA\",CONFIGURATION!$B$1,\"bscr\",CONFIGURATION!$B$12)","v":"Mapped"},null,{"$f":"XBRLMap(P23,P$136&\".\"&$Y23&\".\"&$P$137,$D$134,$D$135,CONFIGURATION!$B$10,\"BMA\",CONFIGURATION!$B$1,\"bscr\",CONFIGURATION!$B$12)","v":"Mapped"},null,{"$f":"XBRLMap(R23,R$136&\".\"&$Y23&\".\"&$R$137,$F$134,$F$135,CONFIGURATION!$B$10,\"BMA\",CONFIGURATION!$B$1,\"bscr\",CONFIGURATION!$B$12)","v":"Mapped"},null,{"$f":"XBRLMap(T23,T$136&\".\"&$Y23&\".\"&$T$137,$D$134,$D$135,CONFIGURATION!$B$10,\"BMA\",CONFIGURATION!$B$1,\"bscr\",CONFIGURATION!$B$12)","v":"Mapped"},null,{"$f":"XBRLMap(V23,V$136&\".\"&$Y23&\".\"&$V$137,$F$134,$F$135,CONFIGURATION!$B$10,\"BMA\",CONFIGURATION!$B$1,\"bscr\",CONFIGURATION!$B$12)","v":"Mapped"}]
[null,null,null,null,null,null,null,null,null,null,null,null,null,null,null,null,null,null,null,"brrt_QuotedInvestmentsEquitiesCommonStocksMutualFunds",null,"brrt_QuotedInvestmentsEquitiesCommonStocksMutualFunds"]
[null,null,null,null,null,null,null,null,null,null,null,null,null,null,null,null,null,null,null,"brrt_UnquotedInvestmentsEquitiesCommonStocksMutualFunds",null,"brrt_UnquotedInvestmentsEquitiesCommonStocksMutualFunds"]
[null,null,null,"brrt_EquitiesCommonStocks",null,"brrt_EquitiesCommonStocks",null,"brrt_EquitiesPreferredStocks",null,"brrt_EquitiesPreferredStocks",null,"brrt_EquitiesMutualFunds",null,"brrt_EquitiesMutualFunds",null,null,null,null,null,"brrt_Equities",null,"brrt_Equities"]
[null,null,null,null,null,null,null,{"$f":"XBRLMap(#REF!,H$151&\".\"&#REF!,$D$134,$D$135,CONFIGURATION!$B$10,\"BMA\",CONFIGURATION!$B$1,\"bscr\",CONFIGURATION!$B$12)","v":{"$error":"#VALUE!"}},null,{"$f":"XBRLMap(#REF!,J$151&\".\"&#REF!,$F$134,$F$135,CONFIGURATION!$B$10,\"BMA\",CONFIGURATION!$B$1,\"bscr\",CONFIGURATION!$B$12)","v":{"$error":"#VALUE!"}},null,null,null,null,null,null,null,null,null,"The same data point as in column H",null,"The same data point as in column J"]
[null,null,null,null,null,null,null,{"$f":"XBRLMap(#REF!,H$151&\".\"&#REF!,$D$134,$D$135,CONFIGURATION!$B$10,\"BMA\",CONFIGURATION!$B$1,\"bscr\",CONFIGURATION!$B$12)","v":{"$error":"#VALUE!"}},null,{"$f":"XBRLMap(#REF!,J$151&\".\"&#REF!,$F$134,$F$135,CONFIGURATION!$B$10,\"BMA\",CONFIGURATION!$B$1,\"bscr\",CONFIGURATION!$B$12)","v":{"$error":"#VALUE!"}},null,null,null,null,null,null,null,null,null,"The same data point as in column H",null,"The same data point as in column J"]
[null,null,null,null,null,null,null,{"$f":"XBRLMap(#REF!,H$151&\".\"&#REF!,$D$134,$D$135,CONFIGURATION!$B$10,\"BMA\",CONFIGURATION!$B$1,\"bscr\",CONFIGURATION!$B$12)","v":{"$error":"#VALUE!"}},null,{"$f":"XBRLMap(#REF!,J$151&\".\"&#REF!,$F$134,$F$135,CONFIGURATION!$B$10,\"BMA\",CONFIGURATION!$B$1,\"bscr\",CONFIGURATION!$B$12)","v":{"$error":"#VALUE!"}},null,null,null,null,null,null,null,null,null,"The same data point as in column H",null,"The same data point as in column J"]
[null,null,null,null,null,null,null,{"$f":"XBRLMap(#REF!,H$151&\".\"&#REF!,$D$134,$D$135,CONFIGURATION!$B$10,\"BMA\",CONFIGURATION!$B$1,\"bscr\",CONFIGURATION!$B$12)","v":{"$error":"#VALUE!"}},null,{"$f":"XBRLMap(#REF!,J$151&\".\"&#REF!,$F$134,$F$135,CONFIGURATION!$B$10,\"BMA\",CONFIGURATION!$B$1,\"bscr\",CONFIGURATION!$B$12)","v":{"$error":"#VALUE!"}},null,null,null,null,null,null,null,null,null,"The same data point as in column H",null,"The same data point as in column J"]
[null,null,null,null,null,null,null,{"$f":"XBRLMap(#REF!,H$151&\".\"&#REF!,$D$134,$D$135,CONFIGURATION!$B$10,\"BMA\",CONFIGURATION!$B$1,\"bscr\",CONFIGURATION!$B$12)","v":{"$error":"#VALUE!"}},null,{"$f":"XBRLMap(#REF!,J$151&\".\"&#REF!,$F$134,$F$135,CONFIGURATION!$B$10,\"BMA\",CONFIGURATION!$B$1,\"bscr\",CONFIGURATION!$B$12)","v":{"$error":"#VALUE!"}},null,null,null,null,null,null,null,null,null,"The same data point as in column H",null,"The same data point as in column J"]
[null,null,null,null,null,null,null,{"$f":"XBRLMap(#REF!,H$151&\".\"&#REF!,$D$134,$D$135,CONFIGURATION!$B$10,\"BMA\",CONFIGURATION!$B$1,\"bscr\",CONFIGURATION!$B$12)","v":{"$error":"#VALUE!"}},null,{"$f":"XBRLMap(#REF!,J$151&\".\"&#REF!,$F$134,$F$135,CONFIGURATION!$B$10,\"BMA\",CONFIGURATION!$B$1,\"bscr\",CONFIGURATION!$B$12)","v":{"$error":"#VALUE!"}},null,null,null,null,null,null,null,null,null,"The same data point as in column H",null,"The same data point as in column J"]
[null,null,null,null,null,null,null,{"$f":"XBRLMap(#REF!,H$151&\".\"&#REF!,$D$134,$D$135,CONFIGURATION!$B$10,\"BMA\",CONFIGURATION!$B$1,\"bscr\",CONFIGURATION!$B$12)","v":{"$error":"#VALUE!"}},null,{"$f":"XBRLMap(#REF!,J$151&\".\"&#REF!,$F$134,$F$135,CONFIGURATION!$B$10,\"BMA\",CONFIGURATION!$B$1,\"bscr\",CONFIGURATION!$B$12)","v":{"$error":"#VALUE!"}},null,null,null,null,null,null,null,null,null,"The same data point as in column H",null,"The same data point as in column J"]
[null,null,null,null,null,null,null,{"$f":"XBRLMap(#REF!,H$151&\".\"&#REF!,$D$134,$D$135,CONFIGURATION!$B$10,\"BMA\",CONFIGURATION!$B$1,\"bscr\",CONFIGURATION!$B$12)","v":{"$error":"#VALUE!"}},null,{"$f":"XBRLMap(#REF!,J$151&\".\"&#REF!,$F$134,$F$135,CONFIGURATION!$B$10,\"BMA\",CONFIGURATION!$B$1,\"bscr\",CONFIGURATION!$B$12)","v":{"$error":"#VALUE!"}},null,null,null,null,null,null,null,null,null,"The same data point as in column H",null,"The same data point as in column J"]
[null,null,null,"Already mapped in Form 4",null,"Already mapped in Form 4",null,null,null,null,null,"Already mapped in Form 4",null,"Already mapped in Form 4",null,null,null,null,null,{"$f":"XBRLMap(#REF!,T$149,$D$134,$D$135,CONFIGURATION!$B$10,\"BMA\",CONFIGURATION!$B$1,\"bscr\",CONFIGURATION!$B$12)","v":{"$error":"#VALUE!"}},null,{"$f":"XBRLMap(#REF!,V$149,$F$134,$F$135,CONFIGURATION!$B$10,\"BMA\",CONFIGURATION!$B$1,\"bscr\",CONFIGURATION!$B$12)","v":{"$error":"#VALUE!"}}]
[null,null,null,"Already mapped in Form 4",null,"Already mapped in Form 4",null,null,null,null,null,"Already mapped in Form 4",null,"Already mapped in Form 4",null,null,null,null,null,{"$f":"XBRLMap(#REF!,T$150,$D$134,$D$135,CONFIGURATION!$B$10,\"BMA\",CONFIGURATION!$B$1,\"bscr\",CONFIGURATION!$B$12)","v":{"$error":"#VALUE!"}},null,{"$f":"XBRLMap(#REF!,V$150,$F$134,$F$135,CONFIGURATION!$B$10,\"BMA\",CONFIGURATION!$B$1,\"bscr\",CONFIGURATION!$B$12)","v":{"$error":"#VALUE!"}}]
[null,null,null,{"$f":"XBRLMap(#REF!,D$151,$D$134,$D$135,CONFIGURATION!$B$10,\"BMA\",CONFIGURATION!$B$1,\"bscr\",CONFIGURATION!$B$12)","v":{"$error":"#VALUE!"}},null,{"$f":"XBRLMap(#REF!,F$151,$F$134,$F$135,CONFIGURATION!$B$10,\"BMA\",CONFIGURATION!$B$1,\"bscr\",CONFIGURATION!$B$12)","v":{"$error":"#VALUE!"}},null,{"$f":"XBRLMap(#REF!,H$151&\".\"&#REF!,$D$134,$D$135,CONFIGURATION!$B$10,\"BMA\",CONFIGURATION!$B$1,\"bscr\",CONFIGURATION!$B$12)","v":{"$error":"#VALUE!"}},null,{"$f":"XBRLMap(#REF!,J$151&\".\"&#REF!,$F$134,$F$135,CONFIGURATION!$B$10,\"BMA\",CONFIGURATION!$B$1,\"bscr\",CONFIGURATION!$B$12)","v":{"$error":"#VALUE!"}},null,{"$f":"XBRLMap(#REF!,L$151,$D$134,$D$135,CONFIGURATION!$B$10,\"BMA\",CONFIGURATION!$B$1,\"bscr\",CONFIGURATION!$B$12)","v":{"$error":"#VALUE!"}},null,{"$f":"XBRLMap(#REF!,N$151,$F$134,$F$135,CONFIGURATION!$B$10,\"BMA\",CONFIGURATION!$B$1,\"bscr\",CONFIGURATION!$B$12)","v":{"$error":"#VALUE!"}},null,null,null,null,null,{"$f":"XBRLMap(#REF!,T$151,$D$134,$D$135,CONFIGURATION!$B$10,\"BMA\",CONFIGURATION!$B$1,\"bscr\",CONFIGURATION!$B$12)","v":{"$error":"#VALUE!"}},null,{"$f":"XBRLMap(#REF!,V$151,$F$134,$F$135,CONFIGURATION!$B$10,\"BMA\",CONFIGURATION!$B$1,\"bscr\",CONFIGURATION!$B$12)","v":{"$error":"#VALUE!"}}]
[]
[]
[]
[null,null,null,null,null,null,null,null,null,null,null,"brrt_BondsAndDebentures",null,"brrt_BondsAndDebentures",null,"brrt_BondsAndDebentures",null,"brrt_BondsAndDebentures"]
[null,null,null,null,null,null,null,null,null,null,null,"brrt_SecurityTypeAxis_brrt_ResidentialMortgageBackedSecuritiesMember",null,"brrt_SecurityTypeAxis_brrt_ResidentialMortgageBackedSecuritiesMember",null,"brrt_SecurityTypeAxis_brrt_CommercialMortgageBackedSecuritiesAssetBackedSecuritiesMember",null,"brrt_SecurityTypeAxis_brrt_CommercialMortgageBackedSecuritiesAssetBackedSecuritiesMember"]
[null,null,null,null,null,null,null,null,null,null,null,"brrt_ClassificationAxis_brrt_OriginalClassificationMember",null,"brrt_ClassificationAxis_brrt_RevisedClassificationMember",null,"brrt_ClassificationAxis_brrt_OriginalClassificationMember",null,"brrt_ClassificationAxis_brrt_RevisedClassificationMember"]
[null,null,null,null,null,null,null,null,null,null,null,{"$f":"XBRLMap(H28,L$166&\".\"&#REF!&\".\"&$L$167&\".\"&$L$168,$D$134,$D$135,CONFIGURATION!$B$10,\"BMA\",CONFIGURATION!$B$1,\"bscr\",CONFIGURATION!$B$12)","v":{"$error":"#VALUE!"}},null,{"$f":"XBRLMap(J28,N$166&\".\"&#REF!&\".\"&$N$167&\".\"&$N$168,$D$134,$D$135,CONFIGURATION!$B$10,\"BMA\",CONFIGURATION!$B$1,\"bscr\",CONFIGURATION!$B$12)","v":{"$error":"#VALUE!"}},null,{"$f":"XBRLMap(L28,P$166&\".\"&#REF!&\".\"&$P$167&\".\"&$P$168,$D$134,$D$135,CONFIGURATION!$B$10,\"BMA\",CONFIGURATION!$B$1,\"bscr\",CONFIGURATION!$B$12)","v":{"$error":"#VALUE!"}},null,{"$f":"XBRLMap(N28,R$166&\".\"&#REF!&\".\"&$R$167&\".\"&$R$168,$D$134,$D$135,CONFIGURATION!$B$10,\"BMA\",CONFIGURATION!$B$1,\"bscr\",CONFIGURATION!$B$12)","v":{"$error":"#VALUE!"}}]
[null,null,null,null,null,null,null,null,null,null,null,{"$f":"XBRLMap(H29,L$166&\".\"&#REF!&\".\"&$L$167&\".\"&$L$168,$D$134,$D$135,CONFIGURATION!$B$10,\"BMA\",CONFIGURATION!$B$1,\"bscr\",CONFIGURATION!$B$12)","v":{"$error":"#VALUE!"}},null,{"$f":"XBRLMap(J29,N$166&\".\"&#REF!&\".\"&$N$167&\".\"&$N$168,$D$134,$D$135,CONFIGURATION!$B$10,\"BMA\",CONFIGURATION!$B$1,\"bscr\",CONFIGURATION!$B$12)","v":{"$error":"#VALUE!"}},null,{"$f":"XBRLMap(L29,P$166&\".\"&#REF!&\".\"&$P$167&\".\"&$P$168,$D$134,$D$135,CONFIGURATION!$B$10,\"BMA\",CONFIGURATION!$B$1,\"bscr\",CONFIGURATION!$B$12)","v":{"$error":"#VALUE!"}},null,{"$f":"XBRLMap(N29,R$166&\".\"&#REF!&\".\"&$R$167&\".\"&$R$168,$D$134,$D$135,CONFIGURATION!$B$10,\"BMA\",CONFIGURATION!$B$1,\"bscr\",CONFIGURATION!$B$12)","v":{"$error":"#VALUE!"}}]
[null,null,null,null,null,null,null,null,null,null,null,{"$f":"XBRLMap(H30,L$166&\".\"&#REF!&\".\"&$L$167&\".\"&$L$168,$D$134,$D$135,CONFIGURATION!$B$10,\"BMA\",CONFIGURATION!$B$1,\"bscr\",CONFIGURATION!$B$12)","v":{"$error":"#VALUE!"}},null,{"$f":"XBRLMap(J30,N$166&\".\"&#REF!&\".\"&$N$167&\".\"&$N$168,$D$134,$D$135,CONFIGURATION!$B$10,\"BMA\",CONFIGURATION!$B$1,\"bscr\",CONFIGURATION!$B$12)","v":{"$error":"#VALUE!"}},null,{"$f":"XBRLMap(L30,P$166&\".\"&#REF!&\".\"&$P$167&\".\"&$P$168,$D$134,$D$135,CONFIGURATION!$B$10,\"BMA\",CONFIGURATION!$B$1,\"bscr\",CONFIGURATION!$B$12)","v":{"$error":"#VALUE!"}},null,{"$f":"XBRLMap(N30,R$166&\".\"&#REF!&\".\"&$R$167&\".\"&$R$168,$D$134,$D$135,CONFIGURATION!$B$10,\"BMA\",CONFIGURATION!$B$1,\"bscr\",CONFIGURATION!$B$12)","v":{"$error":"#VALUE!"}}]
[null,null,null,null,null,null,null,null,null,null,null,{"$f":"XBRLMap(H31,L$166&\".\"&#REF!&\".\"&$L$167&\".\"&$L$168,$D$134,$D$135,CONFIGURATION!$B$10,\"BMA\",CONFIGURATION!$B$1,\"bscr\",CONFIGURATION!$B$12)","v":{"$error":"#VALUE!"}},null,{"$f":"XBRLMap(J31,N$166&\".\"&#REF!&\".\"&$N$167&\".\"&$N$168,$D$134,$D$135,CONFIGURATION!$B$10,\"BMA\",CONFIGURATION!$B$1,\"bscr\",CONFIGURATION!$B$12)","v":{"$error":"#VALUE!"}},null,{"$f":"XBRLMap(L31,P$166&\".\"&#REF!&\".\"&$P$167&\".\"&$P$168,$D$134,$D$135,CONFIGURATION!$B$10,\"BMA\",CONFIGURATION!$B$1,\"bscr\",CONFIGURATION!$B$12)","v":{"$error":"#VALUE!"}},null,{"$f":"XBRLMap(N31,R$166&\".\"&#REF!&\".\"&$R$167&\".\"&$R$168,$D$134,$D$135,CONFIGURATION!$B$10,\"BMA\",CONFIGURATION!$B$1,\"bscr\",CONFIGURATION!$B$12)","v":{"$error":"#VALUE!"}}]
[null,null,null,null,null,null,null,null,null,null,null,{"$f":"XBRLMap(H32,L$166&\".\"&#REF!&\".\"&$L$167&\".\"&$L$168,$D$134,$D$135,CONFIGURATION!$B$10,\"BMA\",CONFIGURATION!$B$1,\"bscr\",CONFIGURATION!$B$12)","v":{"$error":"#VALUE!"}},null,{"$f":"XBRLMap(J32,N$166&\".\"&#REF!&\".\"&$N$167&\".\"&$N$168,$D$134,$D$135,CONFIGURATION!$B$10,\"BMA\",CONFIGURATION!$B$1,\"bscr\",CONFIGURATION!$B$12)","v":{"$error":"#VALUE!"}},null,{"$f":"XBRLMap(L32,P$166&\".\"&#REF!&\".\"&$P$167&\".\"&$P$168,$D$134,$D$135,CONFIGURATION!$B$10,\"BMA\",CONFIGURATION!$B$1,\"bscr\",CONFIGURATION!$B$12)","v":{"$error":"#VALUE!"}},null,{"$f":"XBRLMap(N32,R$166&\".\"&#REF!&\".\"&$R$167&\".\"&$R$168,$D$134,$D$135,CONFIGURATION!$B$10,\"BMA\",CONFIGURATION!$B$1,\"bscr\",CONFIGURATION!$B$12)","v":{"$error":"#VALUE!"}}]
[null,null,null,null,null,null,null,null,null,null,null,{"$f":"XBRLMap(H33,L$166&\".\"&#REF!&\".\"&$L$167&\".\"&$L$168,$D$134,$D$135,CONFIGURATION!$B$10,\"BMA\",CONFIGURATION!$B$1,\"bscr\",CONFIGURATION!$B$12)","v":{"$error":"#VALUE!"}},null,{"$f":"XBRLMap(J33,N$166&\".\"&#REF!&\".\"&$N$167&\".\"&$N$168,$D$134,$D$135,CONFIGURATION!$B$10,\"BMA\",CONFIGURATION!$B$1,\"bscr\",CONFIGURATION!$B$12)","v":{"$error":"#VALUE!"}},null,{"$f":"XBRLMap(L33,P$166&\".\"&#REF!&\".\"&$P$167&\".\"&$P$168,$D$134,$D$135,CONFIGURATION!$B$10,\"BMA\",CONFIGURATION!$B$1,\"bscr\",CONFIGURATION!$B$12)","v":{"$error":"#VALUE!"}},null,{"$f":"XBRLMap(N33,R$166&\".\"&#REF!&\".\"&$R$167&\".\"&$R$168,$D$134,$D$135,CONFIGURATION!$B$10,\"BMA\",CONFIGURATION!$B$1,\"bscr\",CONFIGURATION!$B$12)","v":{"$error":"#VALUE!"}}]
[]
[null,null,null,null,null,null,null,null,null,null,null,{"$f":"XBRLMap(H35,L$166&\".\"&#REF!&\".\"&$L$167&\".\"&$L$168,$D$134,$D$135,CONFIGURATION!$B$10,\"BMA\",CONFIGURATION!$B$1,\"bscr\",CONFIGURATION!$B$12)","v":{"$error":"#VALUE!"}},null,{"$f":"XBRLMap(J35,N$166&\".\"&#REF!&\".\"&$N$167&\".\"&$N$168,$D$134,$D$135,CONFIGURATION!$B$10,\"BMA\",CONFIGURATION!$B$1,\"bscr\",CONFIGURATION!$B$12)","v":{"$error":"#VALUE!"}},null,{"$f":"XBRLMap(L35,P$166&\".\"&#REF!&\".\"&$P$167&\".\"&$P$168,$D$134,$D$135,CONFIGURATION!$B$10,\"BMA\",CONFIGURATION!$B$1,\"bscr\",CONFIGURATION!$B$12)","v":{"$error":"#VALUE!"}},null,{"$f":"XBRLMap(N35,R$166&\".\"&#REF!&\".\"&$R$167&\".\"&$R$168,$D$134,$D$135,CONFIGURATION!$B$10,\"BMA\",CONFIGURATION!$B$1,\"bscr\",CONFIGURATION!$B$12)","v":{"$error":"#VALUE!"}}]

{"sheet":"Inv Recon (Original)","index":20,"n_rows":46,"n_cols":37,"rows_kept":46,"cut":false,"hidden":true,"merged":[[0,2,0,8],[1,2,1,7],[2,2,2,8],[7,3,7,5],[7,6,7,17]]}
[null,null,"INVESTMENT RECONCILIATION ",null,null,null,null,null,null,null,null,null,null,null,null,null,null,{"$f":"HYPERLINK(\"#'Index'!A1\",\"Return to Index\")","v":"Return to Index"}]
[null,null,{"$f":"'Company Information'!C7","v":"Enter Company Name"},null,null,null,null,null,null,null,null,null,null,null,null,null,null,null,null,null,null,null,null,null,null,null,null,null,null,null,null,null,null,null,null,null,{"$f":"IF(C3=\"\",\"\",TEXT(C3,\"mm/dd/yyyy\"))","v":"For the year ending December 31, 2019"}]
[null,null,{"$f":"\"For the year ending \"&TEXT('Company Information'!C3,\"MMMM DD, YYYY\")","v":"For the year ending December 31, 2019"}]
[null,null,{"$f":"\"expressed in\"& IF(CONFIGURATION!$B$12>1,\" ['\"&MID(CONFIGURATION!$B$12,2,LEN(CONFIGURATION!$B$12))&\"s]\",\"\")&\" \"&#REF!","v":{"$error":"#REF!"}}]
[]
[null,null,"A reconciliation of investments reported on Form 1EBS to Schedules IIB, IIC, IID, IIE and IIF"]
[]
[null,null,null,"Amounts as Reported in Balance Sheet",null,null,"Amounts results from Look-Through"]
[null,null,"Adjustment Description","Form 1EBS Balance","Form 1EBS Balance - Amounts Reported under Bonds and Debentures","Form 1EBS Balance - Amounts reported under Equities","Schedule IIB - Interest rate-sensitive investments","Schedule IIB - Investments sensitive to equity prices","Schedule IIC - Interest rate-sensitive investments","Schedule IIC - Investments sensitive to equity prices","Schedule IID - Interest rate-sensitive investments","Schedule IID - Investments sensitive to equity prices","Schedule IIE - Interest rate-sensitive investments","Schedule IIE - Investments sensitive to equity prices","Schedule IIF - Interest rate-sensitive investments","Schedule IIF - Investments sensitive to equity prices","Total - Interest rate-sensitive investments","Total - Investments sensitive to equity prices"]
[null,null,"Form 1EBS Open Balance",null,null,null,{"$f":"#REF!+#REF!+#REF!+#REF!","v":{"$error":"#REF!"}},{"$f":"#REF!+#REF!+#REF!+#REF!+#REF!","v":{"$error":"#REF!"}},{"$f":"#REF!","v":{"$error":"#REF!"}},{"$f":"#REF!","v":{"$error":"#REF!"}},null,null,null,null,null,null,{"$f":"G10+I10+K10+M10+O10","v":{"$error":"#REF!"}},{"$f":"H10+J10+L10+N10+P10","v":{"$error":"#REF!"}},null,null,null,null,null,null,null,null,null,null,null,null,null,null,null,null,null,null,{"$f":"IF(OR(C10<>\"\",G10<>\"\",H10<>\"\",I10<>\"\",J10<>\"\"),XBRLMapTuple($C$45,#REF!,AK$2,\"BMA\",CONFIGURATION!$B$1,\"bscr\",\"\",CONFIGURATION!$B$12,$C$46,C10,$G$46,G10,$H$46,H10,$I$46,I10,$J$46,J10),\"emptyTuple\")","v":{"$error":"#REF!"}}]
[null,1,"Cash and Cash Equivalents",null,null,null,null,null,null,null,null,null,null,null,null,null,{"$f":"G11+I11+K11+M11+O11-E11","v":0},{"$f":"H11+J11+L11+N11+P11-F11","v":0}]
[null,{"$f":"B11+1","v":2},"Bonds and Debentures",null,null,null,null,null,null,null,null,null,null,null,null,null,{"$f":"G12+I12+K12+M12+O12-E12","v":0},{"$f":"H12+J12+L12+N12+P12-F12","v":0}]
[null,3,"Equities ",null,null,null,null,null,null,null,null,null,null,null,null,null,0,0,null,null,null,null,null,null,null,null,null,null,null,null,null,null,null,null,null,null,{"$f":"IF(OR(C13<>\"\",G13<>\"\",H13<>\"\",I13<>\"\",J13<>\"\"),XBRLMapTuple($C$45,#REF!,AK$2,\"BMA\",CONFIGURATION!$B$1,\"bscr\",\"\",CONFIGURATION!$B$12,$C$46,C13,$G$46,G13,$H$46,H13,$I$46,I13,$J$46,J13),\"emptyTuple\")","v":{"$error":"#VALUE!"}}]
[null,4,"Real Estate",null,null,null,null,null,null,null,null,null,null,null,null,null,0,0,null,null,null,null,null,null,null,null,null,null,null,null,null,null,null,null,null,null,{"$f":"IF(OR(C14<>\"\",G14<>\"\",H14<>\"\",I14<>\"\",J14<>\"\"),XBRLMapTuple($C$45,#REF!,AK$2,\"BMA\",CONFIGURATION!$B$1,\"bscr\",\"\",CONFIGURATION!$B$12,$C$46,C14,$G$46,G14,$H$46,H14,$I$46,I14,$J$46,J14),\"emptyTuple\")","v":{"$error":"#VALUE!"}}]
[null,5,"Collective Investment Vehicles",null,null,null,null,null,null,null,null,null,null,null,null,null,0,0]
[null,6,"Derivatives",null,null,null,null,null,null,null,null,null,null,null,null,null,0,0]
[null,7,"Funds withheld",null,null,null,null,null,null,null,null,null,null,null,null,null,0,0]
[null,8,"Segregated Accounts Assets",null,null,null,null,null,null,null,null,null,null,null,null,null,0,0,null,null,null,null,null,null,null,null,null,null,null,null,null,null,null,null,null,null,{"$f":"IF(OR(C18<>\"\",G18<>\"\",H18<>\"\",I18<>\"\",J18<>\"\"),XBRLMapTuple($C$45,#REF!,AK$2,\"BMA\",CONFIGURATION!$B$1,\"bscr\",\"\",CONFIGURATION!$B$12,$C$46,C18,$G$46,G18,$H$46,H18,$I$46,I18,$J$46,J18),\"emptyTuple\")","v":{"$error":"#VALUE!"}}]
[null,9,"Deposit Assets",null,null,null,null,null,null,null,null,null,null,null,null,null,0,0,null,null,null,null,null,null,null,null,null,null,null,null,null,null,null,null,null,null,{"$f":"IF(OR(C19<>\"\",G19<>\"\",H19<>\"\",I19<>\"\",J19<>\"\"),XBRLMapTuple($C$45,#REF!,AK$2,\"BMA\",CONFIGURATION!$B$1,\"bscr\",\"\",CONFIGURATION!$B$12,$C$46,C19,$G$46,G19,$H$46,H19,$I$46,I19,$J$46,J19),\"emptyTuple\")","v":{"$error":"#VALUE!"}}]
[null,10,"Other Sundry Assets",null,null,null,null,null,null,null,null,null,null,null,null,null,0,0,null,null,null,null,null,null,null,null,null,null,null,null,null,null,null,null,null,null,{"$f":"IF(OR(C20<>\"\",G20<>\"\",H20<>\"\",I20<>\"\",J20<>\"\"),XBRLMapTuple($C$45,#REF!,AK$2,\"BMA\",CONFIGURATION!$B$1,\"bscr\",\"\",CONFIGURATION!$B$12,$C$46,C20,$G$46,G20,$H$46,H20,$I$46,I20,$J$46,J20),\"emptyTuple\")","v":{"$error":"#VALUE!"}}]
[null,11,"Other Adjustment ",null,null,null,null,null,null,null,null,null,null,null,null,null,0,0,null,null,null,null,null,null,null,null,null,null,null,null,null,null,null,null,null,null,{"$f":"IF(OR(C21<>\"\",G21<>\"\",H21<>\"\",I21<>\"\",J21<>\"\"),XBRLMapTuple($C$45,#REF!,AK$2,\"BMA\",CONFIGURATION!$B$1,\"bscr\",\"\",CONFIGURATION!$B$12,$C$46,C21,$G$46,G21,$H$46,H21,$I$46,I21,$J$46,J21),\"emptyTuple\")","v":{"$error":"#VALUE!"}}]
[null,12,"Other Adjustment ",null,null,null,null,null,null,null,null,null,null,null,null,null,0,0,null,null,null,null,null,null,null,null,null,null,null,null,null,null,null,null,null,null,{"$f":"IF(OR(C22<>\"\",G22<>\"\",H22<>\"\",I22<>\"\",J22<>\"\"),XBRLMapTuple($C$45,#REF!,AK$2,\"BMA\",CONFIGURATION!$B$1,\"bscr\",\"\",CONFIGURATION!$B$12,$C$46,C22,$G$46,G22,$H$46,H22,$I$46,I22,$J$46,J22),\"emptyTuple\")","v":{"$error":"#VALUE!"}}]
[null,13,"Other Adjustment ",null,null,null,null,null,null,null,null,null,null,null,null,null,0,0,null,null,null,null,null,null,null,null,null,null,null,null,null,null,null,null,null,null,{"$f":"IF(OR(C23<>\"\",G23<>\"\",H23<>\"\",I23<>\"\",J23<>\"\"),XBRLMapTuple($C$45,#REF!,AK$2,\"BMA\",CONFIGURATION!$B$1,\"bscr\",\"\",CONFIGURATION!$B$12,$C$46,C23,$G$46,G23,$H$46,H23,$I$46,I23,$J$46,J23),\"emptyTuple\")","v":{"$error":"#VALUE!"}}]
[null,14,"Other Adjustment ",null,null,null,null,null,null,null,null,null,null,null,null,null,0,0,null,null,null,null,null,null,null,null,null,null,null,null,null,null,null,null,null,null,{"$f":"IF(OR(C24<>\"\",G24<>\"\",H24<>\"\",I24<>\"\",J24<>\"\"),XBRLMapTuple($C$45,#REF!,AK$2,\"BMA\",CONFIGURATION!$B$1,\"bscr\",\"\",CONFIGURATION!$B$12,$C$46,C24,$G$46,G24,$H$46,H24,$I$46,I24,$J$46,J24),\"emptyTuple\")","v":{"$error":"#VALUE!"}}]
[null,15,"Other Adjustment ",null,null,null,null,null,null,null,null,null,null,null,null,null,0,0,null,null,null,null,null,null,null,null,null,null,null,null,null,null,null,null,null,null,{"$f":"IF(OR(C25<>\"\",G25<>\"\",H25<>\"\",I25<>\"\",J25<>\"\"),XBRLMapTuple($C$45,#REF!,AK$2,\"BMA\",CONFIGURATION!$B$1,\"bscr\",\"\",CONFIGURATION!$B$12,$C$46,C25,$G$46,G25,$H$46,H25,$I$46,I25,$J$46,J25),\"emptyTuple\")","v":{"$error":"#VALUE!"}}]
[null,null,"Schedule IIB, IIC, IID, IIE & IIF Balances",null,null,null,{"$f":"G10+SUM(G11:G25)-SUM(E11:E25)","v":{"$error":"#REF!"}},{"$f":"H10+SUM(H11:H25)-SUM(F11:F25)","v":{"$error":"#REF!"}},{"$f":"SUM(I10:I25)","v":{"$error":"#REF!"}},{"$f":"SUM(J10:J25)","v":{"$error":"#REF!"}},{"$f":"SUM(K10:K25)","v":0},0,0,0,0,0,{"$error":"#REF!"},{"$error":"#REF!"},null,null,null,null,null,null,null,null,null,null,null,null,null,null,null,null,null,null,{"$f":"IF(OR(C26<>\"\",G26<>\"\",H26<>\"\",I26<>\"\",J26<>\"\"),XBRLMapTuple($C$45,#REF!,AK$2,\"BMA\",CONFIGURATION!$B$1,\"bscr\",\"\",CONFIGURATION!$B$12,$C$46,C26,$G$46,G26,$H$46,H26,$I$46,I26,$J$46,J26),\"emptyTuple\")","v":{"$error":"#REF!"}}]
[]
[null,null,null,null,null,null,null,{"$f":"IF(ROUND((#REF!-H26),0)=0,\"TRUE\",\"FALSE\")","v":{"$error":"#REF!"}},null,{"$f":"IF(ROUND((#REF!-J26),0)=0,\"TRUE\",\"FALSE\")","v":{"$error":"#REF!"}}]
[]
[null,null,null,null,null,null,null,{"$f":"#REF!-H26","v":{"$error":"#REF!"}},null,{"$f":"#REF!-J26","v":{"$error":"#REF!"}}]
[]
[null,null,"Interest rate-sensitive investments",null,"Total","Difference"]
[null,null,"Amount after Look-through",null,{"$f":"Q26","v":{"$error":"#REF!"}}]
[null,null,"Amount in Interest Rate & Liquidity Risk calculation",null,{"$f":"#REF!","v":{"$error":"#REF!"}},{"$f":"E34-E33","v":{"$error":"#REF!"}}]
[]
[]
[null,null,"Investments sensitive to equity prices",null,"Total","Difference"]
[null,null,"Amount after Look-through",null,{"$f":"R26","v":{"$error":"#REF!"}}]
[null,null,"Amount in Equity Risk calculations",null,{"$f":"#REF!+#REF!+#REF!","v":{"$error":"#REF!"}},{"$f":"E39-E38","v":{"$error":"#REF!"}}]
[]
[]
[]
[]
[]
[null,null,"brrt_ReconciliationOfGroupFinancialStatement"]
[null,null,"brrt_ReconciliationOfGroupFinancialStatementDescription",null,null,null,"brrt_ReconciliationOfGroupFinancialStatementAssets","brrt_ReconciliationOfGroupFinancialStatementLiabilities","brrt_ReconciliationOfGroupFinancialStatementNetIncome","brrt_ReconciliationOfGroupFinancialStatementCapitalAndSurplus"]

{"sheet":"Schedule V","index":21,"n_rows":68,"n_cols":14,"rows_kept":68,"cut":false,"hidden":false,"merged":[[65,2,65,4],[67,2,67,4],[34,2,34,4],[43,2,43,4],[55,2,55,4],[57,2,57,4],[59,2,59,4],[63,2,63,4],[50,2,51,3],[11,2,11,4],[48,7,49,7],[20,2,20,4],[22,2,22,4],[24,2,24,4],[28,2,28,4],[30,2,30,4],[32,2,32,4],[48,2,49,3]]}
[null,"SCHEDULE OF RISK MANAGEMENT",null,null,null,null,null,{"$f":"HYPERLINK(\"#'Index'!A1\",\"Return to Index\")","v":"Return to Index"}]
[null,{"$f":"'Company Information'!C7","v":"Enter Company Name"}]
[null,"For the year ending",{"$f":"'Company Information'!C3","v":"2019-12-31"},null,null,null,null,"SCHEDULE V"]
[null,{"$f":"\"expressed in\"& IF(CONFIGURATION!$B$12>1,\" ['\"&MID(CONFIGURATION!$B$12,2,LEN(CONFIGURATION!$B$12))&\"s]\",\"\")","v":"expressed in ['000s]"},{"$f":"'Form 1SFS GB'!$C$5","v":"United States Dollars"}]
[null,null,null,null,null,null,null,"Combined SFS",null,null,{"$f":"IF(C3=\"\",\"\",TEXT(DATE(YEAR(C3+1)-1,MONTH(C3+1),DAY(C3+1)),\"mm/dd/yyyy\"))","v":"01/01/2019"}]
[null,"(a)","Governance structure",null,null,null,null,{"$f":"HYPERLINK(\"#'Schedule V(a)'!c6\",\"Refer to Schedule V(a)\")","v":"Refer to Schedule V(a)"}]
[]
[null,"(b)","Compliance with sanctions",null,null,null,null,{"$f":"HYPERLINK(\"#'SAR & Sanc. (All)'!c6\",\"Refer to SAR & Sanctions Schedule\")","v":"Refer to SAR & Sanctions Schedule"}]
[]
[null,"(c)","Cyber risk management",null,null,null,null,{"$f":"HYPERLINK(\"#'Schedule V(e)'!A1\",\"Refer to Schedule V(e)\")","v":"Refer to Schedule V(e)"}]
[]
[null,"(d)","Alternative capital arrangements",null,null,null,null,{"$f":"HYPERLINK(\"#'Schedule V(m)'!c6\",\"Refer to Schedule V(m)\")","v":"Refer to Schedule V(m)"}]
[]
[]
[]
[]
[]
[]
[null,"(a)","Governance and group structure",null,null,null,null,{"$f":"HYPERLINK(\"#'Schedule V(a)'!c6\",\"Refer to Schedule V(a)\")","v":"Refer to Schedule V(a)"},null,null,{"$f":"IF(C3=\"\",\"\",TEXT(C3,\"mm/dd/yyyy\"))","v":"12/31/2019"},null,null,"bma_GovernanceStructure"]
[]
[null,"(b)","Intra-group transactions that the insurer is a party to and the insurer's risk concentrations",null,null,null,null,{"$f":"HYPERLINK(\"#'Schedule V(c)'!c6\",\"Refer to Schedule V(c)\")","v":"Refer to Schedule V(c)"},null,null,null,null,null,"bma_IntraGroupExposures"]
[]
[null,"(d)","Effective duration of assets",null,null,null,null,{"$f":"Import!#REF!","v":{"$error":"#REF!"}},null,"brrt_EffectiveDurationOfAssets",{"$f":"XBRLMap(H23,$J23,$K$5,#REF!,CONFIGURATION!$B$10,\"BMA\",CONFIGURATION!$B$1,\"bscr\")","v":{"$error":"#VALUE!"}},null,null,"bma_EffectiveAssetDuration"]
[null,null,null,null,null,null,null,null,null,""]
[null,"(e)","Effective duration of liabilities",null,null,null,null,{"$f":"Import!#REF!","v":{"$error":"#REF!"}},null,"brrt_EffectiveDurationOfLiabilities",{"$f":"XBRLMap(H25,$J25,$K$5,#REF!,CONFIGURATION!$B$10,\"BMA\",CONFIGURATION!$B$1,\"bscr\")","v":{"$error":"#VALUE!"}},null,null,"bma_EffectiveLiabilityDuration"]
[null,null,null,null,null,null,null,"Document Name & Page Number",null,""]
[null,{"$f":"IF('Company Information'!$F$11=\"Class 3A\",\"(f)\",\"(f)\")","v":"(f)"},"Description of the effective duration of assets and liabilities calculations and key assumptions",null,null,{"$f":"HYPERLINK(\"#'Attachments'!G35\",\"Attach file\")","v":"Attach file"},null,null,null,"",null,null,null,"bma_DescriptionOfTheEffectiveDurationOfAssetsAndLiabilitiesCalculationsAndKeyAssumptions"]
[null,null,null,null,null,null,null,null,null,""]
[null,{"$f":"IF('Company Information'!$F$11=\"Class 3A\",\"(f)\",\"(g)\")","v":"(g)"},"Gross probable maximum loss",null,null,{"$f":"Import!#REF!","v":{"$error":"#REF!"}},null,{"$f":"Import!P486","v":0},null,"brrt_GrossProbableMaximumLossIfPropertyCatastropheWriter",{"$f":"XBRLMap(H29,$J29,$K$5,#REF!,CONFIGURATION!$B$10,\"BMA\",CONFIGURATION!$B$1,\"bscr\",CONFIGURATION!$B$12)","v":{"$error":"#VALUE!"}},null,null,"bma_TheGrossProbableMaximumLoss"]
[null,null,null,null,null,null,null,null,null,""]
[null,{"$f":"IF('Company Information'!$F$11=\"Class 3A\",\"(g)\",\"(h)\")","v":"(h)"},"Net probable maximum loss",null,null,{"$f":"Import!#REF!","v":{"$error":"#REF!"}},null,{"$f":"Import!P487","v":0},null,"brrt_NetProbableMaximumLossIfPropertyCatastropheWriter",{"$f":"XBRLMap(H31,$J31,$K$5,#REF!,CONFIGURATION!$B$10,\"BMA\",CONFIGURATION!$B$1,\"bscr\",CONFIGURATION!$B$12)","v":{"$error":"#VALUE!"}},null,null,"bma_TheNetProbableMaximumLoss"]
[null,null,null,null,null,null,null,null,null,""]
[null,{"$f":"IF('Company Information'!$F$11=\"Class 3A\",\"(h)\",\"(i)\")","v":"(i)"},"Average annual loss (excluding property catastrophe)",null,null,null,null,{"$f":"Import!P488","v":0},null,"brrt_AverageAnnualLossIfPropertyCatastropheWriter",{"$f":"XBRLMap(H33,$J33,$K$5,#REF!,CONFIGURATION!$B$10,\"BMA\",CONFIGURATION!$B$1,\"bscr\",CONFIGURATION!$B$12)","v":{"$error":"#VALUE!"}},null,null,"bma_TheAverageAnnualLossExcludingPropertyCatastrophe"]
[null,null,null,null,null,null,null,null,null,""]
[null,{"$f":"IF('Company Information'!$F$11=\"Class 3A\",\"(i)\",\"(j)\")","v":"(j)"},"Actual attritional losses and large claims losses - relevant year",null,null,null,null,{"$f":"Import!P489","v":0},null,"brrt_ActualAttritionalLossesAndLargeClaimsLossesRevelant",{"$f":"XBRLMap(H35,$J35,$K$5,#REF!,CONFIGURATION!$B$10,\"BMA\",CONFIGURATION!$B$1,\"bscr\",CONFIGURATION!$B$12)","v":{"$error":"#VALUE!"}},null,null,"bma_ActualAttritionalLossesPlusLargeClaimsLossesRelevantYear"]
[null,null,null,null,null,null,null,null,null,""]
[null,{"$f":"IF('Company Information'!$F$11=\"Class 3A\",\"(j)\",\"(k)\")","v":"(k)"},"Arrangements with respect to property catastrophe recoverables"]
[null,null,"(i) Collateral",null,null,null,null,{"$f":"Import!P490","v":0},null,"brrt_ArrangementsWithRespectToPropertyCatastropheRecoverablesCollateral",{"$f":"XBRLMap(H38,$J38,$K$5,#REF!,CONFIGURATION!$B$10,\"BMA\",CONFIGURATION!$B$1,\"bscr\",CONFIGURATION!$B$12)","v":{"$error":"#VALUE!"}}]
[null,null,"(ii) Catastrophe bonds",null,null,null,null,{"$f":"Import!P531","v":0},null,"brrt_ArrangementsWithRespectToPropertyCatastropheRecoverablesCatastropheBonds",{"$f":"XBRLMap(H39,$J39,$K$5,#REF!,CONFIGURATION!$B$10,\"BMA\",CONFIGURATION!$B$1,\"bscr\",CONFIGURATION!$B$12)","v":{"$error":"#VALUE!"}}]
[null,null,"(iii) Special purpose insurer (indemnity basis)",null,null,null,null,{"$f":"Import!P532","v":0},null,"brrt_ArrangementsWithRespectToPropertyCatastropheRecoverablesSpecialPurposeInsurerIndemnityBasis",{"$f":"XBRLMap(H40,$J40,$K$5,#REF!,CONFIGURATION!$B$10,\"BMA\",CONFIGURATION!$B$1,\"bscr\",CONFIGURATION!$B$12)","v":{"$error":"#VALUE!"}}]
[null,null,"(iv) Special purpose insurer (other basis)",null,null,null,null,{"$f":"Import!P533","v":0},null,"brrt_ArrangementsWithRespectToPropertyCatastropheRecoverablesSpecialPurposeInsurerOtherBasis",{"$f":"XBRLMap(H41,$J41,$K$5,#REF!,CONFIGURATION!$B$10,\"BMA\",CONFIGURATION!$B$1,\"bscr\",CONFIGURATION!$B$12)","v":{"$error":"#VALUE!"}}]
[null,null,"(v) Total",null,null,null,null,{"$f":"SUM(H38:H41)","v":0},null,"brrt_ArrangementsWithRespectToPropertyCatastropheRecoverables",{"$f":"XBRLMap(H42,$J42,$K$5,#REF!,CONFIGURATION!$B$10,\"BMA\",CONFIGURATION!$B$1,\"bscr\",CONFIGURATION!$B$12)","v":{"$error":"#VALUE!"}}]
[null,null,null,null,null,null,null,"Document Name & Page Number"]
[null,{"$f":"IF('Company Information'!$F$11=\"Class 3A\",\"(k)\",\"(l)\")","v":"(l)"},"Mutual fund disclosures",null,null,{"$f":"HYPERLINK(\"#'Attachments'!G125\",\"Attach file\")","v":"Attach file"}]
[]
[null,{"$f":"IF('Company Information'!$F$11=\"Class 3A\",\"(l)\",\"(m)\")","v":"(m)"},"Summary of projected performance - "]
[null,null,"(i) The insurer's latest estimate of annual net premiums written",null,null,null,null,{"$f":"Import!P535","v":0},null,"brrt_ProjectedNetPremiumsWritten",{"$f":"XBRLMap(H47,$J47,$K$5,#REF!,CONFIGURATION!$B$10,\"BMA\",CONFIGURATION!$B$1,\"bscr\",CONFIGURATION!$B$12)","v":{"$error":"#VALUE!"}},null,null,"bma_ProjectedNetPremiumsWritten"]
[null,null,"(ii) The estimated underwriting profit or loss",null,null,null,null,{"$f":"Import!P536","v":0},null,"brrt_ProjectedUnderwritingProfitOrLoss",{"$f":"XBRLMap(H48,$J48,$K$5,#REF!,CONFIGURATION!$B$10,\"BMA\",CONFIGURATION!$B$1,\"bscr\",CONFIGURATION!$B$12)","v":{"$error":"#VALUE!"}},null,null,"bma_ProjectedUnderwritingProfitLoss"]
[null,null,"(iii) The estimated net income or loss for the insurer or on a group basis with disclosure of the estimated percentage of the insurer's contribution relative to the group",null,null,null,null,{"$f":"Import!P537","v":0},null,"brrt_ProjectedNetIncomeOrLoss",{"$f":"XBRLMap(H49,$J49,$K$5,#REF!,CONFIGURATION!$B$10,\"BMA\",CONFIGURATION!$B$1,\"bscr\",CONFIGURATION!$B$12)","v":{"$error":"#VALUE!"}}]
[null,null,null,null,null,null,null,null,null,"brrt_EstimatedPercentageOfContributionByInsurerRelativeToTheGroup",{"$f":"XBRLMap(H50,$J50,$K$5,#REF!,CONFIGURATION!$B$10,\"BMA\",CONFIGURATION!$B$1,\"bscr\",CONFIGURATION!$B$12)","v":{"$error":"#VALUE!"}},null,null,"bma_ProjectedNetIncomeLoss"]
[null,null,"(iv) A qualitative description of the insurer's business and underwriting strategy to achieve the above estimates",null,null,null,null,"Document Name & Page Number"]
[null,null,null,null,null,{"$f":"HYPERLINK(\"#'Attachments'!G135\",\"Attach file\")","v":"Attach file"},null,null,null,"",null,null,null,"bma_DescriptionOfUnderwritingStrategy"]
[]
[null,{"$f":"IF('Company Information'!$F$11=\"Class 3A\",\"(m)\",\"(n)\")","v":"(n)"},"Financial impact and description of stress & scenario tests",null,null,null,null,{"$f":"HYPERLINK(\"#'Schedule V(e)'!b1\",\"Refer to Schedule V(e)\")","v":"Refer to Schedule V(e)"},null,"",null,null,null,"bma_FinancialImpactAndDescriptionOfStressAndScenarios"]
[null,null,null,null,null,null,null,"Document Name & Page Number"]
[null,"(o)","Investments and derivatives strategies and policy",null,null,{"$f":"HYPERLINK(\"#'Attachments'!G105\",\"Attach file\")","v":"Attach file"},null,null,null,null,null,null,null,"bma_InvestmentPolicy"]
[null,null,null,null,null,null,null,"Document Name & Page Number"]
[null,"(p)","Description of the insurer's risk management program",null,null,{"$f":"HYPERLINK(\"#'Attachments'!G155\",\"Attach file\")","v":"Attach file"},null,null,null,null,null,null,null,"bma_DescriptionOfTheInsurerSRiskManagementProgram"]
[null,null,null,null,null,null,null,"Document Name & Page Number",null,""]
[null,"(q)","Risk register",null,null,{"$f":"HYPERLINK(\"#'Attachments'!G165\",\"Attach file\")","v":"Attach file"},null,null,null,null,null,null,null,"bma_RiskRegister"]
[]
[null,{"$f":"IF('Company Information'!$F$11=\"Class 3A\",\"(n)\",\"(r)\")","v":"(r)"},"List of statutory lines and statutory territories that have catastrophe exposures",null,null,null,null,{"$f":"HYPERLINK(\"#'Schedule X(d)'!a7\",\"Refer to Schedule X(d)\")","v":"Refer to Schedule X(d)"},null,"",null,null,null,"bma_TheCatastropheExposureLimitsGrossProbableMaximumLossAndNetProbableMaximumLossByTerritoriesAndByStatutoryLinesOfBusinessSeparatedByInsuranceAndReinsurance"]
[]
[null,{"$f":"IF('Company Information'!$F$11=\"Class 3A\",\"(o)\",\"(s)\")","v":"(s)"},"Reconciliation from Form 1SFS to Form 1EBS",null,null,null,null,{"$f":"HYPERLINK(\"#'Schedule V(g)'!a7\",\"Refer to Schedule V(g)\")","v":"Refer to Schedule V(g)"}]
[]
[null,{"$f":"IF('Company Information'!$F$11=\"Class 3A\",\"(s)\",\"(w)\")","v":"(w)"},"Details of deposit assets and liabilities",null,null,null,null,{"$f":"HYPERLINK(\"#'Schedule V(k)'!a7\",\"Refer to Schedule V(k)\")","v":"Refer to Schedule V(k)"}]
[]
[null,{"$f":"IF('Company Information'!$F$11=\"Class 3A\",\"(t)\",\"(x)\")","v":"(x)"},"Details of segregated accounts",null,null,null,null,{"$f":"HYPERLINK(\"#'Schedule V(l)'!a7\",\"Refer to Schedule V(l)\")","v":"Refer to Schedule V(l)"}]

{"sheet":"Schedule V(a)","index":22,"n_rows":386,"n_cols":21,"rows_kept":386,"cut":false,"hidden":false,"merged":[[55,8,55,9],[49,8,49,9],[48,8,48,9],[50,8,50,9],[46,8,46,9],[53,8,53,9],[54,8,54,9],[35,8,35,9],[36,8,36,9],[37,8,37,9],[51,8,51,9],[52,8,52,9],[41,8,41,9],[42,8,42,9],[43,8,43,9],[44,8,44,9],[45,8,45,9],[38,8,38,9],[39,8,39,9],[40,8,40,9],[47,8,47,9],[69,2,70,3],[66,2,66,3],[76,5,76,6],[69,7,69,9],[66,5,66,6],[141,2,142,9],[0,2,0,5],[109,2,109,5],[110,2,110,5],[111,2,111,5],[112,2,112,5],[113,2,113,5],[62,4,62,6],[63,5,63,6],[64,5,64,6],[65,5,65,6],[67,5,67,6],[69,4,69,6],[70,5,70,6],[71,5,71,6],[62,2,63,3],[95,3,95,7],[75,5,75,6],[74,5,74,6],[73,5,73,6],[72,5,72,6],[10,7,10,8],[11,7,11,8],[12,7,12,8],[13,7,13,8],[14,7,14,8],[15,7,15,8],[16,7,16,8],[17,7,17,8],[18,7,18,8],[19,7,19,8],[20,7,20,8],[21,7,21,8],[22,7,22,8],[23,7,23,8],[24,7,24,8],[30,7,30,8],[25,7,25,8],[26,7,26,8],[27,7,27,8],[28,7,28,8],[29,7,29,8]]}
[null,null,"SCHEDULE OF RISK MANAGEMENT - GOVERNANCE AND GROUP STRUCTURE",null,null,null,null,null,null,{"$f":"HYPERLINK(\"#'Index'!A1\",\"Return to Index\")","v":"Return to Index"}]
[]
[null,null,{"$f":"'Company Information'!C7","v":"Enter Company Name"}]
[null,null,"For the year ending",{"$f":"'Company Information'!C3","v":"2019-12-31"},null,null,null,null,null,"SCHEDULE V(a)"]
[null,null,{"$f":"\"expressed in\"& IF(CONFIGURATION!$B$12>1,\" ['\"&MID(CONFIGURATION!$B$12,2,LEN(CONFIGURATION!$B$12))&\"s]\",\"\")","v":"expressed in ['000s]"},{"$f":"'Form 1SFS GB'!C5","v":"United States Dollars"}]
[null,null,null,null,null,null,null,null,null,null,null,null,{"$f":"IF(D4=\"\",\"\",TEXT(DATE(YEAR(D4+1)-1,MONTH(D4+1),DAY(D4+1)),\"mm/dd/yyyy\"))","v":"01/01/2019"}]
[null,1,"Structure of the board of directors, including names, role, country of residence and work experience - ",null,null,null,null,null,null,null,null,null,{"$f":"IF(D4=\"\",\"\",TEXT(D4,\"mm/dd/yyyy\"))","v":"12/31/2019"}]
[null,null," Enter number of Directors",{"$f":"Import!E470","v":0}]
[]
[null,null,null,null,null,null,null,null,null,null,null,null,null,null,null,"brrt_OfficersDetails",null,"Director","Chief And Senior Executive"]
[null,null,"Name","Date of Appointment ","Date Director Ceased to Act","Country of Residence","Title / Position Held","Status on the Board\n(Select from Drop Down)",null,null,null,null,null,null,null,"brrt_OfficerName","brrt_OfficerLevel","brrt_OfficerPosition","brrt_OfficerWorkExperience"]
[null,1,{"$f":"Import!E471","v":0},{"$f":"Import!E491","v":"00:00:00"},{"$f":"Import!E511","v":"00:00:00"},{"$f":"Import!E551","v":0},{"$f":"Import!E571","v":0},{"$f":"Import!E611","v":"Select"},null,null,null,null,null,null,null,null,null,null,null,null,{"$f":"IF(OR(C12<>\"\",D12<>\"\",#REF!<>\"\"),XBRLMapTuple($P$10,M$6,M$7,\"BMA\",CONFIGURATION!$B$1,\"bscr\",\"\",CONFIGURATION!$B$12,$P$11,C12,$Q$11,$R$10,$R$11,D12,$S$11,#REF!),\"emptyTuple\")","v":{"$error":"#REF!"}}]
[null,2,{"$f":"Import!E472","v":0},{"$f":"Import!E492","v":"00:00:00"},{"$f":"Import!E512","v":"00:00:00"},{"$f":"Import!E552","v":0},{"$f":"Import!E572","v":0},{"$f":"Import!E612","v":"Select"},null,null,null,null,null,null,null,null,null,null,null,null,{"$f":"IF(OR(C13<>\"\",D13<>\"\",#REF!<>\"\"),XBRLMapTuple($P$10,M$6,M$7,\"BMA\",CONFIGURATION!$B$1,\"bscr\",\"\",CONFIGURATION!$B$12,$P$11,C13,$Q$11,$R$10,$R$11,D13,$S$11,#REF!),\"emptyTuple\")","v":{"$error":"#REF!"}}]
[null,3,{"$f":"Import!E473","v":0},{"$f":"Import!E493","v":"00:00:00"},{"$f":"Import!E513","v":"00:00:00"},{"$f":"Import!E553","v":0},{"$f":"Import!E573","v":0},{"$f":"Import!E613","v":"Select"},null,null,null,null,null,null,null,null,null,null,null,null,{"$f":"IF(OR(C14<>\"\",D14<>\"\",#REF!<>\"\"),XBRLMapTuple($P$10,M$6,M$7,\"BMA\",CONFIGURATION!$B$1,\"bscr\",\"\",CONFIGURATION!$B$12,$P$11,C14,$Q$11,$R$10,$R$11,D14,$S$11,#REF!),\"emptyTuple\")","v":{"$error":"#REF!"}}]
[null,4,{"$f":"Import!E474","v":0},{"$f":"Import!E494","v":"00:00:00"},{"$f":"Import!E514","v":"00:00:00"},{"$f":"Import!E554","v":0},{"$f":"Import!E574","v":0},{"$f":"Import!E614","v":"Select"},null,null,null,null,null,null,null,null,null,null,null,null,{"$f":"IF(OR(C15<>\"\",D15<>\"\",#REF!<>\"\"),XBRLMapTuple($P$10,M$6,M$7,\"BMA\",CONFIGURATION!$B$1,\"bscr\",\"\",CONFIGURATION!$B$12,$P$11,C15,$Q$11,$R$10,$R$11,D15,$S$11,#REF!),\"emptyTuple\")","v":{"$error":"#REF!"}}]
[null,5,{"$f":"Import!E475","v":0},{"$f":"Import!E495","v":"00:00:00"},{"$f":"Import!E515","v":"00:00:00"},{"$f":"Import!E555","v":0},{"$f":"Import!E575","v":0},{"$f":"Import!E615","v":"Select"},null,null,null,null,null,null,null,null,null,null,null,null,{"$f":"IF(OR(C16<>\"\",D16<>\"\",#REF!<>\"\"),XBRLMapTuple($P$10,M$6,M$7,\"BMA\",CONFIGURATION!$B$1,\"bscr\",\"\",CONFIGURATION!$B$12,$P$11,C16,$Q$11,$R$10,$R$11,D16,$S$11,#REF!),\"emptyTuple\")","v":{"$error":"#REF!"}}]
[null,6,{"$f":"Import!E476","v":0},{"$f":"Import!E496","v":"00:00:00"},{"$f":"Import!E516","v":"00:00:00"},{"$f":"Import!E556","v":0},{"$f":"Import!E576","v":0},{"$f":"Import!E616","v":"Select"},null,null,null,null,null,null,null,null,null,null,null,null,{"$f":"IF(OR(C17<>\"\",D17<>\"\",#REF!<>\"\"),XBRLMapTuple($P$10,M$6,M$7,\"BMA\",CONFIGURATION!$B$1,\"bscr\",\"\",CONFIGURATION!$B$12,$P$11,C17,$Q$11,$R$10,$R$11,D17,$S$11,#REF!),\"emptyTuple\")","v":{"$error":"#REF!"}}]
[null,7,{"$f":"Import!E477","v":0},{"$f":"Import!E497","v":"00:00:00"},{"$f":"Import!E517","v":"00:00:00"},{"$f":"Import!E557","v":0},{"$f":"Import!E577","v":0},{"$f":"Import!E617","v":"Select"},null,null,null,null,null,null,null,null,null,null,null,null,{"$f":"IF(OR(C18<>\"\",D18<>\"\",#REF!<>\"\"),XBRLMapTuple($P$10,M$6,M$7,\"BMA\",CONFIGURATION!$B$1,\"bscr\",\"\",CONFIGURATION!$B$12,$P$11,C18,$Q$11,$R$10,$R$11,D18,$S$11,#REF!),\"emptyTuple\")","v":{"$error":"#REF!"}}]
[null,8,{"$f":"Import!E478","v":0},{"$f":"Import!E498","v":"00:00:00"},{"$f":"Import!E518","v":"00:00:00"},{"$f":"Import!E558","v":0},{"$f":"Import!E578","v":0},{"$f":"Import!E618","v":"Select"},null,null,null,null,null,null,null,null,null,null,null,null,{"$f":"IF(OR(C19<>\"\",D19<>\"\",#REF!<>\"\"),XBRLMapTuple($P$10,M$6,M$7,\"BMA\",CONFIGURATION!$B$1,\"bscr\",\"\",CONFIGURATION!$B$12,$P$11,C19,$Q$11,$R$10,$R$11,D19,$S$11,#REF!),\"emptyTuple\")","v":{"$error":"#REF!"}}]
[null,9,{"$f":"Import!E479","v":0},{"$f":"Import!E499","v":"00:00:00"},{"$f":"Import!E519","v":"00:00:00"},{"$f":"Import!E559","v":0},{"$f":"Import!E579","v":0},{"$f":"Import!E619","v":"Select"},null,null,null,null,null,null,null,null,null,null,null,null,{"$f":"IF(OR(C20<>\"\",D20<>\"\",#REF!<>\"\"),XBRLMapTuple($P$10,M$6,M$7,\"BMA\",CONFIGURATION!$B$1,\"bscr\",\"\",CONFIGURATION!$B$12,$P$11,C20,$Q$11,$R$10,$R$11,D20,$S$11,#REF!),\"emptyTuple\")","v":{"$error":"#REF!"}}]
[null,10,{"$f":"Import!E480","v":0},{"$f":"Import!E500","v":"00:00:00"},{"$f":"Import!E520","v":"00:00:00"},{"$f":"Import!E560","v":0},{"$f":"Import!E580","v":0},{"$f":"Import!E620","v":"Select"},null,null,null,null,null,null,null,null,null,null,null,null,{"$f":"IF(OR(C21<>\"\",D21<>\"\",#REF!<>\"\"),XBRLMapTuple($P$10,M$6,M$7,\"BMA\",CONFIGURATION!$B$1,\"bscr\",\"\",CONFIGURATION!$B$12,$P$11,C21,$Q$11,$R$10,$R$11,D21,$S$11,#REF!),\"emptyTuple\")","v":{"$error":"#REF!"}}]
[null,11,{"$f":"Import!E481","v":0},{"$f":"Import!E501","v":"00:00:00"},{"$f":"Import!E521","v":"00:00:00"},{"$f":"Import!E561","v":0},{"$f":"Import!E581","v":0},{"$f":"Import!E621","v":"Select"},null,null,null,null,null,null,null,null,null,null,null,null,{"$f":"IF(OR(C22<>\"\",D22<>\"\",#REF!<>\"\"),XBRLMapTuple($P$10,M$6,M$7,\"BMA\",CONFIGURATION!$B$1,\"bscr\",\"\",CONFIGURATION!$B$12,$P$11,C22,$Q$11,$R$10,$R$11,D22,$S$11,#REF!),\"emptyTuple\")","v":{"$error":"#REF!"}}]
[null,12,{"$f":"Import!E482","v":0},{"$f":"Import!E502","v":"00:00:00"},{"$f":"Import!E522","v":"00:00:00"},{"$f":"Import!E562","v":0},{"$f":"Import!E582","v":0},{"$f":"Import!E622","v":"Select"},null,null,null,null,null,null,null,null,null,null,null,null,{"$f":"IF(OR(C23<>\"\",D23<>\"\",#REF!<>\"\"),XBRLMapTuple($P$10,M$6,M$7,\"BMA\",CONFIGURATION!$B$1,\"bscr\",\"\",CONFIGURATION!$B$12,$P$11,C23,$Q$11,$R$10,$R$11,D23,$S$11,#REF!),\"emptyTuple\")","v":{"$error":"#REF!"}}]
[null,13,{"$f":"Import!E483","v":0},{"$f":"Import!E503","v":"00:00:00"},{"$f":"Import!E523","v":"00:00:00"},{"$f":"Import!E563","v":0},{"$f":"Import!E583","v":0},{"$f":"Import!E623","v":"Select"},null,null,null,null,null,null,null,null,null,null,null,null,{"$f":"IF(OR(C24<>\"\",D24<>\"\",#REF!<>\"\"),XBRLMapTuple($P$10,M$6,M$7,\"BMA\",CONFIGURATION!$B$1,\"bscr\",\"\",CONFIGURATION!$B$12,$P$11,C24,$Q$11,$R$10,$R$11,D24,$S$11,#REF!),\"emptyTuple\")","v":{"$error":"#REF!"}}]
[null,14,{"$f":"Import!E484","v":0},{"$f":"Import!E504","v":"00:00:00"},{"$f":"Import!E524","v":"00:00:00"},{"$f":"Import!E564","v":0},{"$f":"Import!E584","v":0},{"$f":"Import!E624","v":"Select"},null,null,null,null,null,null,null,null,null,null,null,null,{"$f":"IF(OR(C25<>\"\",D25<>\"\",#REF!<>\"\"),XBRLMapTuple($P$10,M$6,M$7,\"BMA\",CONFIGURATION!$B$1,\"bscr\",\"\",CONFIGURATION!$B$12,$P$11,C25,$Q$11,$R$10,$R$11,D25,$S$11,#REF!),\"emptyTuple\")","v":{"$error":"#REF!"}}]
[null,15,{"$f":"Import!E485","v":0},{"$f":"Import!E505","v":"00:00:00"},{"$f":"Import!E525","v":"00:00:00"},{"$f":"Import!E565","v":0},{"$f":"Import!E585","v":0},{"$f":"Import!E625","v":"Select"},null,null,null,null,null,null,null,null,null,null,null,null,{"$f":"IF(OR(C26<>\"\",D26<>\"\",#REF!<>\"\"),XBRLMapTuple($P$10,M$6,M$7,\"BMA\",CONFIGURATION!$B$1,\"bscr\",\"\",CONFIGURATION!$B$12,$P$11,C26,$Q$11,$R$10,$R$11,D26,$S$11,#REF!),\"emptyTuple\")","v":{"$error":"#REF!"}}]
[null,16,{"$f":"Import!E486","v":0},{"$f":"Import!E506","v":"00:00:00"},{"$f":"Import!E526","v":"00:00:00"},{"$f":"Import!E566","v":0},{"$f":"Import!E586","v":0},{"$f":"Import!E626","v":"Select"},null,null,null,null,null,null,null,null,null,null,null,null,{"$f":"IF(OR(C27<>\"\",D27<>\"\",#REF!<>\"\"),XBRLMapTuple($P$10,M$6,M$7,\"BMA\",CONFIGURATION!$B$1,\"bscr\",\"\",CONFIGURATION!$B$12,$P$11,C27,$Q$11,$R$10,$R$11,D27,$S$11,#REF!),\"emptyTuple\")","v":{"$error":"#REF!"}}]
[null,17,{"$f":"Import!E487","v":0},{"$f":"Import!E507","v":"00:00:00"},{"$f":"Import!E527","v":"00:00:00"},{"$f":"Import!E567","v":0},{"$f":"Import!E587","v":0},{"$f":"Import!E627","v":"Select"},null,null,null,null,null,null,null,null,null,null,null,null,{"$f":"IF(OR(C28<>\"\",D28<>\"\",#REF!<>\"\"),XBRLMapTuple($P$10,M$6,M$7,\"BMA\",CONFIGURATION!$B$1,\"bscr\",\"\",CONFIGURATION!$B$12,$P$11,C28,$Q$11,$R$10,$R$11,D28,$S$11,#REF!),\"emptyTuple\")","v":{"$error":"#REF!"}}]
[null,18,{"$f":"Import!E488","v":0},{"$f":"Import!E508","v":"00:00:00"},{"$f":"Import!E528","v":"00:00:00"},{"$f":"Import!E568","v":0},{"$f":"Import!E588","v":0},{"$f":"Import!E628","v":"Select"},null,null,null,null,null,null,null,null,null,null,null,null,{"$f":"IF(OR(C29<>\"\",D29<>\"\",#REF!<>\"\"),XBRLMapTuple($P$10,M$6,M$7,\"BMA\",CONFIGURATION!$B$1,\"bscr\",\"\",CONFIGURATION!$B$12,$P$11,C29,$Q$11,$R$10,$R$11,D29,$S$11,#REF!),\"emptyTuple\")","v":{"$error":"#REF!"}}]
[null,19,{"$f":"Import!E489","v":0},{"$f":"Import!E509","v":"00:00:00"},{"$f":"Import!E529","v":"00:00:00"},{"$f":"Import!E569","v":0},{"$f":"Import!E589","v":0},{"$f":"Import!E629","v":"Select"},null,null,null,null,null,null,null,null,null,null,null,null,{"$f":"IF(OR(C30<>\"\",D30<>\"\",#REF!<>\"\"),XBRLMapTuple($P$10,M$6,M$7,\"BMA\",CONFIGURATION!$B$1,\"bscr\",\"\",CONFIGURATION!$B$12,$P$11,C30,$Q$11,$R$10,$R$11,D30,$S$11,#REF!),\"emptyTuple\")","v":{"$error":"#REF!"}}]
[null,20,{"$f":"Import!E490","v":0},{"$f":"Import!E510","v":"00:00:00"},{"$f":"Import!E530","v":"00:00:00"},{"$f":"Import!E570","v":0},{"$f":"Import!E590","v":0},{"$f":"Import!E630","v":"Select"},null,null,null,null,null,null,null,null,null,null,null,null,{"$f":"IF(OR(C31<>\"\",D31<>\"\",#REF!<>\"\"),XBRLMapTuple($P$10,M$6,M$7,\"BMA\",CONFIGURATION!$B$1,\"bscr\",\"\",CONFIGURATION!$B$12,$P$11,C31,$Q$11,$R$10,$R$11,D31,$S$11,#REF!),\"emptyTuple\")","v":{"$error":"#REF!"}}]
[]
[null,2,"Enter number of Officers",{"$f":"Import!E631","v":0}]
[null,null,"Structure of the chief and senior executive management, including names, roles, country of residence work experience, employee arrangement and description of responsibilities"]
[null,null,null,null,null,null,null,null,null,null,null,null,null,null,null,"brrt_OfficersDetails"]
[null,null,"Name","Start date of Employment","Date Officer Ceased to Act","Country of Residence","Title / Position Held","Employee Arrangement (Select from Drop Down)","Description of Responsibilities\n(Select from Drop Down)",null,null,null,null,null,null,"brrt_OfficerName","brrt_OfficerLevel","brrt_OfficerPosition","brrt_OfficerWorkExperience"]
[null,1,{"$f":"Import!E632","v":0},{"$f":"Import!E652","v":"00:00:00"},{"$f":"Import!E672","v":"00:00:00"},{"$f":"Import!E712","v":0},{"$f":"Import!E732","v":0},{"$f":"Import!E772","v":"Select"},{"$f":"Import!E792","v":"Select"},null,null,null,null,null,null,null,null,null,null,null,{"$f":"IF(OR(C37<>\"\",D37<>\"\",#REF!<>\"\"),XBRLMapTuple($P$35,M$6,M$7,\"BMA\",CONFIGURATION!$B$1,\"bscr\",\"\",CONFIGURATION!$B$12,$P$36,C37,$Q$36,$S$10,$R$36,D37,$S$36,#REF!),\"emptyTuple\")","v":{"$error":"#REF!"}}]
[null,2,{"$f":"Import!E633","v":0},{"$f":"Import!E653","v":"00:00:00"},{"$f":"Import!E673","v":"00:00:00"},{"$f":"Import!E713","v":0},{"$f":"Import!E733","v":0},{"$f":"Import!E773","v":"Select"},{"$f":"Import!E793","v":"Select"},null,null,null,null,null,null,null,null,null,null,null,{"$f":"IF(OR(C38<>\"\",D38<>\"\",#REF!<>\"\"),XBRLMapTuple($P$35,M$6,M$7,\"BMA\",CONFIGURATION!$B$1,\"bscr\",\"\",CONFIGURATION!$B$12,$P$36,C38,$Q$36,$S$10,$R$36,D38,$S$36,#REF!),\"emptyTuple\")","v":{"$error":"#REF!"}}]
[null,3,{"$f":"Import!E634","v":0},{"$f":"Import!E654","v":"00:00:00"},{"$f":"Import!E674","v":"00:00:00"},{"$f":"Import!E714","v":0},{"$f":"Import!E734","v":0},{"$f":"Import!E774","v":"Select"},{"$f":"Import!E794","v":"Select"},null,null,null,null,null,null,null,null,null,null,null,{"$f":"IF(OR(C39<>\"\",D39<>\"\",#REF!<>\"\"),XBRLMapTuple($P$35,M$6,M$7,\"BMA\",CONFIGURATION!$B$1,\"bscr\",\"\",CONFIGURATION!$B$12,$P$36,C39,$Q$36,$S$10,$R$36,D39,$S$36,#REF!),\"emptyTuple\")","v":{"$error":"#REF!"}}]
[null,4,{"$f":"Import!E635","v":0},{"$f":"Import!E655","v":"00:00:00"},{"$f":"Import!E675","v":"00:00:00"},{"$f":"Import!E715","v":0},{"$f":"Import!E735","v":0},{"$f":"Import!E775","v":"Select"},{"$f":"Import!E795","v":"Select"},null,null,null,null,null,null,null,null,null,null,null,{"$f":"IF(OR(C40<>\"\",D40<>\"\",#REF!<>\"\"),XBRLMapTuple($P$35,M$6,M$7,\"BMA\",CONFIGURATION!$B$1,\"bscr\",\"\",CONFIGURATION!$B$12,$P$36,C40,$Q$36,$S$10,$R$36,D40,$S$36,#REF!),\"emptyTuple\")","v":{"$error":"#REF!"}}]
[null,5,{"$f":"Import!E636","v":0},{"$f":"Import!E656","v":"00:00:00"},{"$f":"Import!E676","v":"00:00:00"},{"$f":"Import!E716","v":0},{"$f":"Import!E736","v":0},{"$f":"Import!E776","v":"Select"},{"$f":"Import!E796","v":"Select"},null,null,null,null,null,null,null,null,null,null,null,{"$f":"IF(OR(C41<>\"\",D41<>\"\",#REF!<>\"\"),XBRLMapTuple($P$35,M$6,M$7,\"BMA\",CONFIGURATION!$B$1,\"bscr\",\"\",CONFIGURATION!$B$12,$P$36,C41,$Q$36,$S$10,$R$36,D41,$S$36,#REF!),\"emptyTuple\")","v":{"$error":"#REF!"}}]
[null,6,{"$f":"Import!E637","v":0},{"$f":"Import!E657","v":"00:00:00"},{"$f":"Import!E677","v":"00:00:00"},{"$f":"Import!E717","v":0},{"$f":"Import!E737","v":0},{"$f":"Import!E777","v":"Select"},{"$f":"Import!E797","v":"Select"},null,null,null,null,null,null,null,null,null,null,null,{"$f":"IF(OR(C42<>\"\",D42<>\"\",#REF!<>\"\"),XBRLMapTuple($P$35,M$6,M$7,\"BMA\",CONFIGURATION!$B$1,\"bscr\",\"\",CONFIGURATION!$B$12,$P$36,C42,$Q$36,$S$10,$R$36,D42,$S$36,#REF!),\"emptyTuple\")","v":{"$error":"#REF!"}}]
[null,7,{"$f":"Import!E638","v":0},{"$f":"Import!E658","v":"00:00:00"},{"$f":"Import!E678","v":"00:00:00"},{"$f":"Import!E718","v":0},{"$f":"Import!E738","v":0},{"$f":"Import!E778","v":"Select"},{"$f":"Import!E798","v":"Select"},null,null,null,null,null,null,null,null,null,null,null,{"$f":"IF(OR(C43<>\"\",D43<>\"\",#REF!<>\"\"),XBRLMapTuple($P$35,M$6,M$7,\"BMA\",CONFIGURATION!$B$1,\"bscr\",\"\",CONFIGURATION!$B$12,$P$36,C43,$Q$36,$S$10,$R$36,D43,$S$36,#REF!),\"emptyTuple\")","v":{"$error":"#REF!"}}]
[null,8,{"$f":"Import!E639","v":0},{"$f":"Import!E659","v":"00:00:00"},{"$f":"Import!E679","v":"00:00:00"},{"$f":"Import!E719","v":0},{"$f":"Import!E739","v":0},{"$f":"Import!E779","v":"Select"},{"$f":"Import!E799","v":"Select"},null,null,null,null,null,null,null,null,null,null,null,{"$f":"IF(OR(C44<>\"\",D44<>\"\",#REF!<>\"\"),XBRLMapTuple($P$35,M$6,M$7,\"BMA\",CONFIGURATION!$B$1,\"bscr\",\"\",CONFIGURATION!$B$12,$P$36,C44,$Q$36,$S$10,$R$36,D44,$S$36,#REF!),\"emptyTuple\")","v":{"$error":"#REF!"}}]
[null,9,{"$f":"Import!E640","v":0},{"$f":"Import!E660","v":"00:00:00"},{"$f":"Import!E680","v":"00:00:00"},{"$f":"Import!E720","v":0},{"$f":"Import!E740","v":0},{"$f":"Import!E780","v":"Select"},{"$f":"Import!E800","v":"Select"},null,null,null,null,null,null,null,null,null,null,null,{"$f":"IF(OR(C45<>\"\",D45<>\"\",#REF!<>\"\"),XBRLMapTuple($P$35,M$6,M$7,\"BMA\",CONFIGURATION!$B$1,\"bscr\",\"\",CONFIGURATION!$B$12,$P$36,C45,$Q$36,$S$10,$R$36,D45,$S$36,#REF!),\"emptyTuple\")","v":{"$error":"#REF!"}}]
[null,10,{"$f":"Import!E641","v":0},{"$f":"Import!E661","v":"00:00:00"},{"$f":"Import!E681","v":"00:00:00"},{"$f":"Import!E721","v":0},{"$f":"Import!E741","v":0},{"$f":"Import!E781","v":"Select"},{"$f":"Import!E801","v":"Select"},null,null,null,null,null,null,null,null,null,null,null,{"$f":"IF(OR(C46<>\"\",D46<>\"\",#REF!<>\"\"),XBRLMapTuple($P$35,M$6,M$7,\"BMA\",CONFIGURATION!$B$1,\"bscr\",\"\",CONFIGURATION!$B$12,$P$36,C46,$Q$36,$S$10,$R$36,D46,$S$36,#REF!),\"emptyTuple\")","v":{"$error":"#REF!"}}]
[null,11,{"$f":"Import!E642","v":0},{"$f":"Import!E662","v":"00:00:00"},{"$f":"Import!E682","v":"00:00:00"},{"$f":"Import!E722","v":0},{"$f":"Import!E742","v":0},{"$f":"Import!E782","v":"Select"},{"$f":"Import!E802","v":"Select"},null,null,null,null,null,null,null,null,null,null,null,{"$f":"IF(OR(C47<>\"\",D47<>\"\",#REF!<>\"\"),XBRLMapTuple($P$35,M$6,M$7,\"BMA\",CONFIGURATION!$B$1,\"bscr\",\"\",CONFIGURATION!$B$12,$P$36,C47,$Q$36,$S$10,$R$36,D47,$S$36,#REF!),\"emptyTuple\")","v":{"$error":"#REF!"}}]
[null,12,{"$f":"Import!E643","v":0},{"$f":"Import!E663","v":"00:00:00"},{"$f":"Import!E683","v":"00:00:00"},{"$f":"Import!E723","v":0},{"$f":"Import!E743","v":0},{"$f":"Import!E783","v":"Select"},{"$f":"Import!E803","v":"Select"},null,null,null,null,null,null,null,null,null,null,null,{"$f":"IF(OR(C48<>\"\",D48<>\"\",#REF!<>\"\"),XBRLMapTuple($P$35,M$6,M$7,\"BMA\",CONFIGURATION!$B$1,\"bscr\",\"\",CONFIGURATION!$B$12,$P$36,C48,$Q$36,$S$10,$R$36,D48,$S$36,#REF!),\"emptyTuple\")","v":{"$error":"#REF!"}}]
[null,13,{"$f":"Import!E644","v":0},{"$f":"Import!E664","v":"00:00:00"},{"$f":"Import!E684","v":"00:00:00"},{"$f":"Import!E724","v":0},{"$f":"Import!E744","v":0},{"$f":"Import!E784","v":"Select"},{"$f":"Import!E804","v":"Select"},null,null,null,null,null,null,null,null,null,null,null,{"$f":"IF(OR(C49<>\"\",D49<>\"\",#REF!<>\"\"),XBRLMapTuple($P$35,M$6,M$7,\"BMA\",CONFIGURATION!$B$1,\"bscr\",\"\",CONFIGURATION!$B$12,$P$36,C49,$Q$36,$S$10,$R$36,D49,$S$36,#REF!),\"emptyTuple\")","v":{"$error":"#REF!"}}]
[null,14,{"$f":"Import!E645","v":0},{"$f":"Import!E665","v":"00:00:00"},{"$f":"Import!E685","v":"00:00:00"},{"$f":"Import!E725","v":0},{"$f":"Import!E745","v":0},{"$f":"Import!E785","v":"Select"},{"$f":"Import!E805","v":"Select"},null,null,null,null,null,null,null,null,null,null,null,{"$f":"IF(OR(C50<>\"\",D50<>\"\",#REF!<>\"\"),XBRLMapTuple($P$35,M$6,M$7,\"BMA\",CONFIGURATION!$B$1,\"bscr\",\"\",CONFIGURATION!$B$12,$P$36,C50,$Q$36,$S$10,$R$36,D50,$S$36,#REF!),\"emptyTuple\")","v":{"$error":"#REF!"}}]
[null,15,{"$f":"Import!E646","v":0},{"$f":"Import!E666","v":"00:00:00"},{"$f":"Import!E686","v":"00:00:00"},{"$f":"Import!E726","v":0},{"$f":"Import!E746","v":0},{"$f":"Import!E786","v":"Select"},{"$f":"Import!E806","v":"Select"},null,null,null,null,null,null,null,null,null,null,null,{"$f":"IF(OR(C51<>\"\",D51<>\"\",#REF!<>\"\"),XBRLMapTuple($P$35,M$6,M$7,\"BMA\",CONFIGURATION!$B$1,\"bscr\",\"\",CONFIGURATION!$B$12,$P$36,C51,$Q$36,$S$10,$R$36,D51,$S$36,#REF!),\"emptyTuple\")","v":{"$error":"#REF!"}}]
[null,16,{"$f":"Import!E647","v":0},{"$f":"Import!E667","v":"00:00:00"},{"$f":"Import!E687","v":"00:00:00"},{"$f":"Import!E727","v":0},{"$f":"Import!E747","v":0},{"$f":"Import!E787","v":"Select"},{"$f":"Import!E807","v":"Select"},null,null,null,null,null,null,null,null,null,null,null,{"$f":"IF(OR(C52<>\"\",D52<>\"\",#REF!<>\"\"),XBRLMapTuple($P$35,M$6,M$7,\"BMA\",CONFIGURATION!$B$1,\"bscr\",\"\",CONFIGURATION!$B$12,$P$36,C52,$Q$36,$S$10,$R$36,D52,$S$36,#REF!),\"emptyTuple\")","v":{"$error":"#REF!"}}]
[null,17,{"$f":"Import!E648","v":0},{"$f":"Import!E668","v":"00:00:00"},{"$f":"Import!E688","v":"00:00:00"},{"$f":"Import!E728","v":0},{"$f":"Import!E748","v":0},{"$f":"Import!E788","v":"Select"},{"$f":"Import!E808","v":"Select"},null,null,null,null,null,null,null,null,null,null,null,{"$f":"IF(OR(C53<>\"\",D53<>\"\",#REF!<>\"\"),XBRLMapTuple($P$35,M$6,M$7,\"BMA\",CONFIGURATION!$B$1,\"bscr\",\"\",CONFIGURATION!$B$12,$P$36,C53,$Q$36,$S$10,$R$36,D53,$S$36,#REF!),\"emptyTuple\")","v":{"$error":"#REF!"}}]
[null,18,{"$f":"Import!E649","v":0},{"$f":"Import!E669","v":"00:00:00"},{"$f":"Import!E689","v":"00:00:00"},{"$f":"Import!E729","v":0},{"$f":"Import!E749","v":0},{"$f":"Import!E789","v":"Select"},{"$f":"Import!E809","v":"Select"},null,null,null,null,null,null,null,null,null,null,null,{"$f":"IF(OR(C54<>\"\",D54<>\"\",#REF!<>\"\"),XBRLMapTuple($P$35,M$6,M$7,\"BMA\",CONFIGURATION!$B$1,\"bscr\",\"\",CONFIGURATION!$B$12,$P$36,C54,$Q$36,$S$10,$R$36,D54,$S$36,#REF!),\"emptyTuple\")","v":{"$error":"#REF!"}}]
[null,19,{"$f":"Import!E650","v":0},{"$f":"Import!E670","v":"00:00:00"},{"$f":"Import!E690","v":"00:00:00"},{"$f":"Import!E730","v":0},{"$f":"Import!E750","v":0},{"$f":"Import!E790","v":"Select"},{"$f":"Import!E810","v":"Select"},null,null,null,null,null,null,null,null,null,null,null,{"$f":"IF(OR(C55<>\"\",D55<>\"\",#REF!<>\"\"),XBRLMapTuple($P$35,M$6,M$7,\"BMA\",CONFIGURATION!$B$1,\"bscr\",\"\",CONFIGURATION!$B$12,$P$36,C55,$Q$36,$S$10,$R$36,D55,$S$36,#REF!),\"emptyTuple\")","v":{"$error":"#REF!"}}]
[null,20,{"$f":"Import!E651","v":0},{"$f":"Import!E671","v":"00:00:00"},{"$f":"Import!E691","v":"00:00:00"},{"$f":"Import!E731","v":0},{"$f":"Import!E751","v":0},{"$f":"Import!E791","v":"Select"},{"$f":"Import!E811","v":"Select"},null,null,null,null,null,null,null,null,null,null,null,{"$f":"IF(OR(C56<>\"\",D56<>\"\",#REF!<>\"\"),XBRLMapTuple($P$35,M$6,M$7,\"BMA\",CONFIGURATION!$B$1,\"bscr\",\"\",CONFIGURATION!$B$12,$P$36,C56,$Q$36,$S$10,$R$36,D56,$S$36,#REF!),\"emptyTuple\")","v":{"$error":"#REF!"}}]
[null,null,null,null,null,null,null,"Doc Name","Page Number"]
[null,3,"Terms of reference of the board of directors and its sub-committees —",null,null,{"$f":"HYPERLINK(\"#'Attachments'!G65\",\"Attach file\")","v":"Attach file"}]
[]
[null,null,null,null,null,null,null,"Confirmation","Country of Tax Residency"]
[null,"3a","Does your company have tax residency outside of Bermuda, e.g. has made a 953d election",null,null,null,null,{"$f":"Import!E812","v":"Select Yes/No"},{"$f":"Import!E813","v":"Select"}]
[]
[null,4,"Jurisdiction(s) where the board of directors of the insurer meet on activities ",null,"Activities Performed in Bermuda?"]
[null,null,null,null,"Yes/No","If no, provide the name of the jurisdiction"]
[null,null,"(a) Setting strategic direction",null,{"$f":"Import!E814","v":"Select Yes/No"},{"$f":"Import!E818","v":0}]
[null,null,"(b) Determining the (re)insurers risk appetite",null,{"$f":"Import!E815","v":"Select Yes/No"},{"$f":"Import!E819","v":0}]
[null,null,"(c) Makes strategic decisions about new and/or changes to products, lines of business or markets",null,{"$f":"Import!E816","v":"Select Yes/No"},{"$f":"Import!E820","v":0}]
[null,null,"(d) Assess or manage solvency requirements",null,{"$f":"Import!E817","v":"Select Yes/No"},{"$f":"Import!E821","v":0}]
[]
[null,5,"Details of an insurer's operations that include the jurisdiction(s), service type and name ",null,"Operations Performed in Bermuda?",null,null,"Are Services Outsourced?"]
[null,null,null,null,"Yes/No","If no, provide the name of the jurisdiction",null,"Yes/No","Type of Provider","Name of Provider"]
[null,null,"(a) Underwriting (re)insurance policies",null,{"$f":"Import!E822","v":"Select Yes/No"},{"$f":"Import!E828","v":0},null,{"$f":"Import!E834","v":"Select Yes/No"},{"$f":"Import!E840","v":"Select"},{"$f":"Import!E846","v":0}]
[null,null,"(b) Risk management decisions/activities",null,{"$f":"Import!E823","v":"Select Yes/No"},{"$f":"Import!E829","v":0},null,{"$f":"Import!E835","v":"Select Yes/No"},{"$f":"Import!E841","v":"Select"},{"$f":"Import!E847","v":0}]
[null,null,"(c) Investment strategy",null,{"$f":"Import!E824","v":"Select Yes/No"},{"$f":"Import!E830","v":0},null,{"$f":"Import!E836","v":"Select Yes/No"},{"$f":"Import!E842","v":"Select"},{"$f":"Import!E848","v":0}]
[null,null,"(d) Actuarial ",null,{"$f":"Import!E825","v":"Select Yes/No"},{"$f":"Import!E831","v":0},null,{"$f":"Import!E837","v":"Select Yes/No"},{"$f":"Import!E843","v":"Select"},{"$f":"Import!E849","v":0}]
[null,null,"(e) Compliance ",null,{"$f":"Import!E826","v":"Select Yes/No"},{"$f":"Import!E832","v":0},null,{"$f":"Import!E838","v":"Select Yes/No"},{"$f":"Import!E844","v":"Select"},{"$f":"Import!E850","v":0}]
[null,null,"(f) Internal Audit",null,{"$f":"Import!E827","v":"Select Yes/No"},{"$f":"Import!E833","v":0},null,{"$f":"Import!E839","v":"Select Yes/No"},{"$f":"Import!E845","v":"Select"},{"$f":"Import!E851","v":0}]
[]
[null,"5a","Details of the services outsourced and if yes, if the services performed in Bermua (confirm with the yes/no drop-down box)"]
[null,null,null,null,null,"Services Outsourced","Outsourced Services Performed in Bermuda"]
[null,"(i)","\tPrincipal Representative\r\n",null,null,{"$f":"Import!E852","v":"Select Yes/No"},{"$f":"Import!E868","v":"Select Yes/No"}]
[null,"(ii)","Directorships/Board Member",null,null,{"$f":"Import!E853","v":"Select Yes/No"},{"$f":"Import!E869","v":"Select Yes/No"}]
[null,"(iii)","Senior Officer",null,null,{"$f":"Import!E854","v":"Select Yes/No"},{"$f":"Import!E870","v":"Select Yes/No"}]
[null,"(iv)","Accounting",null,null,{"$f":"Import!E855","v":"Select Yes/No"},{"$f":"Import!E871","v":"Select Yes/No"}]
[null,"(v)","Preparation of Prudential / Statutory Financial Return",null,null,{"$f":"Import!E856","v":"Select Yes/No"},{"$f":"Import!E872","v":"Select Yes/No"}]
[null,"(vi)","Underwriting",null,null,{"$f":"Import!E857","v":"Select Yes/No"},{"$f":"Import!E873","v":"Select Yes/No"}]
[null,"(vii)","\tClaims Handling\r\n",null,null,{"$f":"Import!E858","v":"Select Yes/No"},{"$f":"Import!E874","v":"Select Yes/No"}]
[null,"(viii)","Risk Management",null,null,{"$f":"Import!E859","v":"Select Yes/No"},{"$f":"Import!E875","v":"Select Yes/No"}]
[null,"(ix)","Investment",null,null,{"$f":"Import!E860","v":"Select Yes/No"},{"$f":"Import!E876","v":"Select Yes/No"}]
[null,"(x)","Treasury",null,null,{"$f":"Import!E861","v":"Select Yes/No"},{"$f":"Import!E877","v":"Select Yes/No"}]
[null,"(xi)","Actuarial functions",null,null,{"$f":"Import!E862","v":"Select Yes/No"},{"$f":"Import!E878","v":"Select Yes/No"}]
[null,"(xii)","Internal Audit",null,null,{"$f":"Import!E863","v":"Select Yes/No"},{"$f":"Import!E879","v":"Select Yes/No"}]
[null,"(xiii)","\tCompliance\r\n",null,null,{"$f":"Import!E864","v":"Select Yes/No"},{"$f":"Import!E880","v":"Select Yes/No"}]
[null,"(xiv)","AML/AFT/Sanctions Compliance",null,null,{"$f":"Import!E865","v":"Select Yes/No"},{"$f":"Import!E881","v":"Select Yes/No"}]
[null,"(xv)","Money Laundering Reporting Officer",null,null,{"$f":"Import!E866","v":"Select Yes/No"},{"$f":"Import!E882","v":"Select Yes/No"}]
[null,"(xvi)","Other (if other, disclose)",{"$f":"Import!E867","v":0}]
[]
[null,6,"Number of employees of the insurer that are resident in Bermuda (non-outsourced positions)",null,null,null,{"$f":"Import!E883","v":0}]
[]
[null,"6a","Number of employees in Bermuda working as:"]
[null,"(i)","Senior Executive",null,null,null,{"$f":"Import!E884","v":0}]
[null,"(ii)","Senior Manager",null,null,null,{"$f":"Import!E885","v":0}]
[null,"(iiii)","Technical Officer",null,null,null,{"$f":"Import!E886","v":0}]
[null,"(iv)","Administrative",null,null,null,{"$f":"Import!E887","v":0}]
[null,null,"Total",null,null,null,{"$f":"SUM(G101:G104)","v":0}]
[]
[null,null,"Check",null,null,null,{"$f":"IF(G98=G105,\"True\",\"False\")","v":"True"}]
[]
[null,7,"Name of the jurisdiction(s) where the group's board of directors primarily deliberates on the following matters —"]
[null,null,"(a) Setting strategic decision",null,null,null,{"$f":"Import!P917","v":0},null,null,null,null,null,null,null,null,"brrt_SettingStrategicDecision",null,null,null,null,{"$f":"XBRLMap(G110,$P110,$M$6,$M$7,CONFIGURATION!$B$10,\"BMA\",CONFIGURATION!$B$1,\"bscr\")","v":"Mapped"}]
[null,null,"(b) Determining the group's risk appetite",null,null,null,{"$f":"Import!P918","v":0},null,null,null,null,null,null,null,null,"brrt_DeterminingreinsurerRiskAppetite",null,null,null,null,{"$f":"XBRLMap(G111,$P111,$M$6,$M$7,CONFIGURATION!$B$10,\"BMA\",CONFIGURATION!$B$1,\"bscr\")","v":"Mapped"}]
[null,null,"(c) Choosing corporate structure, including amalgamations, acquisitions and strategic alliances",null,null,null,{"$f":"Import!P919","v":0},null,null,null,null,null,null,null,null,"brrt_ChoiceOfCorporateStructure",null,null,null,null,{"$f":"XBRLMap(G112,$P112,$M$6,$M$7,CONFIGURATION!$B$10,\"BMA\",CONFIGURATION!$B$1,\"bscr\")","v":"Mapped"}]
[null,null,"(d) Makes strategic decisions about new and/or changes to products, lines of business or markets",null,null,null,{"$f":"Import!P920","v":0},null,null,null,null,null,null,null,null,"brrt_ChoiceOfNewLinesOfBusinessNewProductsEtc",null,null,null,null,{"$f":"XBRLMap(G113,$P113,$M$6,$M$7,CONFIGURATION!$B$10,\"BMA\",CONFIGURATION!$B$1,\"bscr\")","v":"Mapped"}]
[null,null,"(e) Assess or manage solvency requirements",null,null,null,{"$f":"Import!P921","v":0},null,null,null,null,null,null,null,null,"brrt_AssessingSolvencyNeeds",null,null,null,null,{"$f":"XBRLMap(G114,$P114,$M$6,$M$7,CONFIGURATION!$B$10,\"BMA\",CONFIGURATION!$B$1,\"bscr\")","v":"Mapped"}]
[]
[null,8,"Name of the jurisdiction(s) where the group's board of directors and chief and",null,null,null,null,null,null,null,null,null,null,null,null,null,null,null,null,null,{"$f":"XBRLMap(E116,$P116,$M$6,$M$7,CONFIGURATION!$B$10,\"BMA\",CONFIGURATION!$B$1,\"bscr\")","v":"-"}]
[null,null,"senior executives primarily reside —",null,null,null,{"$f":"Import!P922","v":0},null,null,null,null,null,null,null,null,"brrt_NameOfJurisdictionsWhereGroupBoardOfDirectorsAndChiefAndSeniorExecutivesPrimarilyReside",null,null,null,null,{"$f":"XBRLMap(G117,$P117,$M$6,$M$7,CONFIGURATION!$B$10,\"BMA\",CONFIGURATION!$B$1,\"bscr\")","v":"Mapped"}]
[null,null,null,null,null,null,null,null,null,null,null,null,null,null,null,null,null,null,null,null,{"$f":"XBRLMap(E118,$P118,$M$6,$M$7,CONFIGURATION!$B$10,\"BMA\",CONFIGURATION!$B$1,\"bscr\")","v":"-"}]
[null,9,"Name of the jurisdiction(s) where the group's control functions reside ",null,null,null,null,null,null,null,null,null,null,null,null,null,null,null,null,null,{"$f":"XBRLMap(E119,$P119,$M$6,$M$7,CONFIGURATION!$B$10,\"BMA\",CONFIGURATION!$B$1,\"bscr\")","v":"-"}]
[null,null,"(i.e. group finance, actuarial, and risk management) —",null,null,null,{"$f":"Import!P923","v":0},null,null,null,null,null,null,null,null,"brrt_NameOfJurisdictionsWhereGroupCentralControlFunctionsResideieGroupFinanceActuarialAndRiskManagement",null,null,null,null,{"$f":"XBRLMap(G120,$P120,$M$6,$M$7,CONFIGURATION!$B$10,\"BMA\",CONFIGURATION!$B$1,\"bscr\")","v":"Mapped"}]
[null,null,null,null,null,null,null,null,null,null,null,null,null,null,null,null,null,null,null,null,{"$f":"XBRLMap(E121,$P121,$M$6,$M$7,CONFIGURATION!$B$10,\"BMA\",CONFIGURATION!$B$1,\"bscr\")","v":"-"}]
[null,10,"The group's financial position based on its most recent audited general purpose financial statements —",null,null,null,null,null,null,null,null,null,null,null,null,null,null,null,null,null,{"$f":"XBRLMap(E122,$P122,$M$6,$M$7,CONFIGURATION!$B$10,\"BMA\",CONFIGURATION!$B$1,\"bscr\")","v":"-"}]
[null,null,"(a) Total assets",null,null,null,{"$f":"Import!P924","v":0},null,null,null,null,null,null,null,null,"brrt_GroupFinancialPositionBasedOnItsMostRecentAuditedGeneralPurposeFinancialStatementsTotalAssets",null,null,null,null,{"$f":"XBRLMap(G123,$P123,$M$6,$M$7,CONFIGURATION!$B$10,\"BMA\",CONFIGURATION!$B$1,\"bscr\",CONFIGURATION!$B$12)","v":"Mapped"}]
[null,null,"(b) Total reserves",null,null,null,{"$f":"Import!P925","v":0},null,null,null,null,null,null,null,null,"brrt_GroupFinancialPositionBasedOnItsMostRecentAuditedGeneralPurposeFinancialStatementsTotalReserves",null,null,null,null,{"$f":"XBRLMap(G124,$P124,$M$6,$M$7,CONFIGURATION!$B$10,\"BMA\",CONFIGURATION!$B$1,\"bscr\",CONFIGURATION!$B$12)","v":"Mapped"}]
[null,null,"(c) Capital and surplus",null,null,null,{"$f":"Import!P926","v":0},null,null,null,null,null,null,null,null,"brrt_GroupFinancialPositionBasedOnItsMostRecentAuditedGeneralPurposeFinancialStatementsCapitalAndSurplus",null,null,null,null,{"$f":"XBRLMap(G125,$P125,$M$6,$M$7,CONFIGURATION!$B$10,\"BMA\",CONFIGURATION!$B$1,\"bscr\",CONFIGURATION!$B$12)","v":"Mapped"}]
[]
[null,11,"Name of insurers (and place of incorporation) within the group that have the three highest: (i) total asset value, (ii) total insurance "]
[null,null,"reserve value and (iii) capital and surplus, based on the group's most recent audited general purpose financial statements —",null,null,null,null,null,null,null,null,null,null,null,null,"brrt_NameOfInsurersWithinGroupThatHaveThreeHighestValuesBasedOnMostRecentAuditedGeneralPurposeFinancialStatements"]
[null,null,"Name of Insurer","Jurisdiction","Asset Value","Insurance Reserve Value","Capital and Surplus",null,null,null,null,null,null,null,null,"brrt_NameOfInsurer","brrt_JurisdictionOfInsurer","brrt_AssetValueOfInsurer","brrt_InsuranceReserveValueOfInsurer","brrt_CapitalAndSurplusOfInsurer"]
[null,1,{"$f":"Import!P927","v":0},{"$f":"Import!P936","v":0},{"$f":"Import!#REF!","v":{"$error":"#REF!"}},{"$f":"Import!#REF!","v":{"$error":"#REF!"}},{"$f":"Import!#REF!","v":{"$error":"#REF!"}},null,null,null,null,null,null,null,null,null,null,null,null,null,{"$f":"XBRLMapTuple($P$128,M$6,M$7,\"BMA\",CONFIGURATION!$B$1,\"bscr\",\"\",CONFIGURATION!$B$12,$P$129,C130,$Q$129,D130,$R$129,E130,$S$129,F130,$T$129,G130)","v":"Mapped"}]
[null,2,{"$f":"Import!P928","v":0},{"$f":"Import!P937","v":0},{"$f":"Import!#REF!","v":{"$error":"#REF!"}},{"$f":"Import!#REF!","v":{"$error":"#REF!"}},{"$f":"Import!#REF!","v":{"$error":"#REF!"}},null,null,null,null,null,null,null,null,null,null,null,null,null,{"$f":"XBRLMapTuple($P$128,M$6,M$7,\"BMA\",CONFIGURATION!$B$1,\"bscr\",\"\",CONFIGURATION!$B$12,$P$129,C131,$Q$129,D131,$R$129,E131,$S$129,F131,$T$129,G131)","v":"Mapped"}]
[null,3,{"$f":"Import!P929","v":0},{"$f":"Import!P938","v":0},{"$f":"Import!#REF!","v":{"$error":"#REF!"}},{"$f":"Import!#REF!","v":{"$error":"#REF!"}},{"$f":"Import!#REF!","v":{"$error":"#REF!"}},null,null,null,null,null,null,null,null,null,null,null,null,null,{"$f":"XBRLMapTuple($P$128,M$6,M$7,\"BMA\",CONFIGURATION!$B$1,\"bscr\",\"\",CONFIGURATION!$B$12,$P$129,C132,$Q$129,D132,$R$129,E132,$S$129,F132,$T$129,G132)","v":"Mapped"}]
[null,4,{"$f":"Import!P930","v":0},{"$f":"Import!P939","v":0},{"$f":"Import!#REF!","v":{"$error":"#REF!"}},{"$f":"Import!#REF!","v":{"$error":"#REF!"}},{"$f":"Import!#REF!","v":{"$error":"#REF!"}},null,null,null,null,null,null,null,null,null,null,null,null,null,{"$f":"XBRLMapTuple($P$128,M$6,M$7,\"BMA\",CONFIGURATION!$B$1,\"bscr\",\"\",CONFIGURATION!$B$12,$P$129,C133,$Q$129,D133,$R$129,E133,$S$129,F133,$T$129,G133)","v":"Mapped"}]
[null,5,{"$f":"Import!P931","v":0},{"$f":"Import!P940","v":0},{"$f":"Import!#REF!","v":{"$error":"#REF!"}},{"$f":"Import!#REF!","v":{"$error":"#REF!"}},{"$f":"Import!#REF!","v":{"$error":"#REF!"}},null,null,null,null,null,null,null,null,null,null,null,null,null,{"$f":"XBRLMapTuple($P$128,M$6,M$7,\"BMA\",CONFIGURATION!$B$1,\"bscr\",\"\",CONFIGURATION!$B$12,$P$129,C134,$Q$129,D134,$R$129,E134,$S$129,F134,$T$129,G134)","v":"Mapped"}]
[null,6,{"$f":"Import!P932","v":0},{"$f":"Import!P941","v":0},{"$f":"Import!#REF!","v":{"$error":"#REF!"}},{"$f":"Import!#REF!","v":{"$error":"#REF!"}},{"$f":"Import!#REF!","v":{"$error":"#REF!"}},null,null,null,null,null,null,null,null,null,null,null,null,null,{"$f":"XBRLMapTuple($P$128,M$6,M$7,\"BMA\",CONFIGURATION!$B$1,\"bscr\",\"\",CONFIGURATION!$B$12,$P$129,C135,$Q$129,D135,$R$129,E135,$S$129,F135,$T$129,G135)","v":"Mapped"}]
[null,7,{"$f":"Import!P933","v":0},{"$f":"Import!P942","v":0},{"$f":"Import!#REF!","v":{"$error":"#REF!"}},{"$f":"Import!#REF!","v":{"$error":"#REF!"}},{"$f":"Import!#REF!","v":{"$error":"#REF!"}},null,null,null,null,null,null,null,null,null,null,null,null,null,{"$f":"XBRLMapTuple($P$128,M$6,M$7,\"BMA\",CONFIGURATION!$B$1,\"bscr\",\"\",CONFIGURATION!$B$12,$P$129,C136,$Q$129,D136,$R$129,E136,$S$129,F136,$T$129,G136)","v":"Mapped"}]
[null,8,{"$f":"Import!P934","v":0},{"$f":"Import!P943","v":0},{"$f":"Import!#REF!","v":{"$error":"#REF!"}},{"$f":"Import!#REF!","v":{"$error":"#REF!"}},{"$f":"Import!#REF!","v":{"$error":"#REF!"}},null,null,null,null,null,null,null,null,null,null,null,null,null,{"$f":"XBRLMapTuple($P$128,M$6,M$7,\"BMA\",CONFIGURATION!$B$1,\"bscr\",\"\",CONFIGURATION!$B$12,$P$129,C137,$Q$129,D137,$R$129,E137,$S$129,F137,$T$129,G137)","v":"Mapped"}]
[null,9,{"$f":"Import!P935","v":0},{"$f":"Import!#REF!","v":{"$error":"#REF!"}},{"$f":"Import!#REF!","v":{"$error":"#REF!"}},{"$f":"Import!#REF!","v":{"$error":"#REF!"}},{"$f":"Import!#REF!","v":{"$error":"#REF!"}},null,null,null,null,null,null,null,null,null,null,null,null,null,{"$f":"XBRLMapTuple($P$128,M$6,M$7,\"BMA\",CONFIGURATION!$B$1,\"bscr\",\"\",CONFIGURATION!$B$12,$P$129,C138,$Q$129,D138,$R$129,E138,$S$129,F138,$T$129,G138)","v":"Mapped"}]
[]
[null,12,"Describe any subsequent events or decisions that would or have materially changed the information in items (4) to (11) above "]
[null,null,"(e.g. amalgamation, acquisition, or restructuring, etc.) —"]
[null,null,{"$f":"Import!E943","v":0},null,null,null,null,null,null,null,null,null,null,null,null,"brrt_DescribeAnySubsequentEventsOrDecisionsForAmalgamationAcquisitionOrRestructuringEtc",null,null,null,null,{"$f":"XBRLMap(C142,$P142,$M$6,$M$7,CONFIGURATION!$B$10,\"BMA\",CONFIGURATION!$B$1,\"bscr\")","v":"Mapped"}]
[]
[null,null,null,null,null,"Doc Name","Page Number"]
[null,13,"A copy of the latest group organizational chart —",null,{"$f":"HYPERLINK(\"#'Attachments'!G75\",\"Attach file\")","v":"Attach file"}]
[]
[]
[null,null,"Select","Select",null,"Select",null,"Select Yes/No"]
[null,null,"N/A","Insurance Manager","Insurance Manager","Insurer",null,"Yes",null,"Select"]
[null,null,"United Kingdom","Other Third Party","Other Third Party","Affiliate",null,"No",null,"Non-executive (Independent)"]
[null,null,"United States of America","Affiliate","Affiliate","External service provider ",null,null,null,"Non-executive (Affiliate)"]
[null,null,"Canada",null,null,null,null,null,null,"Non-executive (Service Provider)"]
[null,null,null,null,null,null,null,null,null,"Non-executive (Other)"]
[null,null,"Afghanistan",null,null,null,null,null,null,"Executive"]
[null,null,"Aland Islands",null,null,null,null,null,null,"Select"]
[null,null,"Albania",null,null,null,null,null,null,"A - Has authority to make key strategic, underwriting or investment decisions, etc."]
[null,null,"Algeria",null,null,null,null,null,null,"B - Has authority to make key strategic, underwriting or investments decision, etc., within the risk appetite explicitly set by the Board of Directors."]
[null,null,"American Samoa",null,null,null,null,null,null,"C - Must get key strategic, underwriting, or investment decisions signed-off by Board of Directors before executing."]
[null,null,"Andorra"]
[null,null,"Angola"]
[null,null,"Anguilla"]
[null,null,"Antigua & Barbuda"]
[null,null,"Argentina"]
[null,null,"Armenia"]
[null,null,"Aruba"]
[null,null,"Australia"]
[null,null,"Austria"]
[null,null,"Azerbaijan"]
[null,null,"Bahamas"]
[null,null,"Bahrain"]
[null,null,"Bangladesh"]
[null,null,"Barbados"]
[null,null,"Belarus"]
[null,null,"Belgium"]
[null,null,"Belize"]
[null,null,"Benin"]
[null,null,"Bhutan"]
[null,null,"Bolivia"]
[null,null,"Bosnia and Herzegovina"]
[null,null,"Botswana"]
[null,null,"Brazil"]
[null,null,"British Virgin Islands"]
[null,null,"Brunei Darussalam"]
[null,null,"Bulgaria"]
[null,null,"Burkina Faso"]
[null,null,"Burundi"]
[null,null,"Cambodia"]
[null,null,"Cameroon"]
[null,null,"Cape Verde"]
[null,null,"Cayman Islands"]
[null,null,"Central African Republic"]
[null,null,"Chad"]
[null,null,"Chile"]
[null,null,"China"]
[null,null,"Colombia"]
[null,null,"Comoros"]
[null,null,"Cook Islands"]
[null,null,"Costa Rica"]
[null,null,"Cote d' Ivoire"]
[null,null,"Croatia"]
[null,null,"Cuba"]
[null,null,"Cyprus"]
[null,null,"Czech Republic"]
[null,null,"Democratic Republic of Congo"]
[null,null,"Denmark"]
[null,null,"Djibouti"]
[null,null,"Dominica"]
[null,null,"Dominican Republic"]
[null,null,"Ecuador"]
[null,null,"Egypt"]
[null,null,"El Salvador"]
[null,null,"Equatorial Guinea"]
[null,null,"Eritrea"]
[null,null,"Estonia"]
[null,null,"Ethiopia"]
[null,null,"Faeroe Islands"]
[null,null,"Falkland Islands"]
[null,null,"Fiji"]
[null,null,"Finland"]
[null,null,"France"]
[null,null,"French Guiana"]
[null,null,"French Polynesia"]
[null,null,"fYR of Macedonia"]
[null,null,"Gabon"]
[null,null,"Gambia"]
[null,null,"Georgia"]
[null,null,"Germany"]
[null,null,"Ghana"]
[null,null,"Gibraltar"]
[null,null,"Greece"]
[null,null,"Greenland"]
[null,null,"Grenada"]
[null,null,"Guadeloupe"]
[null,null,"Guam"]
[null,null,"Guatemala"]
[null,null,"Guernsey"]
[null,null,"Guinea"]
[null,null,"Guinea-Bissau"]
[null,null,"Guyana"]
[null,null,"Haiti"]
[null,null,"Honduras"]
[null,null,"Hong Kong"]
[null,null,"Hungary"]
[null,null,"Iceland"]
[null,null,"India"]
[null,null,"Indonesia"]
[null,null,"Iran"]
[null,null,"Iraq"]
[null,null,"Isle of Man"]
[null,null,"Israel"]
[null,null,"Italy"]
[null,null,"Jamica"]
[null,null,"Japan"]
[null,null,"Jersey"]
[null,null,"Jordan"]
[null,null,"Kazakhstan"]
[null,null,"Kenya"]
[null,null,"Kiribati"]
[null,null,"Kuwait"]
[null,null,"Kyrgyzstan"]
[null,null,"Lao PDR"]
[null,null,"Latvia"]
[null,null,"Lebanon"]
[null,null,"Lesotho"]
[null,null,"Liberia"]
[null,null,"Libya"]
[null,null,"Liechtenstein"]
[null,null,"Lithuania"]
[null,null,"Luxembourg"]
[null,null,"Macao"]
[null,null,"Madagascar"]
[null,null,"Malawi"]
[null,null,"Malaysia"]
[null,null,"Maldives"]
[null,null,"Mali"]
[null,null,"Malta"]
[null,null,"Marshall Islands"]
[null,null,"Mauritania"]
[null,null,"Mauritius"]
[null,null,"Mayotte"]
[null,null,"Mexico"]
[null,null,"Micronesia"]
[null,null,"Moldova"]
[null,null,"Monaco"]
[null,null,"Mongolia"]
[null,null,"Montenegro"]
[null,null,"Montserrat"]
[null,null,"Morocco"]
[null,null,"Mozambique"]
[null,null,"Myanmar"]
[null,null,"N. Mariana Islands"]
[null,null,"Namibia"]
[null,null,"Nauru"]
[null,null,"Nepal"]
[null,null,"Netherlands"]
[null,null,"Netherlands Antilles (Curacao and Bonaire)"]
[null,null,"New Caledonia"]
[null,null,"New Zealand"]
[null,null,"Nicaragua"]
[null,null,"Niger"]
[null,null,"Nigeria"]
[null,null,"Niue"]
[null,null,"Norfolk Island"]
[null,null,"North Korea"]
[null,null,"Northern Africa"]
[null,null,"Norway"]
[null,null,"Oman"]
[null,null,"Pakistan"]
[null,null,"Palau"]
[null,null,"Palestinian"]
[null,null,"Panama"]
[null,null,"Papua New Guinea"]
[null,null,"Paraguay"]
[null,null,"Peru"]
[null,null,"Philippines"]
[null,null,"Pitcairn"]
[null,null,"Poland"]
[null,null,"Portugal"]
[null,null,"Puerto Rico"]
[null,null,"Qatar"]
[null,null,"Republic of Congo"]
[null,null,"Republic of Ireland"]
[null,null,"Reunion"]
[null,null,"Romania"]
[null,null,"Russian Federation"]
[null,null,"Rwanda"]
[null,null,"Saint Helena"]
[null,null,"Samoa"]
[null,null,"San Marino"]
[null,null,"Sao Tome & Principe"]
[null,null,"Saudi Arabia"]
[null,null,"Senegal"]
[null,null,"Serbia"]
[null,null,"Seychelles"]
[null,null,"Sierra Leone"]
[null,null,"Singapore"]
[null,null,"Slovakia"]
[null,null,"Slovenia"]
[null,null,"Solomon Islands"]
[null,null,"Somalia"]
[null,null,"South Africa"]
[null,null,"South Korea"]
[null,null,"Spain"]
[null,null,"Sri Lanka"]
[null,null,"St Kitts & Nevis"]
[null,null,"St Lucia"]
[null,null,"St Pierre & Miquelon"]
[null,null,"St. Maarten"]
[null,null,"St. Vincent & the Grenadines"]
[null,null,"St-Barthelemy"]
[null,null,"Sudan"]
[null,null,"Suriname"]
[null,null,"Svalbard, Jan Mayen"]
[null,null,"Swaziland"]
[null,null,"Sweden"]
[null,null,"Switzerland"]
[null,null,"Syria"]
[null,null,"Taiwan"]
[null,null,"Tajikistan"]
[null,null,"Thailand"]
[null,null,"Timor-Leste"]
[null,null,"Togo"]
[null,null,"Tokelau"]
[null,null,"Tonga"]
[null,null,"Trinidad & Tobago"]
[null,null,"Tunisia"]
[null,null,"Turkey"]
[null,null,"Turkmenistan"]
[null,null,"Turks & Caicos Islands"]
[null,null,"Tuvalu"]
[null,null,"Uganda"]
[null,null,"Ukraine"]
[null,null,"United Arab Emirates"]
[null,null,"United Republic of Tanzania"]
[null,null,"Uruguay"]
[null,null,"US Virgin Islands"]
[null,null,"Uzbekistan"]
[null,null,"Vanuatu"]
[null,null,"Vatican City"]
[null,null,"Venezuela"]
[null,null,"Vietnam"]
[null,null,"Wallis & Futuna Islands"]
[null,null,"Western Sahara"]
[null,null,"Yemen"]
[null,null,"Zambia"]
[null,null,"Zimbabwe"]

{"sheet":"Schedule V(e)","index":23,"n_rows":543,"n_cols":46,"rows_kept":543,"cut":false,"hidden":false,"merged":[[240,1,240,2],[376,13,376,15],[378,13,378,15],[379,13,379,15],[310,8,310,9],[311,8,311,9],[312,8,312,9],[313,8,313,9],[314,8,314,9],[315,8,315,9],[316,8,316,9],[317,8,317,9],[318,8,318,9],[241,11,242,11],[242,1,242,2],[243,5,244,5],[243,8,244,8],[243,11,244,11],[245,5,246,5],[245,8,246,8],[245,11,246,11],[246,1,246,2],[252,9,252,10],[255,1,256,2],[110,9,110,10],[112,2,113,2],[121,2,122,2],[131,4,131,6],[131,7,131,9],[145,2,145,3],[133,2,133,3],[134,2,134,3],[135,2,135,3],[136,2,136,3],[137,2,137,3],[140,2,140,3],[141,2,141,3],[142,2,142,3],[144,2,144,3],[194,0,194,3],[208,3,208,4],[206,3,207,9],[212,3,212,4],[343,3,343,4],[344,1,344,2],[344,3,344,4],[332,1,332,4],[342,1,342,2],[342,3,342,4],[319,8,319,9],[320,8,320,9],[321,8,321,9],[322,8,322,9],[323,8,323,9],[324,8,324,9],[325,8,325,9],[340,1,340,2],[340,3,340,4],[341,1,341,2],[328,8,328,9],[329,8,329,9],[330,8,330,9],[331,8,331,9],[234,1,234,2],[235,1,235,2],[36,12,37,12],[36,13,37,13],[40,1,40,7],[41,1,41,7],[42,1,42,7],[43,1,43,7],[36,8,37,8],[75,12,76,14],[190,1,190,2],[188,1,188,2],[177,3,177,4],[179,1,179,2],[176,3,176,4],[173,3,173,4],[174,1,174,2],[162,1,162,2],[170,1,170,4],[183,1,183,2],[187,3,187,4],[186,1,186,2],[85,1,85,2],[214,1,214,2],[86,1,86,2],[87,1,87,2],[91,1,91,2],[94,2,95,2],[108,9,108,10],[109,9,109,10],[187,1,187,2],[223,1,223,2],[225,1,225,2],[225,3,225,4],[224,1,224,2],[196,3,197,9],[196,1,197,2],[219,1,219,2],[191,3,191,4],[200,3,200,4],[199,3,199,4],[192,3,192,4],[204,1,204,4],[209,1,209,2],[209,3,209,4],[202,1,202,2],[206,1,207,2],[208,1,208,2],[227,1,227,4],[201,3,201,4],[220,1,220,2],[103,2,104,2],[105,9,105,10],[106,9,106,10],[107,9,107,10],[36,11,37,11],[28,9,28,10],[30,1,30,2],[31,1,31,2],[32,1,32,2],[33,1,33,2],[34,1,34,2],[36,3,37,3],[36,4,37,4],[36,5,36,6],[36,7,37,7],[103,9,104,10],[79,1,79,2],[78,1,78,2],[82,1,82,4],[28,5,28,6],[28,7,28,8],[1,1,1,3],[20,1,21,3],[46,1,46,3],[13,2,13,3],[2,1,2,4],[11,2,11,3],[12,2,12,3],[77,1,77,2],[18,2,18,3],[15,2,15,3],[16,2,16,3],[17,2,17,3],[14,2,14,3],[26,1,26,2],[25,1,25,2],[28,3,28,4],[36,9,37,9],[36,10,37,10],[173,30,173,31],[174,30,174,31],[175,30,175,31],[176,1,176,2],[185,1,185,2],[202,3,202,4],[200,1,200,2],[176,30,176,31],[177,1,177,2],[179,3,179,4],[178,30,178,31],[198,3,198,4],[189,1,189,2],[189,3,189,4],[178,3,178,4],[185,3,185,4],[186,3,186,4],[192,1,192,2],[179,30,179,31],[178,1,178,2],[188,3,188,4],[190,3,190,4],[479,3,479,4],[341,3,341,4],[338,1,338,2],[339,1,339,2],[338,3,338,4],[339,3,339,4],[349,1,350,16],[352,1,353,16],[303,10,308,10],[336,1,337,2],[336,3,337,8],[326,8,326,9],[327,8,327,9],[303,6,306,7],[398,13,398,15],[395,13,395,15],[405,13,405,15],[417,13,417,15],[416,13,416,15],[377,13,377,15],[394,13,394,15],[385,13,385,15],[374,13,374,15],[375,13,375,15],[480,3,480,4],[210,1,210,2],[210,3,210,4],[211,1,211,2],[211,3,211,4],[343,1,343,2],[303,8,308,9],[309,8,309,9],[477,2,477,4],[218,1,218,2],[224,3,224,4],[221,1,221,2],[222,1,222,2],[212,1,212,2],[217,1,217,2],[238,1,239,2],[238,3,238,4],[238,6,238,7],[238,9,238,10],[241,1,241,2],[241,5,242,5],[241,8,242,8],[252,3,252,4],[252,6,252,7],[541,3,541,4],[535,3,535,4],[536,3,536,4],[537,3,537,4],[538,3,538,4],[517,3,517,4],[527,3,527,4],[520,3,520,4],[519,3,519,4],[539,3,539,4],[540,3,540,4],[533,3,533,4],[534,3,534,4],[522,3,522,4],[523,3,523,4],[526,3,526,4],[532,3,532,4],[531,3,531,4],[525,3,525,4],[530,3,530,4],[524,3,524,4],[529,3,529,4],[528,3,528,4],[3,11,3,14],[191,1,191,2],[518,3,518,4],[510,3,510,4],[509,3,509,4],[503,3,503,4],[80,1,80,2],[198,1,198,2],[492,3,492,4],[501,3,501,4],[502,3,502,4],[175,1,175,2],[175,3,175,4],[493,3,493,4],[494,3,494,4],[481,3,481,4],[164,1,168,11],[174,3,174,4],[199,1,199,2],[201,1,201,2],[478,3,478,4],[490,3,490,4],[516,3,516,4],[512,3,512,4],[513,3,513,4],[489,3,489,4],[511,3,511,4],[514,3,514,4],[515,3,515,4],[482,3,482,4],[504,3,504,4],[506,3,506,4],[507,3,507,4],[496,3,496,4],[505,3,505,4],[508,3,508,4],[500,3,500,4],[497,3,497,4],[495,3,495,4],[488,3,488,4],[487,3,487,4],[491,3,491,4],[484,3,484,4],[485,3,485,4],[483,3,483,4],[486,3,486,4],[262,11,263,11],[263,1,263,2],[269,3,269,4],[269,6,269,7],[269,9,269,10],[255,3,255,4],[255,6,255,7],[255,9,255,10],[258,1,258,2],[258,5,259,5],[258,8,259,8],[258,11,259,11],[259,1,259,2],[257,1,257,2],[255,15,255,16],[258,14,259,14],[260,14,261,14],[262,14,263,14],[269,12,269,13],[258,17,259,17],[260,17,261,17],[262,17,263,17],[269,15,269,16],[273,13,273,17],[274,3,275,3],[274,4,274,5],[274,6,274,7],[274,8,275,8],[274,9,274,10],[274,11,274,12],[274,13,275,13],[274,14,274,15],[274,16,274,17],[287,13,287,17],[288,3,289,3],[288,4,288,5],[288,6,288,7],[288,8,289,8],[288,9,288,10],[288,11,288,12],[288,13,289,13],[288,14,288,15],[288,16,288,17],[89,3,89,4],[89,5,89,6],[133,1,137,1],[138,1,139,1],[138,5,138,6],[139,5,139,6],[140,1,142,1],[290,1,290,2],[291,1,291,2],[287,1,287,2],[287,3,287,7],[289,1,289,2],[276,1,276,2],[277,1,277,2],[278,1,278,2],[279,1,279,2],[280,1,280,2],[281,1,281,2],[282,1,282,2],[283,1,283,2],[284,1,284,2],[273,1,273,2],[273,3,273,7],[275,1,275,2],[143,1,145,1],[147,4,147,6],[149,1,151,1],[149,2,149,3],[150,5,150,6],[151,5,151,6],[153,1,154,1],[153,5,153,6],[154,5,154,6],[366,2,366,8],[155,1,157,1],[155,2,155,3],[156,2,156,3],[157,2,157,3],[158,1,160,1],[158,2,158,3],[159,2,159,3],[160,2,160,3],[292,1,292,2],[293,1,293,2],[294,1,294,2],[295,1,295,2],[296,1,296,2],[297,1,297,2],[298,1,298,2],[287,8,287,12],[273,8,273,12],[255,12,255,13],[260,5,261,5],[260,8,261,8],[260,11,261,11],[262,5,263,5],[262,8,263,8]]}
[null,"SCHEDULE OF RISK MANAGEMENT - STRESS/SCENARIO TESTS",null,null,null,null,null,null,null,null,null,null,null,null,null,null,{"$f":"HYPERLINK(\"#'Index'!A1\",\"Return to Index\")","v":"Return to Index"}]
[null,{"$f":"'Company Information'!C7","v":"Enter Company Name"}]
[null,{"$f":"\"For the year ending \"&TEXT('Company Information'!C3,\"MMMM DD, YYYY\")","v":"For the year ending December 31, 2019"},null,null,null,null,null,null,null,null,null,null,null,null,null,null,"SCHEDULE V(e)"]
[null,{"$f":"\"expressed in\"& IF(CONFIGURATION!$B$12>1,\" ['\"&MID(CONFIGURATION!$B$12,2,LEN(CONFIGURATION!$B$12))&\"s]\",\"\")&\" \"&'Form 1SFS GB'!C5","v":"expressed in ['000s] United States Dollars"}]
[null,null,null,null,null,"Statutory Assets","Statutory Liabilities","Statutory Capital & Surplus",null,null,null,null,null,null,null,null,null,null,null,null,null,null,null,null,null,null,null,null,null,null,"bma_BmaStressscenarioTestsPrestressscenarioCapitalAndSurplusPosition"]
[null,null,null,null,"Pre-stress/scenario position",{"$f":"IF('Form 1SFS GB'!I100=0,('Form 1SFS GB'!E100+'Form 1SFS LT'!E100),'Form 1SFS GB'!I100)","v":0},{"$f":"IF('Form 1SFS GB'!I194=0,('Form 1SFS GB'!E194+'Form 1SFS LT'!E194),'Form 1SFS GB'!I194)","v":0},{"$f":"IF('Form 1SFS GB'!I198=0,('Form 1SFS GB'!E198+'Form 1SFS LT'!E198),'Form 1SFS GB'!I198)","v":0},null,null,null,null,null,null,null,null,null,null,null,null,null,null,null,null,null,null,null,null,null,null,""]
[]
[null,"Insurer Confirms that Loss Scenarios left blank/omitted, result in no loss exposure"]
[null,null,null,null,null,null,null,null,"Confirm with \"X\""]
[null,"A. FINANCIAL MARKET SCENARIOS",null,null,null,null,null,null,null,null,null,null,null,null,null,null,null,null,null,null,"",null,null,null,null,null,null,null,null,null,"bma_BmaStressscenarioTestsAEconomicScenariosAbstract"]
[null,null,null,null,"Loss","Statutory Assets","Statutory Liabilities","Statutory Capital & Surplus"]
[null,"R1.","40% decline in equity prices",null,{"$f":"IF(SUM(F12:G12)=0,0,($F$6-F12)+(G12-$G$6))","v":0},{"$f":"Import!P974","v":0},{"$f":"+Import!P982","v":0},{"$f":"H$6-E12","v":0},null,null,null,null,null,null,null,null,null,null,null,null,"brrt_StressScenarioTestsEconomicAxis_brrt_R1Member",null,null,null,null,null,null,null,null,null,null,"bma_BmaStressscenarioTestsR140PercentDeclineInEquityPrices"]
[null,"R2.","Alternative Investments and Real Estate",null,0,{"$f":"Import!P975","v":0},{"$f":"+Import!P983","v":0},0,null,null,null,null,null,null,null,null,null,null,null,null,"brrt_StressScenarioTestsEconomicAxis_brrt_R2Member",null,null,null,null,null,null,null,null,null,null,"bma_BmaStressscenarioTestsR140PercentDeclineInEquityPrices"]
[null,"R3.","Extreme US Yield Curve Widening",null,0,{"$f":"Import!P976","v":0},{"$f":"+Import!P984","v":0},0,null,null,null,null,null,null,null,null,null,null,null,null,"brrt_StressScenarioTestsEconomicAxis_brrt_R3Member",null,null,null,null,null,null,null,null,null,null,"bma_BmaStressscenarioTestsCombinedR1AndR2"]
[null,"R4.","Widening of credit spreads ",null,{"$f":"IF(SUM(F15:G15)=0,0,($F$6-F15)+(G15-$G$6))","v":0},{"$f":"Import!P977","v":0},{"$f":"+Import!P985","v":0},{"$f":"H$6-E15","v":0},null,null,null,null,null,null,null,null,null,null,null,null,"brrt_StressScenarioTestsEconomicAxis_brrt_R4Member"]
[null,"R5.","Combined R1, R2, R3 and R4.",null,0,{"$f":"Import!P978","v":0},{"$f":"+Import!P986","v":0},0,null,null,null,null,null,null,null,null,null,null,null,null,"brrt_StressScenarioTestsEconomicAxis_brrt_CombinedP99Member"]
[null,"R6.","Foreign currency shocks",null,0,{"$f":"Import!P979","v":0},{"$f":"+Import!P987","v":0},0,null,null,null,null,null,null,null,null,null,null,null,null,"brrt_StressScenarioTestsEconomicAxis_brrt_ForeignCurrencyShocksMember",null,null,null,null,null,null,null,null,null,null,"bma_BmaStressscenarioTestsBUnderwritingLossScenariosAbstract"]
[null,"R7.","Escalation of sovereign risk ",null,0,{"$f":"Import!P980","v":0},{"$f":"+Import!P988","v":0},0,null,null,null,null,null,null,null,null,null,null,null,null,"brrt_StressScenarioTestsEconomicAxis_brrt_EscalationOfEuropeanSovereignRiskMember"]
[null,"R8.","Inflation and Monetary Policy risk",null,{"$f":"IF(SUM(F19:G19)=0,0,($F$6-F19)+(G19-$G$6))","v":0},{"$f":"Import!P981","v":0},{"$f":"+Import!P989","v":0},{"$f":"H$6-E19","v":0}]
[]
[null,"Valuation losses on debt securities and loans issued by debtors in each European state —",null,null,"Greece","Italy","Portugal","Ukraine","Argentina","Turkey",null,null,null,null,null,null,null,null,null,null,"brrt_ValuationLossesOnDebtSecuritiesAndLoansIssuedByDebtorsInEachEuropeanState",null,null,null,null,null,null,null,null,"bma_BmaStressscenarioTestsUw2CarolinasHurricane"]
[null,null,null,null,{"$f":"Import!P990","v":0},{"$f":"Import!P991","v":0},{"$f":"Import!P992","v":0},{"$f":"Import!P993","v":0},{"$f":"Import!P994","v":0},{"$f":"Import!P995","v":0},null,null,null,null,null,null,null,null,"brrt_ValuationLossesOnDebtSecuritiesAndLoansIssuedByDebtorsInEachEuropeanStateBelgium","brrt_ValuationLossesOnDebtSecuritiesAndLoansIssuedByDebtorsInEachEuropeanStateFrance","brrt_ValuationLossesOnDebtSecuritiesAndLoansIssuedByDebtorsInEachEuropeanStateGreece","brrt_ValuationLossesOnDebtSecuritiesAndLoansIssuedByDebtorsInEachEuropeanStateIreland","brrt_ValuationLossesOnDebtSecuritiesAndLoansIssuedByDebtorsInEachEuropeanStateItaly","brrt_ValuationLossesOnDebtSecuritiesAndLoansIssuedByDebtorsInEachEuropeanStatePortugal","brrt_ValuationLossesOnDebtSecuritiesAndLoansIssuedByDebtorsInEachEuropeanStateSpain","brrt_ValuationLossesOnDebtSecuritiesAndLoansIssuedByDebtorsInEachEuropeanStateUkraine",null,{"$f":"XBRLMapTuple($U$21,K$427,K$428,\"BMA\",CONFIGURATION!$B$1,\"bscr\",\"\",CONFIGURATION!$B$12,$U$22,E22,$V$22,F22,$W$22,G22,$X$22,H22,$Y$22,I22,$Z$22,J22)","v":"Mapped"},null,"bma_BmaStressscenarioTestsUw3MiamidadeHurricane"]
[]
[null,"B. MORTGAGE INSURANCE"]
[]
[null,"Mortgage Loan Shock 1",null,{"$f":"Import!P996","v":"Select"},{"$f":"IF(SUM(F26:G26)=0,0,($F$6-F26)+(G26-$G$6))","v":0},{"$f":"Import!P998","v":0},{"$f":"Import!P1000","v":0},{"$f":"H$6-E26","v":0}]
[null,"Mortgage Loan Shock 2",null,{"$f":"Import!P997","v":"Select"},{"$f":"IF(SUM(F27:G27)=0,0,($F$6-F27)+(G27-$G$6))","v":0},{"$f":"Import!P999","v":0},{"$f":"Import!P1001","v":0},{"$f":"H$6-E27","v":0}]
[]
[null,null,null,"Gross Premium",null,"Net Premium",null,"Claims Paid",null,"Loss Reserves"]
[null,null,null,"Related","Unrelated","Related","Unrelated","Related","Unrelated","Gross ","Net "]
[null,"Mortgage Insurance - US",null,{"$f":"Import!P1002","v":0},{"$f":"Import!P1007","v":0},{"$f":"Import!P1012","v":0},{"$f":"Import!P1017","v":0},{"$f":"Import!P1022","v":0},{"$f":"Import!P1027","v":0},{"$f":"Import!P1032","v":0},{"$f":"Import!P1037","v":0}]
[null,"Mortgage Reinsurance - US",null,{"$f":"Import!P1003","v":0},{"$f":"Import!P1008","v":0},{"$f":"Import!P1013","v":0},{"$f":"Import!P1018","v":0},{"$f":"Import!P1023","v":0},{"$f":"Import!P1028","v":0},{"$f":"Import!P1033","v":0},{"$f":"Import!P1038","v":0}]
[null,"Mortgage Insurance - Non-US",null,{"$f":"Import!P1004","v":0},{"$f":"Import!P1009","v":0},{"$f":"Import!P1014","v":0},{"$f":"Import!P1019","v":0},{"$f":"Import!P1024","v":0},{"$f":"Import!P1029","v":0},{"$f":"Import!P1034","v":0},{"$f":"Import!P1039","v":0}]
[null,"Mortgage Reinsurance - Non-US",null,{"$f":"Import!P1005","v":0},{"$f":"Import!P1010","v":0},{"$f":"Import!P1015","v":0},{"$f":"Import!P1020","v":0},{"$f":"Import!P1025","v":0},{"$f":"Import!P1030","v":0},{"$f":"Import!P1035","v":0},{"$f":"Import!P1040","v":0}]
[null,"Total",null,{"$f":"SUM(D31:D34)","v":0},{"$f":"SUM(E31:E34)","v":0},0,0,0,0,0,0]
[]
[null,null,null,"Insurance in Force (IIF)","Risk in Force (RIF)","Capital Held",null,"Risk to MI Capital Ratio","Collateral Posted","# of Policies in Force","Loss Ratio (UW)","Combined Ratio (UW)","Weighted Ave. LTV","Weighted Ave. FICO Score"]
[null,null,null,null,null,"Internal ","Regulatory "]
[null,"Supplemental Disclosures",null,{"$f":"Import!P1042","v":0},{"$f":"Import!P1043","v":0},{"$f":"Import!P1044","v":0},{"$f":"((F35+G35)*0.454)+(K35*0.435)","v":0},{"$f":"IF(G39=0,0,E39/G39)","v":0},{"$f":"Import!P1046","v":0},{"$f":"Import!P1047","v":0},{"$f":"Import!P1048","v":0},{"$f":"Import!P1049","v":0},{"$f":"Import!P1050","v":0},{"$f":"Import!P1051","v":0}]
[]
[null,"1. How do you define your risk appetite for this type of business, in terms metrics, tolerance levels and limits?",null,null,null,null,null,null,{"$f":"HYPERLINK(\"#'Attachments'!G85\",\"Attach file\")","v":"Attach file"}]
[null,"2. What key drivers do your monitor in the risk management and business performance assessment of this LoB?",null,null,null,null,null,null,"Attach file"]
[null,"3. How do you allocate capital to this LoB in terms of methodology and metrics used?",null,null,null,null,null,null,"Attach file"]
[null,"4. How do you calculate the CISSA standalone capital requirement, what methodology and risk factors do you model?",null,null,null,null,null,null,"Attach file"]
[null,null,null,null,null,null,null,null,null,null,null,null,null,null,null,null,null,null,null,null,null,null,null,null,null,null,null,null,null,null,"bma_BmaStressscenarioTestsUe1LosAngelesEarthquake"]
[null,"C. UNDERWRITING LOSS SCENARIOS",null,null,null,"Doc Name","Page Number",null,null,null,null,null,null,null,null,null,null,null,null,null,null,null,null,null,null,null,null,null,null,null,"bma_BmaStressscenarioTestsUe2SanFranciscoEarthquake"]
[null,"Internal model key assumptions and parameters",null,null,{"$f":"HYPERLINK(\"#'Attachments'!G145\",\"Attach file\")","v":"Attach file"}]
[]
[null,null,null,null,null,null,null,null,null,null,null,null,null,null,null,null,null,null,null,null,null,null,null,null,null,null,null,null,null,null,"bma_BmaStressscenarioTestsUe3NewMadridnmRds"]
[null,null,null,"Gross Loss Impact","Statutory Capital & Surplus After Gross Loss","Net Loss After Reinsurance","Catastrophe Mitigation Techniques","Net Loss Impact","Statutory Capital & Surplus","Occurrence Return Period ","Relative Return Period 2","Proprietary/ Vendor Model & Version",null,null,null,null,null,null,"Gross Loss Check","Net Loss Check","Gross Loss and Net Loss Check",null,null,null,null,null,null,null,null,null,null,"bma_BmaStressscenarioTestsUe4NmExtremeStressScenario"]
[null,"UW1. ","Northeast Hurricane",{"$f":"Import!P1052","v":0},{"$f":"$H$6-D51","v":0},{"$f":"Import!P1071","v":0},{"$f":"Import!P1090","v":0},{"$f":"F51-G51","v":0},{"$f":"$H$6-H51","v":0},{"$f":"Import!P1109","v":0},{"$f":"Import!P1127","v":0},{"$f":"Import!P1145","v":0},null,null,null,null,null,null,{"$f":"IF(E51<0,\"Gross Impact - C&S Negative\",\"Gross Impact - Check Ok\")","v":"Gross Impact - Check Ok"},{"$f":"IF(I51<0,\"Net Impact - C&S Negative\",\"Net Impact - Check Ok\")","v":"Net Impact - Check Ok"},{"$f":"IF(H51>D51,\"Net Impact Greater than Gross Impact\",\"Gross to Net Impact - Check Ok\")","v":"Gross to Net Impact - Check Ok"},null,null,null,null,null,null,null,null,null,"bma_BmaStressscenarioTestsIw1EuropeanWindstorm"]
[null,"UW2.","Carolinas Hurricane",{"$f":"Import!P1053","v":0},{"$f":"$H$6-D52","v":0},{"$f":"Import!P1072","v":0},{"$f":"Import!P1091","v":0},{"$f":"F52-G52","v":0},{"$f":"$H$6-H52","v":0},{"$f":"Import!P1110","v":0},{"$f":"Import!P1128","v":0},{"$f":"Import!P1146","v":0},null,null,null,null,null,null,{"$f":"IF(E52<0,\"Gross Impact - C&S Negative\",\"Gross Impact - Check Ok\")","v":"Gross Impact - Check Ok"},"Net Impact - Check Ok","Gross to Net Impact - Check Ok",null,null,null,null,null,null,null,null,null,"bma_BmaStressscenarioTestsIw2JapaneseTyphoon"]
[null,"UW3.","Miami-Dade Hurricane",{"$f":"Import!P1054","v":0},0,{"$f":"Import!P1073","v":0},{"$f":"Import!P1092","v":0},0,0,{"$f":"Import!P1111","v":0},{"$f":"Import!P1129","v":0},{"$f":"Import!P1147","v":0},null,null,null,null,null,null,"Gross Impact - Check Ok","Net Impact - Check Ok","Gross to Net Impact - Check Ok",null,null,null,null,null,null,null,null,null,"bma_BmaStressscenarioTestsIe1JapaneseEarthquake"]
[null,"UW4.","Pinellas Hurricane",{"$f":"Import!P1055","v":0},0,{"$f":"Import!P1074","v":0},{"$f":"Import!P1093","v":0},0,0,{"$f":"Import!P1112","v":0},{"$f":"Import!P1130","v":0},{"$f":"Import!P1148","v":0},null,null,null,null,null,null,"Gross Impact - Check Ok","Net Impact - Check Ok","Gross to Net Impact - Check Ok",null,null,null,null,null,null,null,null,null,"bma_BmaStressscenarioTestsA1AerospaceAviationEvent"]
[null,"UW5.","Gulf Windstorm (onshore)",{"$f":"Import!P1056","v":0},0,{"$f":"Import!P1075","v":0},{"$f":"Import!P1094","v":0},0,0,{"$f":"Import!P1113","v":0},{"$f":"Import!P1131","v":0},{"$f":"Import!P1149","v":0},null,null,null,null,null,null,"Gross Impact - Check Ok","Net Impact - Check Ok","Gross to Net Impact - Check Ok",null,null,null,null,null,null,null,null,null,"bma_BmaStressscenarioTestsM1MarineCollisionInPrinceWilliamSound"]
[null,"UE1.","Los Angeles Earthquake",{"$f":"Import!P1057","v":0},0,{"$f":"Import!P1076","v":0},{"$f":"Import!P1095","v":0},0,0,{"$f":"Import!P1114","v":0},{"$f":"Import!P1132","v":0},{"$f":"Import!P1150","v":0},null,null,null,null,null,null,"Gross Impact - Check Ok","Net Impact - Check Ok","Gross to Net Impact - Check Ok"]
[null,"UE2.","San Francisco Earthquake",{"$f":"Import!P1058","v":0},0,{"$f":"Import!P1077","v":0},{"$f":"Import!P1096","v":0},0,0,{"$f":"Import!P1115","v":0},{"$f":"Import!P1133","v":0},{"$f":"Import!P1151","v":0},null,null,null,null,null,null,"Gross Impact - Check Ok","Net Impact - Check Ok","Gross to Net Impact - Check Ok"]
[null,"UE3.","New Madrid (NM) RDS",{"$f":"Import!P1059","v":0},0,{"$f":"Import!P1078","v":0},{"$f":"Import!P1097","v":0},0,0,{"$f":"Import!P1116","v":0},{"$f":"Import!P1134","v":0},{"$f":"Import!P1152","v":0},null,null,null,null,null,null,"Gross Impact - Check Ok","Net Impact - Check Ok","Gross to Net Impact - Check Ok"]
[null,"IW1. ","European Windstorm",{"$f":"Import!P1060","v":0},0,{"$f":"Import!P1079","v":0},{"$f":"Import!P1098","v":0},0,0,{"$f":"Import!P1117","v":0},{"$f":"Import!P1135","v":0},{"$f":"Import!P1153","v":0},null,null,null,null,null,null,"Gross Impact - Check Ok","Net Impact - Check Ok","Gross to Net Impact - Check Ok"]
[null,"IW2.","Japanese Typhoon",{"$f":"Import!P1061","v":0},0,{"$f":"Import!P1080","v":0},{"$f":"Import!P1099","v":0},0,0,{"$f":"Import!P1118","v":0},{"$f":"Import!P1136","v":0},{"$f":"Import!P1154","v":0},null,null,null,null,null,null,"Gross Impact - Check Ok","Net Impact - Check Ok","Gross to Net Impact - Check Ok"]
[null,"IE1.","Japanese Earthquake",{"$f":"Import!P1062","v":0},0,{"$f":"Import!P1081","v":0},{"$f":"Import!P1100","v":0},0,0,{"$f":"Import!P1119","v":0},{"$f":"Import!P1137","v":0},{"$f":"Import!P1155","v":0},null,null,null,null,null,null,"Gross Impact - Check Ok","Net Impact - Check Ok","Gross to Net Impact - Check Ok"]
[null,"A1.","Aviation Collision",{"$f":"Import!P1063","v":0},0,{"$f":"Import!P1082","v":0},{"$f":"Import!P1101","v":0},0,0,{"$f":"Import!P1120","v":0},{"$f":"Import!P1138","v":0},{"$f":"Import!P1156","v":0},null,null,null,null,null,null,"Gross Impact - Check Ok","Net Impact - Check Ok","Gross to Net Impact - Check Ok"]
[null,"M1.","Marine Collision in Prince William",{"$f":"Import!P1064","v":0},0,{"$f":"Import!P1083","v":0},{"$f":"Import!P1102","v":0},0,0,{"$f":"Import!P1121","v":0},{"$f":"Import!P1139","v":0},{"$f":"Import!P1157","v":0},null,null,null,null,null,null,"Gross Impact - Check Ok","Net Impact - Check Ok","Gross to Net Impact - Check Ok"]
[null,"M2.","Major Cruise Vessel Incident",{"$f":"Import!P1065","v":0},0,{"$f":"Import!P1084","v":0},{"$f":"Import!P1103","v":0},0,0,{"$f":"Import!P1122","v":0},{"$f":"Import!P1140","v":0},{"$f":"Import!P1158","v":0},null,null,null,null,null,null,"Gross Impact - Check Ok","Net Impact - Check Ok","Gross to Net Impact - Check Ok",null,null,null,null,null,null,null,null,null,"bma_BmaStressscenarioTestsDWorstcaseAnnualAggregateLossScenarioAbstract"]
[null,"N1.","US Oil Spill",{"$f":"Import!P1066","v":0},0,{"$f":"Import!P1085","v":0},{"$f":"Import!P1104","v":0},0,0,{"$f":"Import!P1123","v":0},{"$f":"Import!P1141","v":0},{"$f":"Import!P1159","v":0},null,null,null,null,null,null,"Gross Impact - Check Ok","Net Impact - Check Ok","Gross to Net Impact - Check Ok"]
[null,"N2.","US Tornadoes",{"$f":"Import!P1067","v":0},0,{"$f":"Import!P1086","v":0},{"$f":"Import!P1105","v":0},0,0,{"$f":"Import!P1124","v":0},{"$f":"Import!P1142","v":0},{"$f":"Import!P1160","v":0},null,null,null,null,null,null,"Gross Impact - Check Ok","Net Impact - Check Ok","Gross to Net Impact - Check Ok"]
[null,"N3.","Australian Flooding",{"$f":"Import!P1068","v":0},0,{"$f":"Import!P1087","v":0},{"$f":"Import!P1106","v":0},0,0,{"$f":"Import!P1125","v":0},{"$f":"Import!P1143","v":0},{"$f":"Import!P1161","v":0},null,null,null,null,null,null,"Gross Impact - Check Ok","Net Impact - Check Ok","Gross to Net Impact - Check Ok"]
[null,"N4.","Australian Wildfires",{"$f":"Import!P1069","v":0},0,{"$f":"Import!P1088","v":0},{"$f":"Import!P1107","v":0},0,0,{"$f":"Import!P1126","v":0},{"$f":"Import!P1144","v":0},{"$f":"Import!P1162","v":0},null,null,null,null,null,null,"Gross Impact - Check Ok","Net Impact - Check Ok","Gross to Net Impact - Check Ok"]
[null,"P1.","Contamination Food Exposure (Domestic Health Writers Only)",{"$f":"Import!P1070","v":0},0,{"$f":"Import!P1089","v":0},{"$f":"Import!P1108","v":0},0,0,null,null,{"$f":"Import!P1163","v":0},null,null,null,null,null,null,"Gross Impact - Check Ok","Net Impact - Check Ok","Gross to Net Impact - Check Ok"]
[null,null,null,null,null,null,null,null,null,null,null,null,null,null,null,null,null,null,{"$f":"IF(COUNTIF(S51:S69,\"Gross Impact - Check Ok\")=19,\"True\",\"False\")","v":"True"},{"$f":"IF(COUNTIF(T51:T69,\"Net Impact - Check Ok\")=19,\"True\",\"False\")","v":"True"},{"$f":"IF(COUNTIF(U51:U69,\"Gross to Net Impact - Check Ok\")=19,\"True\",\"False\")","v":"True"}]
[null,1,"Post-stress/scenario net loss is Post-stress/scenario gross loss, net of reinsurance and/or other loss mitigation instruments"]
[null,2,"The relative return period should be calculated using the underlying loss distribution for its Net Probable Maximum Loss, as submitted in the BSCR"]
[]
[null,{"$f":"IF('Company Information'!$F$11=\"Class 3A\",\"C. UNDERWRITING LOSS SCENARIOS\",\"D. OTHER UNDERWRITING SCENARIOS\")","v":"D. OTHER UNDERWRITING SCENARIOS"}]
[null,{"$f":"IF('Company Information'!$F$11=\"Class 3A\",\"The (re)insurer is to submit the description of three of its own underwriting scenarios and related key assumptions with the impact on the statutory balance sheet\",\"Where B above is either not applicable or only partially apply, the (re)insurer is to submit the description of three of its own underwriting scenarios and related key assumptions with the impact on the statutory balance sheet.\")","v":"Where B above is either not applicable or only partially apply, the (re)insurer is to submit the description of three of its own underwriting scenarios and related key assumptions with the impact on the statutory balance sheet."}]
[null,null,null,null,null,null,null,null,null,null,null,null,{"$f":"IF('Company Information'!$F$11=\"Class 3A\",\"Only Class 3A Insurers that write Property Catastrophe Business are to provide return periods\",\"\")","v":""}]
[null,null,null,null,null,null,null,null,null,null,null,null,null,null,null,null,null,null,null,null,"brrt_UnderwritingLossScenariosNotApplicableOrPartiallyApplyDescriptionOfThreeOfInsurerUnderwritingScenariosAndRelatedKeyAssumptions"]
[null,"Description",null,"Assumptions","Doc Name","Page Number","Gross Loss Impact","Statutory Capital & Surplus","Net Loss After Reinsurance","Catastrophe Mitigation Techniques","Net Loss Impact","Statutory Capital & Surplus","Occurrence Return Period ","Relative Return Period","Proprietary/ Vendor Model & Version",null,null,null,null,null,"brrt_UnderwritingLossScenariosNotApplicableOrPartiallyApplyDescriptionOfThreeOfInsurerUnderwritingScenariosAndRelatedKeyAssumptionsDescription","brrt_UnderwritingLossScenariosNotApplicableOrPartiallyApplyDescriptionOfThreeOfInsurerUnderwritingScenariosAndRelatedKeyAssumptionsGrossLossImpactPostStressScenarioGrossLoss","brrt_UnderwritingLossScenariosNotApplicableOrPartiallyApplyDescriptionOfThreeOfInsurerUnderwritingScenariosAndRelatedKeyAssumptionsAggregateStatutoryAdmittedAssetsPostStressScenarioGrossLoss","brrt_UnderwritingLossScenariosNotApplicableOrPartiallyApplyDescriptionOfThreeOfInsurerUnderwritingScenariosAndRelatedKeyAssumptionsAdmittedLiabilitiesPostStressScenarioGrossLoss","brrt_UnderwritingLossScenariosNotApplicableOrPartiallyApplyDescriptionOfThreeOfInsurerUnderwritingScenariosAndRelatedKeyAssumptionsStatutoryCapitalAndSurplusPostStressScenarioGrossLoss","brrt_UnderwritingLossScenariosNotApplicableOrPartiallyApplyDescriptionOfThreeOfInsurerUnderwritingScenariosAndRelatedKeyAssumptionsNetLossImpactPostStressScenarioNetLoss","brrt_UnderwritingLossScenariosNotApplicableOrPartiallyApplyDescriptionOfThreeOfInsurerUnderwritingScenariosAndRelatedKeyAssumptionsAggregateStatutoryAdmittedAssetsPostStressScenarioNetLoss","brrt_UnderwritingLossScenariosNotApplicableOrPartiallyApplyDescriptionOfThreeOfInsurerUnderwritingScenariosAndRelatedKeyAssumptionsAdmittedLiabilitiesPostStressScenarioNetLoss","brrt_UnderwritingLossScenariosNotApplicableOrPartiallyApplyDescriptionOfThreeOfInsurerUnderwritingScenariosAndRelatedKeyAssumptionsStatutoryCapitalAndSurplusPostStressScenarioNetLoss"]
[null,{"$f":"Import!P1164","v":0},null,{"$f":"HYPERLINK(\"#'Attachments'!G145\",\"Attach file\")","v":"Attach file"},null,null,{"$f":"Import!P1167","v":0},{"$f":"$H$6-G79","v":0},{"$f":"Import!P1170","v":0},{"$f":"Import!P1173","v":0},{"$f":"I79-J79","v":0},{"$f":"$H$6-K79","v":0},{"$f":"Import!P1176","v":0},{"$f":"Import!P1179","v":0},{"$f":"Import!P1182","v":0},null,null,null,null,null,null,{"$f":"XBRLMapTuple($U$77,E$427,E$428,\"BMA\",CONFIGURATION!$B$1,\"bscr\",\"\",CONFIGURATION!$B$12,$U$78,B79,$V$78,G79,$W$78,#REF!,$X$78,#REF!,$Y$78,H79,$Z$78,I79,$AA$78,#REF!,$AB$78,#REF!,$AC$78,K79)","v":{"$error":"#VALUE!"}}]
[null,{"$f":"Import!P1165","v":0},null,"Attach file",null,null,{"$f":"Import!P1168","v":0},{"$f":"$H$6-G80","v":0},{"$f":"Import!P1171","v":0},{"$f":"Import!P1174","v":0},{"$f":"I80-J80","v":0},{"$f":"$H$6-K80","v":0},{"$f":"Import!P1177","v":0},{"$f":"Import!P1180","v":0},{"$f":"Import!P1183","v":0},null,null,null,null,null,null,{"$f":"XBRLMapTuple($U$77,E$427,E$428,\"BMA\",CONFIGURATION!$B$1,\"bscr\",\"\",CONFIGURATION!$B$12,$U$78,B80,$V$78,G80,$W$78,#REF!,$X$78,#REF!,$Y$78,H80,$Z$78,I80,$AA$78,#REF!,$AB$78,#REF!,$AC$78,K80)","v":{"$error":"#VALUE!"}}]
[null,{"$f":"Import!P1166","v":0},null,"Attach file",null,null,{"$f":"Import!P1169","v":0},0,{"$f":"Import!P1172","v":0},{"$f":"Import!P1175","v":0},0,0,{"$f":"Import!P1178","v":0},{"$f":"Import!P1181","v":0},{"$f":"Import!P1184","v":0},null,null,null,null,null,null,{"$f":"XBRLMapTuple($U$77,E$427,E$428,\"BMA\",CONFIGURATION!$B$1,\"bscr\",\"\",CONFIGURATION!$B$12,$U$78,B81,$V$78,G81,$W$78,#REF!,$X$78,#REF!,$Y$78,H81,$Z$78,I81,$AA$78,#REF!,$AB$78,#REF!,$AC$78,K81)","v":{"$error":"#VALUE!"}}]
[]
[null,{"$f":"IF('Company Information'!$F$11=\"Class 3A\",\"D. LIABILITY LOSS ACCUMULATION SCENARIOS\",\"E. LIABILITY LOSS ACCUMULATION SCENARIOS\")","v":"E. LIABILITY LOSS ACCUMULATION SCENARIOS"}]
[]
[null,"0. Results"]
[]
[null,"Description",null,"Net Loss Impact","Statutory Capital & Surplus"]
[null,"1. New latent liability",null,{"$f":"SUM(D124:I129)","v":0},{"$f":"$H$6-D88","v":0}]
[]
[null,null,null,"One Year View",null,"Ultimate View"]
[null,null,null,"Net Loss Impact","Statutory Capital & Surplus","Net Loss Impact","Statutory Capital & Surplus"]
[null,"2. Deterioration in existing US A&E reserves",null,{"$f":"+E146-E134+H146-H134","v":0},{"$f":"$H$6-D92","v":0},{"$f":"+E144-E134+H144-H134+E159-E150","v":0},{"$f":"$H$6-F92","v":0}]
[]
[null,"a) Scenario 1 - New latent liability"]
[null,null,{"$f":"\"NWP for the most recent year\"&\" (\"&TEXT('Company Information'!C3,\"YYYY\")&\")\"","v":"NWP for the most recent year (2019)"},"product liability","product liability","gen comm liability","gen comm liability","empl liab/ workers comp","empl liab/ workers comp"]
[null,null,null,"P","NP","P","NP","P","NP"]
[null,null,"EEA and Switzerland",{"$f":"Import!P1185","v":0},{"$f":"Import!P1191","v":0},{"$f":"Import!P1197","v":0},{"$f":"Import!P1203","v":0},{"$f":"Import!P1209","v":0},{"$f":"Import!P1215","v":0}]
[null,null,"US/Canada",{"$f":"Import!P1186","v":0},{"$f":"Import!P1192","v":0},{"$f":"Import!P1198","v":0},{"$f":"Import!P1204","v":0},{"$f":"Import!P1210","v":0},{"$f":"Import!P1216","v":0}]
[null,null,"Japan",{"$f":"Import!P1187","v":0},{"$f":"Import!P1193","v":0},{"$f":"Import!P1199","v":0},{"$f":"Import!P1205","v":0},{"$f":"Import!P1211","v":0},{"$f":"Import!P1217","v":0}]
[null,null,"China",{"$f":"Import!P1188","v":0},{"$f":"Import!P1194","v":0},{"$f":"Import!P1200","v":0},{"$f":"Import!P1206","v":0},{"$f":"Import!P1212","v":0},{"$f":"Import!P1218","v":0}]
[null,null,"Other developed markets",{"$f":"Import!P1189","v":0},{"$f":"Import!P1195","v":0},{"$f":"Import!P1201","v":0},{"$f":"Import!P1207","v":0},{"$f":"Import!P1213","v":0},{"$f":"Import!P1219","v":0}]
[null,null,"Emerging markets",{"$f":"Import!P1190","v":0},{"$f":"Import!P1196","v":0},{"$f":"Import!P1202","v":0},{"$f":"Import!P1208","v":0},{"$f":"Import!P1214","v":0},{"$f":"Import!P1220","v":0}]
[]
[null,null,"Average Annual Premium Growth over the last 8 years (3 years for US Workers Comp)","product liability","product liability","gen comm liability","gen comm liability","empl liab/ workers comp","empl liab/ workers comp","Number of Years over which the annual growth is calculated (subject to the max of 8 or 3 years for US/CA WC) ",null,"product liability","product liability","gen comm liability","gen comm liability","empl liab/ workers comp","empl liab/ workers comp"]
[null,null,null,"P","NP","P","NP","P","NP",null,null,"P","NP","P","NP","P","NP"]
[null,null,"EEA and Switzerland",{"$f":"Import!P1221","v":0},{"$f":"Import!P1227","v":0},{"$f":"Import!P1233","v":0},{"$f":"Import!P1239","v":0},{"$f":"Import!P1245","v":0},{"$f":"Import!P1251","v":0},"EEA and Switzerland",null,{"$f":"Import!P1257","v":0},{"$f":"Import!P1263","v":0},{"$f":"Import!P1269","v":0},{"$f":"Import!P1275","v":0},{"$f":"Import!P1281","v":0},{"$f":"Import!P1287","v":0}]
[null,null,"US/Canada",{"$f":"Import!P1222","v":0},{"$f":"Import!P1228","v":0},{"$f":"Import!P1234","v":0},{"$f":"Import!P1240","v":0},{"$f":"Import!P1246","v":0},{"$f":"Import!P1252","v":0},"US/Canada",null,{"$f":"Import!P1258","v":0},{"$f":"Import!P1264","v":0},{"$f":"Import!P1270","v":0},{"$f":"Import!P1276","v":0},{"$f":"Import!P1282","v":0},{"$f":"Import!P1288","v":0}]
[null,null,"Japan",{"$f":"Import!P1223","v":0},{"$f":"Import!P1229","v":0},{"$f":"Import!P1235","v":0},{"$f":"Import!P1241","v":0},{"$f":"Import!P1247","v":0},{"$f":"Import!P1253","v":0},"Japan",null,{"$f":"Import!P1259","v":0},{"$f":"Import!P1265","v":0},{"$f":"Import!P1271","v":0},{"$f":"Import!P1277","v":0},{"$f":"Import!P1283","v":0},{"$f":"Import!P1289","v":0}]
[null,null,"China",{"$f":"Import!P1224","v":0},{"$f":"Import!P1230","v":0},{"$f":"Import!P1236","v":0},{"$f":"Import!P1242","v":0},{"$f":"Import!P1248","v":0},{"$f":"Import!P1254","v":0},"China",null,{"$f":"Import!P1260","v":0},{"$f":"Import!P1266","v":0},{"$f":"Import!P1272","v":0},{"$f":"Import!P1278","v":0},{"$f":"Import!P1284","v":0},{"$f":"Import!P1290","v":0}]
[null,null,"Other developed markets",{"$f":"Import!P1225","v":0},{"$f":"Import!P1231","v":0},{"$f":"Import!P1237","v":0},{"$f":"Import!P1243","v":0},{"$f":"Import!P1249","v":0},{"$f":"Import!P1255","v":0},"Other developed markets",null,{"$f":"Import!P1261","v":0},{"$f":"Import!P1267","v":0},{"$f":"Import!P1273","v":0},{"$f":"Import!P1279","v":0},{"$f":"Import!P1285","v":0},{"$f":"Import!P1291","v":0}]
[null,null,"Emerging markets",{"$f":"Import!P1226","v":0},{"$f":"Import!P1232","v":0},{"$f":"Import!P1238","v":0},{"$f":"Import!P1244","v":0},{"$f":"Import!P1250","v":0},{"$f":"Import!P1256","v":0},"Emerging markets",null,{"$f":"Import!P1262","v":0},{"$f":"Import!P1268","v":0},{"$f":"Import!P1274","v":0},{"$f":"Import!P1280","v":0},{"$f":"Import!P1286","v":0},{"$f":"Import!P1292","v":0}]
[]
[null,null,"Risk factors by segment","product liability","product liability","gen comm liability","gen comm liability","empl liab/ workers comp","empl liab/ workers comp"]
[null,null,null,"P","NP","P","NP","P","NP"]
[null,null,"EEA and Switzerland",0.45,0.9,0.25,0.5,0.25,0.5]
[null,null,"US/Canada",0.65,1.3,0.35,0.75,0.15,0.3]
[null,null,"Japan",0.35,0.65,0.2,0.35,0.2,0.35]
[null,null,"China",0.25,0.5,0.15,0.3,0.15,0.3]
[null,null,"Other developed markets",0.3,0.6,0.15,0.35,0.15,0.35]
[null,null,"Emerging markets",0.25,0.5,0.15,0.3,0.15,0.3]
[]
[null,null,"Estimated Reserve Deterioration","product liability","product liability","gen comm liability","gen comm liability","empl liab/ workers comp","empl liab/ workers comp"]
[null,null,null,"P","NP","P","NP","P","NP"]
[null,null,"EEA and Switzerland",{"$f":"MAX(MAX(IFERROR((((1-(1+D106)^(L106))/(1-(1+D106)))/L106)/((1+D106)^(L106-1)),1),0)*D115*D97*MIN(IF(L106>=1,L106/8,1),1),0)","v":0},{"$f":"MAX(MAX(IFERROR((((1-(1+E106)^(M106))/(1-(1+E106)))/M106)/((1+E106)^(M106-1)),1),0)*E115*E97*MIN(IF(M106>=1,M106/8,1),1),0)","v":0},{"$f":"MAX(MAX(IFERROR((((1-(1+F106)^(N106))/(1-(1+F106)))/N106)/((1+F106)^(N106-1)),1),0)*F115*F97*MIN(IF(N106>=1,N106/8,1),1),0)","v":0},0,0,0]
[null,null,"US/Canada",{"$f":"MAX(MAX(IFERROR((((1-(1+D107)^(L107))/(1-(1+D107)))/L107)/((1+D107)^(L107-1)),1),0)*D116*D98*MIN(IF(L107>=1,L107/8,1),1),0)","v":0},0,0,0,{"$f":"MAX(MAX(IFERROR((((1-(1+H107)^(P107))/(1-(1+H107)))/P107)/((1+H107)^(P107-1)),1),0)*H116*H98*MIN(IF(P107>=1,P107/3,1),1),0)","v":0},{"$f":"MAX(MAX(IFERROR((((1-(1+I107)^(Q107))/(1-(1+I107)))/Q107)/((1+I107)^(Q107-1)),1),0)*I116*I98*MIN(IF(Q107>=1,Q107/3,1),1),0)","v":0}]
[null,null,"Japan",0,0,0,0,0,0]
[null,null,"China",0,0,0,0,0,0]
[null,null,"Other developed markets",0,0,0,0,0,0]
[null,null,"Emerging markets",0,0,0,0,0,0]
[]
[null,"b) Scenario 2 - Deterioration in existing US A&E reserves"]
[null,null,null,null,"US Asbestos",null,null,"US Environmental"]
[null,null,null,null,{"$f":"+TEXT('Company Information'!$C$3,\"YYYY\")","v":"2019"},{"$f":"+E133-1","v":2018},{"$f":"+F133-1","v":2017},{"$f":"+TEXT('Company Information'!$C$3,\"YYYY\")","v":"2019"},{"$f":"+H133-1","v":2018},{"$f":"+I133-1","v":2017}]
[null,"1. Survival Ratio stress","Yearend Net GAAP Reserves ",null,{"$f":"Import!P1293","v":0},{"$f":"Import!P1300","v":0},{"$f":"Import!P1302","v":0},{"$f":"Import!P1304","v":0},{"$f":"Import!P1310","v":0},{"$f":"Import!P1312","v":0}]
[null,null,"Net Paid on Yearend GAAP Reserves",null,{"$f":"Import!P1294","v":0},{"$f":"Import!P1301","v":0},{"$f":"Import!P1303","v":0},{"$f":"Import!P1305","v":0},{"$f":"Import!P1311","v":0},{"$f":"Import!P1313","v":0}]
[null,null,"Survival Ratio of US Reserves",null,{"$f":"Import!P1295","v":0},"Est Surv Ratio",{"$f":"IFERROR(E134/AVERAGE(IF(E135:G135>0,E135:G135,\"\")),0)","v":0},{"$f":"Import!P1306","v":0},"Est Surv Ratio",{"$f":"IFERROR(H134/AVERAGE(IF(H135:J135>0,H135:J135,\"\")),0)","v":0}]
[null,null,"Target Survival Ratio",null,15,null,null,12]
[null,null,"GAAP Reserves at target Survival Ratio",null,{"$f":"IF(E136=0,0,MAX((E137/E136)*E134,E134))","v":0},null,null,{"$f":"IF(H136=0,0,MAX((H137/H136)*H134,H134))","v":0}]
[null,"2. Med Adv Stress","Insurer's loading for future medical advances",null,{"$f":"Import!P1296","v":0},"Uplift for medical developments"]
[null,null,"Stress loading for future medical developments",null,{"$f":"IFERROR(MIN(MAX((1+F140)/(1+E139)-1,0),F140),0)","v":0.1},0.1,null,"N/A"]
[null,"3. Claims Inflation Stress","Effective Duration of Liabilities",null,{"$f":"Import!P1297","v":0},null,null,{"$f":"Import!P1307","v":0}]
[null,null,"Increase in Claims Inflation",null,0.04,"Approximated",null,0.04,"Approximated"]
[null,null,"GAAP Reserves after 4% Inflation stress",null,{"$f":"Import!P1298","v":0},{"$f":"E134*(1+E142)^E141","v":0},null,{"$f":"Import!P1308","v":0},{"$f":"H134*(1+H142)^H141","v":0}]
[null,"Stress Results","GAAP Reserves Ultimate Stress",null,{"$f":"IF(E134=0,0,E138*MAX((E143/E134),1)*(1+E140))","v":0},"Uplift",{"$f":"IF(E134=0,0,E144/E134-1)","v":0},{"$f":"IF(H134=0,0,H138*MAX((H143/H134),1))","v":0},"Uplift",{"$f":"IF(H134=0,0,H144/H134-1)","v":0}]
[null,null,"1 year emergence factor",null,{"$f":"Import!P1299","v":0},null,null,{"$f":"Import!P1309","v":0}]
[null,null,"GAAP Reserves 1-year Stress",null,{"$f":"IF(E134=0,0,E138*(1+E140)*(1+MAX(E143/E134-1,0)*E145))","v":0},"Uplift",{"$f":"IF(E134=0,0,E146/E134-1)","v":0},{"$f":"IF(H134=0,0,H138*(1+MAX(H143/H134-1,0)*H145))","v":0},"Uplift",{"$f":"IF(H134=0,0,H146/H134-1)","v":0}]
[]
[null,null,null,null,"UK Asbestos"]
[null,null,null,null,{"$f":"+TEXT('Company Information'!$C$3,\"YYYY\")","v":"2019"}]
[null,"1. New claims beyond 2050 stress","Yearend Net GAAP Reserves ",null,{"$f":"Import!P1314","v":0}]
[null,null,"Insurer's reserve proportion for post 2050 claims",null,{"$f":"Import!P1315","v":0},"Uplift for new claims past 2050"]
[null,null,"Stress for new claims arising beyond 2050",null,{"$f":"IFERROR(MIN(MAX((1+F152)/(1+E151/(1-E151))-1,0),F152),0)","v":0.14999999999999991},0.15]
[null,"2. Claim count stress","Stress on projected claims count up to 2050",null,0.15]
[null,"3. Med Adv Stress","Insurer's loading for future medical advances",null,{"$f":"Import!P1316","v":0},"Uplift for medical developments"]
[null,null,"Stress for future medical developments",null,{"$f":"IFERROR(MIN(MAX((1+F155)/(1+E154)-1,0),F155),0)","v":0.1},0.1]
[null,"4. Claims Inflation Stress","Effective Duration of Liabilities",null,{"$f":"Import!P1317","v":0}]
[null,null,"Increase in Claims Inflation",null,0.03,"Approximated"]
[null,null,"GAAP Reserves after 3% Inflation stress",null,{"$f":"Import!P1318","v":0},{"$f":"E150*(1+E157)^E156","v":0}]
[null,"Stress Results","GAAP Reserves Ultimate Stress",null,{"$f":"IF(E150=0,0,E150*(1+E152)*(1+E155)*(1+E153)*E158/E150)","v":0},"Uplift",{"$f":"IF(E150=0,0,E159/E150-1)","v":0}]
[null,null,"1 year emergence factor",null,{"$f":"Import!P1319","v":0}]
[null,null,"GAAP Reserves 1-year Stress",null,{"$f":"IF(E150=0,0,E150*(1+E152)*(1+E155)*(1+E153*E160)*((E158/E150-1)*E160+1))","v":0},"Uplift",{"$f":"IF(E150=0,0,E161/E150-1)","v":0}]
[]
[null,{"$f":"IF('Company Information'!$F$11=\"Class 3A\",\"E. RATING DOWNGRADE\",\"F. RATING DOWNGRADE\")","v":"F. RATING DOWNGRADE"},null,null,null,null,null,null,null,null,null,null,null,null,null,null,null,null,null,null,null,null,null,null,null,null,null,null,null,null,"bma_BmaStressscenarioTestsR3Worstcase"]
[null,"The (re)insurer is to submit a detailed disclosure on the impact of a ratings downgrade of its Bermuda legal entity or group by TWO NOTCHES OR BELOW A-, WHICHEVER IS LOWER.",null,null,null,null,null,null,null,null,null,null,null,null,null,null,null,null,null,null,null,null,null,null,null,null,null,null,null,null,"bma_BmaStressscenarioTestsAggregateOf3LargestUnderwritingLossesWorstcase"]
[null,{"$f":"Import!P1320","v":0},null,null,null,null,null,null,null,null,null,null,null,null,null,null,null,null,null,null,"brrt_ReinsurerSpecificPostStressScenario",{"$f":"XBRLMap(B165,U165,E$427,E$428,CONFIGURATION!$B$10,\"BMA\",CONFIGURATION!$B$1,\"bscr\")","v":"Mapped"},null,null,null,null,null,null,null,null,"bma_BmaStressscenarioTestsTotalLossWorstcase"]
[]
[]
[]
[]
[]
[null,{"$f":"IF('Company Information'!$F$11=\"Class 3A\",\"F. WORST-CASE ANNUAL AGGREGATE LOSS SCENARIO\",\"G. WORST-CASE ANNUAL AGGREGATE LOSS SCENARIO\")","v":"G. WORST-CASE ANNUAL AGGREGATE LOSS SCENARIO"}]
[null,"The (re)insurer is to submit the following: (1) and either (2a) or (2b) below"]
[null,"(1) R4 above and the three largest underwriting scenarios"]
[null,null,null,"Worst-case ",null,null,null,null,null,null,null,null,null,null,null,null,null,null,null,null,null,null,null,null,null,null,null,null,null,null,"bma_BmaStressscenarioTestsTotalStatutoryPropertyCatastrophePremium"]
[null,"R5",null,{"$f":"E16","v":0},null,null,null,null,null,null,null,null,null,null,null,null,null,null,null,null,"brrt_WorstCasePostStressScenarioR3",{"$f":"XBRLMap(D175,U175,E$427,E$428,CONFIGURATION!$B$10,\"BMA\",CONFIGURATION!$B$1,\"bscr\",CONFIGURATION!$B$12)","v":"Mapped"},null,null,null,null,null,null,null,null,"bma_BmaStressscenarioTestsTotalOfAllOtherPremiumExposedToAtlanticBasinHurricane"]
[null,"Aggregate of 3 largest net underwriting loss",null,{"$f":"IF(SUM(K79:K81,H51:H69)=0,0,IF(COUNT(K79:K81,H51:H69)=1,LARGE((H51:H69,K79:K81),1),IF(COUNT(K79:K81,H51:H69)=2,LARGE((H51:H69,K79:K81),1)+LARGE((H51:H69,K79:K81),2),LARGE((H51:H69,K79:K81),1)+LARGE((H51:H69,K79:K81),2)+LARGE((H51:H69,K79:K81),3))))","v":0},null,null,null,null,null,null,null,null,null,null,null,null,null,null,null,null,"brrt_WorstCasePostStressScenarioAggregateOfThreeLargestUnderwritingScenarioLosses",{"$f":"XBRLMap(D176,U176,E$427,E$428,CONFIGURATION!$B$10,\"BMA\",CONFIGURATION!$B$1,\"bscr\",CONFIGURATION!$B$12)","v":"Mapped"},null,null,null,null,null,null,null,null,"bma_BmaStressscenarioTestsInitialEstimateOfUltimateLoss"]
[null,"Total loss",null,{"$f":"SUM(D175:E176)","v":0},null,null,null,null,null,null,null,null,null,null,null,null,null,null,null,null,"brrt_WorstCasePostStressScenarioTotalLoss",{"$f":"XBRLMap(D177,U177,E$427,E$428,CONFIGURATION!$B$10,\"BMA\",CONFIGURATION!$B$1,\"bscr\",CONFIGURATION!$B$12)","v":"Mapped"},null,null,null,null,null,null,null,null,"bma_BmaStressscenarioTestsLatestEstimateOfUltimateLoss"]
[null,"Occurrence Return period",null,{"$f":"Import!P1321","v":0}]
[null,"Relative Return period",null,{"$f":"Import!P1322","v":0},null,"Doc Name","Page Number",null,null,null,null,null,null,null,null,null,null,null,null,null,"brrt_WorstCasePostStressScenarioReturnPeriod",{"$f":"XBRLMap(D179,U179,E$427,E$428,CONFIGURATION!$B$10,\"BMA\",CONFIGURATION!$B$1,\"bscr\",CONFIGURATION!$B$12)","v":"Mapped"},null,null,null,null,null,null,null,null,"bma_BmaStressscenarioTestsEstimateFromTheInsurerCatastropheModelOfLoss"]
[null,"Assumptions ",null,{"$f":"HYPERLINK(\"#'Attachments'!G145\",\"Attach file\")","v":"Attach file"},null,null,null,null,null,null,null,null,null,null,null,null,null,null,null,null,null,null,null,null,null,null,null,null,null,null,"bma_BmaStressscenarioTestsEstimateFromTheInsurerCatastropheModelOfIndustryLoss"]
[]
[null,"(2) Either (2a) or (2b):"]
[]
[null,"(2a) Series of loss simulations "]
[null,{"$f":"\"The (re)insurer is to run a series of loss simulations or other analysis performed related to extreme tail events that include all in-force policies for \"&TEXT('Company Information'!C3+1,\"mmmm d yyyy\")","v":"The (re)insurer is to run a series of loss simulations or other analysis performed related to extreme tail events that include all in-force policies for January 1 2020"}]
[null,"Gross loss",null,{"$f":"Import!P1323","v":0},null,null,null,null,null,null,null,null,null,null,null,null,null,null,null,null,"brrt_SeriesOfLossSimulationsGrossLoss",{"$f":"XBRLMap(D186,U186,E$427,E$428,CONFIGURATION!$B$10,\"BMA\",CONFIGURATION!$B$1,\"bscr\")","v":"Mapped"},null,null,null,null,null,null,null,null,null,null,null,null,null,"bma_Terrorismloss1LongitudeOfAccumulationCentroid","bma_Terrorismloss2LongitudeOfAccumulationCentroid","bma_Terrorismloss3LongitudeOfAccumulationCentroid",null,"bma_Terrorismloss4LongitudeOfAccumulationCentroid","bma_Terrorismloss5LongitudeOfAccumulationCentroid","bma_Terrorismloss6LongitudeOfAccumulationCentroid","bma_Terrorismloss7LongitudeOfAccumulationCentroid","bma_Terrorismloss8LongitudeOfAccumulationCentroid","bma_Terrorismloss9LongitudeOfAccumulationCentroid","bma_Terrorismloss10LongitudeOfAccumulationCentroid"]
[null,"Net loss",null,{"$f":"Import!P1324","v":0},null,null,null,null,null,null,null,null,null,null,null,null,null,null,null,null,"brrt_SeriesOfLossSimulationsNetLoss",{"$f":"XBRLMap(D187,U187,E$427,E$428,CONFIGURATION!$B$10,\"BMA\",CONFIGURATION!$B$1,\"bscr\")","v":"Mapped"},null,null,null,null,null,null,null,null,null,null,null,null,null,"bma_Terrorismloss1ZipCodePostCode","bma_Terrorismloss2ZipCodePostCode","bma_Terrorismloss3ZipCodePostCode",null,"bma_Terrorismloss4ZipCodePostCode","bma_Terrorismloss5ZipCodePostCode","bma_Terrorismloss6ZipCodePostCode","bma_Terrorismloss7ZipCodePostCode","bma_Terrorismloss8ZipCodePostCode","bma_Terrorismloss9ZipCodePostCode","bma_Terrorismloss10ZipCodePostCode"]
[null,"Risk measure",null,{"$f":"Import!P1325","v":0},null,null,null,null,null,null,null,null,null,null,null,null,null,null,null,null,"brrt_SeriesOfLossSimulationsRiskMeasure",{"$f":"XBRLMap(D188,U188,E$427,E$428,CONFIGURATION!$B$10,\"BMA\",CONFIGURATION!$B$1,\"bscr\")","v":"Mapped"}]
[null,"Time horizon",null,{"$f":"Import!P1326","v":0},null,null,null,null,null,null,null,null,null,null,null,null,null,null,null,null,"brrt_SeriesOfLossSimulationsTimeHorizon",{"$f":"XBRLMap(D189,U189,E$427,E$428,CONFIGURATION!$B$10,\"BMA\",CONFIGURATION!$B$1,\"bscr\")","v":"Mapped"},null,null,null,null,null,null,null,null,null,null,null,null,null,"bma_Terrorismloss1LatitudeOfAccumulationCentroid","bma_Terrorismloss2LatitudeOfAccumulationCentroid","bma_Terrorismloss3LatitudeOfAccumulationCentroid",null,"bma_Terrorismloss4LatitudeOfAccumulationCentroid","bma_Terrorismloss5LatitudeOfAccumulationCentroid","bma_Terrorismloss6LatitudeOfAccumulationCentroid","bma_Terrorismloss7LatitudeOfAccumulationCentroid","bma_Terrorismloss8LatitudeOfAccumulationCentroid","bma_Terrorismloss9LatitudeOfAccumulationCentroid","bma_Terrorismloss10LatitudeOfAccumulationCentroid"]
[null,"Occurrence Return period",null,{"$f":"Import!P1327","v":0},null,null,null,null,null,null,null,null,null,null,null,null,null,null,null,null,"brrt_SeriesOfLossSimulationsReturnPeriod",{"$f":"XBRLMap(D190,U190,E$427,E$428,CONFIGURATION!$B$10,\"BMA\",CONFIGURATION!$B$1,\"bscr\")","v":"Mapped"},null,null,null,null,null,{"$f":"XBRLMapTuple(#REF!,K$427,K$428,\"BMA\",CONFIGURATION!$B$1,\"bscr\",\"\",CONFIGURATION!$B$12,$U$215,#REF!,$U$216,#REF!,#REF!,I218,#REF!,I219,$U$223,I220,$U$224,I221,$U$227,I222,$U$74,I223,$U$75,I224,#REF!,I225)","v":{"$error":"#VALUE!"}},{"$f":"XBRLMapTuple(#REF!,L$427,L$428,\"BMA\",CONFIGURATION!$B$1,\"bscr\",\"\",CONFIGURATION!$B$12,$U$215,#REF!,$U$216,#REF!,#REF!,J218,#REF!,J219,$U$223,J220,$U$224,J221,$U$227,J222,$U$74,J223,$U$75,J224,#REF!,J225)","v":{"$error":"#VALUE!"}},{"$f":"XBRLMapTuple(#REF!,L$427,L$428,\"BMA\",CONFIGURATION!$B$1,\"bscr\",\"\",CONFIGURATION!$B$12,$U$215,#REF!,$U$216,#REF!,#REF!,K218,#REF!,K219,$U$223,K220,$U$224,K221,$U$227,K222,$U$74,K223,$U$75,K224,#REF!,K225)","v":{"$error":"#VALUE!"}},{"$f":"XBRLMapTuple(#REF!,L$427,L$428,\"BMA\",CONFIGURATION!$B$1,\"bscr\",\"\",CONFIGURATION!$B$12,$U$215,#REF!,$U$216,#REF!,#REF!,L218,#REF!,L219,$U$223,L220,$U$224,L221,$U$227,L222,$U$74,L223,$U$75,L224,#REF!,L225)","v":{"$error":"#VALUE!"}},{"$f":"XBRLMapTuple(#REF!,L$427,L$428,\"BMA\",CONFIGURATION!$B$1,\"bscr\",\"\",CONFIGURATION!$B$12,$U$215,#REF!,$U$216,#REF!,#REF!,M218,#REF!,M219,$U$223,M220,$U$224,M221,$U$227,M222,$U$74,M223,$U$75,M224,#REF!,N225)","v":{"$error":"#VALUE!"}}]
[null,"Relative Return period",null,{"$f":"Import!P1328","v":0},null,null,null,null,null,null,null,null,null,null,null,null,null,null,null,null,"brrt_SeriesOfLossSimulationsReturnPeriod",{"$f":"XBRLMap(D191,U191,E$427,E$428,CONFIGURATION!$B$10,\"BMA\",CONFIGURATION!$B$1,\"bscr\")","v":"Mapped"},null,null,null,null,null,{"$f":"XBRLMapTuple(#REF!,K$427,K$428,\"BMA\",CONFIGURATION!$B$1,\"bscr\",\"\",CONFIGURATION!$B$12,$U$215,#REF!,$U$216,#REF!,#REF!,#REF!,#REF!,I218,$U$223,I219,$U$224,I220,$U$227,I221,$U$74,I222,$U$75,I223,#REF!,I224)","v":{"$error":"#VALUE!"}},{"$f":"XBRLMapTuple(#REF!,L$427,L$428,\"BMA\",CONFIGURATION!$B$1,\"bscr\",\"\",CONFIGURATION!$B$12,$U$215,#REF!,$U$216,#REF!,#REF!,#REF!,#REF!,J218,$U$223,J219,$U$224,J220,$U$227,J221,$U$74,J222,$U$75,J223,#REF!,J224)","v":{"$error":"#VALUE!"}},{"$f":"XBRLMapTuple(#REF!,L$427,L$428,\"BMA\",CONFIGURATION!$B$1,\"bscr\",\"\",CONFIGURATION!$B$12,$U$215,#REF!,$U$216,#REF!,#REF!,#REF!,#REF!,K218,$U$223,K219,$U$224,K220,$U$227,K221,$U$74,K222,$U$75,K223,#REF!,K224)","v":{"$error":"#VALUE!"}},{"$f":"XBRLMapTuple(#REF!,L$427,L$428,\"BMA\",CONFIGURATION!$B$1,\"bscr\",\"\",CONFIGURATION!$B$12,$U$215,#REF!,$U$216,#REF!,#REF!,#REF!,#REF!,L218,$U$223,L219,$U$224,L220,$U$227,L221,$U$74,L222,$U$75,L223,#REF!,L224)","v":{"$error":"#VALUE!"}},{"$f":"XBRLMapTuple(#REF!,L$427,L$428,\"BMA\",CONFIGURATION!$B$1,\"bscr\",\"\",CONFIGURATION!$B$12,$U$215,#REF!,$U$216,#REF!,#REF!,#REF!,#REF!,M218,$U$223,M219,$U$224,M220,$U$227,M221,$U$74,M222,$U$75,M223,#REF!,M224)","v":{"$error":"#VALUE!"}}]
[null,"Proprietary / vendor model and version",null,{"$f":"Import!P1329","v":0},null,"Doc Name","Page Number",null,null,null,null,null,null,null,null,null,null,null,null,null,"brrt_SeriesOfLossSimulationsProprietaryVendorModelAndVersion",{"$f":"XBRLMap(D192,U192,E$427,E$428,CONFIGURATION!$B$10,\"BMA\",CONFIGURATION!$B$1,\"bscr\")","v":"Mapped"}]
[null,"Assumptions",null,{"$f":"HYPERLINK(\"#'Attachments'!G145\",\"Attach file\")","v":"Attach file"},null,null,null,null,null,null,null,null,null,null,null,null,null,null,null,null,null,null,null,null,null,null,null,null,null,null,null,null,null,null,null,"bma_Terrorismloss1StateProvince","bma_Terrorismloss2StateProvince","bma_Terrorismloss3StateProvince",null,"bma_Terrorismloss4StateProvince","bma_Terrorismloss5StateProvince","bma_Terrorismloss6StateProvince","bma_Terrorismloss7StateProvince","bma_Terrorismloss8StateProvince","bma_Terrorismloss9StateProvince","bma_Terrorismloss10StateProvince"]
[null,null,null,null,null,null,null,null,null,null,null,null,null,null,null,null,null,null,null,null,null,null,null,null,null,null,null,null,null,null,null,null,null,null,null,"bma_Terrorismloss1Country","bma_Terrorismloss2Country","bma_Terrorismloss3Country",null,"bma_Terrorismloss4Country","bma_Terrorismloss5Country","bma_Terrorismloss6Country","bma_Terrorismloss7Country","bma_Terrorismloss8Country","bma_Terrorismloss9Country","bma_Terrorismloss10Country"]
[{"$f":"IF('Company Information'!$F$11=\"Class 3A\",\"(2) (Re)insurer specific worst-case scenario\",\"(2b) (Re)insurer specific worst-case scenario\")","v":"(2b) (Re)insurer specific worst-case scenario"},null,null,null,null,null,null,null,null,null,null,null,null,null,null,null,null,null,null,null,null,null,null,null,null,null,null,null,null,null,null,null,null,null,null,"bma_Terrorismloss1TotalGrossLossEstimate","bma_Terrorismloss2TotalGrossLossEstimate","bma_Terrorismloss3TotalGrossLossEstimate",null,"bma_Terrorismloss4TotalGrossLossEstimate","bma_Terrorismloss5TotalGrossLossEstimate","bma_Terrorismloss6TotalGrossLossEstimate","bma_Terrorismloss7TotalGrossLossEstimate","bma_Terrorismloss8TotalGrossLossEstimate","bma_Terrorismloss9TotalGrossLossEstimate","bma_Terrorismloss10TotalGrossLossEstimate"]
[null,"The (re)insurer is to submit a description of its own worst-case annual aggregate loss scenario and the underlying assumptions. ",null,null,null,null,null,null,null,null,null,null,null,null,null,null,null,null,null,null,null,null,null,null,null,null,null,null,null,null,null,null,null,null,null,"bma_Terrorismloss1TripOrOtherRecoverableIfAny","bma_Terrorismloss2TripOrOtherRecoverableIfAny","bma_Terrorismloss3TripOrOtherRecoverableIfAny",null,"bma_Terrorismloss4TripOrOtherRecoverableIfAny","bma_Terrorismloss5TripOrOtherRecoverableIfAny","bma_Terrorismloss6TripOrOtherRecoverableIfAny","bma_Terrorismloss7TripOrOtherRecoverableIfAny","bma_Terrorismloss8TripOrOtherRecoverableIfAny","bma_Terrorismloss9TripOrOtherRecoverableIfAny","bma_Terrorismloss10TripOrOtherRecoverableIfAny"]
[null,"Worst-case annual aggregate loss \nscenario description",null,{"$f":"Import!P1330","v":0},null,null,null,null,null,null,null,null,null,null,null,null,null,null,null,null,"brrt_ReinsurerSpecificWorstcaseScenarioWorstcaseAnnualAggregateLossScenarioDescription",{"$f":"XBRLMap(D197,U197,E$427,E$428,CONFIGURATION!$B$10,\"BMA\",CONFIGURATION!$B$1,\"bscr\")","v":"Mapped"},null,null,null,null,null,null,null,null,null,null,null,null,null,"bma_Terrorismloss1ReinsuranceRecoveriesIfAny","bma_Terrorismloss2ReinsuranceRecoveriesIfAny","bma_Terrorismloss3ReinsuranceRecoveriesIfAny",null,"bma_Terrorismloss4ReinsuranceRecoveriesIfAny","bma_Terrorismloss5ReinsuranceRecoveriesIfAny","bma_Terrorismloss6ReinsuranceRecoveriesIfAny","bma_Terrorismloss7ReinsuranceRecoveriesIfAny","bma_Terrorismloss8ReinsuranceRecoveriesIfAny","bma_Terrorismloss9ReinsuranceRecoveriesIfAny","bma_Terrorismloss10ReinsuranceRecoveriesIfAny"]
[null,null,null,null,null,null,null,null,null,null,null,null,null,null,null,null,null,null,null,null,null,{"$f":"XBRLMap(D198,U198,E$427,E$428,CONFIGURATION!$B$10,\"BMA\",CONFIGURATION!$B$1,\"bscr\")","v":"-"},null,null,null,null,null,null,null,null,null,null,null,null,null,"bma_Terrorismloss1TotalNetLossEstimate","bma_Terrorismloss2TotalNetLossEstimate","bma_Terrorismloss3TotalNetLossEstimate",null,"bma_Terrorismloss4TotalNetLossEstimate","bma_Terrorismloss5TotalNetLossEstimate","bma_Terrorismloss6TotalNetLossEstimate","bma_Terrorismloss7TotalNetLossEstimate","bma_Terrorismloss8TotalNetLossEstimate","bma_Terrorismloss9TotalNetLossEstimate","bma_Terrorismloss10TotalNetLossEstimate"]
[null,"Gross loss",null,{"$f":"Import!P1331","v":0},null,null,null,null,null,null,null,null,null,null,null,null,null,null,null,null,"brrt_ReinsurerSpecificWorstcaseScenarioGrossLoss",{"$f":"XBRLMap(D199,U199,E$427,E$428,CONFIGURATION!$B$10,\"BMA\",CONFIGURATION!$B$1,\"bscr\")","v":"Mapped"},null,null,{"$f":"XBRLMapTuple(#REF!,H$427,H$428,\"BMA\",CONFIGURATION!$B$1,\"bscr\",\"\",CONFIGURATION!$B$12,$U$215,#REF!,$U$216,#REF!,#REF!,#REF!,#REF!,#REF!,$U$223,#REF!,$U$224,#REF!,$U$227,#REF!,$U$74,#REF!,$U$75,#REF!,#REF!,#REF!)","v":{"$error":"#VALUE!"}},{"$f":"XBRLMapTuple(#REF!,I$427,I$428,\"BMA\",CONFIGURATION!$B$1,\"bscr\",\"\",CONFIGURATION!$B$12,$U$215,#REF!,$U$216,#REF!,#REF!,#REF!,#REF!,G218,$U$223,G219,$U$224,G220,$U$227,G221,$U$74,G222,$U$75,G223,#REF!,G224)","v":{"$error":"#VALUE!"}},{"$f":"XBRLMapTuple(#REF!,J$427,J$428,\"BMA\",CONFIGURATION!$B$1,\"bscr\",\"\",CONFIGURATION!$B$12,$U$215,#REF!,$U$216,#REF!,#REF!,#REF!,#REF!,H218,$U$223,H219,$U$224,H220,$U$227,H221,$U$74,H222,$U$75,H223,#REF!,H224)","v":{"$error":"#VALUE!"}},null,null,null,null,null,null,null,null,"bma_Terrorismloss1TargetLocation","bma_Terrorismloss2TargetLocation","bma_Terrorismloss3TargetLocation",null,"bma_Terrorismloss4TargetLocation","bma_Terrorismloss5TargetLocation","bma_Terrorismloss6TargetLocation","bma_Terrorismloss7TargetLocation","bma_Terrorismloss8TargetLocation","bma_Terrorismloss9TargetLocation","bma_Terrorismloss10TargetLocation"]
[null,"Net loss",null,{"$f":"Import!P1332","v":0},null,null,null,null,null,null,null,null,null,null,null,null,null,null,null,null,"brrt_ReinsurerSpecificWorstcaseScenarioNetLoss",{"$f":"XBRLMap(D200,U200,E$427,E$428,CONFIGURATION!$B$10,\"BMA\",CONFIGURATION!$B$1,\"bscr\")","v":"Mapped"}]
[null,"Occurrence Return period",null,{"$f":"Import!P1333","v":0},null,null,null,null,null,null,null,null,null,null,null,null,null,null,null,null,"brrt_SeriesOfLossSimulationsReturnPeriod",{"$f":"XBRLMap(D201,U201,E$427,E$428,CONFIGURATION!$B$10,\"BMA\",CONFIGURATION!$B$1,\"bscr\")","v":"Mapped"},null,null,null,null,null,{"$f":"XBRLMapTuple(#REF!,K$427,K$428,\"BMA\",CONFIGURATION!$B$1,\"bscr\",\"\",CONFIGURATION!$B$12,$U$215,I227,$U$216,I74,#REF!,I75,#REF!,I76,$U$223,I77,$U$224,I78,$U$227,I79,$U$74,I80,$U$75,I81,#REF!,I422)","v":{"$error":"#VALUE!"}},{"$f":"XBRLMapTuple(#REF!,L$427,L$428,\"BMA\",CONFIGURATION!$B$1,\"bscr\",\"\",CONFIGURATION!$B$12,$U$215,J227,$U$216,J74,#REF!,J75,#REF!,J76,$U$223,J77,$U$224,#REF!,$U$227,#REF!,$U$74,#REF!,$U$75,#REF!,#REF!,J422)","v":{"$error":"#VALUE!"}},{"$f":"XBRLMapTuple(#REF!,L$427,L$428,\"BMA\",CONFIGURATION!$B$1,\"bscr\",\"\",CONFIGURATION!$B$12,$U$215,K227,$U$216,K74,#REF!,K75,#REF!,K76,$U$223,K77,$U$224,#REF!,$U$227,#REF!,$U$74,#REF!,$U$75,#REF!,#REF!,K422)","v":{"$error":"#VALUE!"}},{"$f":"XBRLMapTuple(#REF!,L$427,L$428,\"BMA\",CONFIGURATION!$B$1,\"bscr\",\"\",CONFIGURATION!$B$12,$U$215,L227,$U$216,L74,#REF!,L75,#REF!,L76,$U$223,L77,$U$224,K78,$U$227,K79,$U$74,K80,$U$75,K81,#REF!,L422)","v":{"$error":"#VALUE!"}},{"$f":"XBRLMapTuple(#REF!,L$427,L$428,\"BMA\",CONFIGURATION!$B$1,\"bscr\",\"\",CONFIGURATION!$B$12,$U$215,N227,$U$216,N74,#REF!,N75,#REF!,N76,$U$223,N77,$U$224,N78,$U$227,N79,$U$74,N80,$U$75,N81,#REF!,N422)","v":{"$error":"#VALUE!"}}]
[null,"Relative Return period",null,{"$f":"Import!P1334","v":0},null,"Doc Name","Page Number",null,null,null,null,null,null,null,null,null,null,null,null,null,"brrt_ReinsurerSpecificWorstcaseScenarioReturnPeriod",{"$f":"XBRLMap(D202,U202,E$427,E$428,CONFIGURATION!$B$10,\"BMA\",CONFIGURATION!$B$1,\"bscr\")","v":"Mapped"}]
[null,"Underlying assumptions",null,{"$f":"HYPERLINK(\"#'Attachments'!G145\",\"Attach file\")","v":"Attach file"}]
[]
[null,{"$f":"IF('Company Information'!$F$11=\"Class 3A\",\"G. REVERSE STRESS TEST SCENARIO\",\"H. REVERSE STRESS TEST SCENARIO\")","v":"H. REVERSE STRESS TEST SCENARIO"}]
[null,"The (re)insurer is to submit key assumptions and scenarios that would cause business failure as determined by a reverse stress test scenario."]
[null,"Reverse stress test scenario description",null,{"$f":"Import!P1335","v":0},null,null,null,null,null,null,null,null,null,null,null,null,null,null,null,null,"brrt_ReinsurerSpecificWorstcaseScenarioWorstcaseAnnualAggregateLossScenarioDescription",{"$f":"XBRLMap(D207,U207,E$427,E$428,CONFIGURATION!$B$10,\"BMA\",CONFIGURATION!$B$1,\"bscr\")","v":"Mapped"},null,null,null,null,null,null,null,null,null,null,null,null,null,"bma_Terrorismloss1ReinsuranceRecoveriesIfAny","bma_Terrorismloss2ReinsuranceRecoveriesIfAny","bma_Terrorismloss3ReinsuranceRecoveriesIfAny",null,"bma_Terrorismloss4ReinsuranceRecoveriesIfAny","bma_Terrorismloss5ReinsuranceRecoveriesIfAny","bma_Terrorismloss6ReinsuranceRecoveriesIfAny","bma_Terrorismloss7ReinsuranceRecoveriesIfAny","bma_Terrorismloss8ReinsuranceRecoveriesIfAny","bma_Terrorismloss9ReinsuranceRecoveriesIfAny","bma_Terrorismloss10ReinsuranceRecoveriesIfAny"]
[null,null,null,null,null,null,null,null,null,null,null,null,null,null,null,null,null,null,null,null,null,{"$f":"XBRLMap(D208,U208,E$427,E$428,CONFIGURATION!$B$10,\"BMA\",CONFIGURATION!$B$1,\"bscr\")","v":"-"},null,null,null,null,null,null,null,null,null,null,null,null,null,"bma_Terrorismloss1TotalNetLossEstimate","bma_Terrorismloss2TotalNetLossEstimate","bma_Terrorismloss3TotalNetLossEstimate",null,"bma_Terrorismloss4TotalNetLossEstimate","bma_Terrorismloss5TotalNetLossEstimate","bma_Terrorismloss6TotalNetLossEstimate","bma_Terrorismloss7TotalNetLossEstimate","bma_Terrorismloss8TotalNetLossEstimate","bma_Terrorismloss9TotalNetLossEstimate","bma_Terrorismloss10TotalNetLossEstimate"]
[null,"Gross loss",null,{"$f":"Import!P1336","v":0},null,null,null,null,null,null,null,null,null,null,null,null,null,null,null,null,"brrt_ReinsurerSpecificWorstcaseScenarioGrossLoss",{"$f":"XBRLMap(D209,U209,E$427,E$428,CONFIGURATION!$B$10,\"BMA\",CONFIGURATION!$B$1,\"bscr\")","v":"Mapped"},null,null,{"$f":"XBRLMapTuple(#REF!,H$427,H$428,\"BMA\",CONFIGURATION!$B$1,\"bscr\",\"\",CONFIGURATION!$B$12,$U$215,#REF!,$U$216,#REF!,#REF!,#REF!,#REF!,#REF!,$U$223,#REF!,$U$224,#REF!,$U$227,#REF!,$U$74,#REF!,$U$75,#REF!,#REF!,#REF!)","v":{"$error":"#VALUE!"}},{"$f":"XBRLMapTuple(#REF!,I$427,I$428,\"BMA\",CONFIGURATION!$B$1,\"bscr\",\"\",CONFIGURATION!$B$12,$U$215,G444,$U$216,G445,#REF!,G446,#REF!,G447,$U$223,G448,$U$224,G449,$U$227,G450,$U$74,G451,$U$75,G452,#REF!,G453)","v":{"$error":"#VALUE!"}},{"$f":"XBRLMapTuple(#REF!,J$427,J$428,\"BMA\",CONFIGURATION!$B$1,\"bscr\",\"\",CONFIGURATION!$B$12,$U$215,H444,$U$216,H445,#REF!,H446,#REF!,H447,$U$223,H448,$U$224,H449,$U$227,H450,$U$74,H451,$U$75,H452,#REF!,H453)","v":{"$error":"#VALUE!"}},null,null,null,null,null,null,null,null,"bma_Terrorismloss1TargetLocation","bma_Terrorismloss2TargetLocation","bma_Terrorismloss3TargetLocation",null,"bma_Terrorismloss4TargetLocation","bma_Terrorismloss5TargetLocation","bma_Terrorismloss6TargetLocation","bma_Terrorismloss7TargetLocation","bma_Terrorismloss8TargetLocation","bma_Terrorismloss9TargetLocation","bma_Terrorismloss10TargetLocation"]
[null,"Net loss",null,{"$f":"Import!P1337","v":0},null,null,null,null,null,null,null,null,null,null,null,null,null,null,null,null,"brrt_ReinsurerSpecificWorstcaseScenarioNetLoss",{"$f":"XBRLMap(D210,U210,E$427,E$428,CONFIGURATION!$B$10,\"BMA\",CONFIGURATION!$B$1,\"bscr\")","v":"Mapped"}]
[null,"Occurrence Return period",null,{"$f":"Import!P1338","v":0},null,null,null,null,null,null,null,null,null,null,null,null,null,null,null,null,"brrt_SeriesOfLossSimulationsReturnPeriod",{"$f":"XBRLMap(D211,U211,E$427,E$428,CONFIGURATION!$B$10,\"BMA\",CONFIGURATION!$B$1,\"bscr\")","v":"Mapped"},null,null,null,null,null,{"$f":"XBRLMapTuple(#REF!,K$427,K$428,\"BMA\",CONFIGURATION!$B$1,\"bscr\",\"\",CONFIGURATION!$B$12,$U$215,I456,$U$216,I189,#REF!,I190,#REF!,I191,$U$223,I192,$U$224,I193,$U$227,I194,$U$74,I195,$U$75,I196,#REF!,I457)","v":{"$error":"#VALUE!"}},{"$f":"XBRLMapTuple(#REF!,L$427,L$428,\"BMA\",CONFIGURATION!$B$1,\"bscr\",\"\",CONFIGURATION!$B$12,$U$215,J456,$U$216,J189,#REF!,J190,#REF!,J191,$U$223,J192,$U$224,J193,$U$227,J194,$U$74,J195,$U$75,J196,#REF!,J457)","v":{"$error":"#VALUE!"}},{"$f":"XBRLMapTuple(#REF!,L$427,L$428,\"BMA\",CONFIGURATION!$B$1,\"bscr\",\"\",CONFIGURATION!$B$12,$U$215,K456,$U$216,K189,#REF!,K190,#REF!,K191,$U$223,K192,$U$224,K193,$U$227,K194,$U$74,K195,$U$75,K196,#REF!,K457)","v":{"$error":"#VALUE!"}},{"$f":"XBRLMapTuple(#REF!,L$427,L$428,\"BMA\",CONFIGURATION!$B$1,\"bscr\",\"\",CONFIGURATION!$B$12,$U$215,L456,$U$216,L189,#REF!,L190,#REF!,L191,$U$223,L192,$U$224,L193,$U$227,L194,$U$74,L195,$U$75,L196,#REF!,L457)","v":{"$error":"#VALUE!"}},{"$f":"XBRLMapTuple(#REF!,L$427,L$428,\"BMA\",CONFIGURATION!$B$1,\"bscr\",\"\",CONFIGURATION!$B$12,$U$215,N456,$U$216,N189,#REF!,N190,#REF!,N191,$U$223,N192,$U$224,N193,$U$227,N194,$U$74,N195,$U$75,N196,#REF!,N457)","v":{"$error":"#VALUE!"}}]
[null,"Relative Return period",null,{"$f":"Import!P1339","v":0},null,"Doc Name","Page Number",null,null,null,null,null,null,null,null,null,null,null,null,null,"brrt_ReinsurerSpecificWorstcaseScenarioReturnPeriod",{"$f":"XBRLMap(D212,U212,E$427,E$428,CONFIGURATION!$B$10,\"BMA\",CONFIGURATION!$B$1,\"bscr\")","v":"Mapped"}]
[null,"Underlying assumptions",null,{"$f":"HYPERLINK(\"#'Attachments'!G145\",\"Attach file\")","v":"Attach file"}]
[]
[null,"I. TERRORISM",null,null,null,null,null,null,null,null,null,null,null,null,null,null,null,null,null,null,"brrt_CatastropheLossEvent",{"$f":"XBRLMapTuple(U215,E$427,E$428,\"BMA\",CONFIGURATION!$B$1,\"bscr\",\"tuple_hurricane_gustav\",CONFIGURATION!$B$12,#REF!,#REF!,#REF!,#REF!,#REF!,#REF!,#REF!,#REF!,#REF!,#REF!,#REF!,#REF!)","v":{"$error":"#VALUE!"}},{"$f":"XBRLMapTuple(U215,F$427,F$428,\"BMA\",CONFIGURATION!$B$1,\"bscr\",\"tuple_hurricane_gustav\",CONFIGURATION!$B$12,#REF!,#REF!,#REF!,#REF!,#REF!,#REF!,#REF!,#REF!,#REF!,#REF!,#REF!,#REF!,#REF!,#REF!)","v":{"$error":"#VALUE!"}}]
[null,{"$f":"\"The (re)insurer is to submit the estimated top ten largest losses (in descending order) arising from explosion of a two-tonne bomb based upon policies in force at \"&TEXT('Company Information'!C3+1,\"mmmm d yyyy\")","v":"The (re)insurer is to submit the estimated top ten largest losses (in descending order) arising from explosion of a two-tonne bomb based upon policies in force at January 1 2020"},null,null,null,null,null,null,null,null,null,null,null,null,null,null,null,null,null,null,"brrt_CatastropheLossEvent",{"$f":"XBRLMapTuple(U216,E$427,E$428,\"BMA\",CONFIGURATION!$B$1,\"bscr\",\"tuple_hurricane_ike\",CONFIGURATION!$B$12,#REF!,#REF!,#REF!,#REF!,#REF!,#REF!,#REF!,#REF!,#REF!,#REF!,#REF!,#REF!)","v":{"$error":"#VALUE!"}},{"$f":"XBRLMapTuple(U216,F$427,F$428,\"BMA\",CONFIGURATION!$B$1,\"bscr\",\"tuple_hurricane_ike\",CONFIGURATION!$B$12,#REF!,#REF!,#REF!,#REF!,#REF!,#REF!,#REF!,#REF!,#REF!,#REF!,#REF!,#REF!,#REF!,#REF!)","v":{"$error":"#VALUE!"}}]
[null,null,null,"Loss 1","Loss 2","Loss 3","Loss 4","Loss 5","Loss 6","Loss 7","Loss 8","Loss 9","Loss 10",null,null,null,null,null,null,null,"brrt_TopTenLargestLossesFromExplosionOfATwoTonneBombBasedOnPoliciesInForceAtBegginingOfNextReportingPeriod",{"$f":"XBRLMapTuple($U$217,E$427,E$428,\"BMA\",CONFIGURATION!$B$1,\"bscr\",\"\",CONFIGURATION!$B$12,$U$218,D218,$U$219,D219,$U$220,D220,$U$221,D221,$U$222,D222,$U$223,D223,$U$224,D224)","v":"Mapped"},{"$f":"XBRLMapTuple($U$217,F$427,F$428,\"BMA\",CONFIGURATION!$B$1,\"bscr\",\"\",CONFIGURATION!$B$12,$U$218,E218,$U$219,E219,$U$220,E220,$U$221,E221,$U$222,E222,$U$223,E223,$U$224,E224)","v":"Mapped"},{"$f":"XBRLMapTuple($U$217,G$427,G$428,\"BMA\",CONFIGURATION!$B$1,\"bscr\",\"\",CONFIGURATION!$B$12,$U$218,F218,$U$219,F219,$U$220,F220,$U$221,F221,$U$222,F222,$U$223,F223,$U$224,F224)","v":"Mapped"},{"$f":"XBRLMapTuple($U$217,H$427,H$428,\"BMA\",CONFIGURATION!$B$1,\"bscr\",\"\",CONFIGURATION!$B$12,$U$218,G218,$U$219,G219,$U$220,G220,$U$221,G221,$U$222,G222,$U$223,G223,$U$224,G224)","v":"Mapped"},{"$f":"XBRLMapTuple($U$217,I$427,I$428,\"BMA\",CONFIGURATION!$B$1,\"bscr\",\"\",CONFIGURATION!$B$12,$U$218,H218,$U$219,H219,$U$220,H220,$U$221,H221,$U$222,H222,$U$223,H223,$U$224,H224)","v":"Mapped"},{"$f":"XBRLMapTuple($U$217,J$427,J$428,\"BMA\",CONFIGURATION!$B$1,\"bscr\",\"\",CONFIGURATION!$B$12,$U$218,I218,$U$219,I219,$U$220,I220,$U$221,I221,$U$222,I222,$U$223,I223,$U$224,I224)","v":"Mapped"},{"$f":"XBRLMapTuple($U$217,K$427,K$428,\"BMA\",CONFIGURATION!$B$1,\"bscr\",\"\",CONFIGURATION!$B$12,$U$218,J218,$U$219,J219,$U$220,J220,$U$221,J221,$U$222,J222,$U$223,J223,$U$224,J224)","v":"Mapped"},{"$f":"XBRLMapTuple($U$217,L$427,L$428,\"BMA\",CONFIGURATION!$B$1,\"bscr\",\"\",CONFIGURATION!$B$12,$U$218,K218,$U$219,K219,$U$220,K220,$U$221,K221,$U$222,K222,$U$223,K223,$U$224,K224)","v":"Mapped"},{"$f":"XBRLMapTuple($U$217,O$427,O$428,\"BMA\",CONFIGURATION!$B$1,\"bscr\",\"\",CONFIGURATION!$B$12,$U$218,L218,$U$219,L219,$U$220,L220,$U$221,L221,$U$222,L222,$U$223,L223,$U$224,L224)","v":"Mapped"},{"$f":"XBRLMapTuple($U$217,R$427,R$428,\"BMA\",CONFIGURATION!$B$1,\"bscr\",\"\",CONFIGURATION!$B$12,$U$218,M218,$U$219,M219,$U$220,M220,$U$221,M221,$U$222,M222,$U$223,M223,$U$224,M224)","v":"Mapped"}]
[null,"State / province",null,{"$f":"Import!P1341","v":0},{"$f":"Import!P1348","v":0},{"$f":"Import!P1355","v":0},{"$f":"Import!P1362","v":0},{"$f":"Import!P1369","v":0},{"$f":"Import!P1376","v":0},{"$f":"Import!P1383","v":0},{"$f":"Import!P1390","v":0},{"$f":"Import!P1397","v":0},{"$f":"Import!P1404","v":0},null,null,null,null,null,null,null,"brrt_TopTenLargestLossesFromExplosionOfATwoTonneBombBasedOnPoliciesInForceAtBegginingOfNextReportingPeriodStateOrProvince"]
[null,"Country",null,{"$f":"Import!P1342","v":0},{"$f":"Import!P1349","v":0},{"$f":"Import!P1356","v":0},{"$f":"Import!P1363","v":0},{"$f":"Import!P1370","v":0},{"$f":"Import!P1377","v":0},{"$f":"Import!P1384","v":0},{"$f":"Import!P1391","v":0},{"$f":"Import!P1398","v":0},{"$f":"Import!P1405","v":0},null,null,null,null,null,null,null,"brrt_TopTenLargestLossesFromExplosionOfATwoTonneBombBasedOnPoliciesInForceAtBegginingOfNextReportingPeriodCountry"]
[null,"Total gross loss estimate",null,{"$f":"Import!P1343","v":0},{"$f":"Import!P1350","v":0},{"$f":"Import!P1357","v":0},{"$f":"Import!P1364","v":0},{"$f":"Import!P1371","v":0},{"$f":"Import!P1378","v":0},{"$f":"Import!P1385","v":0},{"$f":"Import!P1392","v":0},{"$f":"Import!P1399","v":0},{"$f":"Import!P1406","v":0},null,null,null,null,null,null,null,"brrt_TopTenLargestLossesFromExplosionOfATwoTonneBombBasedOnPoliciesInForceAtBegginingOfNextReportingPeriodTotalGrossLossEstimate"]
[null,"TRIP or other recoverable, if any",null,{"$f":"Import!P1344","v":0},{"$f":"Import!P1351","v":0},{"$f":"Import!P1358","v":0},{"$f":"Import!P1365","v":0},{"$f":"Import!P1372","v":0},{"$f":"Import!P1379","v":0},{"$f":"Import!P1386","v":0},{"$f":"Import!P1393","v":0},{"$f":"Import!P1400","v":0},{"$f":"Import!P1407","v":0},null,null,null,null,null,null,null,"brrt_TopTenLargestLossesFromExplosionOfATwoTonneBombBasedOnPoliciesInForceAtBegginingOfNextReportingPeriodTRIPOrOtherTerrorPoolRecoverables"]
[null,"Reinsurance recoveries, if any",null,{"$f":"Import!P1345","v":0},{"$f":"Import!P1352","v":0},{"$f":"Import!P1359","v":0},{"$f":"Import!P1366","v":0},{"$f":"Import!P1373","v":0},{"$f":"Import!P1380","v":0},{"$f":"Import!P1387","v":0},{"$f":"Import!P1394","v":0},{"$f":"Import!P1401","v":0},{"$f":"Import!P1408","v":0},null,null,null,null,null,null,null,"brrt_TopTenLargestLossesFromExplosionOfATwoTonneBombBasedOnPoliciesInForceAtBegginingOfNextReportingPeriodReinsuranceRecoveries"]
[null,"Total net loss estimate",null,{"$f":"Import!P1346","v":0},{"$f":"Import!P1353","v":0},{"$f":"Import!P1360","v":0},{"$f":"Import!P1367","v":0},{"$f":"Import!P1374","v":0},{"$f":"Import!P1381","v":0},{"$f":"Import!P1388","v":0},{"$f":"Import!P1395","v":0},{"$f":"Import!P1402","v":0},{"$f":"Import!P1409","v":0},null,null,null,null,null,null,null,"brrt_TopTenLargestLossesFromExplosionOfATwoTonneBombBasedOnPoliciesInForceAtBegginingOfNextReportingPeriodTotalNetLossEstimate",null,"brrt_UnderwritingLossScenariosNotApplicableOrPartiallyApplyDescriptionOfThreeOfInsurerUnderwritingScenariosAndRelatedKeyAssumptionsStatutoryCapitalAndSurplusPostStressScenarioGrossLoss","brrt_UnderwritingLossScenariosNotApplicableOrPartiallyApplyDescriptionOfThreeOfInsurerUnderwritingScenariosAndRelatedKeyAssumptionsAggregateStatutoryAdmittedAssetsPostStressScenarioNetLoss","brrt_UnderwritingLossScenariosNotApplicableOrPartiallyApplyDescriptionOfThreeOfInsurerUnderwritingScenariosAndRelatedKeyAssumptionsAdmittedLiabilitiesPostStressScenarioNetLoss","brrt_UnderwritingLossScenariosNotApplicableOrPartiallyApplyDescriptionOfThreeOfInsurerUnderwritingScenariosAndRelatedKeyAssumptionsStatutoryCapitalAndSurplusPostStressScenarioNetLoss"]
[null,"Target location",null,{"$f":"Import!P1347","v":0},{"$f":"Import!P1354","v":0},{"$f":"Import!P1361","v":0},{"$f":"Import!P1368","v":0},{"$f":"Import!P1375","v":0},{"$f":"Import!P1382","v":0},{"$f":"Import!P1389","v":0},{"$f":"Import!P1396","v":0},{"$f":"Import!P1403","v":0},{"$f":"Import!P1410","v":0},null,null,null,null,null,null,null,"brrt_TopTenLargestLossesFromExplosionOfATwoTonneBombBasedOnPoliciesInForceAtBegginingOfNextReportingPeriodTargetLocation","brrt_UnderwritingLossScenariosNotApplicableOrPartiallyApplyDescriptionOfThreeOfInsurerUnderwritingScenariosAndRelatedKeyAssumptionsAdmittedLiabilitiesPostStressScenarioGrossLoss"]
[null,"Proprietary / vendor model and version",null,{"$f":"Import!P1340","v":0},null,"Doc Name","Page Number",null,null,null,null,null,null,null,null,null,null,null,null,null,"brrt_TopTenLargestLossesFromExplosionOfATwoTonneBombBasedOnPoliciesInForceAtBegginingOfNextReportingPeriodProprietaryVendorModelAndVersion",{"$f":"XBRLMap(D225,U225,E$427,E$428,CONFIGURATION!$B$10,\"BMA\",CONFIGURATION!$B$1,\"bscr\")","v":"Mapped"}]
[null,"All assumptions and calculations",null,{"$f":"HYPERLINK(\"#'Attachments'!G145\",\"Attach file\")","v":"Attach file"}]
[]
[null,{"$f":"IF('Company Information'!$F$11=\"Class 3A\",\"H. TECHNOLOGY RISK\",\"J. TECHNOLOGY RISK\")","v":"J. TECHNOLOGY RISK"}]
[null,"a) CYBER RISK - UNDERWRITING "]
[null,"If the Re(insurer) writes cyber risk business, provide details of that business as detailed below for the policies written in 2019:"]
[null,"a) (Re)Insurer writes cyber risk business, provide details for the policies written below. "]
[null,"b) (Re)Insurer does not write cyber risk business, provide details on item 2 (non-affirmative cyber) only for the policies written."]
[null,"c) For a (re)insurer, unconsolidated results relate to the Bermuda standalone operations (Excluding subsidiaries) and consolidated results relates to Bermuda entity level results (Including Subsidiaries). "]
[null,"d) For a (re)insurer, answering YES/NO below, please specify if you are consolidated by a another Bermuda (re)insurer:"]
[null,"Results consolidated by a Bermuda (re)insurer",null,{"$f":"Import!P1411","v":"Select"}]
[null,"Name of the Parent Bermuda (re)insurer",null,{"$f":"Import!P1412","v":0}]
[]
[null,"CONSOLIDATED RESULTS (Bermuda + Subsidiaries)"]
[null,"Policy Type",null,"Direct & Facultative",null,null,"Reinsurance",null,null,"Package "]
[null,null,null,2019,2018,null,2019,2018,null,2019,2018]
["(i)","Total number of cyber policies in force (units) ",null,{"$f":"Import!P1413","v":0},{"$f":"Import!R1413","v":0},null,{"$f":"Import!P1426","v":0},{"$f":"Import!R1426","v":0},null,{"$f":"Import!P1439","v":0},{"$f":"Import!R1439","v":0}]
["(ii)","Gross Exposure for Policies in force ('$000)",null,{"$f":"Import!P1414","v":0},{"$f":"Import!R1414","v":0},{"$f":"IF(D242>D243,\"TRUE\",\"FALSE\")","v":"FALSE"},{"$f":"Import!P1427","v":0},{"$f":"Import!R1427","v":0},{"$f":"IF(G242>G243,\"TRUE\",\"FALSE\")","v":"FALSE"},{"$f":"Import!P1440","v":0},{"$f":"Import!R1440","v":0},{"$f":"IF(J242>J243,\"TRUE\",\"FALSE\")","v":"FALSE"}]
["(iii)","Net Exposure for Policies in force ($'000)",null,{"$f":"Import!P1415","v":0},{"$f":"Import!R1415","v":0},null,{"$f":"Import!P1428","v":0},{"$f":"Import!R1428","v":0},null,{"$f":"Import!P1441","v":0},{"$f":"Import!R1441","v":0}]
["(iv)","Gross Premium Written ('$000)",null,{"$f":"Import!P1416","v":0},{"$f":"Import!R1416","v":0},{"$f":"IF(D244>D245,\"TRUE\",\"FALSE\")","v":"FALSE"},{"$f":"Import!P1429","v":0},{"$f":"Import!R1429","v":0},{"$f":"IF(G244>G245,\"TRUE\",\"FALSE\")","v":"FALSE"},{"$f":"Import!P1442","v":0},{"$f":"Import!R1442","v":0},{"$f":"IF(J244>J245,\"TRUE\",\"FALSE\")","v":"FALSE"}]
["(v)","Net Premium Written ($'000)",null,{"$f":"Import!P1417","v":0},{"$f":"Import!R1417","v":0},null,{"$f":"Import!P1430","v":0},{"$f":"Import!R1430","v":0},null,{"$f":"Import!P1443","v":0},{"$f":"Import!R1443","v":0}]
["(vi)","Gross Loss Reserves ('$000)",null,{"$f":"Import!P1418","v":0},{"$f":"Import!R1418","v":0},{"$f":"IF(D246>D247,\"TRUE\",\"FALSE\")","v":"FALSE"},{"$f":"Import!P1431","v":0},{"$f":"Import!R1431","v":0},{"$f":"IF(G246>G247,\"TRUE\",\"FALSE\")","v":"FALSE"},{"$f":"Import!P1444","v":0},{"$f":"Import!R1444","v":0},{"$f":"IF(J246>J247,\"TRUE\",\"FALSE\")","v":"FALSE"}]
["(vii)","Net Loss Reserves ($'000)",null,{"$f":"Import!P1419","v":0},{"$f":"Import!R1419","v":0},null,{"$f":"Import!P1432","v":0},{"$f":"Import!R1432","v":0},null,{"$f":"Import!P1445","v":0},{"$f":"Import!R1445","v":0}]
["(viii)","Number of reported claims (units) ",null,{"$f":"Import!P1420","v":0},{"$f":"Import!R1420","v":0},null,{"$f":"Import!P1433","v":0},{"$f":"Import!R1433","v":0},null,{"$f":"Import!P1446","v":0},{"$f":"Import!R1446","v":0}]
["(ix)","Paid claims ($'000)",null,{"$f":"Import!P1421","v":0},{"$f":"Import!R1421","v":0},null,{"$f":"Import!P1434","v":0},{"$f":"Import!R1434","v":0},null,{"$f":"Import!P1447","v":0},{"$f":"Import!R1447","v":0}]
["(x)","Incurred losses ($'000)",null,{"$f":"Import!P1422","v":0},{"$f":"Import!R1422","v":0},null,{"$f":"Import!P1435","v":0},{"$f":"Import!R1435","v":0},null,{"$f":"Import!P1448","v":0},{"$f":"Import!R1448","v":0}]
["(xi)","Approximate average size of claims ($'000)",null,{"$f":"Import!P1423","v":0},{"$f":"Import!R1423","v":0},null,{"$f":"Import!P1436","v":0},{"$f":"Import!R1436","v":0},null,{"$f":"Import!P1449","v":0},{"$f":"Import!R1449","v":0}]
["(xii)","Largest Cyber Claim ($'000)",null,{"$f":"Import!P1424","v":0},{"$f":"Import!R1424","v":0},null,{"$f":"Import!P1437","v":0},{"$f":"Import!R1437","v":0},null,{"$f":"Import!P1450","v":0},{"$f":"Import!R1450","v":0}]
["(xiii)","Brief Description of largest claim (text)",null,{"$f":"Import!P1425","v":0},null,null,{"$f":"Import!P1438","v":0},null,null,{"$f":"Import!P1451","v":0}]
[]
[null,"UNCONSOLIDATED RESULTS (Bermuda Only)"]
[null,"Policy Type",null,"Direct & Facultative",null,null,"Reinsurance",null,null,"Package ",null,null,"Related Party Business",null,null,"Unrelated Business (third party)"]
[null,null,null,2019,2018,null,2019,2018,null,2019,2018,null,2019,2018,null,2019,2018]
["(i)","Total number of cyber policies in force (units) ",null,{"$f":"Import!E1384","v":0},{"$f":"Import!G1384","v":0},null,{"$f":"Import!E1397","v":0},{"$f":"Import!G1397","v":0},null,{"$f":"Import!E1410","v":0},{"$f":"Import!G1410","v":0},null,{"$f":"Import!E1423","v":0},{"$f":"Import!G1423","v":0},null,{"$f":"Import!E1436","v":0},{"$f":"Import!G1436","v":0}]
["(ii)","Gross Exposure for Policies in force ('$000)",null,{"$f":"Import!E1385","v":0},{"$f":"Import!G1385","v":0},{"$f":"IF(D259>D260,\"TRUE\",\"FALSE\")","v":"FALSE"},{"$f":"Import!E1398","v":0},{"$f":"Import!G1398","v":0},{"$f":"IF(G259>G260,\"TRUE\",\"FALSE\")","v":"FALSE"},{"$f":"Import!E1411","v":0},{"$f":"Import!G1411","v":0},{"$f":"IF(J259>J260,\"TRUE\",\"FALSE\")","v":"FALSE"},{"$f":"Import!E1424","v":0},{"$f":"Import!G1424","v":0},{"$f":"IF(M259>M260,\"TRUE\",\"FALSE\")","v":"FALSE"},{"$f":"Import!E1437","v":0},{"$f":"Import!G1437","v":0},{"$f":"IF(P259>P260,\"TRUE\",\"FALSE\")","v":"FALSE"}]
["(iii)","Net Exposure for Policies in force ($'000)",null,{"$f":"Import!E1386","v":0},{"$f":"Import!G1386","v":0},null,{"$f":"Import!E1399","v":0},{"$f":"Import!G1399","v":0},null,{"$f":"Import!E1412","v":0},{"$f":"Import!G1412","v":0},null,{"$f":"Import!E1425","v":0},{"$f":"Import!G1425","v":0},null,{"$f":"Import!E1438","v":0},{"$f":"Import!G1438","v":0}]
["(iv)","Gross Premium Written ('$000)",null,{"$f":"Import!E1387","v":0},{"$f":"Import!G1387","v":0},{"$f":"IF(D261>D262,\"TRUE\",\"FALSE\")","v":"FALSE"},{"$f":"Import!E1400","v":0},{"$f":"Import!G1400","v":0},{"$f":"IF(G261>G262,\"TRUE\",\"FALSE\")","v":"FALSE"},{"$f":"Import!E1413","v":0},{"$f":"Import!G1413","v":0},{"$f":"IF(J261>J262,\"TRUE\",\"FALSE\")","v":"FALSE"},{"$f":"Import!E1426","v":0},{"$f":"Import!G1426","v":0},{"$f":"IF(M261>M262,\"TRUE\",\"FALSE\")","v":"FALSE"},{"$f":"Import!E1439","v":0},{"$f":"Import!G1439","v":0},{"$f":"IF(P261>P262,\"TRUE\",\"FALSE\")","v":"FALSE"}]
["(v)","Net Premium Written ($'000)",null,{"$f":"Import!E1388","v":0},{"$f":"Import!G1388","v":0},null,{"$f":"Import!E1401","v":0},{"$f":"Import!G1401","v":0},null,{"$f":"Import!E1414","v":0},{"$f":"Import!G1414","v":0},null,{"$f":"Import!E1427","v":0},{"$f":"Import!G1427","v":0},null,{"$f":"Import!E1440","v":0},{"$f":"Import!G1440","v":0}]
["(vi)","Gross Loss Reserves ('$000)",null,{"$f":"Import!E1389","v":0},{"$f":"Import!G1389","v":0},{"$f":"IF(D263>D264,\"TRUE\",\"FALSE\")","v":"FALSE"},{"$f":"Import!E1402","v":0},{"$f":"Import!G1402","v":0},{"$f":"IF(G263>G264,\"TRUE\",\"FALSE\")","v":"FALSE"},{"$f":"Import!E1415","v":0},{"$f":"Import!G1415","v":0},{"$f":"IF(J263>J264,\"TRUE\",\"FALSE\")","v":"FALSE"},{"$f":"Import!E1428","v":0},{"$f":"Import!G1428","v":0},{"$f":"IF(M263>M264,\"TRUE\",\"FALSE\")","v":"FALSE"},{"$f":"Import!E1441","v":0},{"$f":"Import!G1441","v":0},{"$f":"IF(P263>P264,\"TRUE\",\"FALSE\")","v":"FALSE"}]
["(vii)","Net Loss Reserves ($'000)",null,{"$f":"Import!E1390","v":0},{"$f":"Import!G1390","v":0},null,{"$f":"Import!E1403","v":0},{"$f":"Import!G1403","v":0},null,{"$f":"Import!E1416","v":0},{"$f":"Import!G1416","v":0},null,{"$f":"Import!E1429","v":0},{"$f":"Import!G1429","v":0},null,{"$f":"Import!E1442","v":0},{"$f":"Import!G1442","v":0}]
["(viii)","Number of reported claims (units) ",null,{"$f":"Import!E1391","v":0},{"$f":"Import!G1391","v":0},null,{"$f":"Import!E1404","v":0},{"$f":"Import!G1404","v":0},null,{"$f":"Import!E1417","v":0},{"$f":"Import!G1417","v":0},null,{"$f":"Import!E1430","v":0},{"$f":"Import!G1430","v":0},null,{"$f":"Import!E1443","v":0},{"$f":"Import!G1443","v":0}]
["(ix)","Paid claims ($'000)",null,{"$f":"Import!E1392","v":0},{"$f":"Import!G1392","v":0},null,{"$f":"Import!E1405","v":0},{"$f":"Import!G1405","v":0},null,{"$f":"Import!E1418","v":0},{"$f":"Import!G1418","v":0},null,{"$f":"Import!E1431","v":0},{"$f":"Import!G1431","v":0},null,{"$f":"Import!E1444","v":0},{"$f":"Import!G1444","v":0}]
["(x)","Incurred losses ($'000)",null,{"$f":"Import!E1393","v":0},{"$f":"Import!G1393","v":0},null,{"$f":"Import!E1406","v":0},{"$f":"Import!G1406","v":0},null,{"$f":"Import!E1419","v":0},{"$f":"Import!G1419","v":0},null,{"$f":"Import!E1432","v":0},{"$f":"Import!G1432","v":0},null,{"$f":"Import!E1445","v":0},{"$f":"Import!G1445","v":0}]
["(xi)","Approximate average size of claims ($'000)",null,{"$f":"Import!E1394","v":0},{"$f":"Import!G1394","v":0},null,{"$f":"Import!E1407","v":0},{"$f":"Import!G1407","v":0},null,{"$f":"Import!E1420","v":0},{"$f":"Import!G1420","v":0},null,{"$f":"Import!E1433","v":0},{"$f":"Import!G1433","v":0},null,{"$f":"Import!E1446","v":0},{"$f":"Import!G1446","v":0}]
["(xii)","Largest Cyber Claim ($'000)",null,{"$f":"Import!E1395","v":0},{"$f":"Import!G1395","v":0},null,{"$f":"Import!E1408","v":0},{"$f":"Import!G1408","v":0},null,{"$f":"Import!E1421","v":0},{"$f":"Import!G1421","v":0},null,{"$f":"Import!E1434","v":0},{"$f":"Import!G1434","v":0},null,{"$f":"Import!E1447","v":0},{"$f":"Import!G1447","v":0}]
["(xiii)","Brief Description of largest claim (text)",null,{"$f":"Import!E1396","v":0},null,null,{"$f":"Import!E1409","v":0},null,null,{"$f":"Import!E1422","v":0},null,null,{"$f":"Import!E1435","v":0},null,null,{"$f":"Import!E1448","v":0}]
[]
[null,"GEOGRAPHIC SPECIFIC INFORMATION"]
[null,"CONSOLIDATED RESULTS (Bermuda + Subsidiaries)"]
[null,"Policy Type",null,"Direct & Facultative ",null,null,null,null,"Reinsurance ",null,null,null,null,"Package "]
[null,null,null,"# of Policies","2019 Cyber Premiums Written",null,"2019 Exposure ",null,"# of Policies","2019 Cyber Premiums Written",null,"2019 Exposure ",null,"# of Policies","2019 Cyber Premiums Written",null,"2019 Exposure "]
[null,"Location",null,null,"Gross ('$000)","Net ('$000)","Gross ('$000)","Net ('$000)",null,"Gross ('$000)","Net ('$000)","Gross ('$000)","Net ('$000)",null,"Gross ('$000)","Net ('$000)","Gross ('$000)","Net ('$000)"]
[null,"United States (all states)",null,{"$f":"Import!P1478","v":0},{"$f":"Import!P1485","v":0},{"$f":"Import!P1492","v":0},{"$f":"Import!P1499","v":0},{"$f":"Import!P1506","v":0},{"$f":"Import!P1513","v":0},{"$f":"Import!P1520","v":0},{"$f":"Import!P1527","v":0},{"$f":"Import!P1534","v":0},{"$f":"Import!P1541","v":0},{"$f":"Import!P1548","v":0},{"$f":"Import!P1555","v":0},{"$f":"Import!P1562","v":0},{"$f":"Import!P1569","v":0},{"$f":"Import!P1576","v":0}]
[null,"Canada",null,{"$f":"Import!P1479","v":0},{"$f":"Import!P1486","v":0},{"$f":"Import!P1493","v":0},{"$f":"Import!P1500","v":0},{"$f":"Import!P1507","v":0},{"$f":"Import!P1514","v":0},{"$f":"Import!P1521","v":0},{"$f":"Import!P1528","v":0},{"$f":"Import!P1535","v":0},{"$f":"Import!P1542","v":0},{"$f":"Import!P1549","v":0},{"$f":"Import!P1556","v":0},{"$f":"Import!P1563","v":0},{"$f":"Import!P1570","v":0},{"$f":"Import!P1577","v":0}]
[null,"UK, Continental Europe",null,{"$f":"Import!P1480","v":0},{"$f":"Import!P1487","v":0},{"$f":"Import!P1494","v":0},{"$f":"Import!P1501","v":0},{"$f":"Import!P1508","v":0},{"$f":"Import!P1515","v":0},{"$f":"Import!P1522","v":0},{"$f":"Import!P1529","v":0},{"$f":"Import!P1536","v":0},{"$f":"Import!P1543","v":0},{"$f":"Import!P1550","v":0},{"$f":"Import!P1557","v":0},{"$f":"Import!P1564","v":0},{"$f":"Import!P1571","v":0},{"$f":"Import!P1578","v":0}]
[null,"Australia, New Zealand",null,{"$f":"Import!P1481","v":0},{"$f":"Import!P1488","v":0},{"$f":"Import!P1495","v":0},{"$f":"Import!P1502","v":0},{"$f":"Import!P1509","v":0},{"$f":"Import!P1516","v":0},{"$f":"Import!P1523","v":0},{"$f":"Import!P1530","v":0},{"$f":"Import!P1537","v":0},{"$f":"Import!P1544","v":0},{"$f":"Import!P1551","v":0},{"$f":"Import!P1558","v":0},{"$f":"Import!P1565","v":0},{"$f":"Import!P1572","v":0},{"$f":"Import!P1579","v":0}]
[null,"Japan",null,{"$f":"Import!P1482","v":0},{"$f":"Import!P1489","v":0},{"$f":"Import!P1496","v":0},{"$f":"Import!P1503","v":0},{"$f":"Import!P1510","v":0},{"$f":"Import!P1517","v":0},{"$f":"Import!P1524","v":0},{"$f":"Import!P1531","v":0},{"$f":"Import!P1538","v":0},{"$f":"Import!P1545","v":0},{"$f":"Import!P1552","v":0},{"$f":"Import!P1559","v":0},{"$f":"Import!P1566","v":0},{"$f":"Import!P1573","v":0},{"$f":"Import!P1580","v":0}]
[null,"Worldwide covers",null,{"$f":"Import!P1483","v":0},{"$f":"Import!P1490","v":0},{"$f":"Import!P1497","v":0},{"$f":"Import!P1504","v":0},{"$f":"Import!P1511","v":0},{"$f":"Import!P1518","v":0},{"$f":"Import!P1525","v":0},{"$f":"Import!P1532","v":0},{"$f":"Import!P1539","v":0},{"$f":"Import!P1546","v":0},{"$f":"Import!P1553","v":0},{"$f":"Import!P1560","v":0},{"$f":"Import!P1567","v":0},{"$f":"Import!P1574","v":0},{"$f":"Import!P1581","v":0}]
[null,"Other",null,{"$f":"Import!P1484","v":0},{"$f":"Import!P1491","v":0},{"$f":"Import!P1498","v":0},{"$f":"Import!P1505","v":0},{"$f":"Import!P1512","v":0},{"$f":"Import!P1519","v":0},{"$f":"Import!P1526","v":0},{"$f":"Import!P1533","v":0},{"$f":"Import!P1540","v":0},{"$f":"Import!P1547","v":0},{"$f":"Import!P1554","v":0},{"$f":"Import!P1561","v":0},{"$f":"Import!P1568","v":0},{"$f":"Import!P1575","v":0},{"$f":"Import!P1582","v":0}]
[null,"TOTAL",null,{"$f":"SUM(D277:D283)=D241","v":true},{"$f":"SUM(E277:E283)=D244","v":true},{"$f":"SUM(F277:F283)=D245","v":true},{"$f":"SUM(G277:G283)=D242","v":true},{"$f":"SUM(H277:H283)=D243","v":true},{"$f":"SUM(I277:I283)=G241","v":true},{"$f":"SUM(J277:J283)=G244","v":true},{"$f":"SUM(K277:K283)=G245","v":true},{"$f":"SUM(L277:L283)=G242","v":true},{"$f":"SUM(M277:M283)=G243","v":true},{"$f":"SUM(N277:N283)=J241","v":true},{"$f":"SUM(O277:O283)=J244","v":true},{"$f":"SUM(P277:P283)=J245","v":true},{"$f":"SUM(Q277:Q283)=J242","v":true},{"$f":"SUM(R277:R283)=J243","v":true}]
[null,"Cyber Underwriting risk appetite and limits",null,{"$f":"HYPERLINK(\"#'Attachments'!G85\",\"Attach file\")","v":"Attach file"}]
[]
[null,"UNCONSOLIDATED RESULTS (Bermuda Only)"]
[null,"Policy Type",null,"Direct & Facultative ",null,null,null,null,"Reinsurance ",null,null,null,null,"Package "]
[null,null,null,"# of Policies","2019 Cyber Premiums Written",null,"2019 Exposure ",null,"# of Policies","2019 Cyber Premiums Written",null,"2019 Exposure ",null,"# of Policies","2019 Cyber Premiums Written",null,"2019 Exposure "]
[null,"Location",null,null,"Gross ('$000)","Net ('$000)","Gross ('$000)","Net ('$000)",null,"Gross ('$000)","Net ('$000)","Gross ('$000)","Net ('$000)",null,"Gross ('$000)","Net ('$000)","Gross ('$000)","Net ('$000)"]
[null,"United States (all states)",null,{"$f":"Import!E1449","v":0},{"$f":"Import!E1456","v":0},{"$f":"Import!E1463","v":0},{"$f":"Import!E1470","v":0},{"$f":"Import!E1477","v":0},{"$f":"Import!E1484","v":0},{"$f":"Import!E1491","v":0},{"$f":"Import!E1498","v":0},{"$f":"Import!E1505","v":0},{"$f":"Import!E1512","v":0},{"$f":"Import!E1519","v":0},{"$f":"Import!E1526","v":0},{"$f":"Import!E1533","v":0},{"$f":"Import!E1540","v":0},{"$f":"Import!E1547","v":0}]
[null,"Canada",null,{"$f":"Import!E1450","v":0},{"$f":"Import!E1457","v":0},{"$f":"Import!E1464","v":0},{"$f":"Import!E1471","v":0},{"$f":"Import!E1478","v":0},{"$f":"Import!E1485","v":0},{"$f":"Import!E1492","v":0},{"$f":"Import!E1499","v":0},{"$f":"Import!E1506","v":0},{"$f":"Import!E1513","v":0},{"$f":"Import!E1520","v":0},{"$f":"Import!E1527","v":0},{"$f":"Import!E1534","v":0},{"$f":"Import!E1541","v":0},{"$f":"Import!E1548","v":0}]
[null,"UK, Continental Europe",null,{"$f":"Import!E1451","v":0},{"$f":"Import!E1458","v":0},{"$f":"Import!E1465","v":0},{"$f":"Import!E1472","v":0},{"$f":"Import!E1479","v":0},{"$f":"Import!E1486","v":0},{"$f":"Import!E1493","v":0},{"$f":"Import!E1500","v":0},{"$f":"Import!E1507","v":0},{"$f":"Import!E1514","v":0},{"$f":"Import!E1521","v":0},{"$f":"Import!E1528","v":0},{"$f":"Import!E1535","v":0},{"$f":"Import!E1542","v":0},{"$f":"Import!E1549","v":0}]
[null,"Australia, New Zealand",null,{"$f":"Import!E1452","v":0},{"$f":"Import!E1459","v":0},{"$f":"Import!E1466","v":0},{"$f":"Import!E1473","v":0},{"$f":"Import!E1480","v":0},{"$f":"Import!E1487","v":0},{"$f":"Import!E1494","v":0},{"$f":"Import!E1501","v":0},{"$f":"Import!E1508","v":0},{"$f":"Import!E1515","v":0},{"$f":"Import!E1522","v":0},{"$f":"Import!E1529","v":0},{"$f":"Import!E1536","v":0},{"$f":"Import!E1543","v":0},{"$f":"Import!E1550","v":0}]
[null,"Japan",null,{"$f":"Import!E1453","v":0},{"$f":"Import!E1460","v":0},{"$f":"Import!E1467","v":0},{"$f":"Import!E1474","v":0},{"$f":"Import!E1481","v":0},{"$f":"Import!E1488","v":0},{"$f":"Import!E1495","v":0},{"$f":"Import!E1502","v":0},{"$f":"Import!E1509","v":0},{"$f":"Import!E1516","v":0},{"$f":"Import!E1523","v":0},{"$f":"Import!E1530","v":0},{"$f":"Import!E1537","v":0},{"$f":"Import!E1544","v":0},{"$f":"Import!E1551","v":0}]
[null,"Worldwide covers",null,{"$f":"Import!E1454","v":0},{"$f":"Import!E1461","v":0},{"$f":"Import!E1468","v":0},{"$f":"Import!E1475","v":0},{"$f":"Import!E1482","v":0},{"$f":"Import!E1489","v":0},{"$f":"Import!E1496","v":0},{"$f":"Import!E1503","v":0},{"$f":"Import!E1510","v":0},{"$f":"Import!E1517","v":0},{"$f":"Import!E1524","v":0},{"$f":"Import!E1531","v":0},{"$f":"Import!E1538","v":0},{"$f":"Import!E1545","v":0},{"$f":"Import!E1552","v":0}]
[null,"Other",null,{"$f":"Import!E1455","v":0},{"$f":"Import!E1462","v":0},{"$f":"Import!E1469","v":0},{"$f":"Import!E1476","v":0},{"$f":"Import!E1483","v":0},{"$f":"Import!E1490","v":0},{"$f":"Import!E1497","v":0},{"$f":"Import!E1504","v":0},{"$f":"Import!E1511","v":0},{"$f":"Import!E1518","v":0},{"$f":"Import!E1525","v":0},{"$f":"Import!E1532","v":0},{"$f":"Import!E1539","v":0},{"$f":"Import!E1546","v":0},{"$f":"Import!E1553","v":0}]
[null,"TOTAL",null,{"$f":"SUM(D291:D297)=D258","v":true},{"$f":"SUM(E291:E297)=D261","v":true},{"$f":"SUM(F291:F297)=D262","v":true},{"$f":"SUM(G291:G297)=D259","v":true},{"$f":"SUM(H291:H297)=D260","v":true},{"$f":"SUM(I291:I297)=G258","v":true},{"$f":"SUM(J291:J297)=G261","v":true},{"$f":"SUM(K291:K297)=G262","v":true},{"$f":"SUM(L291:L297)=G259","v":true},{"$f":"SUM(M291:M297)=G260","v":true},{"$f":"SUM(N291:N297)=J258","v":true},{"$f":"SUM(O291:O297)=J261","v":true},{"$f":"SUM(P291:P297)=J262","v":true},{"$f":"SUM(Q291:Q297)=J259","v":true},{"$f":"SUM(R291:R297)=J260","v":true}]
[null,"Cyber Underwriting risk appetite and limits",null,{"$f":"HYPERLINK(\"#'Attachments'!G85\",\"Attach file\")","v":"Attach file"}]
[]
[2,"For all other non-cyber specific insurance policies issued, provide the following on a consolidated basis:"]
[null,"Answering YES or NO, in which of the following lines of business has a cyber exclusion clause been included based on the policies enforced during the reporting period"]
[]
[null,null,null,null,null,null,"If NO, provide ESTIMATED Potential Gross Exposure for portfolio where no cyber exclusion clause has been included in the policy:",null,"Indicate if portfolio has predominantly claims-made (CM) or occurrence (OCC) claims trigger",null,"Were any cyber losses incurred on policies with no cyber exclusion clause?"]
[]
[]
[]
[null,null,null,null,null,"Yes/"]
[null,"Line of Business",null,null,null,"No",2019,2018]
[null,"Property",null,null,null,{"$f":"Import!P1583","v":"Select Yes/No"},{"$f":"Import!P1606","v":0},{"$f":"Import!P1629","v":0},{"$f":"Import!P1652","v":"Select from Drop-down"},{"$f":"Import!Q1652","v":0},{"$f":"Import!P1675","v":"Select Yes/No"}]
[null,"Property Non-Proportional",null,null,null,{"$f":"Import!P1584","v":"Select Yes/No"},{"$f":"Import!P1607","v":0},{"$f":"Import!P1630","v":0},{"$f":"Import!P1653","v":"Select from Drop-down"},{"$f":"Import!Q1653","v":0},{"$f":"Import!P1676","v":"Select Yes/No"}]
[null,"Personal Accident",null,null,null,{"$f":"Import!P1585","v":"Select Yes/No"},{"$f":"Import!P1608","v":0},{"$f":"Import!P1631","v":0},{"$f":"Import!P1654","v":"Select from Drop-down"},{"$f":"Import!Q1654","v":0},{"$f":"Import!P1677","v":"Select Yes/No"}]
[null,"Personal Accident Non-Proportional",null,null,null,{"$f":"Import!P1586","v":"Select Yes/No"},{"$f":"Import!P1609","v":0},{"$f":"Import!P1632","v":0},{"$f":"Import!P1655","v":"Select from Drop-down"},{"$f":"Import!Q1655","v":0},{"$f":"Import!P1678","v":"Select Yes/No"}]
[null,"Aviation",null,null,null,{"$f":"Import!P1587","v":"Select Yes/No"},{"$f":"Import!P1610","v":0},{"$f":"Import!P1633","v":0},{"$f":"Import!P1656","v":"Select from Drop-down"},{"$f":"Import!Q1656","v":0},{"$f":"Import!P1679","v":"Select Yes/No"}]
[null,"Aviation Non-Proportional",null,null,null,{"$f":"Import!P1588","v":"Select Yes/No"},{"$f":"Import!P1611","v":0},{"$f":"Import!P1634","v":0},{"$f":"Import!P1657","v":"Select from Drop-down"},{"$f":"Import!Q1657","v":0},{"$f":"Import!P1680","v":"Select Yes/No"}]
[null,"Credit/Surety",null,null,null,{"$f":"Import!P1589","v":"Select Yes/No"},{"$f":"Import!P1612","v":0},{"$f":"Import!P1635","v":0},{"$f":"Import!P1658","v":"Select from Drop-down"},{"$f":"Import!Q1658","v":0},{"$f":"Import!P1681","v":"Select Yes/No"}]
[null,"Credit/Surety - Non-Proportional",null,null,null,{"$f":"Import!P1590","v":"Select Yes/No"},{"$f":"Import!P1613","v":0},{"$f":"Import!P1636","v":0},{"$f":"Import!P1659","v":"Select from Drop-down"},{"$f":"Import!Q1659","v":0},{"$f":"Import!P1682","v":"Select Yes/No"}]
[null,"Energy Offshore/Marine",null,null,null,{"$f":"Import!P1591","v":"Select Yes/No"},{"$f":"Import!P1614","v":0},{"$f":"Import!P1637","v":0},{"$f":"Import!P1660","v":"Select from Drop-down"},{"$f":"Import!Q1660","v":0},{"$f":"Import!P1683","v":"Select Yes/No"}]
[null,"Energy offshore/Marine Non-Proportional",null,null,null,{"$f":"Import!P1592","v":"Select Yes/No"},{"$f":"Import!P1615","v":0},{"$f":"Import!P1638","v":0},{"$f":"Import!P1661","v":"Select from Drop-down"},{"$f":"Import!Q1661","v":0},{"$f":"Import!P1684","v":"Select Yes/No"}]
[null,"US Casualty",null,null,null,{"$f":"Import!P1593","v":"Select Yes/No"},{"$f":"Import!P1616","v":0},{"$f":"Import!P1639","v":0},{"$f":"Import!P1662","v":"Select from Drop-down"},{"$f":"Import!Q1662","v":0},{"$f":"Import!P1685","v":"Select Yes/No"}]
[null,"US Casualty Non-Proportional",null,null,null,{"$f":"Import!P1594","v":"Select Yes/No"},{"$f":"Import!P1617","v":0},{"$f":"Import!P1640","v":0},{"$f":"Import!P1663","v":"Select from Drop-down"},{"$f":"Import!Q1663","v":0},{"$f":"Import!P1686","v":"Select Yes/No"}]
[null,"US Professional",null,null,null,{"$f":"Import!P1595","v":"Select Yes/No"},{"$f":"Import!P1618","v":0},{"$f":"Import!P1641","v":0},{"$f":"Import!P1664","v":"Select from Drop-down"},{"$f":"Import!Q1664","v":0},{"$f":"Import!P1687","v":"Select Yes/No"}]
[null,"US Professional Non-Proportional",null,null,null,{"$f":"Import!P1596","v":"Select Yes/No"},{"$f":"Import!P1619","v":0},{"$f":"Import!P1642","v":0},{"$f":"Import!P1665","v":"Select from Drop-down"},{"$f":"Import!Q1665","v":0},{"$f":"Import!P1688","v":"Select Yes/No"}]
[null,"US Specialty",null,null,null,{"$f":"Import!P1597","v":"Select Yes/No"},{"$f":"Import!P1620","v":0},{"$f":"Import!P1643","v":0},{"$f":"Import!P1666","v":"Select from Drop-down"},{"$f":"Import!Q1666","v":0},{"$f":"Import!P1689","v":"Select Yes/No"}]
[null,"US Specialty Non-Proportional",null,null,null,{"$f":"Import!P1598","v":"Select Yes/No"},{"$f":"Import!P1621","v":0},{"$f":"Import!P1644","v":0},{"$f":"Import!P1667","v":"Select from Drop-down"},{"$f":"Import!Q1667","v":0},{"$f":"Import!P1690","v":"Select Yes/No"}]
[null,"International Motor",null,null,null,{"$f":"Import!P1599","v":"Select Yes/No"},{"$f":"Import!P1622","v":0},{"$f":"Import!P1645","v":0},{"$f":"Import!P1668","v":"Select from Drop-down"},{"$f":"Import!Q1668","v":0},{"$f":"Import!P1691","v":"Select Yes/No"}]
[null,"International Motor Non-Proportional",null,null,null,{"$f":"Import!P1600","v":"Select Yes/No"},{"$f":"Import!P1623","v":0},{"$f":"Import!P1646","v":0},{"$f":"Import!P1669","v":"Select from Drop-down"},{"$f":"Import!Q1669","v":0},{"$f":"Import!P1692","v":"Select Yes/No"}]
[null,"International Casualty Non-Motor",null,null,null,{"$f":"Import!P1601","v":"Select Yes/No"},{"$f":"Import!P1624","v":0},{"$f":"Import!P1647","v":0},{"$f":"Import!P1670","v":"Select from Drop-down"},{"$f":"Import!Q1670","v":0},{"$f":"Import!P1693","v":"Select Yes/No"}]
[null,"International Casualty Non-Motor Non-Proportional",null,null,null,{"$f":"Import!P1602","v":"Select Yes/No"},{"$f":"Import!P1625","v":0},{"$f":"Import!P1648","v":0},{"$f":"Import!P1671","v":"Select from Drop-down"},{"$f":"Import!Q1671","v":0},{"$f":"Import!P1694","v":"Select Yes/No"}]
[null,"Retro Property",null,null,null,{"$f":"Import!P1603","v":"Select Yes/No"},{"$f":"Import!P1626","v":0},{"$f":"Import!P1649","v":0},{"$f":"Import!P1672","v":"Select from Drop-down"},{"$f":"Import!Q1672","v":0},{"$f":"Import!P1695","v":"Select Yes/No"}]
[null,"Structured/Finite reinsurance",null,null,null,{"$f":"Import!P1604","v":"Select Yes/No"},{"$f":"Import!P1627","v":0},{"$f":"Import!P1650","v":0},{"$f":"Import!P1673","v":"Select from Drop-down"},{"$f":"Import!Q1673","v":0},{"$f":"Import!P1696","v":"Select Yes/No"}]
[null,"Health",null,null,null,{"$f":"Import!P1605","v":"Select Yes/No"},{"$f":"Import!P1628","v":0},{"$f":"Import!P1651","v":0},{"$f":"Import!P1674","v":"Select from Drop-down"},{"$f":"Import!Q1674","v":0},{"$f":"Import!P1697","v":"Select Yes/No"}]
[null,"TOTAL",null,null,null,null,{"$f":"SUM(G310:G332)","v":0},{"$f":"SUM(H310:H332)","v":0}]
[]
[3,"(Re)insurer specific cyber stress scenario (affirmative cyber coverage) on a consolidated basis: "]
[null,"The (re)insurer is to submit a description of its own cyber risk worst-case annual aggregate loss scenario and the underlying assumptions. "]
[null,"Worst-case annual aggregate loss \nscenario description",null,{"$f":"Import!P1698","v":0}]
[]
[null,"Gross policy limits",null,{"$f":"Import!P1699","v":0}]
[null,"Net Policy limits",null,{"$f":"Import!P1700","v":0}]
[null,"Gross loss",null,{"$f":"Import!P1701","v":0}]
[null,"Net loss",null,{"$f":"Import!P1702","v":0}]
[null,"Occurrence Return period",null,{"$f":"Import!P1703","v":0}]
[null,"Relative Return period",null,{"$f":"Import!P1704","v":0}]
[null,"Underlying assumptions:",null,{"$f":"HYPERLINK(\"#'Attachments'!G145\",\"Attach file\")","v":"Attach file"}]
[]
[null,"b) TECHNOLOGY RISK - (RE)INSURER OWN CYBERSECURITY AND RESILIENCE CAPABILITIES  "]
[null,"Technology Risk Guidance"]
[]
[null,"Technology Risk is a key enterprise risk that entities in the financial sectors regulated by the Authority must manage. The questionnaire below is designed to assess Technology Risk, including Information Security, Data Protection and IT or Cyber Security. The Authority expects that the board of directors of all licensed entities will have evaluated the aforementioned risks. These risks should be managed as part of an overall Enterprise Risk Management Process. This assessment is designed to assess Technology Risk controls. The IT or Cyber Security controls are grounded in the \"National Institute of Standards and Technology Cybersecurity Framework\" (NIST). The assessment focuses on several areas, to include: governance, policies and procedures, ongoing training, critical/sensitive asset identification, protective measures, detection of anomalous activity, documented incident response plans, and effective business recovery processes. "]
[]
[]
[null,"The Authority recognizes that there is no “one size fits all” approach to addressing these risks, as specific business circumstances may vary greatly from entity to entity. Each entity must assess their risks, create prudent policies and procedures to mitigate known risks, and ensure that the organization is properly trained and equipped.\n"]
[]
[]
[null,"Select one response from the drop-down list. Where required/applicable, attach the relevant document indicating the document name and identifying the applicable page numbers"]
[]
[null,"SECTION A - BUSINESS SUMMARY QUESTIONS"]
[null,"Geographical details",null,null,null,null,null,null,null,null,null,"Responses",null,"Complete where prompted"]
[null,1,"Is the company headquartered in Bermuda",null,null,null,null,null,null,null,null,{"$f":"Import!E1676","v":"Select Yes/No"}]
[null,{"$f":"B360+1","v":2},"Number of users located in Bermuda",null,null,null,null,null,null,null,null,{"$f":"Import!E1677","v":"Select Amount"}]
[null,{"$f":"B361+1","v":3},"Number of users Globally ",null,null,null,null,null,null,null,null,{"$f":"Import!E1678","v":"Select Amount"}]
[null,4,"Do you have a data centre in Bermuda to host your servers",null,null,null,null,null,null,null,null,{"$f":"Import!E1679","v":"Select Yes/No"}]
[null,5,"Do you utilize a cloud hosting company to host your servers",null,null,null,null,null,null,null,null,{"$f":"Import!E1680","v":"Select Yes/No"}]
[null,6,"Does the organization have cybersecurity insurance coverage (i.e. to cover internal risk from security incidents)",null,null,null,null,null,null,null,null,{"$f":"Import!E1681","v":"Select Yes/No"}]
[null,"Is the following data type stored/processed"]
[null,{"$f":"B365+1","v":7},"Do you collect/store/process personally identifiable information (PII) of your customers? examples include but are not limited to: customer name, email address, social security number",null,null,null,null,null,null,null,null,{"$f":"Import!E1682","v":"Select Yes/No"}]
[null,{"$f":"B367+1","v":8},"Payment card data (i.e. credit/debit card)",null,null,null,null,null,null,null,null,{"$f":"Import!E1683","v":"Select Yes/No"}]
[null,{"$f":"B368+1","v":9},"Is customer PII collected/stored/processed by this entity on behalf of other entities ",null,null,null,null,null,null,null,null,{"$f":"Import!E1684","v":"Select Yes/No"}]
[null,"Are the following internet facing services in place "]
[null,{"$f":"B369+1","v":10},"Brochureware (static content only)",null,null,null,null,null,null,null,null,{"$f":"Import!E1685","v":"Select Yes/No"}]
[null,{"$f":"B371+1","v":11},"Web applications",null,null,null,null,null,null,null,null,{"$f":"Import!E1686","v":"Select Yes/No"}]
[null,12,"Web applications that process (query, reference, capture, store, transmit) personal data or payment card data ",null,null,null,null,null,null,null,null,{"$f":"Import!E1687","v":"Select Yes/No"}]
[null,"Roles & Responsibilities",null,null,null,null,null,null,null,null,null,null,null,{"$f":"Import!E1693","v":"Confirm role holder's name"}]
[null,{"$f":"B373+1","v":13},"Is there a dedicated IT Risk Manager, if not which job title holds this responsibility",null,null,null,null,null,null,null,null,{"$f":"Import!E1688","v":"Select Yes/No"},null,{"$f":"Import!E1689","v":"Confirm role holder's name"}]
[null,{"$f":"B375+1","v":14},"Is there a dedicated IT Security Manager, if not which job title holds this responsibility",null,null,null,null,null,null,null,null,{"$f":"Import!E1690","v":"Select Yes/No"},null,{"$f":"Import!E1691","v":"Confirm role holder's name"}]
[null,{"$f":"B376+1","v":15},"Is there a dedicated IT Disaster Recovery Manager, if not which job title holds this responsibility",null,null,null,null,null,null,null,null,{"$f":"Import!E1692","v":"Select Yes/No"},null,{"$f":"Import!E1693","v":"Confirm role holder's name"}]
[null,{"$f":"B377+1","v":16},"Is there a dedicated Business Continuity Manager (BCP) in place, if not which job title holds this responsibility",null,null,null,null,null,null,null,null,{"$f":"Import!E1694","v":"Select Yes/No"},null,{"$f":"Import!E1695","v":"Confirm role holder's name"}]
[null,{"$f":"B378+1","v":17},"Does the organization have a designated Data Privacy Officer",null,null,null,null,null,null,null,null,{"$f":"Import!E1696","v":"Select Yes/No"},null,{"$f":"Import!E1697","v":"Confirm role holder's name"}]
[null,{"$f":"B379+1","v":18},"Is there an annual IT audit plan in place i.e. detailing any IT audit activity for the year ",null,null,null,null,null,null,null,null,{"$f":"Import!E1698","v":"Select Yes/No"},null,{"$f":"Import!E1699","v":"Date of last internal/external IT audit"}]
[]
[null,"SECTION B - NIST CONTROL SUMMARY - Answer YES/NO"]
[null,"Identify",null,null,null,null,null,null,null,null,null,"Responses"]
[null,1,"Is there a Cyber Risk Management Programme in place (i.e. assessing all IT risk to include IT Security Risk)",null,null,null,null,null,null,null,null,{"$f":"Import!E1700","v":"Select Yes/No"}]
[null,{"$f":"B384+1","v":2},"Is the status of the Cyber Risk Management Programme communicated to the Senior Mgt. team & the Board of Directors on a regular basis",null,null,null,null,null,null,null,null,{"$f":"Import!E1701","v":"Select Yes/No"}]
[null,3,"Has a Cyber Risk Policy (or Cyber Security Policy) been approved by the Board and is annually updated",null,null,null,null,null,null,null,null,{"$f":"Import!E1702","v":"Select Yes/No"},null,"Specify name of relevant document"]
[null,4,"Are the roles and responsibilities of each of the three lines of defence clearly defined",null,null,null,null,null,null,null,null,{"$f":"Import!E1703","v":"Select Yes/No"}]
[null,5,"Has the organization performed an assessment of compliance against Data Protection regulatory requirements ",null,null,null,null,null,null,null,null,{"$f":"Import!E1704","v":"Select Yes/No"}]
[null,6,"Asset Management - are physical devices, information systems, and data within the organization inventoried",null,null,null,null,null,null,null,null,{"$f":"Import!E1705","v":"Select Yes/No"}]
[null,7,"Has the organization classified all data ",null,null,null,null,null,null,null,null,{"$f":"Import!E1706","v":"Select Yes/No"}]
[null,8,"Has a third party security risk assessment been completed during the past year? i.e. to assess IT risks arising from third parties",null,null,null,null,null,null,null,null,{"$f":"Import!E1707","v":"Select Yes/No"}]
[null,"Protect"]
[null,9,"Is data that is classified as critical, encrypted in transit and at rest  ",null,null,null,null,null,null,null,null,{"$f":"Import!E1708","v":"Select Yes/No"}]
[null,{"$f":"B393+1","v":10},"Is there a formal process to ensure maintenance of software and hardware i.e. patching & managing end of life technologies ",null,null,null,null,null,null,null,null,{"$f":"Import!E1709","v":"Select Yes/No"}]
[null,11,"Is there a Logical Access Management Standard defining how systems access is verified, managed, revoked, and audited ",null,null,null,null,null,null,null,null,{"$f":"Import!E1710","v":"Select Yes/No"},null,"Specify name of relevant document"]
[null,12,"Do all staff complete cybersecurity training annually",null,null,null,null,null,null,null,null,{"$f":"Import!E1711","v":"Select Yes/No"},null,"Specify name of relevant document"]
[null,13,"Has a penetration test been completed in the last year",null,null,null,null,null,null,null,null,{"$f":"Import!E1712","v":"Select Yes/No"}]
[null,14,"Has the company segregated the enterprise network into multiple, separate trust zones",null,null,null,null,null,null,null,null,{"$f":"Import!E1713","v":"Select Yes/No"}]
[null,15,"Is there a process detailing IT service management controls i.e. change, release & configuration management",null,null,null,null,null,null,null,null,{"$f":"Import!E1714","v":"Select Yes/No"},null,"Specify name of relevant document"]
[null,16,"Does the company document and enforce security configuration standards of all network devices",null,null,null,null,null,null,null,null,{"$f":"Import!E1715","v":"Select Yes/No"}]
[null,"Detect"]
[null,{"$f":"B400+1","v":17},"Is there a process enabling the review of threat intelligence & vulnerability alerting data",null,null,null,null,null,null,null,null,{"$f":"Import!E1716","v":"Select Yes/No"}]
[null,{"$f":"B402+1","v":18},"Is there a process in place to monitor information systems and assets to identify cybersecurity events ",null,null,null,null,null,null,null,null,{"$f":"Import!E1717","v":"Select Yes/No"}]
[null,19,"The company centrally stores & archives security event logs",null,null,null,null,null,null,null,null,{"$f":"Import!E1718","v":"Select Yes/No"}]
[null,"Respond"]
[null,{"$f":"B404+1","v":20},"Is there a documented security incident response plan in place, including internal & external communications & crisis management ",null,null,null,null,null,null,null,null,{"$f":"Import!E1719","v":"Select Yes/No"},null,"Specify name of relevant document"]
[null,{"$f":"B406+1","v":21},"In the event of a major incident, is the company contracted to a \"4th line\" IT security expert service (for example a Managed Security Services Provider - MSSP)  ",null,null,null,null,null,null,null,null,{"$f":"Import!E1720","v":"Select Yes/No"}]
[null,"Recover"]
[null,{"$f":"B407+1","v":22},"Has a test of the Business Continuity and IT Disaster Recovery plans been performed during the past 12 months ",null,null,null,null,null,null,null,null,{"$f":"Import!E1721","v":"Select Yes/No"}]
[null,{"$f":"B409+1","v":23},"Has the organization been subject to a significant cyber incident during the past 12 months",null,null,null,null,null,null,null,null,{"$f":"Import!E1722","v":"Select Yes/No"}]
[]
[null,"SECTION C - Technical Security Controls - Answer YES/NO"]
[null,"Technical controls summary"]
[null,1,"Antivirus software is installed on all Microsoft Operating System endpoints",null,null,null,null,null,null,null,null,{"$f":"Import!E1723","v":"Select Yes/No"}]
[null,{"$f":"B414+1","v":2},"Is there an endpoint Advanced Persistent Threat (APT) control in place ",null,null,null,null,null,null,null,null,{"$f":"Import!E1724","v":"Select Yes/No"}]
[null,3,"Are Data Loss Prevention (DLP) controls in place i.e.: to prevent unauthorized data leaving the enterprise\n\n",null,null,null,null,null,null,null,null,{"$f":"Import!E1725","v":"Select Yes/No"}]
[null,4,"Is INTERNAL vulnerability scanning conducted (& what is the frequency)",null,null,null,null,null,null,null,null,{"$f":"Import!E1726","v":"Select Yes/No"},null,{"$f":"Import!E1727","v":"Select Frequency"}]
[null,{"$f":"B417+1","v":5},"Is EXTERNAL vulnerability scanning conducted (& what is the frequency)",null,null,null,null,null,null,null,null,{"$f":"Import!E1728","v":"Select Yes/No"},null,{"$f":"Import!E1729","v":"Select Frequency"}]
[null,{"$f":"B418+1","v":6},"Are there regular (6 monthly minimum) firewall ruleset reviews",null,null,null,null,null,null,null,null,{"$f":"Import!E1730","v":"Select Yes/No"}]
[null,7,"Is there a network perimeter Intrusion Detection or Prevention (IDS/IPS) control",null,null,null,null,null,null,null,null,{"$f":"Import!E1731","v":"Select Yes/No"}]
[null,8,"Is there DDOS defence in place for internet gateways",null,null,null,null,null,null,null,null,{"$f":"Import!E1732","v":"Select Yes/No"}]
[]
[null,null,null,null,null,null,null,null,null,null,null,null,null,null,null,null,"Select all from drop down list"]
[null,null,null,null,null,null,null,null,null,null,null,null,null,null,null,null,"PCI - payment Card Industry Standard"]
[null,null,null,null,null,null,null,null,null,null,null,null,null,null,null,null,"GDPR - General Data Protection Regulation "]
[null,null,null,null,{"$f":"'Company Information'!C3","v":43830},null,null,null,null,null,null,null,null,null,null,null,"EU U.S. - Privacy Shield Framework "]
[null,null,null,null,{"$f":"IF($E$426=\"\",\"\",TEXT(DATE(YEAR($E$426+1)-1,MONTH($E$426+1),DAY($E$426+1)),\"mm/dd/yyyy\"))","v":"01/01/2019"},{"$f":"$E$427","v":"01/01/2019"},{"$f":"$E$427","v":"01/01/2019"},"01/01/2019","01/01/2019","01/01/2019","01/01/2019","01/01/2019",null,"Yes",{"$f":"$E$427","v":"01/01/2019"},null,"PIPA - Personal Information Privacy Act",{"$f":"$E$427","v":"01/01/2019"}]
[null,null,null,null,{"$f":"IF($E$426=\"\",\"\",TEXT($E$426,\"mm/dd/yyyy\"))","v":"12/31/2019"},{"$f":"$E$428","v":"12/31/2019"},{"$f":"$E$428","v":"12/31/2019"},"12/31/2019","12/31/2019","12/31/2019","12/31/2019","12/31/2019",null,"No",{"$f":"$E$428","v":"12/31/2019"},null,"HIPAA - Health Insurance Portability and Accountability Act",{"$f":"$E$428","v":"12/31/2019"}]
[null,null,null,null,"brrt_GrossLossImpactPostStressScenarioGrossLoss","brrt_AggregateStatutoryAdmittedAssetsPostStressScenarioGrossLoss","brrt_AdmittedLiabilitiesPostStressScenarioGrossLoss","brrt_StatutoryCapitalAndSurplusPostStressScenarioGrossLoss","brrt_NetLossImpactPostStressScenarioNetLoss","brrt_AggregateStatutoryAdmittedAssetsPostStressScenarioNetLoss","brrt_AdmittedLiabilitiesPostStressScenarioNetLoss","brrt_StatutoryCapitalAndSurplusPostStressScenarioNetLoss",null,null,"brrt_ReturnPeriodPostStressScenarioNetLoss",null,"PIPEDA - Federal Personal Information Protection and Electronic Documents Act","brrt_ProprietaryVendorModelVersion"]
[null,null,null,null,{"$f":"XBRLMap(E12,E$429&\".\"&$U12,E$427,E$428,CONFIGURATION!$B$10,\"BMA\",CONFIGURATION!$B$1,\"bscr\",CONFIGURATION!$B$12)","v":"Mapped"},{"$f":"XBRLMap(F12,F$429&\".\"&$U12,F$427,F$428,CONFIGURATION!$B$10,\"BMA\",CONFIGURATION!$B$1,\"bscr\",CONFIGURATION!$B$12)","v":"Mapped"},{"$f":"XBRLMap(G12,G$429&\".\"&$U12,G$427,G$428,CONFIGURATION!$B$10,\"BMA\",CONFIGURATION!$B$1,\"bscr\",CONFIGURATION!$B$12)","v":"Mapped"},{"$f":"XBRLMap(H12,H$429&\".\"&$U12,H$427,H$428,CONFIGURATION!$B$10,\"BMA\",CONFIGURATION!$B$1,\"bscr\",CONFIGURATION!$B$12)","v":"Mapped"},null,null,null,null,null,null,null,null,"SOLVENCY II"]
[null,null,null,null,{"$f":"XBRLMap(E13,E$429&\".\"&$U13,E$427,E$428,CONFIGURATION!$B$10,\"BMA\",CONFIGURATION!$B$1,\"bscr\",CONFIGURATION!$B$12)","v":"Mapped"},{"$f":"XBRLMap(F13,F$429&\".\"&$U13,F$427,F$428,CONFIGURATION!$B$10,\"BMA\",CONFIGURATION!$B$1,\"bscr\",CONFIGURATION!$B$12)","v":"Mapped"},{"$f":"XBRLMap(G13,G$429&\".\"&$U13,G$427,G$428,CONFIGURATION!$B$10,\"BMA\",CONFIGURATION!$B$1,\"bscr\",CONFIGURATION!$B$12)","v":"Mapped"},{"$f":"XBRLMap(H13,H$429&\".\"&$U13,H$427,H$428,CONFIGURATION!$B$10,\"BMA\",CONFIGURATION!$B$1,\"bscr\",CONFIGURATION!$B$12)","v":"Mapped"},null,null,null,null,null,null,null,null,"SEC - U.S. Securities and Exchange Commission"]
[null,null,null,null,{"$f":"XBRLMap(E14,E$429&\".\"&$U14,E$427,E$428,CONFIGURATION!$B$10,\"BMA\",CONFIGURATION!$B$1,\"bscr\",CONFIGURATION!$B$12)","v":"Mapped"},{"$f":"XBRLMap(F14,F$429&\".\"&$U14,F$427,F$428,CONFIGURATION!$B$10,\"BMA\",CONFIGURATION!$B$1,\"bscr\",CONFIGURATION!$B$12)","v":"Mapped"},{"$f":"XBRLMap(G14,G$429&\".\"&$U14,G$427,G$428,CONFIGURATION!$B$10,\"BMA\",CONFIGURATION!$B$1,\"bscr\",CONFIGURATION!$B$12)","v":"Mapped"},{"$f":"XBRLMap(H14,H$429&\".\"&$U14,H$427,H$428,CONFIGURATION!$B$10,\"BMA\",CONFIGURATION!$B$1,\"bscr\",CONFIGURATION!$B$12)","v":"Mapped"},null,null,null,null,null,null,null,null,"SOX - Sarbanes Oxley Act"]
[null,null,null,null,{"$f":"XBRLMap(E15,E$429&\".\"&$U15,E$427,E$428,CONFIGURATION!$B$10,\"BMA\",CONFIGURATION!$B$1,\"bscr\",CONFIGURATION!$B$12)","v":"Mapped"},{"$f":"XBRLMap(F15,F$429&\".\"&$U15,F$427,F$428,CONFIGURATION!$B$10,\"BMA\",CONFIGURATION!$B$1,\"bscr\",CONFIGURATION!$B$12)","v":"Mapped"},{"$f":"XBRLMap(G15,G$429&\".\"&$U15,G$427,G$428,CONFIGURATION!$B$10,\"BMA\",CONFIGURATION!$B$1,\"bscr\",CONFIGURATION!$B$12)","v":"Mapped"},{"$f":"XBRLMap(H15,H$429&\".\"&$U15,H$427,H$428,CONFIGURATION!$B$10,\"BMA\",CONFIGURATION!$B$1,\"bscr\",CONFIGURATION!$B$12)","v":"Mapped"},null,null,null,null,null,null,null,null,"(FISMA) Federal Information Security Management Act of 2002 "]
[null,null,null,null,{"$f":"XBRLMap(E16,E$429&\".\"&$U16,E$427,E$428,CONFIGURATION!$B$10,\"BMA\",CONFIGURATION!$B$1,\"bscr\",CONFIGURATION!$B$12)","v":"Mapped"},{"$f":"XBRLMap(F16,F$429&\".\"&$U16,F$427,F$428,CONFIGURATION!$B$10,\"BMA\",CONFIGURATION!$B$1,\"bscr\",CONFIGURATION!$B$12)","v":"Mapped"},{"$f":"XBRLMap(G16,G$429&\".\"&$U16,G$427,G$428,CONFIGURATION!$B$10,\"BMA\",CONFIGURATION!$B$1,\"bscr\",CONFIGURATION!$B$12)","v":"Mapped"},{"$f":"XBRLMap(H16,H$429&\".\"&$U16,H$427,H$428,CONFIGURATION!$B$10,\"BMA\",CONFIGURATION!$B$1,\"bscr\",CONFIGURATION!$B$12)","v":"Mapped"},null,null,null,null,null,null,null,null,"(GLBA) Gramm Leach Bliley Act"]
[null,null,null,null,{"$f":"XBRLMap(E17,E$429&\".\"&$U17,E$427,E$428,CONFIGURATION!$B$10,\"BMA\",CONFIGURATION!$B$1,\"bscr\",CONFIGURATION!$B$12)","v":"Mapped"},{"$f":"XBRLMap(F17,F$429&\".\"&$U17,F$427,F$428,CONFIGURATION!$B$10,\"BMA\",CONFIGURATION!$B$1,\"bscr\",CONFIGURATION!$B$12)","v":"Mapped"},{"$f":"XBRLMap(G17,G$429&\".\"&$U17,G$427,G$428,CONFIGURATION!$B$10,\"BMA\",CONFIGURATION!$B$1,\"bscr\",CONFIGURATION!$B$12)","v":"Mapped"},{"$f":"XBRLMap(H17,H$429&\".\"&$U17,H$427,H$428,CONFIGURATION!$B$10,\"BMA\",CONFIGURATION!$B$1,\"bscr\",CONFIGURATION!$B$12)","v":"Mapped"},null,null,null,null,null,null,null,null,"other"]
[null,null,null,null,{"$f":"XBRLMap(E18,E$429&\".\"&$U18,E$427,E$428,CONFIGURATION!$B$10,\"BMA\",CONFIGURATION!$B$1,\"bscr\",CONFIGURATION!$B$12)","v":"Mapped"},{"$f":"XBRLMap(F18,F$429&\".\"&$U18,F$427,F$428,CONFIGURATION!$B$10,\"BMA\",CONFIGURATION!$B$1,\"bscr\",CONFIGURATION!$B$12)","v":"Mapped"},{"$f":"XBRLMap(G18,G$429&\".\"&$U18,G$427,G$428,CONFIGURATION!$B$10,\"BMA\",CONFIGURATION!$B$1,\"bscr\",CONFIGURATION!$B$12)","v":"Mapped"},{"$f":"XBRLMap(H18,H$429&\".\"&$U18,H$427,H$428,CONFIGURATION!$B$10,\"BMA\",CONFIGURATION!$B$1,\"bscr\",CONFIGURATION!$B$12)","v":"Mapped"}]
[null,null,null,{"$f":"XBRLMap(D51,E$429&\".\"&$U51,E$427,E$428,CONFIGURATION!$B$10,\"BMA\",CONFIGURATION!$B$1,\"bscr\",CONFIGURATION!$B$12)","v":"Mapped"},{"$f":"XBRLMap(#REF!,F$429&\".\"&$U51,F$427,F$428,CONFIGURATION!$B$10,\"BMA\",CONFIGURATION!$B$1,\"bscr\",CONFIGURATION!$B$12)","v":{"$error":"#VALUE!"}},{"$f":"XBRLMap(#REF!,G$429&\".\"&$U51,G$427,G$428,CONFIGURATION!$B$10,\"BMA\",CONFIGURATION!$B$1,\"bscr\",CONFIGURATION!$B$12)","v":{"$error":"#VALUE!"}},{"$f":"XBRLMap(E51,H$429&\".\"&$U51,H$427,H$428,CONFIGURATION!$B$10,\"BMA\",CONFIGURATION!$B$1,\"bscr\",CONFIGURATION!$B$12)","v":"Mapped"},{"$f":"XBRLMap(F51,I$429&\".\"&$U51,I$427,I$428,CONFIGURATION!$B$10,\"BMA\",CONFIGURATION!$B$1,\"bscr\",CONFIGURATION!$B$12)","v":"Mapped"},{"$f":"XBRLMap(G51,J$429&\".\"&$U51,J$427,J$428,CONFIGURATION!$B$10,\"BMA\",CONFIGURATION!$B$1,\"bscr\",CONFIGURATION!$B$12)","v":"Mapped"},{"$f":"XBRLMap(#REF!,K$429&\".\"&$U51,K$427,K$428,CONFIGURATION!$B$10,\"BMA\",CONFIGURATION!$B$1,\"bscr\",CONFIGURATION!$B$12)","v":{"$error":"#VALUE!"}},{"$f":"XBRLMap(I51,L$429&\".\"&$U51,L$427,L$428,CONFIGURATION!$B$10,\"BMA\",CONFIGURATION!$B$1,\"bscr\",CONFIGURATION!$B$12)","v":"Mapped"},{"$f":"XBRLMap(K51,O$429&\".\"&$U51,O$427,O$428,CONFIGURATION!$B$10,\"BMA\",CONFIGURATION!$B$1,\"bscr\")","v":"Mapped"},null,null,{"$f":"XBRLMap(L51,R$429&\".\"&$U51,R$427,R$428,CONFIGURATION!$B$10,\"BMA\",CONFIGURATION!$B$1,\"bscr\")","v":"Mapped"},null,"Select all from drop down list"]
[null,null,null,{"$f":"XBRLMap(D52,E$429&\".\"&$U52,E$427,E$428,CONFIGURATION!$B$10,\"BMA\",CONFIGURATION!$B$1,\"bscr\",CONFIGURATION!$B$12)","v":"Mapped"},{"$f":"XBRLMap(#REF!,F$429&\".\"&$U52,F$427,F$428,CONFIGURATION!$B$10,\"BMA\",CONFIGURATION!$B$1,\"bscr\",CONFIGURATION!$B$12)","v":{"$error":"#VALUE!"}},{"$f":"XBRLMap(#REF!,G$429&\".\"&$U52,G$427,G$428,CONFIGURATION!$B$10,\"BMA\",CONFIGURATION!$B$1,\"bscr\",CONFIGURATION!$B$12)","v":{"$error":"#VALUE!"}},{"$f":"XBRLMap(E52,H$429&\".\"&$U52,H$427,H$428,CONFIGURATION!$B$10,\"BMA\",CONFIGURATION!$B$1,\"bscr\",CONFIGURATION!$B$12)","v":"Mapped"},{"$f":"XBRLMap(F52,I$429&\".\"&$U52,I$427,I$428,CONFIGURATION!$B$10,\"BMA\",CONFIGURATION!$B$1,\"bscr\",CONFIGURATION!$B$12)","v":"Mapped"},{"$f":"XBRLMap(G52,J$429&\".\"&$U52,J$427,J$428,CONFIGURATION!$B$10,\"BMA\",CONFIGURATION!$B$1,\"bscr\",CONFIGURATION!$B$12)","v":"Mapped"},{"$f":"XBRLMap(#REF!,K$429&\".\"&$U52,K$427,K$428,CONFIGURATION!$B$10,\"BMA\",CONFIGURATION!$B$1,\"bscr\",CONFIGURATION!$B$12)","v":{"$error":"#VALUE!"}},{"$f":"XBRLMap(I52,L$429&\".\"&$U52,L$427,L$428,CONFIGURATION!$B$10,\"BMA\",CONFIGURATION!$B$1,\"bscr\",CONFIGURATION!$B$12)","v":"Mapped"},{"$f":"XBRLMap(K52,O$429&\".\"&$U52,O$427,O$428,CONFIGURATION!$B$10,\"BMA\",CONFIGURATION!$B$1,\"bscr\")","v":"Mapped"},null,null,{"$f":"XBRLMap(L52,R$429&\".\"&$U52,R$427,R$428,CONFIGURATION!$B$10,\"BMA\",CONFIGURATION!$B$1,\"bscr\")","v":"Mapped"},null,"COBIT - Control Objectives for Information and Related Technologies"]
[null,null,null,{"$f":"XBRLMap(D53,E$429&\".\"&$U53,E$427,E$428,CONFIGURATION!$B$10,\"BMA\",CONFIGURATION!$B$1,\"bscr\",CONFIGURATION!$B$12)","v":"Mapped"},{"$f":"XBRLMap(#REF!,F$429&\".\"&$U53,F$427,F$428,CONFIGURATION!$B$10,\"BMA\",CONFIGURATION!$B$1,\"bscr\",CONFIGURATION!$B$12)","v":{"$error":"#VALUE!"}},{"$f":"XBRLMap(#REF!,G$429&\".\"&$U53,G$427,G$428,CONFIGURATION!$B$10,\"BMA\",CONFIGURATION!$B$1,\"bscr\",CONFIGURATION!$B$12)","v":{"$error":"#VALUE!"}},{"$f":"XBRLMap(E53,H$429&\".\"&$U53,H$427,H$428,CONFIGURATION!$B$10,\"BMA\",CONFIGURATION!$B$1,\"bscr\",CONFIGURATION!$B$12)","v":"Mapped"},{"$f":"XBRLMap(F53,I$429&\".\"&$U53,I$427,I$428,CONFIGURATION!$B$10,\"BMA\",CONFIGURATION!$B$1,\"bscr\",CONFIGURATION!$B$12)","v":"Mapped"},{"$f":"XBRLMap(G53,J$429&\".\"&$U53,J$427,J$428,CONFIGURATION!$B$10,\"BMA\",CONFIGURATION!$B$1,\"bscr\",CONFIGURATION!$B$12)","v":"Mapped"},{"$f":"XBRLMap(#REF!,K$429&\".\"&$U53,K$427,K$428,CONFIGURATION!$B$10,\"BMA\",CONFIGURATION!$B$1,\"bscr\",CONFIGURATION!$B$12)","v":{"$error":"#VALUE!"}},{"$f":"XBRLMap(I53,L$429&\".\"&$U53,L$427,L$428,CONFIGURATION!$B$10,\"BMA\",CONFIGURATION!$B$1,\"bscr\",CONFIGURATION!$B$12)","v":"Mapped"},{"$f":"XBRLMap(K53,O$429&\".\"&$U53,O$427,O$428,CONFIGURATION!$B$10,\"BMA\",CONFIGURATION!$B$1,\"bscr\")","v":"Mapped"},null,null,{"$f":"XBRLMap(L53,R$429&\".\"&$U53,R$427,R$428,CONFIGURATION!$B$10,\"BMA\",CONFIGURATION!$B$1,\"bscr\")","v":"Mapped"},null,"NIST - National Institute of Standards and Technology"]
[null,null,null,{"$f":"XBRLMap(D54,E$429&\".\"&$U54,E$427,E$428,CONFIGURATION!$B$10,\"BMA\",CONFIGURATION!$B$1,\"bscr\",CONFIGURATION!$B$12)","v":"Mapped"},{"$f":"XBRLMap(#REF!,F$429&\".\"&$U54,F$427,F$428,CONFIGURATION!$B$10,\"BMA\",CONFIGURATION!$B$1,\"bscr\",CONFIGURATION!$B$12)","v":{"$error":"#VALUE!"}},{"$f":"XBRLMap(#REF!,G$429&\".\"&$U54,G$427,G$428,CONFIGURATION!$B$10,\"BMA\",CONFIGURATION!$B$1,\"bscr\",CONFIGURATION!$B$12)","v":{"$error":"#VALUE!"}},{"$f":"XBRLMap(E54,H$429&\".\"&$U54,H$427,H$428,CONFIGURATION!$B$10,\"BMA\",CONFIGURATION!$B$1,\"bscr\",CONFIGURATION!$B$12)","v":"Mapped"},{"$f":"XBRLMap(F54,I$429&\".\"&$U54,I$427,I$428,CONFIGURATION!$B$10,\"BMA\",CONFIGURATION!$B$1,\"bscr\",CONFIGURATION!$B$12)","v":"Mapped"},{"$f":"XBRLMap(G54,J$429&\".\"&$U54,J$427,J$428,CONFIGURATION!$B$10,\"BMA\",CONFIGURATION!$B$1,\"bscr\",CONFIGURATION!$B$12)","v":"Mapped"},{"$f":"XBRLMap(#REF!,K$429&\".\"&$U54,K$427,K$428,CONFIGURATION!$B$10,\"BMA\",CONFIGURATION!$B$1,\"bscr\",CONFIGURATION!$B$12)","v":{"$error":"#VALUE!"}},{"$f":"XBRLMap(I54,L$429&\".\"&$U54,L$427,L$428,CONFIGURATION!$B$10,\"BMA\",CONFIGURATION!$B$1,\"bscr\",CONFIGURATION!$B$12)","v":"Mapped"},{"$f":"XBRLMap(K54,O$429&\".\"&$U54,O$427,O$428,CONFIGURATION!$B$10,\"BMA\",CONFIGURATION!$B$1,\"bscr\")","v":"Mapped"},null,null,{"$f":"XBRLMap(L54,R$429&\".\"&$U54,R$427,R$428,CONFIGURATION!$B$10,\"BMA\",CONFIGURATION!$B$1,\"bscr\")","v":"Mapped"},null,"ISO27001 - Information Security Management System "]
[null,null,null,{"$f":"XBRLMap(D55,E$429&\".\"&$U55,E$427,E$428,CONFIGURATION!$B$10,\"BMA\",CONFIGURATION!$B$1,\"bscr\",CONFIGURATION!$B$12)","v":"Mapped"},{"$f":"XBRLMap(#REF!,F$429&\".\"&$U55,F$427,F$428,CONFIGURATION!$B$10,\"BMA\",CONFIGURATION!$B$1,\"bscr\",CONFIGURATION!$B$12)","v":{"$error":"#VALUE!"}},{"$f":"XBRLMap(#REF!,G$429&\".\"&$U55,G$427,G$428,CONFIGURATION!$B$10,\"BMA\",CONFIGURATION!$B$1,\"bscr\",CONFIGURATION!$B$12)","v":{"$error":"#VALUE!"}},{"$f":"XBRLMap(E55,H$429&\".\"&$U55,H$427,H$428,CONFIGURATION!$B$10,\"BMA\",CONFIGURATION!$B$1,\"bscr\",CONFIGURATION!$B$12)","v":"Mapped"},{"$f":"XBRLMap(F55,I$429&\".\"&$U55,I$427,I$428,CONFIGURATION!$B$10,\"BMA\",CONFIGURATION!$B$1,\"bscr\",CONFIGURATION!$B$12)","v":"Mapped"},{"$f":"XBRLMap(G55,J$429&\".\"&$U55,J$427,J$428,CONFIGURATION!$B$10,\"BMA\",CONFIGURATION!$B$1,\"bscr\",CONFIGURATION!$B$12)","v":"Mapped"},{"$f":"XBRLMap(#REF!,K$429&\".\"&$U55,K$427,K$428,CONFIGURATION!$B$10,\"BMA\",CONFIGURATION!$B$1,\"bscr\",CONFIGURATION!$B$12)","v":{"$error":"#VALUE!"}},{"$f":"XBRLMap(I55,L$429&\".\"&$U55,L$427,L$428,CONFIGURATION!$B$10,\"BMA\",CONFIGURATION!$B$1,\"bscr\",CONFIGURATION!$B$12)","v":"Mapped"},{"$f":"XBRLMap(K55,O$429&\".\"&$U55,O$427,O$428,CONFIGURATION!$B$10,\"BMA\",CONFIGURATION!$B$1,\"bscr\")","v":"Mapped"},null,null,{"$f":"XBRLMap(L55,R$429&\".\"&$U55,R$427,R$428,CONFIGURATION!$B$10,\"BMA\",CONFIGURATION!$B$1,\"bscr\")","v":"Mapped"},null,"ISO27002 - Information Security Standard  "]
[null,null,null,{"$f":"XBRLMap(#REF!,E$429&\".\"&#REF!,E$427,E$428,CONFIGURATION!$B$10,\"BMA\",CONFIGURATION!$B$1,\"bscr\",CONFIGURATION!$B$12)","v":{"$error":"#VALUE!"}},{"$f":"XBRLMap(#REF!,F$429&\".\"&#REF!,F$427,F$428,CONFIGURATION!$B$10,\"BMA\",CONFIGURATION!$B$1,\"bscr\",CONFIGURATION!$B$12)","v":{"$error":"#VALUE!"}},{"$f":"XBRLMap(#REF!,G$429&\".\"&#REF!,G$427,G$428,CONFIGURATION!$B$10,\"BMA\",CONFIGURATION!$B$1,\"bscr\",CONFIGURATION!$B$12)","v":{"$error":"#VALUE!"}},{"$f":"XBRLMap(#REF!,H$429&\".\"&#REF!,H$427,H$428,CONFIGURATION!$B$10,\"BMA\",CONFIGURATION!$B$1,\"bscr\",CONFIGURATION!$B$12)","v":{"$error":"#VALUE!"}},{"$f":"XBRLMap(#REF!,I$429&\".\"&#REF!,I$427,I$428,CONFIGURATION!$B$10,\"BMA\",CONFIGURATION!$B$1,\"bscr\",CONFIGURATION!$B$12)","v":{"$error":"#VALUE!"}},{"$f":"XBRLMap(#REF!,J$429&\".\"&#REF!,J$427,J$428,CONFIGURATION!$B$10,\"BMA\",CONFIGURATION!$B$1,\"bscr\",CONFIGURATION!$B$12)","v":{"$error":"#VALUE!"}},{"$f":"XBRLMap(#REF!,K$429&\".\"&#REF!,K$427,K$428,CONFIGURATION!$B$10,\"BMA\",CONFIGURATION!$B$1,\"bscr\",CONFIGURATION!$B$12)","v":{"$error":"#VALUE!"}},{"$f":"XBRLMap(#REF!,L$429&\".\"&#REF!,L$427,L$428,CONFIGURATION!$B$10,\"BMA\",CONFIGURATION!$B$1,\"bscr\",CONFIGURATION!$B$12)","v":{"$error":"#VALUE!"}},{"$f":"XBRLMap(#REF!,O$429&\".\"&#REF!,O$427,O$428,CONFIGURATION!$B$10,\"BMA\",CONFIGURATION!$B$1,\"bscr\")","v":{"$error":"#VALUE!"}},null,null,{"$f":"XBRLMap(#REF!,R$429&\".\"&#REF!,R$427,R$428,CONFIGURATION!$B$10,\"BMA\",CONFIGURATION!$B$1,\"bscr\")","v":{"$error":"#VALUE!"}},null,"ITIL - Information Technology Infrastructure Library"]
[null,null,null,{"$f":"XBRLMap(D56,E$429&\".\"&$U56,E$427,E$428,CONFIGURATION!$B$10,\"BMA\",CONFIGURATION!$B$1,\"bscr\",CONFIGURATION!$B$12)","v":"Mapped"},{"$f":"XBRLMap(#REF!,F$429&\".\"&$U56,F$427,F$428,CONFIGURATION!$B$10,\"BMA\",CONFIGURATION!$B$1,\"bscr\",CONFIGURATION!$B$12)","v":{"$error":"#VALUE!"}},{"$f":"XBRLMap(#REF!,G$429&\".\"&$U56,G$427,G$428,CONFIGURATION!$B$10,\"BMA\",CONFIGURATION!$B$1,\"bscr\",CONFIGURATION!$B$12)","v":{"$error":"#VALUE!"}},{"$f":"XBRLMap(E56,H$429&\".\"&$U56,H$427,H$428,CONFIGURATION!$B$10,\"BMA\",CONFIGURATION!$B$1,\"bscr\",CONFIGURATION!$B$12)","v":"Mapped"},{"$f":"XBRLMap(F56,I$429&\".\"&$U56,I$427,I$428,CONFIGURATION!$B$10,\"BMA\",CONFIGURATION!$B$1,\"bscr\",CONFIGURATION!$B$12)","v":"Mapped"},{"$f":"XBRLMap(G56,J$429&\".\"&$U56,J$427,J$428,CONFIGURATION!$B$10,\"BMA\",CONFIGURATION!$B$1,\"bscr\",CONFIGURATION!$B$12)","v":"Mapped"},{"$f":"XBRLMap(#REF!,K$429&\".\"&$U56,K$427,K$428,CONFIGURATION!$B$10,\"BMA\",CONFIGURATION!$B$1,\"bscr\",CONFIGURATION!$B$12)","v":{"$error":"#VALUE!"}},{"$f":"XBRLMap(I56,L$429&\".\"&$U56,L$427,L$428,CONFIGURATION!$B$10,\"BMA\",CONFIGURATION!$B$1,\"bscr\",CONFIGURATION!$B$12)","v":"Mapped"},{"$f":"XBRLMap(K56,O$429&\".\"&$U56,O$427,O$428,CONFIGURATION!$B$10,\"BMA\",CONFIGURATION!$B$1,\"bscr\")","v":"Mapped"},null,null,{"$f":"XBRLMap(L56,R$429&\".\"&$U56,R$427,R$428,CONFIGURATION!$B$10,\"BMA\",CONFIGURATION!$B$1,\"bscr\")","v":"Mapped"}]
[null,null,null,{"$f":"XBRLMap(D57,E$429&\".\"&$U57,E$427,E$428,CONFIGURATION!$B$10,\"BMA\",CONFIGURATION!$B$1,\"bscr\",CONFIGURATION!$B$12)","v":"Mapped"},{"$f":"XBRLMap(#REF!,F$429&\".\"&$U57,F$427,F$428,CONFIGURATION!$B$10,\"BMA\",CONFIGURATION!$B$1,\"bscr\",CONFIGURATION!$B$12)","v":{"$error":"#VALUE!"}},{"$f":"XBRLMap(#REF!,G$429&\".\"&$U57,G$427,G$428,CONFIGURATION!$B$10,\"BMA\",CONFIGURATION!$B$1,\"bscr\",CONFIGURATION!$B$12)","v":{"$error":"#VALUE!"}},{"$f":"XBRLMap(E57,H$429&\".\"&$U57,H$427,H$428,CONFIGURATION!$B$10,\"BMA\",CONFIGURATION!$B$1,\"bscr\",CONFIGURATION!$B$12)","v":"Mapped"},{"$f":"XBRLMap(F57,I$429&\".\"&$U57,I$427,I$428,CONFIGURATION!$B$10,\"BMA\",CONFIGURATION!$B$1,\"bscr\",CONFIGURATION!$B$12)","v":"Mapped"},{"$f":"XBRLMap(G57,J$429&\".\"&$U57,J$427,J$428,CONFIGURATION!$B$10,\"BMA\",CONFIGURATION!$B$1,\"bscr\",CONFIGURATION!$B$12)","v":"Mapped"},{"$f":"XBRLMap(#REF!,K$429&\".\"&$U57,K$427,K$428,CONFIGURATION!$B$10,\"BMA\",CONFIGURATION!$B$1,\"bscr\",CONFIGURATION!$B$12)","v":{"$error":"#VALUE!"}},{"$f":"XBRLMap(I57,L$429&\".\"&$U57,L$427,L$428,CONFIGURATION!$B$10,\"BMA\",CONFIGURATION!$B$1,\"bscr\",CONFIGURATION!$B$12)","v":"Mapped"},{"$f":"XBRLMap(K57,O$429&\".\"&$U57,O$427,O$428,CONFIGURATION!$B$10,\"BMA\",CONFIGURATION!$B$1,\"bscr\")","v":"Mapped"},null,null,{"$f":"XBRLMap(L57,R$429&\".\"&$U57,R$427,R$428,CONFIGURATION!$B$10,\"BMA\",CONFIGURATION!$B$1,\"bscr\")","v":"Mapped"}]
[null,null,null,{"$f":"XBRLMap(D58,E$429&\".\"&$U58,E$427,E$428,CONFIGURATION!$B$10,\"BMA\",CONFIGURATION!$B$1,\"bscr\",CONFIGURATION!$B$12)","v":"Mapped"},{"$f":"XBRLMap(#REF!,F$429&\".\"&$U58,F$427,F$428,CONFIGURATION!$B$10,\"BMA\",CONFIGURATION!$B$1,\"bscr\",CONFIGURATION!$B$12)","v":{"$error":"#VALUE!"}},{"$f":"XBRLMap(#REF!,G$429&\".\"&$U58,G$427,G$428,CONFIGURATION!$B$10,\"BMA\",CONFIGURATION!$B$1,\"bscr\",CONFIGURATION!$B$12)","v":{"$error":"#VALUE!"}},{"$f":"XBRLMap(E58,H$429&\".\"&$U58,H$427,H$428,CONFIGURATION!$B$10,\"BMA\",CONFIGURATION!$B$1,\"bscr\",CONFIGURATION!$B$12)","v":"Mapped"},{"$f":"XBRLMap(F58,I$429&\".\"&$U58,I$427,I$428,CONFIGURATION!$B$10,\"BMA\",CONFIGURATION!$B$1,\"bscr\",CONFIGURATION!$B$12)","v":"Mapped"},{"$f":"XBRLMap(G58,J$429&\".\"&$U58,J$427,J$428,CONFIGURATION!$B$10,\"BMA\",CONFIGURATION!$B$1,\"bscr\",CONFIGURATION!$B$12)","v":"Mapped"},{"$f":"XBRLMap(#REF!,K$429&\".\"&$U58,K$427,K$428,CONFIGURATION!$B$10,\"BMA\",CONFIGURATION!$B$1,\"bscr\",CONFIGURATION!$B$12)","v":{"$error":"#VALUE!"}},{"$f":"XBRLMap(I58,L$429&\".\"&$U58,L$427,L$428,CONFIGURATION!$B$10,\"BMA\",CONFIGURATION!$B$1,\"bscr\",CONFIGURATION!$B$12)","v":"Mapped"},{"$f":"XBRLMap(K58,O$429&\".\"&$U58,O$427,O$428,CONFIGURATION!$B$10,\"BMA\",CONFIGURATION!$B$1,\"bscr\")","v":"Mapped"},null,null,{"$f":"XBRLMap(L58,R$429&\".\"&$U58,R$427,R$428,CONFIGURATION!$B$10,\"BMA\",CONFIGURATION!$B$1,\"bscr\")","v":"Mapped"}]
[null,null,null,{"$f":"XBRLMap(#REF!,E$429&\".\"&#REF!,E$427,E$428,CONFIGURATION!$B$10,\"BMA\",CONFIGURATION!$B$1,\"bscr\",CONFIGURATION!$B$12)","v":{"$error":"#VALUE!"}},{"$f":"XBRLMap(#REF!,F$429&\".\"&#REF!,F$427,F$428,CONFIGURATION!$B$10,\"BMA\",CONFIGURATION!$B$1,\"bscr\",CONFIGURATION!$B$12)","v":{"$error":"#VALUE!"}},{"$f":"XBRLMap(#REF!,G$429&\".\"&#REF!,G$427,G$428,CONFIGURATION!$B$10,\"BMA\",CONFIGURATION!$B$1,\"bscr\",CONFIGURATION!$B$12)","v":{"$error":"#VALUE!"}},{"$f":"XBRLMap(#REF!,H$429&\".\"&#REF!,H$427,H$428,CONFIGURATION!$B$10,\"BMA\",CONFIGURATION!$B$1,\"bscr\",CONFIGURATION!$B$12)","v":{"$error":"#VALUE!"}},{"$f":"XBRLMap(#REF!,I$429&\".\"&#REF!,I$427,I$428,CONFIGURATION!$B$10,\"BMA\",CONFIGURATION!$B$1,\"bscr\",CONFIGURATION!$B$12)","v":{"$error":"#VALUE!"}},{"$f":"XBRLMap(#REF!,J$429&\".\"&#REF!,J$427,J$428,CONFIGURATION!$B$10,\"BMA\",CONFIGURATION!$B$1,\"bscr\",CONFIGURATION!$B$12)","v":{"$error":"#VALUE!"}},{"$f":"XBRLMap(#REF!,K$429&\".\"&#REF!,K$427,K$428,CONFIGURATION!$B$10,\"BMA\",CONFIGURATION!$B$1,\"bscr\",CONFIGURATION!$B$12)","v":{"$error":"#VALUE!"}},{"$f":"XBRLMap(#REF!,L$429&\".\"&#REF!,L$427,L$428,CONFIGURATION!$B$10,\"BMA\",CONFIGURATION!$B$1,\"bscr\",CONFIGURATION!$B$12)","v":{"$error":"#VALUE!"}},{"$f":"XBRLMap(#REF!,O$429&\".\"&#REF!,O$427,O$428,CONFIGURATION!$B$10,\"BMA\",CONFIGURATION!$B$1,\"bscr\")","v":{"$error":"#VALUE!"}},null,null,{"$f":"XBRLMap(#REF!,R$429&\".\"&#REF!,R$427,R$428,CONFIGURATION!$B$10,\"BMA\",CONFIGURATION!$B$1,\"bscr\")","v":{"$error":"#VALUE!"}}]
[null,null,null,{"$f":"XBRLMap(D59,E$429&\".\"&$U59,E$427,E$428,CONFIGURATION!$B$10,\"BMA\",CONFIGURATION!$B$1,\"bscr\",CONFIGURATION!$B$12)","v":"Mapped"},{"$f":"XBRLMap(#REF!,F$429&\".\"&$U59,F$427,F$428,CONFIGURATION!$B$10,\"BMA\",CONFIGURATION!$B$1,\"bscr\",CONFIGURATION!$B$12)","v":{"$error":"#VALUE!"}},{"$f":"XBRLMap(#REF!,G$429&\".\"&$U59,G$427,G$428,CONFIGURATION!$B$10,\"BMA\",CONFIGURATION!$B$1,\"bscr\",CONFIGURATION!$B$12)","v":{"$error":"#VALUE!"}},{"$f":"XBRLMap(E59,H$429&\".\"&$U59,H$427,H$428,CONFIGURATION!$B$10,\"BMA\",CONFIGURATION!$B$1,\"bscr\",CONFIGURATION!$B$12)","v":"Mapped"},{"$f":"XBRLMap(F59,I$429&\".\"&$U59,I$427,I$428,CONFIGURATION!$B$10,\"BMA\",CONFIGURATION!$B$1,\"bscr\",CONFIGURATION!$B$12)","v":"Mapped"},{"$f":"XBRLMap(G59,J$429&\".\"&$U59,J$427,J$428,CONFIGURATION!$B$10,\"BMA\",CONFIGURATION!$B$1,\"bscr\",CONFIGURATION!$B$12)","v":"Mapped"},{"$f":"XBRLMap(#REF!,K$429&\".\"&$U59,K$427,K$428,CONFIGURATION!$B$10,\"BMA\",CONFIGURATION!$B$1,\"bscr\",CONFIGURATION!$B$12)","v":{"$error":"#VALUE!"}},{"$f":"XBRLMap(I59,L$429&\".\"&$U59,L$427,L$428,CONFIGURATION!$B$10,\"BMA\",CONFIGURATION!$B$1,\"bscr\",CONFIGURATION!$B$12)","v":"Mapped"},{"$f":"XBRLMap(K59,O$429&\".\"&$U59,O$427,O$428,CONFIGURATION!$B$10,\"BMA\",CONFIGURATION!$B$1,\"bscr\")","v":"Mapped"},null,null,{"$f":"XBRLMap(L59,R$429&\".\"&$U59,R$427,R$428,CONFIGURATION!$B$10,\"BMA\",CONFIGURATION!$B$1,\"bscr\")","v":"Mapped"}]
[null,null,null,{"$f":"XBRLMap(D60,E$429&\".\"&$U60,E$427,E$428,CONFIGURATION!$B$10,\"BMA\",CONFIGURATION!$B$1,\"bscr\",CONFIGURATION!$B$12)","v":"Mapped"},{"$f":"XBRLMap(#REF!,F$429&\".\"&$U60,F$427,F$428,CONFIGURATION!$B$10,\"BMA\",CONFIGURATION!$B$1,\"bscr\",CONFIGURATION!$B$12)","v":{"$error":"#VALUE!"}},{"$f":"XBRLMap(#REF!,G$429&\".\"&$U60,G$427,G$428,CONFIGURATION!$B$10,\"BMA\",CONFIGURATION!$B$1,\"bscr\",CONFIGURATION!$B$12)","v":{"$error":"#VALUE!"}},{"$f":"XBRLMap(E60,H$429&\".\"&$U60,H$427,H$428,CONFIGURATION!$B$10,\"BMA\",CONFIGURATION!$B$1,\"bscr\",CONFIGURATION!$B$12)","v":"Mapped"},{"$f":"XBRLMap(F60,I$429&\".\"&$U60,I$427,I$428,CONFIGURATION!$B$10,\"BMA\",CONFIGURATION!$B$1,\"bscr\",CONFIGURATION!$B$12)","v":"Mapped"},{"$f":"XBRLMap(G60,J$429&\".\"&$U60,J$427,J$428,CONFIGURATION!$B$10,\"BMA\",CONFIGURATION!$B$1,\"bscr\",CONFIGURATION!$B$12)","v":"Mapped"},{"$f":"XBRLMap(#REF!,K$429&\".\"&$U60,K$427,K$428,CONFIGURATION!$B$10,\"BMA\",CONFIGURATION!$B$1,\"bscr\",CONFIGURATION!$B$12)","v":{"$error":"#VALUE!"}},{"$f":"XBRLMap(I60,L$429&\".\"&$U60,L$427,L$428,CONFIGURATION!$B$10,\"BMA\",CONFIGURATION!$B$1,\"bscr\",CONFIGURATION!$B$12)","v":"Mapped"},{"$f":"XBRLMap(K60,O$429&\".\"&$U60,O$427,O$428,CONFIGURATION!$B$10,\"BMA\",CONFIGURATION!$B$1,\"bscr\")","v":"Mapped"},null,null,{"$f":"XBRLMap(L60,R$429&\".\"&$U60,R$427,R$428,CONFIGURATION!$B$10,\"BMA\",CONFIGURATION!$B$1,\"bscr\")","v":"Mapped"}]
[null,null,null,{"$f":"XBRLMap(D61,E$429&\".\"&$U61,E$427,E$428,CONFIGURATION!$B$10,\"BMA\",CONFIGURATION!$B$1,\"bscr\",CONFIGURATION!$B$12)","v":"Mapped"},{"$f":"XBRLMap(#REF!,F$429&\".\"&$U61,F$427,F$428,CONFIGURATION!$B$10,\"BMA\",CONFIGURATION!$B$1,\"bscr\",CONFIGURATION!$B$12)","v":{"$error":"#VALUE!"}},{"$f":"XBRLMap(#REF!,G$429&\".\"&$U61,G$427,G$428,CONFIGURATION!$B$10,\"BMA\",CONFIGURATION!$B$1,\"bscr\",CONFIGURATION!$B$12)","v":{"$error":"#VALUE!"}},{"$f":"XBRLMap(E61,H$429&\".\"&$U61,H$427,H$428,CONFIGURATION!$B$10,\"BMA\",CONFIGURATION!$B$1,\"bscr\",CONFIGURATION!$B$12)","v":"Mapped"},{"$f":"XBRLMap(F61,I$429&\".\"&$U61,I$427,I$428,CONFIGURATION!$B$10,\"BMA\",CONFIGURATION!$B$1,\"bscr\",CONFIGURATION!$B$12)","v":"Mapped"},{"$f":"XBRLMap(G61,J$429&\".\"&$U61,J$427,J$428,CONFIGURATION!$B$10,\"BMA\",CONFIGURATION!$B$1,\"bscr\",CONFIGURATION!$B$12)","v":"Mapped"},{"$f":"XBRLMap(#REF!,K$429&\".\"&$U61,K$427,K$428,CONFIGURATION!$B$10,\"BMA\",CONFIGURATION!$B$1,\"bscr\",CONFIGURATION!$B$12)","v":{"$error":"#VALUE!"}},{"$f":"XBRLMap(I61,L$429&\".\"&$U61,L$427,L$428,CONFIGURATION!$B$10,\"BMA\",CONFIGURATION!$B$1,\"bscr\",CONFIGURATION!$B$12)","v":"Mapped"},{"$f":"XBRLMap(K61,O$429&\".\"&$U61,O$427,O$428,CONFIGURATION!$B$10,\"BMA\",CONFIGURATION!$B$1,\"bscr\")","v":"Mapped"},null,null,{"$f":"XBRLMap(L61,R$429&\".\"&$U61,R$427,R$428,CONFIGURATION!$B$10,\"BMA\",CONFIGURATION!$B$1,\"bscr\")","v":"Mapped"}]
[null,null,null,{"$f":"XBRLMap(D62,E$429&\".\"&$U62,E$427,E$428,CONFIGURATION!$B$10,\"BMA\",CONFIGURATION!$B$1,\"bscr\",CONFIGURATION!$B$12)","v":"Mapped"},{"$f":"XBRLMap(#REF!,F$429&\".\"&$U62,F$427,F$428,CONFIGURATION!$B$10,\"BMA\",CONFIGURATION!$B$1,\"bscr\",CONFIGURATION!$B$12)","v":{"$error":"#VALUE!"}},{"$f":"XBRLMap(#REF!,G$429&\".\"&$U62,G$427,G$428,CONFIGURATION!$B$10,\"BMA\",CONFIGURATION!$B$1,\"bscr\",CONFIGURATION!$B$12)","v":{"$error":"#VALUE!"}},{"$f":"XBRLMap(E62,H$429&\".\"&$U62,H$427,H$428,CONFIGURATION!$B$10,\"BMA\",CONFIGURATION!$B$1,\"bscr\",CONFIGURATION!$B$12)","v":"Mapped"},{"$f":"XBRLMap(F62,I$429&\".\"&$U62,I$427,I$428,CONFIGURATION!$B$10,\"BMA\",CONFIGURATION!$B$1,\"bscr\",CONFIGURATION!$B$12)","v":"Mapped"},{"$f":"XBRLMap(G62,J$429&\".\"&$U62,J$427,J$428,CONFIGURATION!$B$10,\"BMA\",CONFIGURATION!$B$1,\"bscr\",CONFIGURATION!$B$12)","v":"Mapped"},{"$f":"XBRLMap(#REF!,K$429&\".\"&$U62,K$427,K$428,CONFIGURATION!$B$10,\"BMA\",CONFIGURATION!$B$1,\"bscr\",CONFIGURATION!$B$12)","v":{"$error":"#VALUE!"}},{"$f":"XBRLMap(I62,L$429&\".\"&$U62,L$427,L$428,CONFIGURATION!$B$10,\"BMA\",CONFIGURATION!$B$1,\"bscr\",CONFIGURATION!$B$12)","v":"Mapped"},{"$f":"XBRLMap(K62,O$429&\".\"&$U62,O$427,O$428,CONFIGURATION!$B$10,\"BMA\",CONFIGURATION!$B$1,\"bscr\")","v":"Mapped"},null,null,{"$f":"XBRLMap(L62,R$429&\".\"&$U62,R$427,R$428,CONFIGURATION!$B$10,\"BMA\",CONFIGURATION!$B$1,\"bscr\")","v":"Mapped"}]
[null,null,null,{"$f":"XBRLMap(D63,E$429&\".\"&$U63,E$427,E$428,CONFIGURATION!$B$10,\"BMA\",CONFIGURATION!$B$1,\"bscr\",CONFIGURATION!$B$12)","v":"Mapped"},{"$f":"XBRLMap(#REF!,F$429&\".\"&$U63,F$427,F$428,CONFIGURATION!$B$10,\"BMA\",CONFIGURATION!$B$1,\"bscr\",CONFIGURATION!$B$12)","v":{"$error":"#VALUE!"}},{"$f":"XBRLMap(#REF!,G$429&\".\"&$U63,G$427,G$428,CONFIGURATION!$B$10,\"BMA\",CONFIGURATION!$B$1,\"bscr\",CONFIGURATION!$B$12)","v":{"$error":"#VALUE!"}},{"$f":"XBRLMap(E63,H$429&\".\"&$U63,H$427,H$428,CONFIGURATION!$B$10,\"BMA\",CONFIGURATION!$B$1,\"bscr\",CONFIGURATION!$B$12)","v":"Mapped"},{"$f":"XBRLMap(F63,I$429&\".\"&$U63,I$427,I$428,CONFIGURATION!$B$10,\"BMA\",CONFIGURATION!$B$1,\"bscr\",CONFIGURATION!$B$12)","v":"Mapped"},{"$f":"XBRLMap(G63,J$429&\".\"&$U63,J$427,J$428,CONFIGURATION!$B$10,\"BMA\",CONFIGURATION!$B$1,\"bscr\",CONFIGURATION!$B$12)","v":"Mapped"},{"$f":"XBRLMap(#REF!,K$429&\".\"&$U63,K$427,K$428,CONFIGURATION!$B$10,\"BMA\",CONFIGURATION!$B$1,\"bscr\",CONFIGURATION!$B$12)","v":{"$error":"#VALUE!"}},{"$f":"XBRLMap(I63,L$429&\".\"&$U63,L$427,L$428,CONFIGURATION!$B$10,\"BMA\",CONFIGURATION!$B$1,\"bscr\",CONFIGURATION!$B$12)","v":"Mapped"},{"$f":"XBRLMap(K63,O$429&\".\"&$U63,O$427,O$428,CONFIGURATION!$B$10,\"BMA\",CONFIGURATION!$B$1,\"bscr\")","v":"Mapped"},null,null,{"$f":"XBRLMap(L63,R$429&\".\"&$U63,R$427,R$428,CONFIGURATION!$B$10,\"BMA\",CONFIGURATION!$B$1,\"bscr\")","v":"Mapped"}]
[null,null,null,{"$f":"XBRLMap(D64,E$429&\".\"&$U64,E$427,E$428,CONFIGURATION!$B$10,\"BMA\",CONFIGURATION!$B$1,\"bscr\",CONFIGURATION!$B$12)","v":"Mapped"},{"$f":"XBRLMap(#REF!,F$429&\".\"&$U64,F$427,F$428,CONFIGURATION!$B$10,\"BMA\",CONFIGURATION!$B$1,\"bscr\",CONFIGURATION!$B$12)","v":{"$error":"#VALUE!"}},{"$f":"XBRLMap(#REF!,G$429&\".\"&$U64,G$427,G$428,CONFIGURATION!$B$10,\"BMA\",CONFIGURATION!$B$1,\"bscr\",CONFIGURATION!$B$12)","v":{"$error":"#VALUE!"}},{"$f":"XBRLMap(E64,H$429&\".\"&$U64,H$427,H$428,CONFIGURATION!$B$10,\"BMA\",CONFIGURATION!$B$1,\"bscr\",CONFIGURATION!$B$12)","v":"Mapped"},{"$f":"XBRLMap(F64,I$429&\".\"&$U64,I$427,I$428,CONFIGURATION!$B$10,\"BMA\",CONFIGURATION!$B$1,\"bscr\",CONFIGURATION!$B$12)","v":"Mapped"},{"$f":"XBRLMap(G64,J$429&\".\"&$U64,J$427,J$428,CONFIGURATION!$B$10,\"BMA\",CONFIGURATION!$B$1,\"bscr\",CONFIGURATION!$B$12)","v":"Mapped"},{"$f":"XBRLMap(#REF!,K$429&\".\"&$U64,K$427,K$428,CONFIGURATION!$B$10,\"BMA\",CONFIGURATION!$B$1,\"bscr\",CONFIGURATION!$B$12)","v":{"$error":"#VALUE!"}},{"$f":"XBRLMap(I64,L$429&\".\"&$U64,L$427,L$428,CONFIGURATION!$B$10,\"BMA\",CONFIGURATION!$B$1,\"bscr\",CONFIGURATION!$B$12)","v":"Mapped"},{"$f":"XBRLMap(K64,O$429&\".\"&$U64,O$427,O$428,CONFIGURATION!$B$10,\"BMA\",CONFIGURATION!$B$1,\"bscr\")","v":"Mapped"},null,null,{"$f":"XBRLMap(L64,R$429&\".\"&$U64,R$427,R$428,CONFIGURATION!$B$10,\"BMA\",CONFIGURATION!$B$1,\"bscr\")","v":"Mapped"}]
[null,null,null,{"$f":"XBRLMap(D65,E$429&\".\"&$U65,E$427,E$428,CONFIGURATION!$B$10,\"BMA\",CONFIGURATION!$B$1,\"bscr\",CONFIGURATION!$B$12)","v":"Mapped"},{"$f":"XBRLMap(#REF!,F$429&\".\"&$U65,F$427,F$428,CONFIGURATION!$B$10,\"BMA\",CONFIGURATION!$B$1,\"bscr\",CONFIGURATION!$B$12)","v":{"$error":"#VALUE!"}},{"$f":"XBRLMap(#REF!,G$429&\".\"&$U65,G$427,G$428,CONFIGURATION!$B$10,\"BMA\",CONFIGURATION!$B$1,\"bscr\",CONFIGURATION!$B$12)","v":{"$error":"#VALUE!"}},{"$f":"XBRLMap(E65,H$429&\".\"&$U65,H$427,H$428,CONFIGURATION!$B$10,\"BMA\",CONFIGURATION!$B$1,\"bscr\",CONFIGURATION!$B$12)","v":"Mapped"},{"$f":"XBRLMap(F65,I$429&\".\"&$U65,I$427,I$428,CONFIGURATION!$B$10,\"BMA\",CONFIGURATION!$B$1,\"bscr\",CONFIGURATION!$B$12)","v":"Mapped"},{"$f":"XBRLMap(G65,J$429&\".\"&$U65,J$427,J$428,CONFIGURATION!$B$10,\"BMA\",CONFIGURATION!$B$1,\"bscr\",CONFIGURATION!$B$12)","v":"Mapped"},{"$f":"XBRLMap(#REF!,K$429&\".\"&$U65,K$427,K$428,CONFIGURATION!$B$10,\"BMA\",CONFIGURATION!$B$1,\"bscr\",CONFIGURATION!$B$12)","v":{"$error":"#VALUE!"}},{"$f":"XBRLMap(I65,L$429&\".\"&$U65,L$427,L$428,CONFIGURATION!$B$10,\"BMA\",CONFIGURATION!$B$1,\"bscr\",CONFIGURATION!$B$12)","v":"Mapped"},null,null,null,{"$f":"XBRLMap(L65,R$429&\".\"&$U65,R$427,R$428,CONFIGURATION!$B$10,\"BMA\",CONFIGURATION!$B$1,\"bscr\")","v":"Mapped"}]
[null,null,null,{"$f":"XBRLMap(D66,E$429&\".\"&$U66,E$427,E$428,CONFIGURATION!$B$10,\"BMA\",CONFIGURATION!$B$1,\"bscr\",CONFIGURATION!$B$12)","v":"Mapped"},{"$f":"XBRLMap(#REF!,F$429&\".\"&$U66,F$427,F$428,CONFIGURATION!$B$10,\"BMA\",CONFIGURATION!$B$1,\"bscr\",CONFIGURATION!$B$12)","v":{"$error":"#VALUE!"}},{"$f":"XBRLMap(#REF!,G$429&\".\"&$U66,G$427,G$428,CONFIGURATION!$B$10,\"BMA\",CONFIGURATION!$B$1,\"bscr\",CONFIGURATION!$B$12)","v":{"$error":"#VALUE!"}},{"$f":"XBRLMap(E66,H$429&\".\"&$U66,H$427,H$428,CONFIGURATION!$B$10,\"BMA\",CONFIGURATION!$B$1,\"bscr\",CONFIGURATION!$B$12)","v":"Mapped"},{"$f":"XBRLMap(F66,I$429&\".\"&$U66,I$427,I$428,CONFIGURATION!$B$10,\"BMA\",CONFIGURATION!$B$1,\"bscr\",CONFIGURATION!$B$12)","v":"Mapped"},{"$f":"XBRLMap(G66,J$429&\".\"&$U66,J$427,J$428,CONFIGURATION!$B$10,\"BMA\",CONFIGURATION!$B$1,\"bscr\",CONFIGURATION!$B$12)","v":"Mapped"},{"$f":"XBRLMap(#REF!,K$429&\".\"&$U66,K$427,K$428,CONFIGURATION!$B$10,\"BMA\",CONFIGURATION!$B$1,\"bscr\",CONFIGURATION!$B$12)","v":{"$error":"#VALUE!"}},{"$f":"XBRLMap(I66,L$429&\".\"&$U66,L$427,L$428,CONFIGURATION!$B$10,\"BMA\",CONFIGURATION!$B$1,\"bscr\",CONFIGURATION!$B$12)","v":"Mapped"},null,null,null,{"$f":"XBRLMap(L66,R$429&\".\"&$U66,R$427,R$428,CONFIGURATION!$B$10,\"BMA\",CONFIGURATION!$B$1,\"bscr\")","v":"Mapped"}]
[null,null,null,{"$f":"XBRLMap(D67,E$429&\".\"&$U67,E$427,E$428,CONFIGURATION!$B$10,\"BMA\",CONFIGURATION!$B$1,\"bscr\",CONFIGURATION!$B$12)","v":"Mapped"},{"$f":"XBRLMap(#REF!,F$429&\".\"&$U67,F$427,F$428,CONFIGURATION!$B$10,\"BMA\",CONFIGURATION!$B$1,\"bscr\",CONFIGURATION!$B$12)","v":{"$error":"#VALUE!"}},{"$f":"XBRLMap(#REF!,G$429&\".\"&$U67,G$427,G$428,CONFIGURATION!$B$10,\"BMA\",CONFIGURATION!$B$1,\"bscr\",CONFIGURATION!$B$12)","v":{"$error":"#VALUE!"}},{"$f":"XBRLMap(E67,H$429&\".\"&$U67,H$427,H$428,CONFIGURATION!$B$10,\"BMA\",CONFIGURATION!$B$1,\"bscr\",CONFIGURATION!$B$12)","v":"Mapped"},{"$f":"XBRLMap(F67,I$429&\".\"&$U67,I$427,I$428,CONFIGURATION!$B$10,\"BMA\",CONFIGURATION!$B$1,\"bscr\",CONFIGURATION!$B$12)","v":"Mapped"},{"$f":"XBRLMap(G67,J$429&\".\"&$U67,J$427,J$428,CONFIGURATION!$B$10,\"BMA\",CONFIGURATION!$B$1,\"bscr\",CONFIGURATION!$B$12)","v":"Mapped"},{"$f":"XBRLMap(#REF!,K$429&\".\"&$U67,K$427,K$428,CONFIGURATION!$B$10,\"BMA\",CONFIGURATION!$B$1,\"bscr\",CONFIGURATION!$B$12)","v":{"$error":"#VALUE!"}},{"$f":"XBRLMap(I67,L$429&\".\"&$U67,L$427,L$428,CONFIGURATION!$B$10,\"BMA\",CONFIGURATION!$B$1,\"bscr\",CONFIGURATION!$B$12)","v":"Mapped"},null,null,null,{"$f":"XBRLMap(L67,R$429&\".\"&$U67,R$427,R$428,CONFIGURATION!$B$10,\"BMA\",CONFIGURATION!$B$1,\"bscr\")","v":"Mapped"}]
[null,null,null,{"$f":"XBRLMap(D68,E$429&\".\"&$U68,E$427,E$428,CONFIGURATION!$B$10,\"BMA\",CONFIGURATION!$B$1,\"bscr\",CONFIGURATION!$B$12)","v":"Mapped"},{"$f":"XBRLMap(#REF!,F$429&\".\"&$U68,F$427,F$428,CONFIGURATION!$B$10,\"BMA\",CONFIGURATION!$B$1,\"bscr\",CONFIGURATION!$B$12)","v":{"$error":"#VALUE!"}},{"$f":"XBRLMap(#REF!,G$429&\".\"&$U68,G$427,G$428,CONFIGURATION!$B$10,\"BMA\",CONFIGURATION!$B$1,\"bscr\",CONFIGURATION!$B$12)","v":{"$error":"#VALUE!"}},{"$f":"XBRLMap(E68,H$429&\".\"&$U68,H$427,H$428,CONFIGURATION!$B$10,\"BMA\",CONFIGURATION!$B$1,\"bscr\",CONFIGURATION!$B$12)","v":"Mapped"},{"$f":"XBRLMap(F68,I$429&\".\"&$U68,I$427,I$428,CONFIGURATION!$B$10,\"BMA\",CONFIGURATION!$B$1,\"bscr\",CONFIGURATION!$B$12)","v":"Mapped"},{"$f":"XBRLMap(G68,J$429&\".\"&$U68,J$427,J$428,CONFIGURATION!$B$10,\"BMA\",CONFIGURATION!$B$1,\"bscr\",CONFIGURATION!$B$12)","v":"Mapped"},{"$f":"XBRLMap(#REF!,K$429&\".\"&$U68,K$427,K$428,CONFIGURATION!$B$10,\"BMA\",CONFIGURATION!$B$1,\"bscr\",CONFIGURATION!$B$12)","v":{"$error":"#VALUE!"}},{"$f":"XBRLMap(I68,L$429&\".\"&$U68,L$427,L$428,CONFIGURATION!$B$10,\"BMA\",CONFIGURATION!$B$1,\"bscr\",CONFIGURATION!$B$12)","v":"Mapped"},null,null,null,{"$f":"XBRLMap(L68,R$429&\".\"&$U68,R$427,R$428,CONFIGURATION!$B$10,\"BMA\",CONFIGURATION!$B$1,\"bscr\")","v":"Mapped"}]
[]
[]
[]
[]
[]
[]
[]
[]
[]
[]
[]
[]
[]
[]
[]
[]
[]
[]
[]
[]
[]
[null,null,"Largest Loss"]
[null,null,"UW1. ","Northeast Hurricane"]
[null,null,"UW2.","Carolinas Hurricane"]
[null,null,"UW3.","Miami-Dade Hurricane"]
[null,null,"UW4.","Pinellas Hurricane"]
[null,null,"UW5.","Gulf Windstorm (onshore)"]
[null,null,"UW6.","Gulf Windstorm (offshore)"]
[null,null,"UE1.","Los Angeles Earthquake"]
[null,null,"UE2.","San Francisco Earthquake"]
[null,null,"UE3.","New Madrid (NM) RDS"]
[null,null,"UE4.","NM Extreme Stress Scenario"]
[null,null,"IW1. ","European Windstorm"]
[null,null,"IW2.","Japanese Typhoon"]
[null,null,"IE1.","Japanese Earthquake"]
[null,null,"A1.","Aerospace/ Aviation Event"]
[null,null,"M1.","Marine Collision in Prince William"]
[null,null,"M2.","Major Cruise Vessel Incident"]
[null,null,"N1.","US Oil Spill"]
[null,null,"N2.","US Tornadoes"]
[null,null,"N3.","Australian Flooding"]
[null,null,"N4.","Australian Wildfires"]
[null,null,null,"Largest Loss",null,null,null,null,{"$f":"MAX(F51:F68)","v":0}]
[]
[null,null,"UW1. ","Northeast Hurricane",null,null,null,null,{"$f":"IF($I$499=F51,0,F51)","v":0}]
[null,null,"UW2.","Carolinas Hurricane",null,null,null,null,{"$f":"IF($I$499=F52,0,F52)","v":0}]
[null,null,"UW3.","Miami-Dade Hurricane",null,null,null,null,{"$f":"IF($I$499=F53,0,F53)","v":0}]
[null,null,"UW4.","Pinellas Hurricane",null,null,null,null,{"$f":"IF($I$499=F54,0,F54)","v":0}]
[null,null,"UW5.","Gulf Windstorm (onshore)",null,null,null,null,{"$f":"IF($I$499=F55,0,F55)","v":0}]
[null,null,"UW6.","Gulf Windstorm (offshore)"]
[null,null,"UE1.","Los Angeles Earthquake",null,null,null,null,{"$f":"IF($I$499=F56,0,F56)","v":0},null,null,null,null,null,"bma_class3A_StatementComponentAxis2_bma_BmaStressscenarioTestsPoststressscenarioNetLoss1StatutoryCapitalAndSurplus",null,null,"bma_class3A_StatementComponentAxis2_bma_BmaStressscenarioTestsPoststressscenarioNetLoss1ReturnPeriod2"]
[null,null,"UE2.","San Francisco Earthquake",null,null,null,null,{"$f":"IF($I$499=F57,0,F57)","v":0}]
[null,null,"UE3.","New Madrid (NM) RDS",null,null,null,null,{"$f":"IF($I$499=F58,0,F58)","v":0}]
[null,null,"UE4.","NM Extreme Stress Scenario"]
[null,null,"IW1. ","European Windstorm",null,null,null,null,{"$f":"IF($I$499=F59,0,F59)","v":0}]
[null,null,"IW2.","Japanese Typhoon",null,null,null,null,0]
[null,null,"IE1.","Japanese Earthquake",null,null,null,null,0]
[null,null,"A1.","Aerospace/ Aviation Event",null,null,null,null,0]
[null,null,"M1.","Marine Collision in Prince William",null,null,null,null,0]
[null,null,"M2.","Major Cruise Vessel Incident",null,null,null,null,0]
[null,null,"N1.","US Oil Spill",null,null,null,null,0]
[null,null,"N2.","US Tornadoes",null,null,null,null,0]
[null,null,"N3.","Australian Flooding",null,null,null,null,0]
[null,null,"N4.","Australian Wildfires",null,null,null,null,0]
[null,null,null,"2nd Largest Loss",null,null,null,null,{"$f":"MAX(I501:I520)","v":0}]
[]
[null,null,"UW1. ","Northeast Hurricane",null,null,null,null,{"$f":"IF($I$521=I501,0,I501)","v":0}]
[null,null,"UW2.","Carolinas Hurricane",null,null,null,null,{"$f":"IF($I$521=I502,0,I502)","v":0}]
[null,null,"UW3.","Miami-Dade Hurricane",null,null,null,null,0]
[null,null,"UW4.","Pinellas Hurricane",null,null,null,null,0]
[null,null,"UW5.","Gulf Windstorm (onshore)",null,null,null,null,0]
[null,null,"UW6.","Gulf Windstorm (offshore)",null,null,null,null,0]
[null,null,"UE1.","Los Angeles Earthquake",null,null,null,null,0]
[null,null,"UE2.","San Francisco Earthquake",null,null,null,null,0]
[null,null,"UE3.","New Madrid (NM) RDS",null,null,null,null,0]
[null,null,"UE4.","NM Extreme Stress Scenario",null,null,null,null,0]
[null,null,"IW1. ","European Windstorm",null,null,null,null,0]
[null,null,"IW2.","Japanese Typhoon",null,null,null,null,0]
[null,null,"IE1.","Japanese Earthquake",null,null,null,null,0]
[null,null,"A1.","Aerospace/ Aviation Event",null,null,null,null,0]
[null,null,"M1.","Marine Collision in Prince William",null,null,null,null,0]
[null,null,"M2.","Major Cruise Vessel Incident",null,null,null,null,0]
[null,null,"N1.","US Oil Spill",null,null,null,null,0]
[null,null,"N2.","US Tornadoes",null,null,null,null,0]
[null,null,"N3.","Australian Flooding",null,null,null,null,0]
[null,null,"N4.","Australian Wildfires",null,null,null,null,0]
[null,null,null,"3rd Largest Loss",null,null,null,null,{"$f":"MAX(I523:I542)","v":0}]

{"sheet":"Schedule V(m)","index":24,"n_rows":1565,"n_cols":23,"rows_kept":1565,"cut":false,"hidden":false,"merged":[[1,2,1,3],[2,2,2,3],[3,2,3,3],[1514,1,1520,10]]}
[null,"SCHEDULE OF RISK MANAGEMENT - ALTERNATIVE CAPITAL ARRANGEMENTS",null,null,null,null,null,null,null,null,null,null,null,null,null,null,null,null,null,null,null,null,{"$f":"HYPERLINK(\"#'Index'!A1\",\"Return to Index\")","v":"Return to Index"}]
[null,"Name of Insurer:",{"$f":"'Company Information'!C7","v":"Enter Company Name"}]
[null,"Structure of the Insurer:"]
[null,"For the Year-Ending:",{"$f":"'Company Information'!C3","v":"2019-12-31"}]
[]
[null,"Enter Number of Rows required",{"$f":"Import!E1735","v":0}]
[null,"(Maximum of 1,500 Rows available)"]
[null,"A)  Transaction Details"]
[]
[null,"Name of the insured","Insurance contract reference number (e.g. Cell Name/Account No.)","Type of insurance coverage written","Statutory line of business written","Location of exposure covered","Aggregate maximum limit as at inception date of contract of insurance","Net aggregate maximum limit as at the end of the insurer’s financial year","Inception date of coverage period (DD/MM/YYYY)","Effective date of contract\n(DD/MM/YYYY)","Expiry date of coverage period (DD/MM/YYYY)","Gross premium written for the coverage period","Net premium written for the coverage period","Attachment point","Aggregate losses outstanding at the beginning of the insurer’s financial year","Aggregate losses incurred during the insurer’s financial year","Aggregate losses outstanding at the end of the insurer’s financial year","Reserved buffer collateral","Currency of exposure","Nature of collateral","Average collateral rating","Amount of collateral at the end of the insurer’s financial year","Additional comments, if any"]
[1,{"$f":"Import!E1736","v":0},{"$f":"Import!E1761","v":0},{"$f":"Import!E1786","v":"Select from Drop Down"},{"$f":"Import!E1811","v":"Select from Drop Down"},{"$f":"Import!E1836","v":"Select from Drop Down"},{"$f":"Import!E1861","v":0},{"$f":"Import!E1887","v":0},{"$f":"IF(Import!E1913=0,\"\",Import!E1913)","v":""},{"$f":"IF(Import!E1938=0,\"\",Import!E1938)","v":""},{"$f":"IF(Import!E1963=0,\"\",Import!E1963)","v":""},{"$f":"Import!E1988","v":0},{"$f":"Import!E2014","v":0},{"$f":"Import!E2040","v":0},{"$f":"Import!E2066","v":0},{"$f":"Import!E2092","v":0},{"$f":"Import!E2118","v":0},{"$f":"Import!E2144","v":0},{"$f":"Import!E2170","v":"Select from Drop Down"},{"$f":"Import!E2195","v":"Select from Drop Down"},{"$f":"Import!E2220","v":"Select from Drop Down"},{"$f":"Import!E2245","v":0},{"$f":"Import!E2271","v":0}]
[{"$f":"A11+1","v":2},{"$f":"Import!E1737","v":0},{"$f":"Import!E1762","v":0},{"$f":"Import!E1787","v":"Select from Drop Down"},{"$f":"Import!E1812","v":"Select from Drop Down"},{"$f":"Import!E1837","v":"Select from Drop Down"},{"$f":"Import!E1862","v":0},{"$f":"Import!E1888","v":0},{"$f":"IF(Import!E1914=0,\"\",Import!E1914)","v":""},{"$f":"IF(Import!E1939=0,\"\",Import!E1939)","v":""},{"$f":"IF(Import!E1964=0,\"\",Import!E1964)","v":""},{"$f":"Import!E1989","v":0},{"$f":"Import!E2015","v":0},{"$f":"Import!E2041","v":0},{"$f":"Import!E2067","v":0},{"$f":"Import!E2093","v":0},{"$f":"Import!E2119","v":0},{"$f":"Import!E2145","v":0},{"$f":"Import!E2171","v":"Select from Drop Down"},{"$f":"Import!E2196","v":"Select from Drop Down"},{"$f":"Import!E2221","v":"Select from Drop Down"},{"$f":"Import!E2246","v":0},{"$f":"Import!E2272","v":0}]
[{"$f":"A12+1","v":3},{"$f":"Import!E1738","v":0},{"$f":"Import!E1763","v":0},{"$f":"Import!E1788","v":"Select from Drop Down"},{"$f":"Import!E1813","v":"Select from Drop Down"},{"$f":"Import!E1838","v":"Select from Drop Down"},{"$f":"Import!E1863","v":0},{"$f":"Import!E1889","v":0},{"$f":"IF(Import!E1915=0,\"\",Import!E1915)","v":""},{"$f":"IF(Import!E1940=0,\"\",Import!E1940)","v":""},{"$f":"IF(Import!E1965=0,\"\",Import!E1965)","v":""},{"$f":"Import!E1990","v":0},{"$f":"Import!E2016","v":0},{"$f":"Import!E2042","v":0},{"$f":"Import!E2068","v":0},{"$f":"Import!E2094","v":0},{"$f":"Import!E2120","v":0},{"$f":"Import!E2146","v":0},{"$f":"Import!E2172","v":"Select from Drop Down"},{"$f":"Import!E2197","v":"Select from Drop Down"},{"$f":"Import!E2222","v":"Select from Drop Down"},{"$f":"Import!E2247","v":0},{"$f":"Import!E2273","v":0}]
[4,{"$f":"Import!E1739","v":0},{"$f":"Import!E1764","v":0},{"$f":"Import!E1789","v":"Select from Drop Down"},{"$f":"Import!E1814","v":"Select from Drop Down"},{"$f":"Import!E1839","v":"Select from Drop Down"},{"$f":"Import!E1864","v":0},{"$f":"Import!E1890","v":0},{"$f":"IF(Import!E1916=0,\"\",Import!E1916)","v":""},{"$f":"IF(Import!E1941=0,\"\",Import!E1941)","v":""},{"$f":"IF(Import!E1966=0,\"\",Import!E1966)","v":""},{"$f":"Import!E1991","v":0},{"$f":"Import!E2017","v":0},{"$f":"Import!E2043","v":0},{"$f":"Import!E2069","v":0},{"$f":"Import!E2095","v":0},{"$f":"Import!E2121","v":0},{"$f":"Import!E2147","v":0},{"$f":"Import!E2173","v":"Select from Drop Down"},{"$f":"Import!E2198","v":"Select from Drop Down"},{"$f":"Import!E2223","v":"Select from Drop Down"},{"$f":"Import!E2248","v":0},{"$f":"Import!E2274","v":0}]
[5,{"$f":"Import!E1740","v":0},{"$f":"Import!E1765","v":0},{"$f":"Import!E1790","v":"Select from Drop Down"},{"$f":"Import!E1815","v":"Select from Drop Down"},{"$f":"Import!E1840","v":"Select from Drop Down"},{"$f":"Import!E1865","v":0},{"$f":"Import!E1891","v":0},{"$f":"IF(Import!E1917=0,\"\",Import!E1917)","v":""},{"$f":"IF(Import!E1942=0,\"\",Import!E1942)","v":""},{"$f":"IF(Import!E1967=0,\"\",Import!E1967)","v":""},{"$f":"Import!E1992","v":0},{"$f":"Import!E2018","v":0},{"$f":"Import!E2044","v":0},{"$f":"Import!E2070","v":0},{"$f":"Import!E2096","v":0},{"$f":"Import!E2122","v":0},{"$f":"Import!E2148","v":0},{"$f":"Import!E2174","v":"Select from Drop Down"},{"$f":"Import!E2199","v":"Select from Drop Down"},{"$f":"Import!E2224","v":"Select from Drop Down"},{"$f":"Import!E2249","v":0},{"$f":"Import!E2275","v":0}]
[6,{"$f":"Import!E1741","v":0},{"$f":"Import!E1766","v":0},{"$f":"Import!E1791","v":"Select from Drop Down"},{"$f":"Import!E1816","v":"Select from Drop Down"},{"$f":"Import!E1841","v":"Select from Drop Down"},{"$f":"Import!E1866","v":0},{"$f":"Import!E1892","v":0},{"$f":"IF(Import!E1918=0,\"\",Import!E1918)","v":""},{"$f":"IF(Import!E1943=0,\"\",Import!E1943)","v":""},{"$f":"IF(Import!E1968=0,\"\",Import!E1968)","v":""},{"$f":"Import!E1993","v":0},{"$f":"Import!E2019","v":0},{"$f":"Import!E2045","v":0},{"$f":"Import!E2071","v":0},{"$f":"Import!E2097","v":0},{"$f":"Import!E2123","v":0},{"$f":"Import!E2149","v":0},{"$f":"Import!E2175","v":"Select from Drop Down"},{"$f":"Import!E2200","v":"Select from Drop Down"},{"$f":"Import!E2225","v":"Select from Drop Down"},{"$f":"Import!E2250","v":0},{"$f":"Import!E2276","v":0}]
[7,{"$f":"Import!E1742","v":0},{"$f":"Import!E1767","v":0},{"$f":"Import!E1792","v":"Select from Drop Down"},{"$f":"Import!E1817","v":"Select from Drop Down"},{"$f":"Import!E1842","v":"Select from Drop Down"},{"$f":"Import!E1867","v":0},{"$f":"Import!E1893","v":0},{"$f":"IF(Import!E1919=0,\"\",Import!E1919)","v":""},{"$f":"IF(Import!E1944=0,\"\",Import!E1944)","v":""},{"$f":"IF(Import!E1969=0,\"\",Import!E1969)","v":""},{"$f":"Import!E1994","v":0},{"$f":"Import!E2020","v":0},{"$f":"Import!E2046","v":0},{"$f":"Import!E2072","v":0},{"$f":"Import!E2098","v":0},{"$f":"Import!E2124","v":0},{"$f":"Import!E2150","v":0},{"$f":"Import!E2176","v":"Select from Drop Down"},{"$f":"Import!E2201","v":"Select from Drop Down"},{"$f":"Import!E2226","v":"Select from Drop Down"},{"$f":"Import!E2251","v":0},{"$f":"Import!E2277","v":0}]
[8,{"$f":"Import!E1743","v":0},{"$f":"Import!E1768","v":0},{"$f":"Import!E1793","v":"Select from Drop Down"},{"$f":"Import!E1818","v":"Select from Drop Down"},{"$f":"Import!E1843","v":"Select from Drop Down"},{"$f":"Import!E1868","v":0},{"$f":"Import!E1894","v":0},{"$f":"IF(Import!E1920=0,\"\",Import!E1920)","v":""},{"$f":"IF(Import!E1945=0,\"\",Import!E1945)","v":""},{"$f":"IF(Import!E1970=0,\"\",Import!E1970)","v":""},{"$f":"Import!E1995","v":0},{"$f":"Import!E2021","v":0},{"$f":"Import!E2047","v":0},{"$f":"Import!E2073","v":0},{"$f":"Import!E2099","v":0},{"$f":"Import!E2125","v":0},{"$f":"Import!E2151","v":0},{"$f":"Import!E2177","v":"Select from Drop Down"},{"$f":"Import!E2202","v":"Select from Drop Down"},{"$f":"Import!E2227","v":"Select from Drop Down"},{"$f":"Import!E2252","v":0},{"$f":"Import!E2278","v":0}]
[9,{"$f":"Import!E1744","v":0},{"$f":"Import!E1769","v":0},{"$f":"Import!E1794","v":"Select from Drop Down"},{"$f":"Import!E1819","v":"Select from Drop Down"},{"$f":"Import!E1844","v":"Select from Drop Down"},{"$f":"Import!E1869","v":0},{"$f":"Import!E1895","v":0},{"$f":"IF(Import!E1921=0,\"\",Import!E1921)","v":""},{"$f":"IF(Import!E1946=0,\"\",Import!E1946)","v":""},{"$f":"IF(Import!E1971=0,\"\",Import!E1971)","v":""},{"$f":"Import!E1996","v":0},{"$f":"Import!E2022","v":0},{"$f":"Import!E2048","v":0},{"$f":"Import!E2074","v":0},{"$f":"Import!E2100","v":0},{"$f":"Import!E2126","v":0},{"$f":"Import!E2152","v":0},{"$f":"Import!E2178","v":"Select from Drop Down"},{"$f":"Import!E2203","v":"Select from Drop Down"},{"$f":"Import!E2228","v":"Select from Drop Down"},{"$f":"Import!E2253","v":0},{"$f":"Import!E2279","v":0}]
[10,{"$f":"Import!E1745","v":0},{"$f":"Import!E1770","v":0},{"$f":"Import!E1795","v":"Select from Drop Down"},{"$f":"Import!E1820","v":"Select from Drop Down"},{"$f":"Import!E1845","v":"Select from Drop Down"},{"$f":"Import!E1870","v":0},{"$f":"Import!E1896","v":0},{"$f":"IF(Import!E1922=0,\"\",Import!E1922)","v":""},{"$f":"IF(Import!E1947=0,\"\",Import!E1947)","v":""},{"$f":"IF(Import!E1972=0,\"\",Import!E1972)","v":""},{"$f":"Import!E1997","v":0},{"$f":"Import!E2023","v":0},{"$f":"Import!E2049","v":0},{"$f":"Import!E2075","v":0},{"$f":"Import!E2101","v":0},{"$f":"Import!E2127","v":0},{"$f":"Import!E2153","v":0},{"$f":"Import!E2179","v":"Select from Drop Down"},{"$f":"Import!E2204","v":"Select from Drop Down"},{"$f":"Import!E2229","v":"Select from Drop Down"},{"$f":"Import!E2254","v":0},{"$f":"Import!E2280","v":0}]
[11,{"$f":"Import!E1746","v":0},{"$f":"Import!E1771","v":0},{"$f":"Import!E1796","v":"Select from Drop Down"},{"$f":"Import!E1821","v":"Select from Drop Down"},{"$f":"Import!E1846","v":"Select from Drop Down"},{"$f":"Import!E1871","v":0},{"$f":"Import!E1897","v":0},{"$f":"IF(Import!E1923=0,\"\",Import!E1923)","v":""},{"$f":"IF(Import!E1948=0,\"\",Import!E1948)","v":""},{"$f":"IF(Import!E1973=0,\"\",Import!E1973)","v":""},{"$f":"Import!E1998","v":0},{"$f":"Import!E2024","v":0},{"$f":"Import!E2050","v":0},{"$f":"Import!E2076","v":0},{"$f":"Import!E2102","v":0},{"$f":"Import!E2128","v":0},{"$f":"Import!E2154","v":0},{"$f":"Import!E2180","v":"Select from Drop Down"},{"$f":"Import!E2205","v":"Select from Drop Down"},{"$f":"Import!E2230","v":"Select from Drop Down"},{"$f":"Import!E2255","v":0},{"$f":"Import!E2281","v":0}]
[12,{"$f":"Import!E1747","v":0},{"$f":"Import!E1772","v":0},{"$f":"Import!E1797","v":"Select from Drop Down"},{"$f":"Import!E1822","v":"Select from Drop Down"},{"$f":"Import!E1847","v":"Select from Drop Down"},{"$f":"Import!E1872","v":0},{"$f":"Import!E1898","v":0},{"$f":"IF(Import!E1924=0,\"\",Import!E1924)","v":""},{"$f":"IF(Import!E1949=0,\"\",Import!E1949)","v":""},{"$f":"IF(Import!E1974=0,\"\",Import!E1974)","v":""},{"$f":"Import!E1999","v":0},{"$f":"Import!E2025","v":0},{"$f":"Import!E2051","v":0},{"$f":"Import!E2077","v":0},{"$f":"Import!E2103","v":0},{"$f":"Import!E2129","v":0},{"$f":"Import!E2155","v":0},{"$f":"Import!E2181","v":"Select from Drop Down"},{"$f":"Import!E2206","v":"Select from Drop Down"},{"$f":"Import!E2231","v":"Select from Drop Down"},{"$f":"Import!E2256","v":0},{"$f":"Import!E2282","v":0}]
[13,{"$f":"Import!E1748","v":0},{"$f":"Import!E1773","v":0},{"$f":"Import!E1798","v":"Select from Drop Down"},{"$f":"Import!E1823","v":"Select from Drop Down"},{"$f":"Import!E1848","v":"Select from Drop Down"},{"$f":"Import!E1873","v":0},{"$f":"Import!E1899","v":0},{"$f":"IF(Import!E1925=0,\"\",Import!E1925)","v":""},{"$f":"IF(Import!E1950=0,\"\",Import!E1950)","v":""},{"$f":"IF(Import!E1975=0,\"\",Import!E1975)","v":""},{"$f":"Import!E2000","v":0},{"$f":"Import!E2026","v":0},{"$f":"Import!E2052","v":0},{"$f":"Import!E2078","v":0},{"$f":"Import!E2104","v":0},{"$f":"Import!E2130","v":0},{"$f":"Import!E2156","v":0},{"$f":"Import!E2182","v":"Select from Drop Down"},{"$f":"Import!E2207","v":"Select from Drop Down"},{"$f":"Import!E2232","v":"Select from Drop Down"},{"$f":"Import!E2257","v":0},{"$f":"Import!E2283","v":0}]
[14,{"$f":"Import!E1749","v":0},{"$f":"Import!E1774","v":0},{"$f":"Import!E1799","v":"Select from Drop Down"},{"$f":"Import!E1824","v":"Select from Drop Down"},{"$f":"Import!E1849","v":"Select from Drop Down"},{"$f":"Import!E1874","v":0},{"$f":"Import!E1900","v":0},{"$f":"IF(Import!E1926=0,\"\",Import!E1926)","v":""},{"$f":"IF(Import!E1951=0,\"\",Import!E1951)","v":""},{"$f":"IF(Import!E1976=0,\"\",Import!E1976)","v":""},{"$f":"Import!E2001","v":0},{"$f":"Import!E2027","v":0},{"$f":"Import!E2053","v":0},{"$f":"Import!E2079","v":0},{"$f":"Import!E2105","v":0},{"$f":"Import!E2131","v":0},{"$f":"Import!E2157","v":0},{"$f":"Import!E2183","v":"Select from Drop Down"},{"$f":"Import!E2208","v":"Select from Drop Down"},{"$f":"Import!E2233","v":"Select from Drop Down"},{"$f":"Import!E2258","v":0},{"$f":"Import!E2284","v":0}]
[15,{"$f":"Import!E1750","v":0},{"$f":"Import!E1775","v":0},{"$f":"Import!E1800","v":"Select from Drop Down"},{"$f":"Import!E1825","v":"Select from Drop Down"},{"$f":"Import!E1850","v":"Select from Drop Down"},{"$f":"Import!E1875","v":0},{"$f":"Import!E1901","v":0},{"$f":"IF(Import!E1927=0,\"\",Import!E1927)","v":""},{"$f":"IF(Import!E1952=0,\"\",Import!E1952)","v":""},{"$f":"IF(Import!E1977=0,\"\",Import!E1977)","v":""},{"$f":"Import!E2002","v":0},{"$f":"Import!E2028","v":0},{"$f":"Import!E2054","v":0},{"$f":"Import!E2080","v":0},{"$f":"Import!E2106","v":0},{"$f":"Import!E2132","v":0},{"$f":"Import!E2158","v":0},{"$f":"Import!E2184","v":"Select from Drop Down"},{"$f":"Import!E2209","v":"Select from Drop Down"},{"$f":"Import!E2234","v":"Select from Drop Down"},{"$f":"Import!E2259","v":0},{"$f":"Import!E2285","v":0}]
[16,{"$f":"Import!E1751","v":0},{"$f":"Import!E1776","v":0},{"$f":"Import!E1801","v":"Select from Drop Down"},{"$f":"Import!E1826","v":"Select from Drop Down"},{"$f":"Import!E1851","v":"Select from Drop Down"},{"$f":"Import!E1876","v":0},{"$f":"Import!E1902","v":0},{"$f":"IF(Import!E1928=0,\"\",Import!E1928)","v":""},{"$f":"IF(Import!E1953=0,\"\",Import!E1953)","v":""},{"$f":"IF(Import!E1978=0,\"\",Import!E1978)","v":""},{"$f":"Import!E2003","v":0},{"$f":"Import!E2029","v":0},{"$f":"Import!E2055","v":0},{"$f":"Import!E2081","v":0},{"$f":"Import!E2107","v":0},{"$f":"Import!E2133","v":0},{"$f":"Import!E2159","v":0},{"$f":"Import!E2185","v":"Select from Drop Down"},{"$f":"Import!E2210","v":"Select from Drop Down"},{"$f":"Import!E2235","v":"Select from Drop Down"},{"$f":"Import!E2260","v":0},{"$f":"Import!E2286","v":0}]
[17,{"$f":"Import!E1752","v":0},{"$f":"Import!E1777","v":0},{"$f":"Import!E1802","v":"Select from Drop Down"},{"$f":"Import!E1827","v":"Select from Drop Down"},{"$f":"Import!E1852","v":"Select from Drop Down"},{"$f":"Import!E1877","v":0},{"$f":"Import!E1903","v":0},{"$f":"IF(Import!E1929=0,\"\",Import!E1929)","v":""},{"$f":"IF(Import!E1954=0,\"\",Import!E1954)","v":""},{"$f":"IF(Import!E1979=0,\"\",Import!E1979)","v":""},{"$f":"Import!E2004","v":0},{"$f":"Import!E2030","v":0},{"$f":"Import!E2056","v":0},{"$f":"Import!E2082","v":0},{"$f":"Import!E2108","v":0},{"$f":"Import!E2134","v":0},{"$f":"Import!E2160","v":0},{"$f":"Import!E2186","v":"Select from Drop Down"},{"$f":"Import!E2211","v":"Select from Drop Down"},{"$f":"Import!E2236","v":"Select from Drop Down"},{"$f":"Import!E2261","v":0},{"$f":"Import!E2287","v":0}]
[18,{"$f":"Import!E1753","v":0},{"$f":"Import!E1778","v":0},{"$f":"Import!E1803","v":"Select from Drop Down"},{"$f":"Import!E1828","v":"Select from Drop Down"},{"$f":"Import!E1853","v":"Select from Drop Down"},{"$f":"Import!E1878","v":0},{"$f":"Import!E1904","v":0},{"$f":"IF(Import!E1930=0,\"\",Import!E1930)","v":""},{"$f":"IF(Import!E1955=0,\"\",Import!E1955)","v":""},{"$f":"IF(Import!E1980=0,\"\",Import!E1980)","v":""},{"$f":"Import!E2005","v":0},{"$f":"Import!E2031","v":0},{"$f":"Import!E2057","v":0},{"$f":"Import!E2083","v":0},{"$f":"Import!E2109","v":0},{"$f":"Import!E2135","v":0},{"$f":"Import!E2161","v":0},{"$f":"Import!E2187","v":"Select from Drop Down"},{"$f":"Import!E2212","v":"Select from Drop Down"},{"$f":"Import!E2237","v":"Select from Drop Down"},{"$f":"Import!E2262","v":0},{"$f":"Import!E2288","v":0}]
[19,{"$f":"Import!E1754","v":0},{"$f":"Import!E1779","v":0},{"$f":"Import!E1804","v":"Select from Drop Down"},{"$f":"Import!E1829","v":"Select from Drop Down"},{"$f":"Import!E1854","v":"Select from Drop Down"},{"$f":"Import!E1879","v":0},{"$f":"Import!E1905","v":0},{"$f":"IF(Import!E1931=0,\"\",Import!E1931)","v":""},{"$f":"IF(Import!E1956=0,\"\",Import!E1956)","v":""},{"$f":"IF(Import!E1981=0,\"\",Import!E1981)","v":""},{"$f":"Import!E2006","v":0},{"$f":"Import!E2032","v":0},{"$f":"Import!E2058","v":0},{"$f":"Import!E2084","v":0},{"$f":"Import!E2110","v":0},{"$f":"Import!E2136","v":0},{"$f":"Import!E2162","v":0},{"$f":"Import!E2188","v":"Select from Drop Down"},{"$f":"Import!E2213","v":"Select from Drop Down"},{"$f":"Import!E2238","v":"Select from Drop Down"},{"$f":"Import!E2263","v":0},{"$f":"Import!E2289","v":0}]
[20,{"$f":"Import!E1755","v":0},{"$f":"Import!E1780","v":0},{"$f":"Import!E1805","v":"Select from Drop Down"},{"$f":"Import!E1830","v":"Select from Drop Down"},{"$f":"Import!E1855","v":"Select from Drop Down"},{"$f":"Import!E1880","v":0},{"$f":"Import!E1906","v":0},{"$f":"IF(Import!E1932=0,\"\",Import!E1932)","v":""},{"$f":"IF(Import!E1957=0,\"\",Import!E1957)","v":""},{"$f":"IF(Import!E1982=0,\"\",Import!E1982)","v":""},{"$f":"Import!E2007","v":0},{"$f":"Import!E2033","v":0},{"$f":"Import!E2059","v":0},{"$f":"Import!E2085","v":0},{"$f":"Import!E2111","v":0},{"$f":"Import!E2137","v":0},{"$f":"Import!E2163","v":0},{"$f":"Import!E2189","v":"Select from Drop Down"},{"$f":"Import!E2214","v":"Select from Drop Down"},{"$f":"Import!E2239","v":"Select from Drop Down"},{"$f":"Import!E2264","v":0},{"$f":"Import!E2290","v":0}]
[21,{"$f":"Import!E1756","v":0},{"$f":"Import!E1781","v":0},{"$f":"Import!E1806","v":"Select from Drop Down"},{"$f":"Import!E1831","v":"Select from Drop Down"},{"$f":"Import!E1856","v":"Select from Drop Down"},{"$f":"Import!E1881","v":0},{"$f":"Import!E1907","v":0},{"$f":"IF(Import!E1933=0,\"\",Import!E1933)","v":""},{"$f":"IF(Import!E1958=0,\"\",Import!E1958)","v":""},{"$f":"IF(Import!E1983=0,\"\",Import!E1983)","v":""},{"$f":"Import!E2008","v":0},{"$f":"Import!E2034","v":0},{"$f":"Import!E2060","v":0},{"$f":"Import!E2086","v":0},{"$f":"Import!E2112","v":0},{"$f":"Import!E2138","v":0},{"$f":"Import!E2164","v":0},{"$f":"Import!E2190","v":"Select from Drop Down"},{"$f":"Import!E2215","v":"Select from Drop Down"},{"$f":"Import!E2240","v":"Select from Drop Down"},{"$f":"Import!E2265","v":0},{"$f":"Import!E2291","v":0}]
[22,{"$f":"Import!E1757","v":0},{"$f":"Import!E1782","v":0},{"$f":"Import!E1807","v":"Select from Drop Down"},{"$f":"Import!E1832","v":"Select from Drop Down"},{"$f":"Import!E1857","v":"Select from Drop Down"},{"$f":"Import!E1882","v":0},{"$f":"Import!E1908","v":0},{"$f":"IF(Import!E1934=0,\"\",Import!E1934)","v":""},{"$f":"IF(Import!E1959=0,\"\",Import!E1959)","v":""},{"$f":"IF(Import!E1984=0,\"\",Import!E1984)","v":""},{"$f":"Import!E2009","v":0},{"$f":"Import!E2035","v":0},{"$f":"Import!E2061","v":0},{"$f":"Import!E2087","v":0},{"$f":"Import!E2113","v":0},{"$f":"Import!E2139","v":0},{"$f":"Import!E2165","v":0},{"$f":"Import!E2191","v":"Select from Drop Down"},{"$f":"Import!E2216","v":"Select from Drop Down"},{"$f":"Import!E2241","v":"Select from Drop Down"},{"$f":"Import!E2266","v":0},{"$f":"Import!E2292","v":0}]
[23,{"$f":"Import!E1758","v":0},{"$f":"Import!E1783","v":0},{"$f":"Import!E1808","v":"Select from Drop Down"},{"$f":"Import!E1833","v":"Select from Drop Down"},{"$f":"Import!E1858","v":"Select from Drop Down"},{"$f":"Import!E1883","v":0},{"$f":"Import!E1909","v":0},{"$f":"IF(Import!E1935=0,\"\",Import!E1935)","v":""},{"$f":"IF(Import!E1960=0,\"\",Import!E1960)","v":""},{"$f":"IF(Import!E1985=0,\"\",Import!E1985)","v":""},{"$f":"Import!E2010","v":0},{"$f":"Import!E2036","v":0},{"$f":"Import!E2062","v":0},{"$f":"Import!E2088","v":0},{"$f":"Import!E2114","v":0},{"$f":"Import!E2140","v":0},{"$f":"Import!E2166","v":0},{"$f":"Import!E2192","v":"Select from Drop Down"},{"$f":"Import!E2217","v":"Select from Drop Down"},{"$f":"Import!E2242","v":"Select from Drop Down"},{"$f":"Import!E2267","v":0},{"$f":"Import!E2293","v":0}]
[24,{"$f":"Import!E1759","v":0},{"$f":"Import!E1784","v":0},{"$f":"Import!E1809","v":"Select from Drop Down"},{"$f":"Import!E1834","v":"Select from Drop Down"},{"$f":"Import!E1859","v":"Select from Drop Down"},{"$f":"Import!E1884","v":0},{"$f":"Import!E1910","v":0},{"$f":"IF(Import!E1936=0,\"\",Import!E1936)","v":""},{"$f":"IF(Import!E1961=0,\"\",Import!E1961)","v":""},{"$f":"IF(Import!E1986=0,\"\",Import!E1986)","v":""},{"$f":"Import!E2011","v":0},{"$f":"Import!E2037","v":0},{"$f":"Import!E2063","v":0},{"$f":"Import!E2089","v":0},{"$f":"Import!E2115","v":0},{"$f":"Import!E2141","v":0},{"$f":"Import!E2167","v":0},{"$f":"Import!E2193","v":"Select from Drop Down"},{"$f":"Import!E2218","v":"Select from Drop Down"},{"$f":"Import!E2243","v":"Select from Drop Down"},{"$f":"Import!E2268","v":0},{"$f":"Import!E2294","v":0}]
[25,{"$f":"Import!E1760","v":0},{"$f":"Import!E1785","v":0},{"$f":"Import!E1810","v":"Select from Drop Down"},{"$f":"Import!E1835","v":"Select from Drop Down"},{"$f":"Import!E1860","v":"Select from Drop Down"},{"$f":"Import!E1885","v":0},{"$f":"Import!E1911","v":0},{"$f":"IF(Import!E1937=0,\"\",Import!E1937)","v":""},{"$f":"IF(Import!E1962=0,\"\",Import!E1962)","v":""},{"$f":"IF(Import!E1987=0,\"\",Import!E1987)","v":""},{"$f":"Import!E2012","v":0},{"$f":"Import!E2038","v":0},{"$f":"Import!E2064","v":0},{"$f":"Import!E2090","v":0},{"$f":"Import!E2116","v":0},{"$f":"Import!E2142","v":0},{"$f":"Import!E2168","v":0},{"$f":"Import!E2194","v":"Select from Drop Down"},{"$f":"Import!E2219","v":"Select from Drop Down"},{"$f":"Import!E2244","v":"Select from Drop Down"},{"$f":"Import!E2269","v":0},{"$f":"Import!E2295","v":0}]
[26,null,null,"Select from Drop Down","Select from Drop Down","Select from Drop Down",null,null,null,null,null,null,null,null,null,null,null,null,"Select from Drop Down","Select from Drop Down","Select from Drop Down"]
[27,null,null,"Select from Drop Down","Select from Drop Down","Select from Drop Down",null,null,null,null,null,null,null,null,null,null,null,null,"Select from Drop Down","Select from Drop Down","Select from Drop Down"]
[28,null,null,"Select from Drop Down","Select from Drop Down","Select from Drop Down",null,null,null,null,null,null,null,null,null,null,null,null,"Select from Drop Down","Select from Drop Down","Select from Drop Down"]
[29,null,null,"Select from Drop Down","Select from Drop Down","Select from Drop Down",null,null,null,null,null,null,null,null,null,null,null,null,"Select from Drop Down","Select from Drop Down","Select from Drop Down"]
[30,null,null,"Select from Drop Down","Select from Drop Down","Select from Drop Down",null,null,null,null,null,null,null,null,null,null,null,null,"Select from Drop Down","Select from Drop Down","Select from Drop Down"]
[31,null,null,"Select from Drop Down","Select from Drop Down","Select from Drop Down",null,null,null,null,null,null,null,null,null,null,null,null,"Select from Drop Down","Select from Drop Down","Select from Drop Down"]
[32,null,null,"Select from Drop Down","Select from Drop Down","Select from Drop Down",null,null,null,null,null,null,null,null,null,null,null,null,"Select from Drop Down","Select from Drop Down","Select from Drop Down"]
[33,null,null,"Select from Drop Down","Select from Drop Down","Select from Drop Down",null,null,null,null,null,null,null,null,null,null,null,null,"Select from Drop Down","Select from Drop Down","Select from Drop Down"]
[34,null,null,"Select from Drop Down","Select from Drop Down","Select from Drop Down",null,null,null,null,null,null,null,null,null,null,null,null,"Select from Drop Down","Select from Drop Down","Select from Drop Down"]
[35,null,null,"Select from Drop Down","Select from Drop Down","Select from Drop Down",null,null,null,null,null,null,null,null,null,null,null,null,"Select from Drop Down","Select from Drop Down","Select from Drop Down"]
[36,null,null,"Select from Drop Down","Select from Drop Down","Select from Drop Down",null,null,null,null,null,null,null,null,null,null,null,null,"Select from Drop Down","Select from Drop Down","Select from Drop Down"]
[37,null,null,"Select from Drop Down","Select from Drop Down","Select from Drop Down",null,null,null,null,null,null,null,null,null,null,null,null,"Select from Drop Down","Select from Drop Down","Select from Drop Down"]
[38,null,null,"Select from Drop Down","Select from Drop Down","Select from Drop Down",null,null,null,null,null,null,null,null,null,null,null,null,"Select from Drop Down","Select from Drop Down","Select from Drop Down"]
[39,null,null,"Select from Drop Down","Select from Drop Down","Select from Drop Down",null,null,null,null,null,null,null,null,null,null,null,null,"Select from Drop Down","Select from Drop Down","Select from Drop Down"]
[40,null,null,"Select from Drop Down","Select from Drop Down","Select from Drop Down",null,null,null,null,null,null,null,null,null,null,null,null,"Select from Drop Down","Select from Drop Down","Select from Drop Down"]
[41,null,null,"Select from Drop Down","Select from Drop Down","Select from Drop Down",null,null,null,null,null,null,null,null,null,null,null,null,"Select from Drop Down","Select from Drop Down","Select from Drop Down"]
[42,null,null,"Select from Drop Down","Select from Drop Down","Select from Drop Down",null,null,null,null,null,null,null,null,null,null,null,null,"Select from Drop Down","Select from Drop Down","Select from Drop Down"]
[43,null,null,"Select from Drop Down","Select from Drop Down","Select from Drop Down",null,null,null,null,null,null,null,null,null,null,null,null,"Select from Drop Down","Select from Drop Down","Select from Drop Down"]
[44,null,null,"Select from Drop Down","Select from Drop Down","Select from Drop Down",null,null,null,null,null,null,null,null,null,null,null,null,"Select from Drop Down","Select from Drop Down","Select from Drop Down"]
[45,null,null,"Select from Drop Down","Select from Drop Down","Select from Drop Down",null,null,null,null,null,null,null,null,null,null,null,null,"Select from Drop Down","Select from Drop Down","Select from Drop Down"]
[46,null,null,"Select from Drop Down","Select from Drop Down","Select from Drop Down",null,null,null,null,null,null,null,null,null,null,null,null,"Select from Drop Down","Select from Drop Down","Select from Drop Down"]
[47,null,null,"Select from Drop Down","Select from Drop Down","Select from Drop Down",null,null,null,null,null,null,null,null,null,null,null,null,"Select from Drop Down","Select from Drop Down","Select from Drop Down"]
[48,null,null,"Select from Drop Down","Select from Drop Down","Select from Drop Down",null,null,null,null,null,null,null,null,null,null,null,null,"Select from Drop Down","Select from Drop Down","Select from Drop Down"]
[49,null,null,"Select from Drop Down","Select from Drop Down","Select from Drop Down",null,null,null,null,null,null,null,null,null,null,null,null,"Select from Drop Down","Select from Drop Down","Select from Drop Down"]
[50,null,null,"Select from Drop Down","Select from Drop Down","Select from Drop Down",null,null,null,null,null,null,null,null,null,null,null,null,"Select from Drop Down","Select from Drop Down","Select from Drop Down"]
[51,null,null,"Select from Drop Down","Select from Drop Down","Select from Drop Down",null,null,null,null,null,null,null,null,null,null,null,null,"Select from Drop Down","Select from Drop Down","Select from Drop Down"]
[52,null,null,"Select from Drop Down","Select from Drop Down","Select from Drop Down",null,null,null,null,null,null,null,null,null,null,null,null,"Select from Drop Down","Select from Drop Down","Select from Drop Down"]
[53,null,null,"Select from Drop Down","Select from Drop Down","Select from Drop Down",null,null,null,null,null,null,null,null,null,null,null,null,"Select from Drop Down","Select from Drop Down","Select from Drop Down"]
[54,null,null,"Select from Drop Down","Select from Drop Down","Select from Drop Down",null,null,null,null,null,null,null,null,null,null,null,null,"Select from Drop Down","Select from Drop Down","Select from Drop Down"]
[55,null,null,"Select from Drop Down","Select from Drop Down","Select from Drop Down",null,null,null,null,null,null,null,null,null,null,null,null,"Select from Drop Down","Select from Drop Down","Select from Drop Down"]
[56,null,null,"Select from Drop Down","Select from Drop Down","Select from Drop Down",null,null,null,null,null,null,null,null,null,null,null,null,"Select from Drop Down","Select from Drop Down","Select from Drop Down"]
[57,null,null,"Select from Drop Down","Select from Drop Down","Select from Drop Down",null,null,null,null,null,null,null,null,null,null,null,null,"Select from Drop Down","Select from Drop Down","Select from Drop Down"]
[58,null,null,"Select from Drop Down","Select from Drop Down","Select from Drop Down",null,null,null,null,null,null,null,null,null,null,null,null,"Select from Drop Down","Select from Drop Down","Select from Drop Down"]
[59,null,null,"Select from Drop Down","Select from Drop Down","Select from Drop Down",null,null,null,null,null,null,null,null,null,null,null,null,"Select from Drop Down","Select from Drop Down","Select from Drop Down"]
[60,null,null,"Select from Drop Down","Select from Drop Down","Select from Drop Down",null,null,null,null,null,null,null,null,null,null,null,null,"Select from Drop Down","Select from Drop Down","Select from Drop Down"]
[61,null,null,"Select from Drop Down","Select from Drop Down","Select from Drop Down",null,null,null,null,null,null,null,null,null,null,null,null,"Select from Drop Down","Select from Drop Down","Select from Drop Down"]
[62,null,null,"Select from Drop Down","Select from Drop Down","Select from Drop Down",null,null,null,null,null,null,null,null,null,null,null,null,"Select from Drop Down","Select from Drop Down","Select from Drop Down"]
[63,null,null,"Select from Drop Down","Select from Drop Down","Select from Drop Down",null,null,null,null,null,null,null,null,null,null,null,null,"Select from Drop Down","Select from Drop Down","Select from Drop Down"]
[64,null,null,"Select from Drop Down","Select from Drop Down","Select from Drop Down",null,null,null,null,null,null,null,null,null,null,null,null,"Select from Drop Down","Select from Drop Down","Select from Drop Down"]
[65,null,null,"Select from Drop Down","Select from Drop Down","Select from Drop Down",null,null,null,null,null,null,null,null,null,null,null,null,"Select from Drop Down","Select from Drop Down","Select from Drop Down"]
[66,null,null,"Select from Drop Down","Select from Drop Down","Select from Drop Down",null,null,null,null,null,null,null,null,null,null,null,null,"Select from Drop Down","Select from Drop Down","Select from Drop Down"]
[{"$f":"A76+1","v":67},null,null,"Select from Drop Down","Select from Drop Down","Select from Drop Down",null,null,null,null,null,null,null,null,null,null,null,null,"Select from Drop Down","Select from Drop Down","Select from Drop Down"]
[68,null,null,"Select from Drop Down","Select from Drop Down","Select from Drop Down",null,null,null,null,null,null,null,null,null,null,null,null,"Select from Drop Down","Select from Drop Down","Select from Drop Down"]
[69,null,null,"Select from Drop Down","Select from Drop Down","Select from Drop Down",null,null,null,null,null,null,null,null,null,null,null,null,"Select from Drop Down","Select from Drop Down","Select from Drop Down"]
[70,null,null,"Select from Drop Down","Select from Drop Down","Select from Drop Down",null,null,null,null,null,null,null,null,null,null,null,null,"Select from Drop Down","Select from Drop Down","Select from Drop Down"]
[71,null,null,"Select from Drop Down","Select from Drop Down","Select from Drop Down",null,null,null,null,null,null,null,null,null,null,null,null,"Select from Drop Down","Select from Drop Down","Select from Drop Down"]
[72,null,null,"Select from Drop Down","Select from Drop Down","Select from Drop Down",null,null,null,null,null,null,null,null,null,null,null,null,"Select from Drop Down","Select from Drop Down","Select from Drop Down"]
[73,null,null,"Select from Drop Down","Select from Drop Down","Select from Drop Down",null,null,null,null,null,null,null,null,null,null,null,null,"Select from Drop Down","Select from Drop Down","Select from Drop Down"]
[74,null,null,"Select from Drop Down","Select from Drop Down","Select from Drop Down",null,null,null,null,null,null,null,null,null,null,null,null,"Select from Drop Down","Select from Drop Down","Select from Drop Down"]
[75,null,null,"Select from Drop Down","Select from Drop Down","Select from Drop Down",null,null,null,null,null,null,null,null,null,null,null,null,"Select from Drop Down","Select from Drop Down","Select from Drop Down"]
[76,null,null,"Select from Drop Down","Select from Drop Down","Select from Drop Down",null,null,null,null,null,null,null,null,null,null,null,null,"Select from Drop Down","Select from Drop Down","Select from Drop Down"]
[77,null,null,"Select from Drop Down","Select from Drop Down","Select from Drop Down",null,null,null,null,null,null,null,null,null,null,null,null,"Select from Drop Down","Select from Drop Down","Select from Drop Down"]
[78,null,null,"Select from Drop Down","Select from Drop Down","Select from Drop Down",null,null,null,null,null,null,null,null,null,null,null,null,"Select from Drop Down","Select from Drop Down","Select from Drop Down"]
[79,null,null,"Select from Drop Down","Select from Drop Down","Select from Drop Down",null,null,null,null,null,null,null,null,null,null,null,null,"Select from Drop Down","Select from Drop Down","Select from Drop Down"]
[80,null,null,"Select from Drop Down","Select from Drop Down","Select from Drop Down",null,null,null,null,null,null,null,null,null,null,null,null,"Select from Drop Down","Select from Drop Down","Select from Drop Down"]
[81,null,null,"Select from Drop Down","Select from Drop Down","Select from Drop Down",null,null,null,null,null,null,null,null,null,null,null,null,"Select from Drop Down","Select from Drop Down","Select from Drop Down"]
[82,null,null,"Select from Drop Down","Select from Drop Down","Select from Drop Down",null,null,null,null,null,null,null,null,null,null,null,null,"Select from Drop Down","Select from Drop Down","Select from Drop Down"]
[83,null,null,"Select from Drop Down","Select from Drop Down","Select from Drop Down",null,null,null,null,null,null,null,null,null,null,null,null,"Select from Drop Down","Select from Drop Down","Select from Drop Down"]
[84,null,null,"Select from Drop Down","Select from Drop Down","Select from Drop Down",null,null,null,null,null,null,null,null,null,null,null,null,"Select from Drop Down","Select from Drop Down","Select from Drop Down"]
[85,null,null,"Select from Drop Down","Select from Drop Down","Select from Drop Down",null,null,null,null,null,null,null,null,null,null,null,null,"Select from Drop Down","Select from Drop Down","Select from Drop Down"]
[86,null,null,"Select from Drop Down","Select from Drop Down","Select from Drop Down",null,null,null,null,null,null,null,null,null,null,null,null,"Select from Drop Down","Select from Drop Down","Select from Drop Down"]
[87,null,null,"Select from Drop Down","Select from Drop Down","Select from Drop Down",null,null,null,null,null,null,null,null,null,null,null,null,"Select from Drop Down","Select from Drop Down","Select from Drop Down"]
[88,null,null,"Select from Drop Down","Select from Drop Down","Select from Drop Down",null,null,null,null,null,null,null,null,null,null,null,null,"Select from Drop Down","Select from Drop Down","Select from Drop Down"]
[89,null,null,"Select from Drop Down","Select from Drop Down","Select from Drop Down",null,null,null,null,null,null,null,null,null,null,null,null,"Select from Drop Down","Select from Drop Down","Select from Drop Down"]
[90,null,null,"Select from Drop Down","Select from Drop Down","Select from Drop Down",null,null,null,null,null,null,null,null,null,null,null,null,"Select from Drop Down","Select from Drop Down","Select from Drop Down"]
[91,null,null,"Select from Drop Down","Select from Drop Down","Select from Drop Down",null,null,null,null,null,null,null,null,null,null,null,null,"Select from Drop Down","Select from Drop Down","Select from Drop Down"]
[92,null,null,"Select from Drop Down","Select from Drop Down","Select from Drop Down",null,null,null,null,null,null,null,null,null,null,null,null,"Select from Drop Down","Select from Drop Down","Select from Drop Down"]
[93,null,null,"Select from Drop Down","Select from Drop Down","Select from Drop Down",null,null,null,null,null,null,null,null,null,null,null,null,"Select from Drop Down","Select from Drop Down","Select from Drop Down"]
[94,null,null,"Select from Drop Down","Select from Drop Down","Select from Drop Down",null,null,null,null,null,null,null,null,null,null,null,null,"Select from Drop Down","Select from Drop Down","Select from Drop Down"]
[95,null,null,"Select from Drop Down","Select from Drop Down","Select from Drop Down",null,null,null,null,null,null,null,null,null,null,null,null,"Select from Drop Down","Select from Drop Down","Select from Drop Down"]
[96,null,null,"Select from Drop Down","Select from Drop Down","Select from Drop Down",null,null,null,null,null,null,null,null,null,null,null,null,"Select from Drop Down","Select from Drop Down","Select from Drop Down"]
[97,null,null,"Select from Drop Down","Select from Drop Down","Select from Drop Down",null,null,null,null,null,null,null,null,null,null,null,null,"Select from Drop Down","Select from Drop Down","Select from Drop Down"]
[98,null,null,"Select from Drop Down","Select from Drop Down","Select from Drop Down",null,null,null,null,null,null,null,null,null,null,null,null,"Select from Drop Down","Select from Drop Down","Select from Drop Down"]
[99,null,null,"Select from Drop Down","Select from Drop Down","Select from Drop Down",null,null,null,null,null,null,null,null,null,null,null,null,"Select from Drop Down","Select from Drop Down","Select from Drop Down"]
[100,null,null,"Select from Drop Down","Select from Drop Down","Select from Drop Down",null,null,null,null,null,null,null,null,null,null,null,null,"Select from Drop Down","Select from Drop Down","Select from Drop Down"]
[101,null,null,"Select from Drop Down","Select from Drop Down","Select from Drop Down",null,null,null,null,null,null,null,null,null,null,null,null,"Select from Drop Down","Select from Drop Down","Select from Drop Down"]
[102,null,null,"Select from Drop Down","Select from Drop Down","Select from Drop Down",null,null,null,null,null,null,null,null,null,null,null,null,"Select from Drop Down","Select from Drop Down","Select from Drop Down"]
[103,null,null,"Select from Drop Down","Select from Drop Down","Select from Drop Down",null,null,null,null,null,null,null,null,null,null,null,null,"Select from Drop Down","Select from Drop Down","Select from Drop Down"]
[104,null,null,"Select from Drop Down","Select from Drop Down","Select from Drop Down",null,null,null,null,null,null,null,null,null,null,null,null,"Select from Drop Down","Select from Drop Down","Select from Drop Down"]
[105,null,null,"Select from Drop Down","Select from Drop Down","Select from Drop Down",null,null,null,null,null,null,null,null,null,null,null,null,"Select from Drop Down","Select from Drop Down","Select from Drop Down"]
[106,null,null,"Select from Drop Down","Select from Drop Down","Select from Drop Down",null,null,null,null,null,null,null,null,null,null,null,null,"Select from Drop Down","Select from Drop Down","Select from Drop Down"]
[107,null,null,"Select from Drop Down","Select from Drop Down","Select from Drop Down",null,null,null,null,null,null,null,null,null,null,null,null,"Select from Drop Down","Select from Drop Down","Select from Drop Down"]
[108,null,null,"Select from Drop Down","Select from Drop Down","Select from Drop Down",null,null,null,null,null,null,null,null,null,null,null,null,"Select from Drop Down","Select from Drop Down","Select from Drop Down"]
[109,null,null,"Select from Drop Down","Select from Drop Down","Select from Drop Down",null,null,null,null,null,null,null,null,null,null,null,null,"Select from Drop Down","Select from Drop Down","Select from Drop Down"]
[110,null,null,"Select from Drop Down","Select from Drop Down","Select from Drop Down",null,null,null,null,null,null,null,null,null,null,null,null,"Select from Drop Down","Select from Drop Down","Select from Drop Down"]
[111,null,null,"Select from Drop Down","Select from Drop Down","Select from Drop Down",null,null,null,null,null,null,null,null,null,null,null,null,"Select from Drop Down","Select from Drop Down","Select from Drop Down"]
[112,null,null,"Select from Drop Down","Select from Drop Down","Select from Drop Down",null,null,null,null,null,null,null,null,null,null,null,null,"Select from Drop Down","Select from Drop Down","Select from Drop Down"]
[113,null,null,"Select from Drop Down","Select from Drop Down","Select from Drop Down",null,null,null,null,null,null,null,null,null,null,null,null,"Select from Drop Down","Select from Drop Down","Select from Drop Down"]
[114,null,null,"Select from Drop Down","Select from Drop Down","Select from Drop Down",null,null,null,null,null,null,null,null,null,null,null,null,"Select from Drop Down","Select from Drop Down","Select from Drop Down"]
[115,null,null,"Select from Drop Down","Select from Drop Down","Select from Drop Down",null,null,null,null,null,null,null,null,null,null,null,null,"Select from Drop Down","Select from Drop Down","Select from Drop Down"]
[116,null,null,"Select from Drop Down","Select from Drop Down","Select from Drop Down",null,null,null,null,null,null,null,null,null,null,null,null,"Select from Drop Down","Select from Drop Down","Select from Drop Down"]
[117,null,null,"Select from Drop Down","Select from Drop Down","Select from Drop Down",null,null,null,null,null,null,null,null,null,null,null,null,"Select from Drop Down","Select from Drop Down","Select from Drop Down"]
[118,null,null,"Select from Drop Down","Select from Drop Down","Select from Drop Down",null,null,null,null,null,null,null,null,null,null,null,null,"Select from Drop Down","Select from Drop Down","Select from Drop Down"]
[119,null,null,"Select from Drop Down","Select from Drop Down","Select from Drop Down",null,null,null,null,null,null,null,null,null,null,null,null,"Select from Drop Down","Select from Drop Down","Select from Drop Down"]
[120,null,null,"Select from Drop Down","Select from Drop Down","Select from Drop Down",null,null,null,null,null,null,null,null,null,null,null,null,"Select from Drop Down","Select from Drop Down","Select from Drop Down"]
[121,null,null,"Select from Drop Down","Select from Drop Down","Select from Drop Down",null,null,null,null,null,null,null,null,null,null,null,null,"Select from Drop Down","Select from Drop Down","Select from Drop Down"]
[122,null,null,"Select from Drop Down","Select from Drop Down","Select from Drop Down",null,null,null,null,null,null,null,null,null,null,null,null,"Select from Drop Down","Select from Drop Down","Select from Drop Down"]
[123,null,null,"Select from Drop Down","Select from Drop Down","Select from Drop Down",null,null,null,null,null,null,null,null,null,null,null,null,"Select from Drop Down","Select from Drop Down","Select from Drop Down"]
[124,null,null,"Select from Drop Down","Select from Drop Down","Select from Drop Down",null,null,null,null,null,null,null,null,null,null,null,null,"Select from Drop Down","Select from Drop Down","Select from Drop Down"]
[125,null,null,"Select from Drop Down","Select from Drop Down","Select from Drop Down",null,null,null,null,null,null,null,null,null,null,null,null,"Select from Drop Down","Select from Drop Down","Select from Drop Down"]
[126,null,null,"Select from Drop Down","Select from Drop Down","Select from Drop Down",null,null,null,null,null,null,null,null,null,null,null,null,"Select from Drop Down","Select from Drop Down","Select from Drop Down"]
[127,null,null,"Select from Drop Down","Select from Drop Down","Select from Drop Down",null,null,null,null,null,null,null,null,null,null,null,null,"Select from Drop Down","Select from Drop Down","Select from Drop Down"]
[128,null,null,"Select from Drop Down","Select from Drop Down","Select from Drop Down",null,null,null,null,null,null,null,null,null,null,null,null,"Select from Drop Down","Select from Drop Down","Select from Drop Down"]
[129,null,null,"Select from Drop Down","Select from Drop Down","Select from Drop Down",null,null,null,null,null,null,null,null,null,null,null,null,"Select from Drop Down","Select from Drop Down","Select from Drop Down"]
[130,null,null,"Select from Drop Down","Select from Drop Down","Select from Drop Down",null,null,null,null,null,null,null,null,null,null,null,null,"Select from Drop Down","Select from Drop Down","Select from Drop Down"]
[{"$f":"A140+1","v":131},null,null,"Select from Drop Down","Select from Drop Down","Select from Drop Down",null,null,null,null,null,null,null,null,null,null,null,null,"Select from Drop Down","Select from Drop Down","Select from Drop Down"]
[132,null,null,"Select from Drop Down","Select from Drop Down","Select from Drop Down",null,null,null,null,null,null,null,null,null,null,null,null,"Select from Drop Down","Select from Drop Down","Select from Drop Down"]
[133,null,null,"Select from Drop Down","Select from Drop Down","Select from Drop Down",null,null,null,null,null,null,null,null,null,null,null,null,"Select from Drop Down","Select from Drop Down","Select from Drop Down"]
[134,null,null,"Select from Drop Down","Select from Drop Down","Select from Drop Down",null,null,null,null,null,null,null,null,null,null,null,null,"Select from Drop Down","Select from Drop Down","Select from Drop Down"]
[135,null,null,"Select from Drop Down","Select from Drop Down","Select from Drop Down",null,null,null,null,null,null,null,null,null,null,null,null,"Select from Drop Down","Select from Drop Down","Select from Drop Down"]
[136,null,null,"Select from Drop Down","Select from Drop Down","Select from Drop Down",null,null,null,null,null,null,null,null,null,null,null,null,"Select from Drop Down","Select from Drop Down","Select from Drop Down"]
[137,null,null,"Select from Drop Down","Select from Drop Down","Select from Drop Down",null,null,null,null,null,null,null,null,null,null,null,null,"Select from Drop Down","Select from Drop Down","Select from Drop Down"]
[138,null,null,"Select from Drop Down","Select from Drop Down","Select from Drop Down",null,null,null,null,null,null,null,null,null,null,null,null,"Select from Drop Down","Select from Drop Down","Select from Drop Down"]
[139,null,null,"Select from Drop Down","Select from Drop Down","Select from Drop Down",null,null,null,null,null,null,null,null,null,null,null,null,"Select from Drop Down","Select from Drop Down","Select from Drop Down"]
[140,null,null,"Select from Drop Down","Select from Drop Down","Select from Drop Down",null,null,null,null,null,null,null,null,null,null,null,null,"Select from Drop Down","Select from Drop Down","Select from Drop Down"]
[141,null,null,"Select from Drop Down","Select from Drop Down","Select from Drop Down",null,null,null,null,null,null,null,null,null,null,null,null,"Select from Drop Down","Select from Drop Down","Select from Drop Down"]
[142,null,null,"Select from Drop Down","Select from Drop Down","Select from Drop Down",null,null,null,null,null,null,null,null,null,null,null,null,"Select from Drop Down","Select from Drop Down","Select from Drop Down"]
[143,null,null,"Select from Drop Down","Select from Drop Down","Select from Drop Down",null,null,null,null,null,null,null,null,null,null,null,null,"Select from Drop Down","Select from Drop Down","Select from Drop Down"]
[144,null,null,"Select from Drop Down","Select from Drop Down","Select from Drop Down",null,null,null,null,null,null,null,null,null,null,null,null,"Select from Drop Down","Select from Drop Down","Select from Drop Down"]
[145,null,null,"Select from Drop Down","Select from Drop Down","Select from Drop Down",null,null,null,null,null,null,null,null,null,null,null,null,"Select from Drop Down","Select from Drop Down","Select from Drop Down"]
[146,null,null,"Select from Drop Down","Select from Drop Down","Select from Drop Down",null,null,null,null,null,null,null,null,null,null,null,null,"Select from Drop Down","Select from Drop Down","Select from Drop Down"]
[147,null,null,"Select from Drop Down","Select from Drop Down","Select from Drop Down",null,null,null,null,null,null,null,null,null,null,null,null,"Select from Drop Down","Select from Drop Down","Select from Drop Down"]
[148,null,null,"Select from Drop Down","Select from Drop Down","Select from Drop Down",null,null,null,null,null,null,null,null,null,null,null,null,"Select from Drop Down","Select from Drop Down","Select from Drop Down"]
[149,null,null,"Select from Drop Down","Select from Drop Down","Select from Drop Down",null,null,null,null,null,null,null,null,null,null,null,null,"Select from Drop Down","Select from Drop Down","Select from Drop Down"]
[150,null,null,"Select from Drop Down","Select from Drop Down","Select from Drop Down",null,null,null,null,null,null,null,null,null,null,null,null,"Select from Drop Down","Select from Drop Down","Select from Drop Down"]
[151,null,null,"Select from Drop Down","Select from Drop Down","Select from Drop Down",null,null,null,null,null,null,null,null,null,null,null,null,"Select from Drop Down","Select from Drop Down","Select from Drop Down"]
[152,null,null,"Select from Drop Down","Select from Drop Down","Select from Drop Down",null,null,null,null,null,null,null,null,null,null,null,null,"Select from Drop Down","Select from Drop Down","Select from Drop Down"]
[153,null,null,"Select from Drop Down","Select from Drop Down","Select from Drop Down",null,null,null,null,null,null,null,null,null,null,null,null,"Select from Drop Down","Select from Drop Down","Select from Drop Down"]
[154,null,null,"Select from Drop Down","Select from Drop Down","Select from Drop Down",null,null,null,null,null,null,null,null,null,null,null,null,"Select from Drop Down","Select from Drop Down","Select from Drop Down"]
[155,null,null,"Select from Drop Down","Select from Drop Down","Select from Drop Down",null,null,null,null,null,null,null,null,null,null,null,null,"Select from Drop Down","Select from Drop Down","Select from Drop Down"]
[156,null,null,"Select from Drop Down","Select from Drop Down","Select from Drop Down",null,null,null,null,null,null,null,null,null,null,null,null,"Select from Drop Down","Select from Drop Down","Select from Drop Down"]
[157,null,null,"Select from Drop Down","Select from Drop Down","Select from Drop Down",null,null,null,null,null,null,null,null,null,null,null,null,"Select from Drop Down","Select from Drop Down","Select from Drop Down"]
[158,null,null,"Select from Drop Down","Select from Drop Down","Select from Drop Down",null,null,null,null,null,null,null,null,null,null,null,null,"Select from Drop Down","Select from Drop Down","Select from Drop Down"]
[159,null,null,"Select from Drop Down","Select from Drop Down","Select from Drop Down",null,null,null,null,null,null,null,null,null,null,null,null,"Select from Drop Down","Select from Drop Down","Select from Drop Down"]
[160,null,null,"Select from Drop Down","Select from Drop Down","Select from Drop Down",null,null,null,null,null,null,null,null,null,null,null,null,"Select from Drop Down","Select from Drop Down","Select from Drop Down"]
[161,null,null,"Select from Drop Down","Select from Drop Down","Select from Drop Down",null,null,null,null,null,null,null,null,null,null,null,null,"Select from Drop Down","Select from Drop Down","Select from Drop Down"]
[162,null,null,"Select from Drop Down","Select from Drop Down","Select from Drop Down",null,null,null,null,null,null,null,null,null,null,null,null,"Select from Drop Down","Select from Drop Down","Select from Drop Down"]
[163,null,null,"Select from Drop Down","Select from Drop Down","Select from Drop Down",null,null,null,null,null,null,null,null,null,null,null,null,"Select from Drop Down","Select from Drop Down","Select from Drop Down"]
[164,null,null,"Select from Drop Down","Select from Drop Down","Select from Drop Down",null,null,null,null,null,null,null,null,null,null,null,null,"Select from Drop Down","Select from Drop Down","Select from Drop Down"]
[165,null,null,"Select from Drop Down","Select from Drop Down","Select from Drop Down",null,null,null,null,null,null,null,null,null,null,null,null,"Select from Drop Down","Select from Drop Down","Select from Drop Down"]
[166,null,null,"Select from Drop Down","Select from Drop Down","Select from Drop Down",null,null,null,null,null,null,null,null,null,null,null,null,"Select from Drop Down","Select from Drop Down","Select from Drop Down"]
[167,null,null,"Select from Drop Down","Select from Drop Down","Select from Drop Down",null,null,null,null,null,null,null,null,null,null,null,null,"Select from Drop Down","Select from Drop Down","Select from Drop Down"]
[168,null,null,"Select from Drop Down","Select from Drop Down","Select from Drop Down",null,null,null,null,null,null,null,null,null,null,null,null,"Select from Drop Down","Select from Drop Down","Select from Drop Down"]
[169,null,null,"Select from Drop Down","Select from Drop Down","Select from Drop Down",null,null,null,null,null,null,null,null,null,null,null,null,"Select from Drop Down","Select from Drop Down","Select from Drop Down"]
[170,null,null,"Select from Drop Down","Select from Drop Down","Select from Drop Down",null,null,null,null,null,null,null,null,null,null,null,null,"Select from Drop Down","Select from Drop Down","Select from Drop Down"]
[171,null,null,"Select from Drop Down","Select from Drop Down","Select from Drop Down",null,null,null,null,null,null,null,null,null,null,null,null,"Select from Drop Down","Select from Drop Down","Select from Drop Down"]
[172,null,null,"Select from Drop Down","Select from Drop Down","Select from Drop Down",null,null,null,null,null,null,null,null,null,null,null,null,"Select from Drop Down","Select from Drop Down","Select from Drop Down"]
[173,null,null,"Select from Drop Down","Select from Drop Down","Select from Drop Down",null,null,null,null,null,null,null,null,null,null,null,null,"Select from Drop Down","Select from Drop Down","Select from Drop Down"]
[174,null,null,"Select from Drop Down","Select from Drop Down","Select from Drop Down",null,null,null,null,null,null,null,null,null,null,null,null,"Select from Drop Down","Select from Drop Down","Select from Drop Down"]
[175,null,null,"Select from Drop Down","Select from Drop Down","Select from Drop Down",null,null,null,null,null,null,null,null,null,null,null,null,"Select from Drop Down","Select from Drop Down","Select from Drop Down"]
[176,null,null,"Select from Drop Down","Select from Drop Down","Select from Drop Down",null,null,null,null,null,null,null,null,null,null,null,null,"Select from Drop Down","Select from Drop Down","Select from Drop Down"]
[177,null,null,"Select from Drop Down","Select from Drop Down","Select from Drop Down",null,null,null,null,null,null,null,null,null,null,null,null,"Select from Drop Down","Select from Drop Down","Select from Drop Down"]
[178,null,null,"Select from Drop Down","Select from Drop Down","Select from Drop Down",null,null,null,null,null,null,null,null,null,null,null,null,"Select from Drop Down","Select from Drop Down","Select from Drop Down"]
[179,null,null,"Select from Drop Down","Select from Drop Down","Select from Drop Down",null,null,null,null,null,null,null,null,null,null,null,null,"Select from Drop Down","Select from Drop Down","Select from Drop Down"]
[180,null,null,"Select from Drop Down","Select from Drop Down","Select from Drop Down",null,null,null,null,null,null,null,null,null,null,null,null,"Select from Drop Down","Select from Drop Down","Select from Drop Down"]
[181,null,null,"Select from Drop Down","Select from Drop Down","Select from Drop Down",null,null,null,null,null,null,null,null,null,null,null,null,"Select from Drop Down","Select from Drop Down","Select from Drop Down"]
[182,null,null,"Select from Drop Down","Select from Drop Down","Select from Drop Down",null,null,null,null,null,null,null,null,null,null,null,null,"Select from Drop Down","Select from Drop Down","Select from Drop Down"]
[183,null,null,"Select from Drop Down","Select from Drop Down","Select from Drop Down",null,null,null,null,null,null,null,null,null,null,null,null,"Select from Drop Down","Select from Drop Down","Select from Drop Down"]
[184,null,null,"Select from Drop Down","Select from Drop Down","Select from Drop Down",null,null,null,null,null,null,null,null,null,null,null,null,"Select from Drop Down","Select from Drop Down","Select from Drop Down"]
[185,null,null,"Select from Drop Down","Select from Drop Down","Select from Drop Down",null,null,null,null,null,null,null,null,null,null,null,null,"Select from Drop Down","Select from Drop Down","Select from Drop Down"]
[186,null,null,"Select from Drop Down","Select from Drop Down","Select from Drop Down",null,null,null,null,null,null,null,null,null,null,null,null,"Select from Drop Down","Select from Drop Down","Select from Drop Down"]
[187,null,null,"Select from Drop Down","Select from Drop Down","Select from Drop Down",null,null,null,null,null,null,null,null,null,null,null,null,"Select from Drop Down","Select from Drop Down","Select from Drop Down"]
[188,null,null,"Select from Drop Down","Select from Drop Down","Select from Drop Down",null,null,null,null,null,null,null,null,null,null,null,null,"Select from Drop Down","Select from Drop Down","Select from Drop Down"]
[189,null,null,"Select from Drop Down","Select from Drop Down","Select from Drop Down",null,null,null,null,null,null,null,null,null,null,null,null,"Select from Drop Down","Select from Drop Down","Select from Drop Down"]
[190,null,null,"Select from Drop Down","Select from Drop Down","Select from Drop Down",null,null,null,null,null,null,null,null,null,null,null,null,"Select from Drop Down","Select from Drop Down","Select from Drop Down"]
[191,null,null,"Select from Drop Down","Select from Drop Down","Select from Drop Down",null,null,null,null,null,null,null,null,null,null,null,null,"Select from Drop Down","Select from Drop Down","Select from Drop Down"]
[192,null,null,"Select from Drop Down","Select from Drop Down","Select from Drop Down",null,null,null,null,null,null,null,null,null,null,null,null,"Select from Drop Down","Select from Drop Down","Select from Drop Down"]
[193,null,null,"Select from Drop Down","Select from Drop Down","Select from Drop Down",null,null,null,null,null,null,null,null,null,null,null,null,"Select from Drop Down","Select from Drop Down","Select from Drop Down"]
[194,null,null,"Select from Drop Down","Select from Drop Down","Select from Drop Down",null,null,null,null,null,null,null,null,null,null,null,null,"Select from Drop Down","Select from Drop Down","Select from Drop Down"]
[{"$f":"A204+1","v":195},null,null,"Select from Drop Down","Select from Drop Down","Select from Drop Down",null,null,null,null,null,null,null,null,null,null,null,null,"Select from Drop Down","Select from Drop Down","Select from Drop Down"]
[196,null,null,"Select from Drop Down","Select from Drop Down","Select from Drop Down",null,null,null,null,null,null,null,null,null,null,null,null,"Select from Drop Down","Select from Drop Down","Select from Drop Down"]
[197,null,null,"Select from Drop Down","Select from Drop Down","Select from Drop Down",null,null,null,null,null,null,null,null,null,null,null,null,"Select from Drop Down","Select from Drop Down","Select from Drop Down"]
[198,null,null,"Select from Drop Down","Select from Drop Down","Select from Drop Down",null,null,null,null,null,null,null,null,null,null,null,null,"Select from Drop Down","Select from Drop Down","Select from Drop Down"]
[199,null,null,"Select from Drop Down","Select from Drop Down","Select from Drop Down",null,null,null,null,null,null,null,null,null,null,null,null,"Select from Drop Down","Select from Drop Down","Select from Drop Down"]
[200,null,null,"Select from Drop Down","Select from Drop Down","Select from Drop Down",null,null,null,null,null,null,null,null,null,null,null,null,"Select from Drop Down","Select from Drop Down","Select from Drop Down"]
[201,null,null,"Select from Drop Down","Select from Drop Down","Select from Drop Down",null,null,null,null,null,null,null,null,null,null,null,null,"Select from Drop Down","Select from Drop Down","Select from Drop Down"]
[202,null,null,"Select from Drop Down","Select from Drop Down","Select from Drop Down",null,null,null,null,null,null,null,null,null,null,null,null,"Select from Drop Down","Select from Drop Down","Select from Drop Down"]
[203,null,null,"Select from Drop Down","Select from Drop Down","Select from Drop Down",null,null,null,null,null,null,null,null,null,null,null,null,"Select from Drop Down","Select from Drop Down","Select from Drop Down"]
[204,null,null,"Select from Drop Down","Select from Drop Down","Select from Drop Down",null,null,null,null,null,null,null,null,null,null,null,null,"Select from Drop Down","Select from Drop Down","Select from Drop Down"]
[205,null,null,"Select from Drop Down","Select from Drop Down","Select from Drop Down",null,null,null,null,null,null,null,null,null,null,null,null,"Select from Drop Down","Select from Drop Down","Select from Drop Down"]
[206,null,null,"Select from Drop Down","Select from Drop Down","Select from Drop Down",null,null,null,null,null,null,null,null,null,null,null,null,"Select from Drop Down","Select from Drop Down","Select from Drop Down"]
[207,null,null,"Select from Drop Down","Select from Drop Down","Select from Drop Down",null,null,null,null,null,null,null,null,null,null,null,null,"Select from Drop Down","Select from Drop Down","Select from Drop Down"]
[208,null,null,"Select from Drop Down","Select from Drop Down","Select from Drop Down",null,null,null,null,null,null,null,null,null,null,null,null,"Select from Drop Down","Select from Drop Down","Select from Drop Down"]
[209,null,null,"Select from Drop Down","Select from Drop Down","Select from Drop Down",null,null,null,null,null,null,null,null,null,null,null,null,"Select from Drop Down","Select from Drop Down","Select from Drop Down"]
[210,null,null,"Select from Drop Down","Select from Drop Down","Select from Drop Down",null,null,null,null,null,null,null,null,null,null,null,null,"Select from Drop Down","Select from Drop Down","Select from Drop Down"]
[211,null,null,"Select from Drop Down","Select from Drop Down","Select from Drop Down",null,null,null,null,null,null,null,null,null,null,null,null,"Select from Drop Down","Select from Drop Down","Select from Drop Down"]
[212,null,null,"Select from Drop Down","Select from Drop Down","Select from Drop Down",null,null,null,null,null,null,null,null,null,null,null,null,"Select from Drop Down","Select from Drop Down","Select from Drop Down"]
[213,null,null,"Select from Drop Down","Select from Drop Down","Select from Drop Down",null,null,null,null,null,null,null,null,null,null,null,null,"Select from Drop Down","Select from Drop Down","Select from Drop Down"]
[214,null,null,"Select from Drop Down","Select from Drop Down","Select from Drop Down",null,null,null,null,null,null,null,null,null,null,null,null,"Select from Drop Down","Select from Drop Down","Select from Drop Down"]
[215,null,null,"Select from Drop Down","Select from Drop Down","Select from Drop Down",null,null,null,null,null,null,null,null,null,null,null,null,"Select from Drop Down","Select from Drop Down","Select from Drop Down"]
[216,null,null,"Select from Drop Down","Select from Drop Down","Select from Drop Down",null,null,null,null,null,null,null,null,null,null,null,null,"Select from Drop Down","Select from Drop Down","Select from Drop Down"]
[217,null,null,"Select from Drop Down","Select from Drop Down","Select from Drop Down",null,null,null,null,null,null,null,null,null,null,null,null,"Select from Drop Down","Select from Drop Down","Select from Drop Down"]
[218,null,null,"Select from Drop Down","Select from Drop Down","Select from Drop Down",null,null,null,null,null,null,null,null,null,null,null,null,"Select from Drop Down","Select from Drop Down","Select from Drop Down"]
[219,null,null,"Select from Drop Down","Select from Drop Down","Select from Drop Down",null,null,null,null,null,null,null,null,null,null,null,null,"Select from Drop Down","Select from Drop Down","Select from Drop Down"]
[220,null,null,"Select from Drop Down","Select from Drop Down","Select from Drop Down",null,null,null,null,null,null,null,null,null,null,null,null,"Select from Drop Down","Select from Drop Down","Select from Drop Down"]
[221,null,null,"Select from Drop Down","Select from Drop Down","Select from Drop Down",null,null,null,null,null,null,null,null,null,null,null,null,"Select from Drop Down","Select from Drop Down","Select from Drop Down"]
[222,null,null,"Select from Drop Down","Select from Drop Down","Select from Drop Down",null,null,null,null,null,null,null,null,null,null,null,null,"Select from Drop Down","Select from Drop Down","Select from Drop Down"]
[223,null,null,"Select from Drop Down","Select from Drop Down","Select from Drop Down",null,null,null,null,null,null,null,null,null,null,null,null,"Select from Drop Down","Select from Drop Down","Select from Drop Down"]
[224,null,null,"Select from Drop Down","Select from Drop Down","Select from Drop Down",null,null,null,null,null,null,null,null,null,null,null,null,"Select from Drop Down","Select from Drop Down","Select from Drop Down"]
[225,null,null,"Select from Drop Down","Select from Drop Down","Select from Drop Down",null,null,null,null,null,null,null,null,null,null,null,null,"Select from Drop Down","Select from Drop Down","Select from Drop Down"]
[226,null,null,"Select from Drop Down","Select from Drop Down","Select from Drop Down",null,null,null,null,null,null,null,null,null,null,null,null,"Select from Drop Down","Select from Drop Down","Select from Drop Down"]
[227,null,null,"Select from Drop Down","Select from Drop Down","Select from Drop Down",null,null,null,null,null,null,null,null,null,null,null,null,"Select from Drop Down","Select from Drop Down","Select from Drop Down"]
[228,null,null,"Select from Drop Down","Select from Drop Down","Select from Drop Down",null,null,null,null,null,null,null,null,null,null,null,null,"Select from Drop Down","Select from Drop Down","Select from Drop Down"]
[229,null,null,"Select from Drop Down","Select from Drop Down","Select from Drop Down",null,null,null,null,null,null,null,null,null,null,null,null,"Select from Drop Down","Select from Drop Down","Select from Drop Down"]
[230,null,null,"Select from Drop Down","Select from Drop Down","Select from Drop Down",null,null,null,null,null,null,null,null,null,null,null,null,"Select from Drop Down","Select from Drop Down","Select from Drop Down"]
[231,null,null,"Select from Drop Down","Select from Drop Down","Select from Drop Down",null,null,null,null,null,null,null,null,null,null,null,null,"Select from Drop Down","Select from Drop Down","Select from Drop Down"]
[232,null,null,"Select from Drop Down","Select from Drop Down","Select from Drop Down",null,null,null,null,null,null,null,null,null,null,null,null,"Select from Drop Down","Select from Drop Down","Select from Drop Down"]
[233,null,null,"Select from Drop Down","Select from Drop Down","Select from Drop Down",null,null,null,null,null,null,null,null,null,null,null,null,"Select from Drop Down","Select from Drop Down","Select from Drop Down"]
[234,null,null,"Select from Drop Down","Select from Drop Down","Select from Drop Down",null,null,null,null,null,null,null,null,null,null,null,null,"Select from Drop Down","Select from Drop Down","Select from Drop Down"]
[235,null,null,"Select from Drop Down","Select from Drop Down","Select from Drop Down",null,null,null,null,null,null,null,null,null,null,null,null,"Select from Drop Down","Select from Drop Down","Select from Drop Down"]
[236,null,null,"Select from Drop Down","Select from Drop Down","Select from Drop Down",null,null,null,null,null,null,null,null,null,null,null,null,"Select from Drop Down","Select from Drop Down","Select from Drop Down"]
[237,null,null,"Select from Drop Down","Select from Drop Down","Select from Drop Down",null,null,null,null,null,null,null,null,null,null,null,null,"Select from Drop Down","Select from Drop Down","Select from Drop Down"]
[238,null,null,"Select from Drop Down","Select from Drop Down","Select from Drop Down",null,null,null,null,null,null,null,null,null,null,null,null,"Select from Drop Down","Select from Drop Down","Select from Drop Down"]
[239,null,null,"Select from Drop Down","Select from Drop Down","Select from Drop Down",null,null,null,null,null,null,null,null,null,null,null,null,"Select from Drop Down","Select from Drop Down","Select from Drop Down"]
[240,null,null,"Select from Drop Down","Select from Drop Down","Select from Drop Down",null,null,null,null,null,null,null,null,null,null,null,null,"Select from Drop Down","Select from Drop Down","Select from Drop Down"]
[241,null,null,"Select from Drop Down","Select from Drop Down","Select from Drop Down",null,null,null,null,null,null,null,null,null,null,null,null,"Select from Drop Down","Select from Drop Down","Select from Drop Down"]
[242,null,null,"Select from Drop Down","Select from Drop Down","Select from Drop Down",null,null,null,null,null,null,null,null,null,null,null,null,"Select from Drop Down","Select from Drop Down","Select from Drop Down"]
[243,null,null,"Select from Drop Down","Select from Drop Down","Select from Drop Down",null,null,null,null,null,null,null,null,null,null,null,null,"Select from Drop Down","Select from Drop Down","Select from Drop Down"]
[244,null,null,"Select from Drop Down","Select from Drop Down","Select from Drop Down",null,null,null,null,null,null,null,null,null,null,null,null,"Select from Drop Down","Select from Drop Down","Select from Drop Down"]
[245,null,null,"Select from Drop Down","Select from Drop Down","Select from Drop Down",null,null,null,null,null,null,null,null,null,null,null,null,"Select from Drop Down","Select from Drop Down","Select from Drop Down"]
[246,null,null,"Select from Drop Down","Select from Drop Down","Select from Drop Down",null,null,null,null,null,null,null,null,null,null,null,null,"Select from Drop Down","Select from Drop Down","Select from Drop Down"]
[247,null,null,"Select from Drop Down","Select from Drop Down","Select from Drop Down",null,null,null,null,null,null,null,null,null,null,null,null,"Select from Drop Down","Select from Drop Down","Select from Drop Down"]
[248,null,null,"Select from Drop Down","Select from Drop Down","Select from Drop Down",null,null,null,null,null,null,null,null,null,null,null,null,"Select from Drop Down","Select from Drop Down","Select from Drop Down"]
[249,null,null,"Select from Drop Down","Select from Drop Down","Select from Drop Down",null,null,null,null,null,null,null,null,null,null,null,null,"Select from Drop Down","Select from Drop Down","Select from Drop Down"]
[250,null,null,"Select from Drop Down","Select from Drop Down","Select from Drop Down",null,null,null,null,null,null,null,null,null,null,null,null,"Select from Drop Down","Select from Drop Down","Select from Drop Down"]
[251,null,null,"Select from Drop Down","Select from Drop Down","Select from Drop Down",null,null,null,null,null,null,null,null,null,null,null,null,"Select from Drop Down","Select from Drop Down","Select from Drop Down"]
[252,null,null,"Select from Drop Down","Select from Drop Down","Select from Drop Down",null,null,null,null,null,null,null,null,null,null,null,null,"Select from Drop Down","Select from Drop Down","Select from Drop Down"]
[253,null,null,"Select from Drop Down","Select from Drop Down","Select from Drop Down",null,null,null,null,null,null,null,null,null,null,null,null,"Select from Drop Down","Select from Drop Down","Select from Drop Down"]
[254,null,null,"Select from Drop Down","Select from Drop Down","Select from Drop Down",null,null,null,null,null,null,null,null,null,null,null,null,"Select from Drop Down","Select from Drop Down","Select from Drop Down"]
[255,null,null,"Select from Drop Down","Select from Drop Down","Select from Drop Down",null,null,null,null,null,null,null,null,null,null,null,null,"Select from Drop Down","Select from Drop Down","Select from Drop Down"]
[256,null,null,"Select from Drop Down","Select from Drop Down","Select from Drop Down",null,null,null,null,null,null,null,null,null,null,null,null,"Select from Drop Down","Select from Drop Down","Select from Drop Down"]
[257,null,null,"Select from Drop Down","Select from Drop Down","Select from Drop Down",null,null,null,null,null,null,null,null,null,null,null,null,"Select from Drop Down","Select from Drop Down","Select from Drop Down"]
[258,null,null,"Select from Drop Down","Select from Drop Down","Select from Drop Down",null,null,null,null,null,null,null,null,null,null,null,null,"Select from Drop Down","Select from Drop Down","Select from Drop Down"]
[{"$f":"A268+1","v":259},null,null,"Select from Drop Down","Select from Drop Down","Select from Drop Down",null,null,null,null,null,null,null,null,null,null,null,null,"Select from Drop Down","Select from Drop Down","Select from Drop Down"]
[260,null,null,"Select from Drop Down","Select from Drop Down","Select from Drop Down",null,null,null,null,null,null,null,null,null,null,null,null,"Select from Drop Down","Select from Drop Down","Select from Drop Down"]
[261,null,null,"Select from Drop Down","Select from Drop Down","Select from Drop Down",null,null,null,null,null,null,null,null,null,null,null,null,"Select from Drop Down","Select from Drop Down","Select from Drop Down"]
[262,null,null,"Select from Drop Down","Select from Drop Down","Select from Drop Down",null,null,null,null,null,null,null,null,null,null,null,null,"Select from Drop Down","Select from Drop Down","Select from Drop Down"]
[263,null,null,"Select from Drop Down","Select from Drop Down","Select from Drop Down",null,null,null,null,null,null,null,null,null,null,null,null,"Select from Drop Down","Select from Drop Down","Select from Drop Down"]
[264,null,null,"Select from Drop Down","Select from Drop Down","Select from Drop Down",null,null,null,null,null,null,null,null,null,null,null,null,"Select from Drop Down","Select from Drop Down","Select from Drop Down"]
[265,null,null,"Select from Drop Down","Select from Drop Down","Select from Drop Down",null,null,null,null,null,null,null,null,null,null,null,null,"Select from Drop Down","Select from Drop Down","Select from Drop Down"]
[266,null,null,"Select from Drop Down","Select from Drop Down","Select from Drop Down",null,null,null,null,null,null,null,null,null,null,null,null,"Select from Drop Down","Select from Drop Down","Select from Drop Down"]
[267,null,null,"Select from Drop Down","Select from Drop Down","Select from Drop Down",null,null,null,null,null,null,null,null,null,null,null,null,"Select from Drop Down","Select from Drop Down","Select from Drop Down"]
[268,null,null,"Select from Drop Down","Select from Drop Down","Select from Drop Down",null,null,null,null,null,null,null,null,null,null,null,null,"Select from Drop Down","Select from Drop Down","Select from Drop Down"]
[269,null,null,"Select from Drop Down","Select from Drop Down","Select from Drop Down",null,null,null,null,null,null,null,null,null,null,null,null,"Select from Drop Down","Select from Drop Down","Select from Drop Down"]
[270,null,null,"Select from Drop Down","Select from Drop Down","Select from Drop Down",null,null,null,null,null,null,null,null,null,null,null,null,"Select from Drop Down","Select from Drop Down","Select from Drop Down"]
[271,null,null,"Select from Drop Down","Select from Drop Down","Select from Drop Down",null,null,null,null,null,null,null,null,null,null,null,null,"Select from Drop Down","Select from Drop Down","Select from Drop Down"]
[272,null,null,"Select from Drop Down","Select from Drop Down","Select from Drop Down",null,null,null,null,null,null,null,null,null,null,null,null,"Select from Drop Down","Select from Drop Down","Select from Drop Down"]
[273,null,null,"Select from Drop Down","Select from Drop Down","Select from Drop Down",null,null,null,null,null,null,null,null,null,null,null,null,"Select from Drop Down","Select from Drop Down","Select from Drop Down"]
[274,null,null,"Select from Drop Down","Select from Drop Down","Select from Drop Down",null,null,null,null,null,null,null,null,null,null,null,null,"Select from Drop Down","Select from Drop Down","Select from Drop Down"]
[275,null,null,"Select from Drop Down","Select from Drop Down","Select from Drop Down",null,null,null,null,null,null,null,null,null,null,null,null,"Select from Drop Down","Select from Drop Down","Select from Drop Down"]
[276,null,null,"Select from Drop Down","Select from Drop Down","Select from Drop Down",null,null,null,null,null,null,null,null,null,null,null,null,"Select from Drop Down","Select from Drop Down","Select from Drop Down"]
[277,null,null,"Select from Drop Down","Select from Drop Down","Select from Drop Down",null,null,null,null,null,null,null,null,null,null,null,null,"Select from Drop Down","Select from Drop Down","Select from Drop Down"]
[278,null,null,"Select from Drop Down","Select from Drop Down","Select from Drop Down",null,null,null,null,null,null,null,null,null,null,null,null,"Select from Drop Down","Select from Drop Down","Select from Drop Down"]
[279,null,null,"Select from Drop Down","Select from Drop Down","Select from Drop Down",null,null,null,null,null,null,null,null,null,null,null,null,"Select from Drop Down","Select from Drop Down","Select from Drop Down"]
[280,null,null,"Select from Drop Down","Select from Drop Down","Select from Drop Down",null,null,null,null,null,null,null,null,null,null,null,null,"Select from Drop Down","Select from Drop Down","Select from Drop Down"]
[281,null,null,"Select from Drop Down","Select from Drop Down","Select from Drop Down",null,null,null,null,null,null,null,null,null,null,null,null,"Select from Drop Down","Select from Drop Down","Select from Drop Down"]
[282,null,null,"Select from Drop Down","Select from Drop Down","Select from Drop Down",null,null,null,null,null,null,null,null,null,null,null,null,"Select from Drop Down","Select from Drop Down","Select from Drop Down"]
[283,null,null,"Select from Drop Down","Select from Drop Down","Select from Drop Down",null,null,null,null,null,null,null,null,null,null,null,null,"Select from Drop Down","Select from Drop Down","Select from Drop Down"]
[284,null,null,"Select from Drop Down","Select from Drop Down","Select from Drop Down",null,null,null,null,null,null,null,null,null,null,null,null,"Select from Drop Down","Select from Drop Down","Select from Drop Down"]
[285,null,null,"Select from Drop Down","Select from Drop Down","Select from Drop Down",null,null,null,null,null,null,null,null,null,null,null,null,"Select from Drop Down","Select from Drop Down","Select from Drop Down"]
[286,null,null,"Select from Drop Down","Select from Drop Down","Select from Drop Down",null,null,null,null,null,null,null,null,null,null,null,null,"Select from Drop Down","Select from Drop Down","Select from Drop Down"]
[287,null,null,"Select from Drop Down","Select from Drop Down","Select from Drop Down",null,null,null,null,null,null,null,null,null,null,null,null,"Select from Drop Down","Select from Drop Down","Select from Drop Down"]
[288,null,null,"Select from Drop Down","Select from Drop Down","Select from Drop Down",null,null,null,null,null,null,null,null,null,null,null,null,"Select from Drop Down","Select from Drop Down","Select from Drop Down"]
[289,null,null,"Select from Drop Down","Select from Drop Down","Select from Drop Down",null,null,null,null,null,null,null,null,null,null,null,null,"Select from Drop Down","Select from Drop Down","Select from Drop Down"]
[290,null,null,"Select from Drop Down","Select from Drop Down","Select from Drop Down",null,null,null,null,null,null,null,null,null,null,null,null,"Select from Drop Down","Select from Drop Down","Select from Drop Down"]
[291,null,null,"Select from Drop Down","Select from Drop Down","Select from Drop Down",null,null,null,null,null,null,null,null,null,null,null,null,"Select from Drop Down","Select from Drop Down","Select from Drop Down"]
[292,null,null,"Select from Drop Down","Select from Drop Down","Select from Drop Down",null,null,null,null,null,null,null,null,null,null,null,null,"Select from Drop Down","Select from Drop Down","Select from Drop Down"]
[293,null,null,"Select from Drop Down","Select from Drop Down","Select from Drop Down",null,null,null,null,null,null,null,null,null,null,null,null,"Select from Drop Down","Select from Drop Down","Select from Drop Down"]
[294,null,null,"Select from Drop Down","Select from Drop Down","Select from Drop Down",null,null,null,null,null,null,null,null,null,null,null,null,"Select from Drop Down","Select from Drop Down","Select from Drop Down"]
[295,null,null,"Select from Drop Down","Select from Drop Down","Select from Drop Down",null,null,null,null,null,null,null,null,null,null,null,null,"Select from Drop Down","Select from Drop Down","Select from Drop Down"]
[296,null,null,"Select from Drop Down","Select from Drop Down","Select from Drop Down",null,null,null,null,null,null,null,null,null,null,null,null,"Select from Drop Down","Select from Drop Down","Select from Drop Down"]
[297,null,null,"Select from Drop Down","Select from Drop Down","Select from Drop Down",null,null,null,null,null,null,null,null,null,null,null,null,"Select from Drop Down","Select from Drop Down","Select from Drop Down"]
[298,null,null,"Select from Drop Down","Select from Drop Down","Select from Drop Down",null,null,null,null,null,null,null,null,null,null,null,null,"Select from Drop Down","Select from Drop Down","Select from Drop Down"]
[299,null,null,"Select from Drop Down","Select from Drop Down","Select from Drop Down",null,null,null,null,null,null,null,null,null,null,null,null,"Select from Drop Down","Select from Drop Down","Select from Drop Down"]
[300,null,null,"Select from Drop Down","Select from Drop Down","Select from Drop Down",null,null,null,null,null,null,null,null,null,null,null,null,"Select from Drop Down","Select from Drop Down","Select from Drop Down"]
[301,null,null,"Select from Drop Down","Select from Drop Down","Select from Drop Down",null,null,null,null,null,null,null,null,null,null,null,null,"Select from Drop Down","Select from Drop Down","Select from Drop Down"]
[302,null,null,"Select from Drop Down","Select from Drop Down","Select from Drop Down",null,null,null,null,null,null,null,null,null,null,null,null,"Select from Drop Down","Select from Drop Down","Select from Drop Down"]
[303,null,null,"Select from Drop Down","Select from Drop Down","Select from Drop Down",null,null,null,null,null,null,null,null,null,null,null,null,"Select from Drop Down","Select from Drop Down","Select from Drop Down"]
[304,null,null,"Select from Drop Down","Select from Drop Down","Select from Drop Down",null,null,null,null,null,null,null,null,null,null,null,null,"Select from Drop Down","Select from Drop Down","Select from Drop Down"]
[305,null,null,"Select from Drop Down","Select from Drop Down","Select from Drop Down",null,null,null,null,null,null,null,null,null,null,null,null,"Select from Drop Down","Select from Drop Down","Select from Drop Down"]
[306,null,null,"Select from Drop Down","Select from Drop Down","Select from Drop Down",null,null,null,null,null,null,null,null,null,null,null,null,"Select from Drop Down","Select from Drop Down","Select from Drop Down"]
[307,null,null,"Select from Drop Down","Select from Drop Down","Select from Drop Down",null,null,null,null,null,null,null,null,null,null,null,null,"Select from Drop Down","Select from Drop Down","Select from Drop Down"]
[308,null,null,"Select from Drop Down","Select from Drop Down","Select from Drop Down",null,null,null,null,null,null,null,null,null,null,null,null,"Select from Drop Down","Select from Drop Down","Select from Drop Down"]
[309,null,null,"Select from Drop Down","Select from Drop Down","Select from Drop Down",null,null,null,null,null,null,null,null,null,null,null,null,"Select from Drop Down","Select from Drop Down","Select from Drop Down"]
[310,null,null,"Select from Drop Down","Select from Drop Down","Select from Drop Down",null,null,null,null,null,null,null,null,null,null,null,null,"Select from Drop Down","Select from Drop Down","Select from Drop Down"]
[311,null,null,"Select from Drop Down","Select from Drop Down","Select from Drop Down",null,null,null,null,null,null,null,null,null,null,null,null,"Select from Drop Down","Select from Drop Down","Select from Drop Down"]
[312,null,null,"Select from Drop Down","Select from Drop Down","Select from Drop Down",null,null,null,null,null,null,null,null,null,null,null,null,"Select from Drop Down","Select from Drop Down","Select from Drop Down"]
[313,null,null,"Select from Drop Down","Select from Drop Down","Select from Drop Down",null,null,null,null,null,null,null,null,null,null,null,null,"Select from Drop Down","Select from Drop Down","Select from Drop Down"]
[314,null,null,"Select from Drop Down","Select from Drop Down","Select from Drop Down",null,null,null,null,null,null,null,null,null,null,null,null,"Select from Drop Down","Select from Drop Down","Select from Drop Down"]
[315,null,null,"Select from Drop Down","Select from Drop Down","Select from Drop Down",null,null,null,null,null,null,null,null,null,null,null,null,"Select from Drop Down","Select from Drop Down","Select from Drop Down"]
[316,null,null,"Select from Drop Down","Select from Drop Down","Select from Drop Down",null,null,null,null,null,null,null,null,null,null,null,null,"Select from Drop Down","Select from Drop Down","Select from Drop Down"]
[317,null,null,"Select from Drop Down","Select from Drop Down","Select from Drop Down",null,null,null,null,null,null,null,null,null,null,null,null,"Select from Drop Down","Select from Drop Down","Select from Drop Down"]
[318,null,null,"Select from Drop Down","Select from Drop Down","Select from Drop Down",null,null,null,null,null,null,null,null,null,null,null,null,"Select from Drop Down","Select from Drop Down","Select from Drop Down"]
[319,null,null,"Select from Drop Down","Select from Drop Down","Select from Drop Down",null,null,null,null,null,null,null,null,null,null,null,null,"Select from Drop Down","Select from Drop Down","Select from Drop Down"]
[320,null,null,"Select from Drop Down","Select from Drop Down","Select from Drop Down",null,null,null,null,null,null,null,null,null,null,null,null,"Select from Drop Down","Select from Drop Down","Select from Drop Down"]
[321,null,null,"Select from Drop Down","Select from Drop Down","Select from Drop Down",null,null,null,null,null,null,null,null,null,null,null,null,"Select from Drop Down","Select from Drop Down","Select from Drop Down"]
[322,null,null,"Select from Drop Down","Select from Drop Down","Select from Drop Down",null,null,null,null,null,null,null,null,null,null,null,null,"Select from Drop Down","Select from Drop Down","Select from Drop Down"]
[{"$f":"A332+1","v":323},null,null,"Select from Drop Down","Select from Drop Down","Select from Drop Down",null,null,null,null,null,null,null,null,null,null,null,null,"Select from Drop Down","Select from Drop Down","Select from Drop Down"]
[324,null,null,"Select from Drop Down","Select from Drop Down","Select from Drop Down",null,null,null,null,null,null,null,null,null,null,null,null,"Select from Drop Down","Select from Drop Down","Select from Drop Down"]
[325,null,null,"Select from Drop Down","Select from Drop Down","Select from Drop Down",null,null,null,null,null,null,null,null,null,null,null,null,"Select from Drop Down","Select from Drop Down","Select from Drop Down"]
[326,null,null,"Select from Drop Down","Select from Drop Down","Select from Drop Down",null,null,null,null,null,null,null,null,null,null,null,null,"Select from Drop Down","Select from Drop Down","Select from Drop Down"]
[327,null,null,"Select from Drop Down","Select from Drop Down","Select from Drop Down",null,null,null,null,null,null,null,null,null,null,null,null,"Select from Drop Down","Select from Drop Down","Select from Drop Down"]
[328,null,null,"Select from Drop Down","Select from Drop Down","Select from Drop Down",null,null,null,null,null,null,null,null,null,null,null,null,"Select from Drop Down","Select from Drop Down","Select from Drop Down"]
[329,null,null,"Select from Drop Down","Select from Drop Down","Select from Drop Down",null,null,null,null,null,null,null,null,null,null,null,null,"Select from Drop Down","Select from Drop Down","Select from Drop Down"]
[330,null,null,"Select from Drop Down","Select from Drop Down","Select from Drop Down",null,null,null,null,null,null,null,null,null,null,null,null,"Select from Drop Down","Select from Drop Down","Select from Drop Down"]
[331,null,null,"Select from Drop Down","Select from Drop Down","Select from Drop Down",null,null,null,null,null,null,null,null,null,null,null,null,"Select from Drop Down","Select from Drop Down","Select from Drop Down"]
[332,null,null,"Select from Drop Down","Select from Drop Down","Select from Drop Down",null,null,null,null,null,null,null,null,null,null,null,null,"Select from Drop Down","Select from Drop Down","Select from Drop Down"]
[333,null,null,"Select from Drop Down","Select from Drop Down","Select from Drop Down",null,null,null,null,null,null,null,null,null,null,null,null,"Select from Drop Down","Select from Drop Down","Select from Drop Down"]
[334,null,null,"Select from Drop Down","Select from Drop Down","Select from Drop Down",null,null,null,null,null,null,null,null,null,null,null,null,"Select from Drop Down","Select from Drop Down","Select from Drop Down"]
[335,null,null,"Select from Drop Down","Select from Drop Down","Select from Drop Down",null,null,null,null,null,null,null,null,null,null,null,null,"Select from Drop Down","Select from Drop Down","Select from Drop Down"]
[336,null,null,"Select from Drop Down","Select from Drop Down","Select from Drop Down",null,null,null,null,null,null,null,null,null,null,null,null,"Select from Drop Down","Select from Drop Down","Select from Drop Down"]
[337,null,null,"Select from Drop Down","Select from Drop Down","Select from Drop Down",null,null,null,null,null,null,null,null,null,null,null,null,"Select from Drop Down","Select from Drop Down","Select from Drop Down"]
[338,null,null,"Select from Drop Down","Select from Drop Down","Select from Drop Down",null,null,null,null,null,null,null,null,null,null,null,null,"Select from Drop Down","Select from Drop Down","Select from Drop Down"]
[339,null,null,"Select from Drop Down","Select from Drop Down","Select from Drop Down",null,null,null,null,null,null,null,null,null,null,null,null,"Select from Drop Down","Select from Drop Down","Select from Drop Down"]
[340,null,null,"Select from Drop Down","Select from Drop Down","Select from Drop Down",null,null,null,null,null,null,null,null,null,null,null,null,"Select from Drop Down","Select from Drop Down","Select from Drop Down"]
[341,null,null,"Select from Drop Down","Select from Drop Down","Select from Drop Down",null,null,null,null,null,null,null,null,null,null,null,null,"Select from Drop Down","Select from Drop Down","Select from Drop Down"]
[342,null,null,"Select from Drop Down","Select from Drop Down","Select from Drop Down",null,null,null,null,null,null,null,null,null,null,null,null,"Select from Drop Down","Select from Drop Down","Select from Drop Down"]
[343,null,null,"Select from Drop Down","Select from Drop Down","Select from Drop Down",null,null,null,null,null,null,null,null,null,null,null,null,"Select from Drop Down","Select from Drop Down","Select from Drop Down"]
[344,null,null,"Select from Drop Down","Select from Drop Down","Select from Drop Down",null,null,null,null,null,null,null,null,null,null,null,null,"Select from Drop Down","Select from Drop Down","Select from Drop Down"]
[345,null,null,"Select from Drop Down","Select from Drop Down","Select from Drop Down",null,null,null,null,null,null,null,null,null,null,null,null,"Select from Drop Down","Select from Drop Down","Select from Drop Down"]
[346,null,null,"Select from Drop Down","Select from Drop Down","Select from Drop Down",null,null,null,null,null,null,null,null,null,null,null,null,"Select from Drop Down","Select from Drop Down","Select from Drop Down"]
[347,null,null,"Select from Drop Down","Select from Drop Down","Select from Drop Down",null,null,null,null,null,null,null,null,null,null,null,null,"Select from Drop Down","Select from Drop Down","Select from Drop Down"]
[348,null,null,"Select from Drop Down","Select from Drop Down","Select from Drop Down",null,null,null,null,null,null,null,null,null,null,null,null,"Select from Drop Down","Select from Drop Down","Select from Drop Down"]
[349,null,null,"Select from Drop Down","Select from Drop Down","Select from Drop Down",null,null,null,null,null,null,null,null,null,null,null,null,"Select from Drop Down","Select from Drop Down","Select from Drop Down"]
[350,null,null,"Select from Drop Down","Select from Drop Down","Select from Drop Down",null,null,null,null,null,null,null,null,null,null,null,null,"Select from Drop Down","Select from Drop Down","Select from Drop Down"]
[351,null,null,"Select from Drop Down","Select from Drop Down","Select from Drop Down",null,null,null,null,null,null,null,null,null,null,null,null,"Select from Drop Down","Select from Drop Down","Select from Drop Down"]
[352,null,null,"Select from Drop Down","Select from Drop Down","Select from Drop Down",null,null,null,null,null,null,null,null,null,null,null,null,"Select from Drop Down","Select from Drop Down","Select from Drop Down"]
[353,null,null,"Select from Drop Down","Select from Drop Down","Select from Drop Down",null,null,null,null,null,null,null,null,null,null,null,null,"Select from Drop Down","Select from Drop Down","Select from Drop Down"]
[354,null,null,"Select from Drop Down","Select from Drop Down","Select from Drop Down",null,null,null,null,null,null,null,null,null,null,null,null,"Select from Drop Down","Select from Drop Down","Select from Drop Down"]
[355,null,null,"Select from Drop Down","Select from Drop Down","Select from Drop Down",null,null,null,null,null,null,null,null,null,null,null,null,"Select from Drop Down","Select from Drop Down","Select from Drop Down"]
[356,null,null,"Select from Drop Down","Select from Drop Down","Select from Drop Down",null,null,null,null,null,null,null,null,null,null,null,null,"Select from Drop Down","Select from Drop Down","Select from Drop Down"]
[357,null,null,"Select from Drop Down","Select from Drop Down","Select from Drop Down",null,null,null,null,null,null,null,null,null,null,null,null,"Select from Drop Down","Select from Drop Down","Select from Drop Down"]
[358,null,null,"Select from Drop Down","Select from Drop Down","Select from Drop Down",null,null,null,null,null,null,null,null,null,null,null,null,"Select from Drop Down","Select from Drop Down","Select from Drop Down"]
[359,null,null,"Select from Drop Down","Select from Drop Down","Select from Drop Down",null,null,null,null,null,null,null,null,null,null,null,null,"Select from Drop Down","Select from Drop Down","Select from Drop Down"]
[360,null,null,"Select from Drop Down","Select from Drop Down","Select from Drop Down",null,null,null,null,null,null,null,null,null,null,null,null,"Select from Drop Down","Select from Drop Down","Select from Drop Down"]
[361,null,null,"Select from Drop Down","Select from Drop Down","Select from Drop Down",null,null,null,null,null,null,null,null,null,null,null,null,"Select from Drop Down","Select from Drop Down","Select from Drop Down"]
[362,null,null,"Select from Drop Down","Select from Drop Down","Select from Drop Down",null,null,null,null,null,null,null,null,null,null,null,null,"Select from Drop Down","Select from Drop Down","Select from Drop Down"]
[363,null,null,"Select from Drop Down","Select from Drop Down","Select from Drop Down",null,null,null,null,null,null,null,null,null,null,null,null,"Select from Drop Down","Select from Drop Down","Select from Drop Down"]
[364,null,null,"Select from Drop Down","Select from Drop Down","Select from Drop Down",null,null,null,null,null,null,null,null,null,null,null,null,"Select from Drop Down","Select from Drop Down","Select from Drop Down"]
[365,null,null,"Select from Drop Down","Select from Drop Down","Select from Drop Down",null,null,null,null,null,null,null,null,null,null,null,null,"Select from Drop Down","Select from Drop Down","Select from Drop Down"]
[366,null,null,"Select from Drop Down","Select from Drop Down","Select from Drop Down",null,null,null,null,null,null,null,null,null,null,null,null,"Select from Drop Down","Select from Drop Down","Select from Drop Down"]
[367,null,null,"Select from Drop Down","Select from Drop Down","Select from Drop Down",null,null,null,null,null,null,null,null,null,null,null,null,"Select from Drop Down","Select from Drop Down","Select from Drop Down"]
[368,null,null,"Select from Drop Down","Select from Drop Down","Select from Drop Down",null,null,null,null,null,null,null,null,null,null,null,null,"Select from Drop Down","Select from Drop Down","Select from Drop Down"]
[369,null,null,"Select from Drop Down","Select from Drop Down","Select from Drop Down",null,null,null,null,null,null,null,null,null,null,null,null,"Select from Drop Down","Select from Drop Down","Select from Drop Down"]
[370,null,null,"Select from Drop Down","Select from Drop Down","Select from Drop Down",null,null,null,null,null,null,null,null,null,null,null,null,"Select from Drop Down","Select from Drop Down","Select from Drop Down"]
[371,null,null,"Select from Drop Down","Select from Drop Down","Select from Drop Down",null,null,null,null,null,null,null,null,null,null,null,null,"Select from Drop Down","Select from Drop Down","Select from Drop Down"]
[372,null,null,"Select from Drop Down","Select from Drop Down","Select from Drop Down",null,null,null,null,null,null,null,null,null,null,null,null,"Select from Drop Down","Select from Drop Down","Select from Drop Down"]
[373,null,null,"Select from Drop Down","Select from Drop Down","Select from Drop Down",null,null,null,null,null,null,null,null,null,null,null,null,"Select from Drop Down","Select from Drop Down","Select from Drop Down"]
[374,null,null,"Select from Drop Down","Select from Drop Down","Select from Drop Down",null,null,null,null,null,null,null,null,null,null,null,null,"Select from Drop Down","Select from Drop Down","Select from Drop Down"]
[375,null,null,"Select from Drop Down","Select from Drop Down","Select from Drop Down",null,null,null,null,null,null,null,null,null,null,null,null,"Select from Drop Down","Select from Drop Down","Select from Drop Down"]
[376,null,null,"Select from Drop Down","Select from Drop Down","Select from Drop Down",null,null,null,null,null,null,null,null,null,null,null,null,"Select from Drop Down","Select from Drop Down","Select from Drop Down"]
[377,null,null,"Select from Drop Down","Select from Drop Down","Select from Drop Down",null,null,null,null,null,null,null,null,null,null,null,null,"Select from Drop Down","Select from Drop Down","Select from Drop Down"]
[378,null,null,"Select from Drop Down","Select from Drop Down","Select from Drop Down",null,null,null,null,null,null,null,null,null,null,null,null,"Select from Drop Down","Select from Drop Down","Select from Drop Down"]
[379,null,null,"Select from Drop Down","Select from Drop Down","Select from Drop Down",null,null,null,null,null,null,null,null,null,null,null,null,"Select from Drop Down","Select from Drop Down","Select from Drop Down"]
[380,null,null,"Select from Drop Down","Select from Drop Down","Select from Drop Down",null,null,null,null,null,null,null,null,null,null,null,null,"Select from Drop Down","Select from Drop Down","Select from Drop Down"]
[381,null,null,"Select from Drop Down","Select from Drop Down","Select from Drop Down",null,null,null,null,null,null,null,null,null,null,null,null,"Select from Drop Down","Select from Drop Down","Select from Drop Down"]
[382,null,null,"Select from Drop Down","Select from Drop Down","Select from Drop Down",null,null,null,null,null,null,null,null,null,null,null,null,"Select from Drop Down","Select from Drop Down","Select from Drop Down"]
[383,null,null,"Select from Drop Down","Select from Drop Down","Select from Drop Down",null,null,null,null,null,null,null,null,null,null,null,null,"Select from Drop Down","Select from Drop Down","Select from Drop Down"]
[384,null,null,"Select from Drop Down","Select from Drop Down","Select from Drop Down",null,null,null,null,null,null,null,null,null,null,null,null,"Select from Drop Down","Select from Drop Down","Select from Drop Down"]
[385,null,null,"Select from Drop Down","Select from Drop Down","Select from Drop Down",null,null,null,null,null,null,null,null,null,null,null,null,"Select from Drop Down","Select from Drop Down","Select from Drop Down"]
[386,null,null,"Select from Drop Down","Select from Drop Down","Select from Drop Down",null,null,null,null,null,null,null,null,null,null,null,null,"Select from Drop Down","Select from Drop Down","Select from Drop Down"]
[{"$f":"A396+1","v":387},null,null,"Select from Drop Down","Select from Drop Down","Select from Drop Down",null,null,null,null,null,null,null,null,null,null,null,null,"Select from Drop Down","Select from Drop Down","Select from Drop Down"]
[388,null,null,"Select from Drop Down","Select from Drop Down","Select from Drop Down",null,null,null,null,null,null,null,null,null,null,null,null,"Select from Drop Down","Select from Drop Down","Select from Drop Down"]
[389,null,null,"Select from Drop Down","Select from Drop Down","Select from Drop Down",null,null,null,null,null,null,null,null,null,null,null,null,"Select from Drop Down","Select from Drop Down","Select from Drop Down"]
[390,null,null,"Select from Drop Down","Select from Drop Down","Select from Drop Down",null,null,null,null,null,null,null,null,null,null,null,null,"Select from Drop Down","Select from Drop Down","Select from Drop Down"]
[391,null,null,"Select from Drop Down","Select from Drop Down","Select from Drop Down",null,null,null,null,null,null,null,null,null,null,null,null,"Select from Drop Down","Select from Drop Down","Select from Drop Down"]
[392,null,null,"Select from Drop Down","Select from Drop Down","Select from Drop Down",null,null,null,null,null,null,null,null,null,null,null,null,"Select from Drop Down","Select from Drop Down","Select from Drop Down"]
[393,null,null,"Select from Drop Down","Select from Drop Down","Select from Drop Down",null,null,null,null,null,null,null,null,null,null,null,null,"Select from Drop Down","Select from Drop Down","Select from Drop Down"]
[394,null,null,"Select from Drop Down","Select from Drop Down","Select from Drop Down",null,null,null,null,null,null,null,null,null,null,null,null,"Select from Drop Down","Select from Drop Down","Select from Drop Down"]
[395,null,null,"Select from Drop Down","Select from Drop Down","Select from Drop Down",null,null,null,null,null,null,null,null,null,null,null,null,"Select from Drop Down","Select from Drop Down","Select from Drop Down"]
[396,null,null,"Select from Drop Down","Select from Drop Down","Select from Drop Down",null,null,null,null,null,null,null,null,null,null,null,null,"Select from Drop Down","Select from Drop Down","Select from Drop Down"]
[397,null,null,"Select from Drop Down","Select from Drop Down","Select from Drop Down",null,null,null,null,null,null,null,null,null,null,null,null,"Select from Drop Down","Select from Drop Down","Select from Drop Down"]
[398,null,null,"Select from Drop Down","Select from Drop Down","Select from Drop Down",null,null,null,null,null,null,null,null,null,null,null,null,"Select from Drop Down","Select from Drop Down","Select from Drop Down"]
[399,null,null,"Select from Drop Down","Select from Drop Down","Select from Drop Down",null,null,null,null,null,null,null,null,null,null,null,null,"Select from Drop Down","Select from Drop Down","Select from Drop Down"]
[400,null,null,"Select from Drop Down","Select from Drop Down","Select from Drop Down",null,null,null,null,null,null,null,null,null,null,null,null,"Select from Drop Down","Select from Drop Down","Select from Drop Down"]
[401,null,null,"Select from Drop Down","Select from Drop Down","Select from Drop Down",null,null,null,null,null,null,null,null,null,null,null,null,"Select from Drop Down","Select from Drop Down","Select from Drop Down"]
[402,null,null,"Select from Drop Down","Select from Drop Down","Select from Drop Down",null,null,null,null,null,null,null,null,null,null,null,null,"Select from Drop Down","Select from Drop Down","Select from Drop Down"]
[403,null,null,"Select from Drop Down","Select from Drop Down","Select from Drop Down",null,null,null,null,null,null,null,null,null,null,null,null,"Select from Drop Down","Select from Drop Down","Select from Drop Down"]
[404,null,null,"Select from Drop Down","Select from Drop Down","Select from Drop Down",null,null,null,null,null,null,null,null,null,null,null,null,"Select from Drop Down","Select from Drop Down","Select from Drop Down"]
[405,null,null,"Select from Drop Down","Select from Drop Down","Select from Drop Down",null,null,null,null,null,null,null,null,null,null,null,null,"Select from Drop Down","Select from Drop Down","Select from Drop Down"]
[406,null,null,"Select from Drop Down","Select from Drop Down","Select from Drop Down",null,null,null,null,null,null,null,null,null,null,null,null,"Select from Drop Down","Select from Drop Down","Select from Drop Down"]
[407,null,null,"Select from Drop Down","Select from Drop Down","Select from Drop Down",null,null,null,null,null,null,null,null,null,null,null,null,"Select from Drop Down","Select from Drop Down","Select from Drop Down"]
[408,null,null,"Select from Drop Down","Select from Drop Down","Select from Drop Down",null,null,null,null,null,null,null,null,null,null,null,null,"Select from Drop Down","Select from Drop Down","Select from Drop Down"]
[409,null,null,"Select from Drop Down","Select from Drop Down","Select from Drop Down",null,null,null,null,null,null,null,null,null,null,null,null,"Select from Drop Down","Select from Drop Down","Select from Drop Down"]
[410,null,null,"Select from Drop Down","Select from Drop Down","Select from Drop Down",null,null,null,null,null,null,null,null,null,null,null,null,"Select from Drop Down","Select from Drop Down","Select from Drop Down"]
[411,null,null,"Select from Drop Down","Select from Drop Down","Select from Drop Down",null,null,null,null,null,null,null,null,null,null,null,null,"Select from Drop Down","Select from Drop Down","Select from Drop Down"]
[412,null,null,"Select from Drop Down","Select from Drop Down","Select from Drop Down",null,null,null,null,null,null,null,null,null,null,null,null,"Select from Drop Down","Select from Drop Down","Select from Drop Down"]
[413,null,null,"Select from Drop Down","Select from Drop Down","Select from Drop Down",null,null,null,null,null,null,null,null,null,null,null,null,"Select from Drop Down","Select from Drop Down","Select from Drop Down"]
[414,null,null,"Select from Drop Down","Select from Drop Down","Select from Drop Down",null,null,null,null,null,null,null,null,null,null,null,null,"Select from Drop Down","Select from Drop Down","Select from Drop Down"]
[415,null,null,"Select from Drop Down","Select from Drop Down","Select from Drop Down",null,null,null,null,null,null,null,null,null,null,null,null,"Select from Drop Down","Select from Drop Down","Select from Drop Down"]
[416,null,null,"Select from Drop Down","Select from Drop Down","Select from Drop Down",null,null,null,null,null,null,null,null,null,null,null,null,"Select from Drop Down","Select from Drop Down","Select from Drop Down"]
[417,null,null,"Select from Drop Down","Select from Drop Down","Select from Drop Down",null,null,null,null,null,null,null,null,null,null,null,null,"Select from Drop Down","Select from Drop Down","Select from Drop Down"]
[418,null,null,"Select from Drop Down","Select from Drop Down","Select from Drop Down",null,null,null,null,null,null,null,null,null,null,null,null,"Select from Drop Down","Select from Drop Down","Select from Drop Down"]
[419,null,null,"Select from Drop Down","Select from Drop Down","Select from Drop Down",null,null,null,null,null,null,null,null,null,null,null,null,"Select from Drop Down","Select from Drop Down","Select from Drop Down"]
[420,null,null,"Select from Drop Down","Select from Drop Down","Select from Drop Down",null,null,null,null,null,null,null,null,null,null,null,null,"Select from Drop Down","Select from Drop Down","Select from Drop Down"]
[421,null,null,"Select from Drop Down","Select from Drop Down","Select from Drop Down",null,null,null,null,null,null,null,null,null,null,null,null,"Select from Drop Down","Select from Drop Down","Select from Drop Down"]
[422,null,null,"Select from Drop Down","Select from Drop Down","Select from Drop Down",null,null,null,null,null,null,null,null,null,null,null,null,"Select from Drop Down","Select from Drop Down","Select from Drop Down"]
[423,null,null,"Select from Drop Down","Select from Drop Down","Select from Drop Down",null,null,null,null,null,null,null,null,null,null,null,null,"Select from Drop Down","Select from Drop Down","Select from Drop Down"]
[424,null,null,"Select from Drop Down","Select from Drop Down","Select from Drop Down",null,null,null,null,null,null,null,null,null,null,null,null,"Select from Drop Down","Select from Drop Down","Select from Drop Down"]
[425,null,null,"Select from Drop Down","Select from Drop Down","Select from Drop Down",null,null,null,null,null,null,null,null,null,null,null,null,"Select from Drop Down","Select from Drop Down","Select from Drop Down"]
[426,null,null,"Select from Drop Down","Select from Drop Down","Select from Drop Down",null,null,null,null,null,null,null,null,null,null,null,null,"Select from Drop Down","Select from Drop Down","Select from Drop Down"]
[427,null,null,"Select from Drop Down","Select from Drop Down","Select from Drop Down",null,null,null,null,null,null,null,null,null,null,null,null,"Select from Drop Down","Select from Drop Down","Select from Drop Down"]
[428,null,null,"Select from Drop Down","Select from Drop Down","Select from Drop Down",null,null,null,null,null,null,null,null,null,null,null,null,"Select from Drop Down","Select from Drop Down","Select from Drop Down"]
[429,null,null,"Select from Drop Down","Select from Drop Down","Select from Drop Down",null,null,null,null,null,null,null,null,null,null,null,null,"Select from Drop Down","Select from Drop Down","Select from Drop Down"]
[430,null,null,"Select from Drop Down","Select from Drop Down","Select from Drop Down",null,null,null,null,null,null,null,null,null,null,null,null,"Select from Drop Down","Select from Drop Down","Select from Drop Down"]
[431,null,null,"Select from Drop Down","Select from Drop Down","Select from Drop Down",null,null,null,null,null,null,null,null,null,null,null,null,"Select from Drop Down","Select from Drop Down","Select from Drop Down"]
[432,null,null,"Select from Drop Down","Select from Drop Down","Select from Drop Down",null,null,null,null,null,null,null,null,null,null,null,null,"Select from Drop Down","Select from Drop Down","Select from Drop Down"]
[433,null,null,"Select from Drop Down","Select from Drop Down","Select from Drop Down",null,null,null,null,null,null,null,null,null,null,null,null,"Select from Drop Down","Select from Drop Down","Select from Drop Down"]
[434,null,null,"Select from Drop Down","Select from Drop Down","Select from Drop Down",null,null,null,null,null,null,null,null,null,null,null,null,"Select from Drop Down","Select from Drop Down","Select from Drop Down"]
[435,null,null,"Select from Drop Down","Select from Drop Down","Select from Drop Down",null,null,null,null,null,null,null,null,null,null,null,null,"Select from Drop Down","Select from Drop Down","Select from Drop Down"]
[436,null,null,"Select from Drop Down","Select from Drop Down","Select from Drop Down",null,null,null,null,null,null,null,null,null,null,null,null,"Select from Drop Down","Select from Drop Down","Select from Drop Down"]
[437,null,null,"Select from Drop Down","Select from Drop Down","Select from Drop Down",null,null,null,null,null,null,null,null,null,null,null,null,"Select from Drop Down","Select from Drop Down","Select from Drop Down"]
[438,null,null,"Select from Drop Down","Select from Drop Down","Select from Drop Down",null,null,null,null,null,null,null,null,null,null,null,null,"Select from Drop Down","Select from Drop Down","Select from Drop Down"]
[439,null,null,"Select from Drop Down","Select from Drop Down","Select from Drop Down",null,null,null,null,null,null,null,null,null,null,null,null,"Select from Drop Down","Select from Drop Down","Select from Drop Down"]
[440,null,null,"Select from Drop Down","Select from Drop Down","Select from Drop Down",null,null,null,null,null,null,null,null,null,null,null,null,"Select from Drop Down","Select from Drop Down","Select from Drop Down"]
[441,null,null,"Select from Drop Down","Select from Drop Down","Select from Drop Down",null,null,null,null,null,null,null,null,null,null,null,null,"Select from Drop Down","Select from Drop Down","Select from Drop Down"]
[442,null,null,"Select from Drop Down","Select from Drop Down","Select from Drop Down",null,null,null,null,null,null,null,null,null,null,null,null,"Select from Drop Down","Select from Drop Down","Select from Drop Down"]
[443,null,null,"Select from Drop Down","Select from Drop Down","Select from Drop Down",null,null,null,null,null,null,null,null,null,null,null,null,"Select from Drop Down","Select from Drop Down","Select from Drop Down"]
[444,null,null,"Select from Drop Down","Select from Drop Down","Select from Drop Down",null,null,null,null,null,null,null,null,null,null,null,null,"Select from Drop Down","Select from Drop Down","Select from Drop Down"]
[445,null,null,"Select from Drop Down","Select from Drop Down","Select from Drop Down",null,null,null,null,null,null,null,null,null,null,null,null,"Select from Drop Down","Select from Drop Down","Select from Drop Down"]
[446,null,null,"Select from Drop Down","Select from Drop Down","Select from Drop Down",null,null,null,null,null,null,null,null,null,null,null,null,"Select from Drop Down","Select from Drop Down","Select from Drop Down"]
[447,null,null,"Select from Drop Down","Select from Drop Down","Select from Drop Down",null,null,null,null,null,null,null,null,null,null,null,null,"Select from Drop Down","Select from Drop Down","Select from Drop Down"]
[448,null,null,"Select from Drop Down","Select from Drop Down","Select from Drop Down",null,null,null,null,null,null,null,null,null,null,null,null,"Select from Drop Down","Select from Drop Down","Select from Drop Down"]
[449,null,null,"Select from Drop Down","Select from Drop Down","Select from Drop Down",null,null,null,null,null,null,null,null,null,null,null,null,"Select from Drop Down","Select from Drop Down","Select from Drop Down"]
[450,null,null,"Select from Drop Down","Select from Drop Down","Select from Drop Down",null,null,null,null,null,null,null,null,null,null,null,null,"Select from Drop Down","Select from Drop Down","Select from Drop Down"]
[{"$f":"A460+1","v":451},null,null,"Select from Drop Down","Select from Drop Down","Select from Drop Down",null,null,null,null,null,null,null,null,null,null,null,null,"Select from Drop Down","Select from Drop Down","Select from Drop Down"]
[452,null,null,"Select from Drop Down","Select from Drop Down","Select from Drop Down",null,null,null,null,null,null,null,null,null,null,null,null,"Select from Drop Down","Select from Drop Down","Select from Drop Down"]
[453,null,null,"Select from Drop Down","Select from Drop Down","Select from Drop Down",null,null,null,null,null,null,null,null,null,null,null,null,"Select from Drop Down","Select from Drop Down","Select from Drop Down"]
[454,null,null,"Select from Drop Down","Select from Drop Down","Select from Drop Down",null,null,null,null,null,null,null,null,null,null,null,null,"Select from Drop Down","Select from Drop Down","Select from Drop Down"]
[455,null,null,"Select from Drop Down","Select from Drop Down","Select from Drop Down",null,null,null,null,null,null,null,null,null,null,null,null,"Select from Drop Down","Select from Drop Down","Select from Drop Down"]
[456,null,null,"Select from Drop Down","Select from Drop Down","Select from Drop Down",null,null,null,null,null,null,null,null,null,null,null,null,"Select from Drop Down","Select from Drop Down","Select from Drop Down"]
[457,null,null,"Select from Drop Down","Select from Drop Down","Select from Drop Down",null,null,null,null,null,null,null,null,null,null,null,null,"Select from Drop Down","Select from Drop Down","Select from Drop Down"]
[458,null,null,"Select from Drop Down","Select from Drop Down","Select from Drop Down",null,null,null,null,null,null,null,null,null,null,null,null,"Select from Drop Down","Select from Drop Down","Select from Drop Down"]
[459,null,null,"Select from Drop Down","Select from Drop Down","Select from Drop Down",null,null,null,null,null,null,null,null,null,null,null,null,"Select from Drop Down","Select from Drop Down","Select from Drop Down"]
[460,null,null,"Select from Drop Down","Select from Drop Down","Select from Drop Down",null,null,null,null,null,null,null,null,null,null,null,null,"Select from Drop Down","Select from Drop Down","Select from Drop Down"]
[461,null,null,"Select from Drop Down","Select from Drop Down","Select from Drop Down",null,null,null,null,null,null,null,null,null,null,null,null,"Select from Drop Down","Select from Drop Down","Select from Drop Down"]
[462,null,null,"Select from Drop Down","Select from Drop Down","Select from Drop Down",null,null,null,null,null,null,null,null,null,null,null,null,"Select from Drop Down","Select from Drop Down","Select from Drop Down"]
[463,null,null,"Select from Drop Down","Select from Drop Down","Select from Drop Down",null,null,null,null,null,null,null,null,null,null,null,null,"Select from Drop Down","Select from Drop Down","Select from Drop Down"]
[464,null,null,"Select from Drop Down","Select from Drop Down","Select from Drop Down",null,null,null,null,null,null,null,null,null,null,null,null,"Select from Drop Down","Select from Drop Down","Select from Drop Down"]
[465,null,null,"Select from Drop Down","Select from Drop Down","Select from Drop Down",null,null,null,null,null,null,null,null,null,null,null,null,"Select from Drop Down","Select from Drop Down","Select from Drop Down"]
[466,null,null,"Select from Drop Down","Select from Drop Down","Select from Drop Down",null,null,null,null,null,null,null,null,null,null,null,null,"Select from Drop Down","Select from Drop Down","Select from Drop Down"]
[467,null,null,"Select from Drop Down","Select from Drop Down","Select from Drop Down",null,null,null,null,null,null,null,null,null,null,null,null,"Select from Drop Down","Select from Drop Down","Select from Drop Down"]
[468,null,null,"Select from Drop Down","Select from Drop Down","Select from Drop Down",null,null,null,null,null,null,null,null,null,null,null,null,"Select from Drop Down","Select from Drop Down","Select from Drop Down"]
[469,null,null,"Select from Drop Down","Select from Drop Down","Select from Drop Down",null,null,null,null,null,null,null,null,null,null,null,null,"Select from Drop Down","Select from Drop Down","Select from Drop Down"]
[470,null,null,"Select from Drop Down","Select from Drop Down","Select from Drop Down",null,null,null,null,null,null,null,null,null,null,null,null,"Select from Drop Down","Select from Drop Down","Select from Drop Down"]
[471,null,null,"Select from Drop Down","Select from Drop Down","Select from Drop Down",null,null,null,null,null,null,null,null,null,null,null,null,"Select from Drop Down","Select from Drop Down","Select from Drop Down"]
[472,null,null,"Select from Drop Down","Select from Drop Down","Select from Drop Down",null,null,null,null,null,null,null,null,null,null,null,null,"Select from Drop Down","Select from Drop Down","Select from Drop Down"]
[473,null,null,"Select from Drop Down","Select from Drop Down","Select from Drop Down",null,null,null,null,null,null,null,null,null,null,null,null,"Select from Drop Down","Select from Drop Down","Select from Drop Down"]
[474,null,null,"Select from Drop Down","Select from Drop Down","Select from Drop Down",null,null,null,null,null,null,null,null,null,null,null,null,"Select from Drop Down","Select from Drop Down","Select from Drop Down"]
[475,null,null,"Select from Drop Down","Select from Drop Down","Select from Drop Down",null,null,null,null,null,null,null,null,null,null,null,null,"Select from Drop Down","Select from Drop Down","Select from Drop Down"]
[476,null,null,"Select from Drop Down","Select from Drop Down","Select from Drop Down",null,null,null,null,null,null,null,null,null,null,null,null,"Select from Drop Down","Select from Drop Down","Select from Drop Down"]
[477,null,null,"Select from Drop Down","Select from Drop Down","Select from Drop Down",null,null,null,null,null,null,null,null,null,null,null,null,"Select from Drop Down","Select from Drop Down","Select from Drop Down"]
[478,null,null,"Select from Drop Down","Select from Drop Down","Select from Drop Down",null,null,null,null,null,null,null,null,null,null,null,null,"Select from Drop Down","Select from Drop Down","Select from Drop Down"]
[479,null,null,"Select from Drop Down","Select from Drop Down","Select from Drop Down",null,null,null,null,null,null,null,null,null,null,null,null,"Select from Drop Down","Select from Drop Down","Select from Drop Down"]
[480,null,null,"Select from Drop Down","Select from Drop Down","Select from Drop Down",null,null,null,null,null,null,null,null,null,null,null,null,"Select from Drop Down","Select from Drop Down","Select from Drop Down"]
[481,null,null,"Select from Drop Down","Select from Drop Down","Select from Drop Down",null,null,null,null,null,null,null,null,null,null,null,null,"Select from Drop Down","Select from Drop Down","Select from Drop Down"]
[482,null,null,"Select from Drop Down","Select from Drop Down","Select from Drop Down",null,null,null,null,null,null,null,null,null,null,null,null,"Select from Drop Down","Select from Drop Down","Select from Drop Down"]
[483,null,null,"Select from Drop Down","Select from Drop Down","Select from Drop Down",null,null,null,null,null,null,null,null,null,null,null,null,"Select from Drop Down","Select from Drop Down","Select from Drop Down"]
[484,null,null,"Select from Drop Down","Select from Drop Down","Select from Drop Down",null,null,null,null,null,null,null,null,null,null,null,null,"Select from Drop Down","Select from Drop Down","Select from Drop Down"]
[485,null,null,"Select from Drop Down","Select from Drop Down","Select from Drop Down",null,null,null,null,null,null,null,null,null,null,null,null,"Select from Drop Down","Select from Drop Down","Select from Drop Down"]
[486,null,null,"Select from Drop Down","Select from Drop Down","Select from Drop Down",null,null,null,null,null,null,null,null,null,null,null,null,"Select from Drop Down","Select from Drop Down","Select from Drop Down"]
[487,null,null,"Select from Drop Down","Select from Drop Down","Select from Drop Down",null,null,null,null,null,null,null,null,null,null,null,null,"Select from Drop Down","Select from Drop Down","Select from Drop Down"]
[488,null,null,"Select from Drop Down","Select from Drop Down","Select from Drop Down",null,null,null,null,null,null,null,null,null,null,null,null,"Select from Drop Down","Select from Drop Down","Select from Drop Down"]
[489,null,null,"Select from Drop Down","Select from Drop Down","Select from Drop Down",null,null,null,null,null,null,null,null,null,null,null,null,"Select from Drop Down","Select from Drop Down","Select from Drop Down"]
[490,null,null,"Select from Drop Down","Select from Drop Down","Select from Drop Down",null,null,null,null,null,null,null,null,null,null,null,null,"Select from Drop Down","Select from Drop Down","Select from Drop Down"]
[491,null,null,"Select from Drop Down","Select from Drop Down","Select from Drop Down",null,null,null,null,null,null,null,null,null,null,null,null,"Select from Drop Down","Select from Drop Down","Select from Drop Down"]
[492,null,null,"Select from Drop Down","Select from Drop Down","Select from Drop Down",null,null,null,null,null,null,null,null,null,null,null,null,"Select from Drop Down","Select from Drop Down","Select from Drop Down"]
[493,null,null,"Select from Drop Down","Select from Drop Down","Select from Drop Down",null,null,null,null,null,null,null,null,null,null,null,null,"Select from Drop Down","Select from Drop Down","Select from Drop Down"]
[494,null,null,"Select from Drop Down","Select from Drop Down","Select from Drop Down",null,null,null,null,null,null,null,null,null,null,null,null,"Select from Drop Down","Select from Drop Down","Select from Drop Down"]
[495,null,null,"Select from Drop Down","Select from Drop Down","Select from Drop Down",null,null,null,null,null,null,null,null,null,null,null,null,"Select from Drop Down","Select from Drop Down","Select from Drop Down"]
[496,null,null,"Select from Drop Down","Select from Drop Down","Select from Drop Down",null,null,null,null,null,null,null,null,null,null,null,null,"Select from Drop Down","Select from Drop Down","Select from Drop Down"]
[497,null,null,"Select from Drop Down","Select from Drop Down","Select from Drop Down",null,null,null,null,null,null,null,null,null,null,null,null,"Select from Drop Down","Select from Drop Down","Select from Drop Down"]
[498,null,null,"Select from Drop Down","Select from Drop Down","Select from Drop Down",null,null,null,null,null,null,null,null,null,null,null,null,"Select from Drop Down","Select from Drop Down","Select from Drop Down"]
[499,null,null,"Select from Drop Down","Select from Drop Down","Select from Drop Down",null,null,null,null,null,null,null,null,null,null,null,null,"Select from Drop Down","Select from Drop Down","Select from Drop Down"]
[500,null,null,"Select from Drop Down","Select from Drop Down","Select from Drop Down",null,null,null,null,null,null,null,null,null,null,null,null,"Select from Drop Down","Select from Drop Down","Select from Drop Down"]
[501,null,null,"Select from Drop Down","Select from Drop Down","Select from Drop Down",null,null,null,null,null,null,null,null,null,null,null,null,"Select from Drop Down","Select from Drop Down","Select from Drop Down"]
[502,null,null,"Select from Drop Down","Select from Drop Down","Select from Drop Down",null,null,null,null,null,null,null,null,null,null,null,null,"Select from Drop Down","Select from Drop Down","Select from Drop Down"]
[503,null,null,"Select from Drop Down","Select from Drop Down","Select from Drop Down",null,null,null,null,null,null,null,null,null,null,null,null,"Select from Drop Down","Select from Drop Down","Select from Drop Down"]
[504,null,null,"Select from Drop Down","Select from Drop Down","Select from Drop Down",null,null,null,null,null,null,null,null,null,null,null,null,"Select from Drop Down","Select from Drop Down","Select from Drop Down"]
[505,null,null,"Select from Drop Down","Select from Drop Down","Select from Drop Down",null,null,null,null,null,null,null,null,null,null,null,null,"Select from Drop Down","Select from Drop Down","Select from Drop Down"]
[506,null,null,"Select from Drop Down","Select from Drop Down","Select from Drop Down",null,null,null,null,null,null,null,null,null,null,null,null,"Select from Drop Down","Select from Drop Down","Select from Drop Down"]
[507,null,null,"Select from Drop Down","Select from Drop Down","Select from Drop Down",null,null,null,null,null,null,null,null,null,null,null,null,"Select from Drop Down","Select from Drop Down","Select from Drop Down"]
[508,null,null,"Select from Drop Down","Select from Drop Down","Select from Drop Down",null,null,null,null,null,null,null,null,null,null,null,null,"Select from Drop Down","Select from Drop Down","Select from Drop Down"]
[509,null,null,"Select from Drop Down","Select from Drop Down","Select from Drop Down",null,null,null,null,null,null,null,null,null,null,null,null,"Select from Drop Down","Select from Drop Down","Select from Drop Down"]
[510,null,null,"Select from Drop Down","Select from Drop Down","Select from Drop Down",null,null,null,null,null,null,null,null,null,null,null,null,"Select from Drop Down","Select from Drop Down","Select from Drop Down"]
[511,null,null,"Select from Drop Down","Select from Drop Down","Select from Drop Down",null,null,null,null,null,null,null,null,null,null,null,null,"Select from Drop Down","Select from Drop Down","Select from Drop Down"]
[512,null,null,"Select from Drop Down","Select from Drop Down","Select from Drop Down",null,null,null,null,null,null,null,null,null,null,null,null,"Select from Drop Down","Select from Drop Down","Select from Drop Down"]
[513,null,null,"Select from Drop Down","Select from Drop Down","Select from Drop Down",null,null,null,null,null,null,null,null,null,null,null,null,"Select from Drop Down","Select from Drop Down","Select from Drop Down"]
[514,null,null,"Select from Drop Down","Select from Drop Down","Select from Drop Down",null,null,null,null,null,null,null,null,null,null,null,null,"Select from Drop Down","Select from Drop Down","Select from Drop Down"]
[{"$f":"A524+1","v":515},null,null,"Select from Drop Down","Select from Drop Down","Select from Drop Down",null,null,null,null,null,null,null,null,null,null,null,null,"Select from Drop Down","Select from Drop Down","Select from Drop Down"]
[516,null,null,"Select from Drop Down","Select from Drop Down","Select from Drop Down",null,null,null,null,null,null,null,null,null,null,null,null,"Select from Drop Down","Select from Drop Down","Select from Drop Down"]
[517,null,null,"Select from Drop Down","Select from Drop Down","Select from Drop Down",null,null,null,null,null,null,null,null,null,null,null,null,"Select from Drop Down","Select from Drop Down","Select from Drop Down"]
[518,null,null,"Select from Drop Down","Select from Drop Down","Select from Drop Down",null,null,null,null,null,null,null,null,null,null,null,null,"Select from Drop Down","Select from Drop Down","Select from Drop Down"]
[519,null,null,"Select from Drop Down","Select from Drop Down","Select from Drop Down",null,null,null,null,null,null,null,null,null,null,null,null,"Select from Drop Down","Select from Drop Down","Select from Drop Down"]
[520,null,null,"Select from Drop Down","Select from Drop Down","Select from Drop Down",null,null,null,null,null,null,null,null,null,null,null,null,"Select from Drop Down","Select from Drop Down","Select from Drop Down"]
[521,null,null,"Select from Drop Down","Select from Drop Down","Select from Drop Down",null,null,null,null,null,null,null,null,null,null,null,null,"Select from Drop Down","Select from Drop Down","Select from Drop Down"]
[522,null,null,"Select from Drop Down","Select from Drop Down","Select from Drop Down",null,null,null,null,null,null,null,null,null,null,null,null,"Select from Drop Down","Select from Drop Down","Select from Drop Down"]
[523,null,null,"Select from Drop Down","Select from Drop Down","Select from Drop Down",null,null,null,null,null,null,null,null,null,null,null,null,"Select from Drop Down","Select from Drop Down","Select from Drop Down"]
[524,null,null,"Select from Drop Down","Select from Drop Down","Select from Drop Down",null,null,null,null,null,null,null,null,null,null,null,null,"Select from Drop Down","Select from Drop Down","Select from Drop Down"]
[525,null,null,"Select from Drop Down","Select from Drop Down","Select from Drop Down",null,null,null,null,null,null,null,null,null,null,null,null,"Select from Drop Down","Select from Drop Down","Select from Drop Down"]
[526,null,null,"Select from Drop Down","Select from Drop Down","Select from Drop Down",null,null,null,null,null,null,null,null,null,null,null,null,"Select from Drop Down","Select from Drop Down","Select from Drop Down"]
[527,null,null,"Select from Drop Down","Select from Drop Down","Select from Drop Down",null,null,null,null,null,null,null,null,null,null,null,null,"Select from Drop Down","Select from Drop Down","Select from Drop Down"]
[528,null,null,"Select from Drop Down","Select from Drop Down","Select from Drop Down",null,null,null,null,null,null,null,null,null,null,null,null,"Select from Drop Down","Select from Drop Down","Select from Drop Down"]
[529,null,null,"Select from Drop Down","Select from Drop Down","Select from Drop Down",null,null,null,null,null,null,null,null,null,null,null,null,"Select from Drop Down","Select from Drop Down","Select from Drop Down"]
[530,null,null,"Select from Drop Down","Select from Drop Down","Select from Drop Down",null,null,null,null,null,null,null,null,null,null,null,null,"Select from Drop Down","Select from Drop Down","Select from Drop Down"]
[531,null,null,"Select from Drop Down","Select from Drop Down","Select from Drop Down",null,null,null,null,null,null,null,null,null,null,null,null,"Select from Drop Down","Select from Drop Down","Select from Drop Down"]
[532,null,null,"Select from Drop Down","Select from Drop Down","Select from Drop Down",null,null,null,null,null,null,null,null,null,null,null,null,"Select from Drop Down","Select from Drop Down","Select from Drop Down"]
[533,null,null,"Select from Drop Down","Select from Drop Down","Select from Drop Down",null,null,null,null,null,null,null,null,null,null,null,null,"Select from Drop Down","Select from Drop Down","Select from Drop Down"]
[534,null,null,"Select from Drop Down","Select from Drop Down","Select from Drop Down",null,null,null,null,null,null,null,null,null,null,null,null,"Select from Drop Down","Select from Drop Down","Select from Drop Down"]
[535,null,null,"Select from Drop Down","Select from Drop Down","Select from Drop Down",null,null,null,null,null,null,null,null,null,null,null,null,"Select from Drop Down","Select from Drop Down","Select from Drop Down"]
[536,null,null,"Select from Drop Down","Select from Drop Down","Select from Drop Down",null,null,null,null,null,null,null,null,null,null,null,null,"Select from Drop Down","Select from Drop Down","Select from Drop Down"]
[537,null,null,"Select from Drop Down","Select from Drop Down","Select from Drop Down",null,null,null,null,null,null,null,null,null,null,null,null,"Select from Drop Down","Select from Drop Down","Select from Drop Down"]
[538,null,null,"Select from Drop Down","Select from Drop Down","Select from Drop Down",null,null,null,null,null,null,null,null,null,null,null,null,"Select from Drop Down","Select from Drop Down","Select from Drop Down"]
[539,null,null,"Select from Drop Down","Select from Drop Down","Select from Drop Down",null,null,null,null,null,null,null,null,null,null,null,null,"Select from Drop Down","Select from Drop Down","Select from Drop Down"]
[540,null,null,"Select from Drop Down","Select from Drop Down","Select from Drop Down",null,null,null,null,null,null,null,null,null,null,null,null,"Select from Drop Down","Select from Drop Down","Select from Drop Down"]
[541,null,null,"Select from Drop Down","Select from Drop Down","Select from Drop Down",null,null,null,null,null,null,null,null,null,null,null,null,"Select from Drop Down","Select from Drop Down","Select from Drop Down"]
[542,null,null,"Select from Drop Down","Select from Drop Down","Select from Drop Down",null,null,null,null,null,null,null,null,null,null,null,null,"Select from Drop Down","Select from Drop Down","Select from Drop Down"]
[543,null,null,"Select from Drop Down","Select from Drop Down","Select from Drop Down",null,null,null,null,null,null,null,null,null,null,null,null,"Select from Drop Down","Select from Drop Down","Select from Drop Down"]
[544,null,null,"Select from Drop Down","Select from Drop Down","Select from Drop Down",null,null,null,null,null,null,null,null,null,null,null,null,"Select from Drop Down","Select from Drop Down","Select from Drop Down"]
[545,null,null,"Select from Drop Down","Select from Drop Down","Select from Drop Down",null,null,null,null,null,null,null,null,null,null,null,null,"Select from Drop Down","Select from Drop Down","Select from Drop Down"]
[546,null,null,"Select from Drop Down","Select from Drop Down","Select from Drop Down",null,null,null,null,null,null,null,null,null,null,null,null,"Select from Drop Down","Select from Drop Down","Select from Drop Down"]
[547,null,null,"Select from Drop Down","Select from Drop Down","Select from Drop Down",null,null,null,null,null,null,null,null,null,null,null,null,"Select from Drop Down","Select from Drop Down","Select from Drop Down"]
[548,null,null,"Select from Drop Down","Select from Drop Down","Select from Drop Down",null,null,null,null,null,null,null,null,null,null,null,null,"Select from Drop Down","Select from Drop Down","Select from Drop Down"]
[549,null,null,"Select from Drop Down","Select from Drop Down","Select from Drop Down",null,null,null,null,null,null,null,null,null,null,null,null,"Select from Drop Down","Select from Drop Down","Select from Drop Down"]
[550,null,null,"Select from Drop Down","Select from Drop Down","Select from Drop Down",null,null,null,null,null,null,null,null,null,null,null,null,"Select from Drop Down","Select from Drop Down","Select from Drop Down"]
[551,null,null,"Select from Drop Down","Select from Drop Down","Select from Drop Down",null,null,null,null,null,null,null,null,null,null,null,null,"Select from Drop Down","Select from Drop Down","Select from Drop Down"]
[552,null,null,"Select from Drop Down","Select from Drop Down","Select from Drop Down",null,null,null,null,null,null,null,null,null,null,null,null,"Select from Drop Down","Select from Drop Down","Select from Drop Down"]
[553,null,null,"Select from Drop Down","Select from Drop Down","Select from Drop Down",null,null,null,null,null,null,null,null,null,null,null,null,"Select from Drop Down","Select from Drop Down","Select from Drop Down"]
[554,null,null,"Select from Drop Down","Select from Drop Down","Select from Drop Down",null,null,null,null,null,null,null,null,null,null,null,null,"Select from Drop Down","Select from Drop Down","Select from Drop Down"]
[555,null,null,"Select from Drop Down","Select from Drop Down","Select from Drop Down",null,null,null,null,null,null,null,null,null,null,null,null,"Select from Drop Down","Select from Drop Down","Select from Drop Down"]
[556,null,null,"Select from Drop Down","Select from Drop Down","Select from Drop Down",null,null,null,null,null,null,null,null,null,null,null,null,"Select from Drop Down","Select from Drop Down","Select from Drop Down"]
[557,null,null,"Select from Drop Down","Select from Drop Down","Select from Drop Down",null,null,null,null,null,null,null,null,null,null,null,null,"Select from Drop Down","Select from Drop Down","Select from Drop Down"]
[558,null,null,"Select from Drop Down","Select from Drop Down","Select from Drop Down",null,null,null,null,null,null,null,null,null,null,null,null,"Select from Drop Down","Select from Drop Down","Select from Drop Down"]
[559,null,null,"Select from Drop Down","Select from Drop Down","Select from Drop Down",null,null,null,null,null,null,null,null,null,null,null,null,"Select from Drop Down","Select from Drop Down","Select from Drop Down"]
[560,null,null,"Select from Drop Down","Select from Drop Down","Select from Drop Down",null,null,null,null,null,null,null,null,null,null,null,null,"Select from Drop Down","Select from Drop Down","Select from Drop Down"]
[561,null,null,"Select from Drop Down","Select from Drop Down","Select from Drop Down",null,null,null,null,null,null,null,null,null,null,null,null,"Select from Drop Down","Select from Drop Down","Select from Drop Down"]
[562,null,null,"Select from Drop Down","Select from Drop Down","Select from Drop Down",null,null,null,null,null,null,null,null,null,null,null,null,"Select from Drop Down","Select from Drop Down","Select from Drop Down"]
[563,null,null,"Select from Drop Down","Select from Drop Down","Select from Drop Down",null,null,null,null,null,null,null,null,null,null,null,null,"Select from Drop Down","Select from Drop Down","Select from Drop Down"]
[564,null,null,"Select from Drop Down","Select from Drop Down","Select from Drop Down",null,null,null,null,null,null,null,null,null,null,null,null,"Select from Drop Down","Select from Drop Down","Select from Drop Down"]
[565,null,null,"Select from Drop Down","Select from Drop Down","Select from Drop Down",null,null,null,null,null,null,null,null,null,null,null,null,"Select from Drop Down","Select from Drop Down","Select from Drop Down"]
[566,null,null,"Select from Drop Down","Select from Drop Down","Select from Drop Down",null,null,null,null,null,null,null,null,null,null,null,null,"Select from Drop Down","Select from Drop Down","Select from Drop Down"]
[567,null,null,"Select from Drop Down","Select from Drop Down","Select from Drop Down",null,null,null,null,null,null,null,null,null,null,null,null,"Select from Drop Down","Select from Drop Down","Select from Drop Down"]
[568,null,null,"Select from Drop Down","Select from Drop Down","Select from Drop Down",null,null,null,null,null,null,null,null,null,null,null,null,"Select from Drop Down","Select from Drop Down","Select from Drop Down"]
[569,null,null,"Select from Drop Down","Select from Drop Down","Select from Drop Down",null,null,null,null,null,null,null,null,null,null,null,null,"Select from Drop Down","Select from Drop Down","Select from Drop Down"]
[570,null,null,"Select from Drop Down","Select from Drop Down","Select from Drop Down",null,null,null,null,null,null,null,null,null,null,null,null,"Select from Drop Down","Select from Drop Down","Select from Drop Down"]
[571,null,null,"Select from Drop Down","Select from Drop Down","Select from Drop Down",null,null,null,null,null,null,null,null,null,null,null,null,"Select from Drop Down","Select from Drop Down","Select from Drop Down"]
[572,null,null,"Select from Drop Down","Select from Drop Down","Select from Drop Down",null,null,null,null,null,null,null,null,null,null,null,null,"Select from Drop Down","Select from Drop Down","Select from Drop Down"]
[573,null,null,"Select from Drop Down","Select from Drop Down","Select from Drop Down",null,null,null,null,null,null,null,null,null,null,null,null,"Select from Drop Down","Select from Drop Down","Select from Drop Down"]
[574,null,null,"Select from Drop Down","Select from Drop Down","Select from Drop Down",null,null,null,null,null,null,null,null,null,null,null,null,"Select from Drop Down","Select from Drop Down","Select from Drop Down"]
[575,null,null,"Select from Drop Down","Select from Drop Down","Select from Drop Down",null,null,null,null,null,null,null,null,null,null,null,null,"Select from Drop Down","Select from Drop Down","Select from Drop Down"]
[576,null,null,"Select from Drop Down","Select from Drop Down","Select from Drop Down",null,null,null,null,null,null,null,null,null,null,null,null,"Select from Drop Down","Select from Drop Down","Select from Drop Down"]
[577,null,null,"Select from Drop Down","Select from Drop Down","Select from Drop Down",null,null,null,null,null,null,null,null,null,null,null,null,"Select from Drop Down","Select from Drop Down","Select from Drop Down"]
[578,null,null,"Select from Drop Down","Select from Drop Down","Select from Drop Down",null,null,null,null,null,null,null,null,null,null,null,null,"Select from Drop Down","Select from Drop Down","Select from Drop Down"]
[{"$f":"A588+1","v":579},null,null,"Select from Drop Down","Select from Drop Down","Select from Drop Down",null,null,null,null,null,null,null,null,null,null,null,null,"Select from Drop Down","Select from Drop Down","Select from Drop Down"]
[580,null,null,"Select from Drop Down","Select from Drop Down","Select from Drop Down",null,null,null,null,null,null,null,null,null,null,null,null,"Select from Drop Down","Select from Drop Down","Select from Drop Down"]
[581,null,null,"Select from Drop Down","Select from Drop Down","Select from Drop Down",null,null,null,null,null,null,null,null,null,null,null,null,"Select from Drop Down","Select from Drop Down","Select from Drop Down"]
[582,null,null,"Select from Drop Down","Select from Drop Down","Select from Drop Down",null,null,null,null,null,null,null,null,null,null,null,null,"Select from Drop Down","Select from Drop Down","Select from Drop Down"]
[583,null,null,"Select from Drop Down","Select from Drop Down","Select from Drop Down",null,null,null,null,null,null,null,null,null,null,null,null,"Select from Drop Down","Select from Drop Down","Select from Drop Down"]
[584,null,null,"Select from Drop Down","Select from Drop Down","Select from Drop Down",null,null,null,null,null,null,null,null,null,null,null,null,"Select from Drop Down","Select from Drop Down","Select from Drop Down"]
[585,null,null,"Select from Drop Down","Select from Drop Down","Select from Drop Down",null,null,null,null,null,null,null,null,null,null,null,null,"Select from Drop Down","Select from Drop Down","Select from Drop Down"]
[586,null,null,"Select from Drop Down","Select from Drop Down","Select from Drop Down",null,null,null,null,null,null,null,null,null,null,null,null,"Select from Drop Down","Select from Drop Down","Select from Drop Down"]
[587,null,null,"Select from Drop Down","Select from Drop Down","Select from Drop Down",null,null,null,null,null,null,null,null,null,null,null,null,"Select from Drop Down","Select from Drop Down","Select from Drop Down"]
[588,null,null,"Select from Drop Down","Select from Drop Down","Select from Drop Down",null,null,null,null,null,null,null,null,null,null,null,null,"Select from Drop Down","Select from Drop Down","Select from Drop Down"]
[589,null,null,"Select from Drop Down","Select from Drop Down","Select from Drop Down",null,null,null,null,null,null,null,null,null,null,null,null,"Select from Drop Down","Select from Drop Down","Select from Drop Down"]
[590,null,null,"Select from Drop Down","Select from Drop Down","Select from Drop Down",null,null,null,null,null,null,null,null,null,null,null,null,"Select from Drop Down","Select from Drop Down","Select from Drop Down"]
[591,null,null,"Select from Drop Down","Select from Drop Down","Select from Drop Down",null,null,null,null,null,null,null,null,null,null,null,null,"Select from Drop Down","Select from Drop Down","Select from Drop Down"]
[592,null,null,"Select from Drop Down","Select from Drop Down","Select from Drop Down",null,null,null,null,null,null,null,null,null,null,null,null,"Select from Drop Down","Select from Drop Down","Select from Drop Down"]
[593,null,null,"Select from Drop Down","Select from Drop Down","Select from Drop Down",null,null,null,null,null,null,null,null,null,null,null,null,"Select from Drop Down","Select from Drop Down","Select from Drop Down"]
[594,null,null,"Select from Drop Down","Select from Drop Down","Select from Drop Down",null,null,null,null,null,null,null,null,null,null,null,null,"Select from Drop Down","Select from Drop Down","Select from Drop Down"]
[595,null,null,"Select from Drop Down","Select from Drop Down","Select from Drop Down",null,null,null,null,null,null,null,null,null,null,null,null,"Select from Drop Down","Select from Drop Down","Select from Drop Down"]
[596,null,null,"Select from Drop Down","Select from Drop Down","Select from Drop Down",null,null,null,null,null,null,null,null,null,null,null,null,"Select from Drop Down","Select from Drop Down","Select from Drop Down"]
[597,null,null,"Select from Drop Down","Select from Drop Down","Select from Drop Down",null,null,null,null,null,null,null,null,null,null,null,null,"Select from Drop Down","Select from Drop Down","Select from Drop Down"]
[598,null,null,"Select from Drop Down","Select from Drop Down","Select from Drop Down",null,null,null,null,null,null,null,null,null,null,null,null,"Select from Drop Down","Select from Drop Down","Select from Drop Down"]
[599,null,null,"Select from Drop Down","Select from Drop Down","Select from Drop Down",null,null,null,null,null,null,null,null,null,null,null,null,"Select from Drop Down","Select from Drop Down","Select from Drop Down"]
[600,null,null,"Select from Drop Down","Select from Drop Down","Select from Drop Down",null,null,null,null,null,null,null,null,null,null,null,null,"Select from Drop Down","Select from Drop Down","Select from Drop Down"]
[601,null,null,"Select from Drop Down","Select from Drop Down","Select from Drop Down",null,null,null,null,null,null,null,null,null,null,null,null,"Select from Drop Down","Select from Drop Down","Select from Drop Down"]
[602,null,null,"Select from Drop Down","Select from Drop Down","Select from Drop Down",null,null,null,null,null,null,null,null,null,null,null,null,"Select from Drop Down","Select from Drop Down","Select from Drop Down"]
[603,null,null,"Select from Drop Down","Select from Drop Down","Select from Drop Down",null,null,null,null,null,null,null,null,null,null,null,null,"Select from Drop Down","Select from Drop Down","Select from Drop Down"]
[604,null,null,"Select from Drop Down","Select from Drop Down","Select from Drop Down",null,null,null,null,null,null,null,null,null,null,null,null,"Select from Drop Down","Select from Drop Down","Select from Drop Down"]
[605,null,null,"Select from Drop Down","Select from Drop Down","Select from Drop Down",null,null,null,null,null,null,null,null,null,null,null,null,"Select from Drop Down","Select from Drop Down","Select from Drop Down"]
[606,null,null,"Select from Drop Down","Select from Drop Down","Select from Drop Down",null,null,null,null,null,null,null,null,null,null,null,null,"Select from Drop Down","Select from Drop Down","Select from Drop Down"]
[607,null,null,"Select from Drop Down","Select from Drop Down","Select from Drop Down",null,null,null,null,null,null,null,null,null,null,null,null,"Select from Drop Down","Select from Drop Down","Select from Drop Down"]
[608,null,null,"Select from Drop Down","Select from Drop Down","Select from Drop Down",null,null,null,null,null,null,null,null,null,null,null,null,"Select from Drop Down","Select from Drop Down","Select from Drop Down"]
[609,null,null,"Select from Drop Down","Select from Drop Down","Select from Drop Down",null,null,null,null,null,null,null,null,null,null,null,null,"Select from Drop Down","Select from Drop Down","Select from Drop Down"]
[610,null,null,"Select from Drop Down","Select from Drop Down","Select from Drop Down",null,null,null,null,null,null,null,null,null,null,null,null,"Select from Drop Down","Select from Drop Down","Select from Drop Down"]
[611,null,null,"Select from Drop Down","Select from Drop Down","Select from Drop Down",null,null,null,null,null,null,null,null,null,null,null,null,"Select from Drop Down","Select from Drop Down","Select from Drop Down"]
[612,null,null,"Select from Drop Down","Select from Drop Down","Select from Drop Down",null,null,null,null,null,null,null,null,null,null,null,null,"Select from Drop Down","Select from Drop Down","Select from Drop Down"]
[613,null,null,"Select from Drop Down","Select from Drop Down","Select from Drop Down",null,null,null,null,null,null,null,null,null,null,null,null,"Select from Drop Down","Select from Drop Down","Select from Drop Down"]
[614,null,null,"Select from Drop Down","Select from Drop Down","Select from Drop Down",null,null,null,null,null,null,null,null,null,null,null,null,"Select from Drop Down","Select from Drop Down","Select from Drop Down"]
[615,null,null,"Select from Drop Down","Select from Drop Down","Select from Drop Down",null,null,null,null,null,null,null,null,null,null,null,null,"Select from Drop Down","Select from Drop Down","Select from Drop Down"]
[616,null,null,"Select from Drop Down","Select from Drop Down","Select from Drop Down",null,null,null,null,null,null,null,null,null,null,null,null,"Select from Drop Down","Select from Drop Down","Select from Drop Down"]
[617,null,null,"Select from Drop Down","Select from Drop Down","Select from Drop Down",null,null,null,null,null,null,null,null,null,null,null,null,"Select from Drop Down","Select from Drop Down","Select from Drop Down"]
[618,null,null,"Select from Drop Down","Select from Drop Down","Select from Drop Down",null,null,null,null,null,null,null,null,null,null,null,null,"Select from Drop Down","Select from Drop Down","Select from Drop Down"]
[619,null,null,"Select from Drop Down","Select from Drop Down","Select from Drop Down",null,null,null,null,null,null,null,null,null,null,null,null,"Select from Drop Down","Select from Drop Down","Select from Drop Down"]
[620,null,null,"Select from Drop Down","Select from Drop Down","Select from Drop Down",null,null,null,null,null,null,null,null,null,null,null,null,"Select from Drop Down","Select from Drop Down","Select from Drop Down"]
[621,null,null,"Select from Drop Down","Select from Drop Down","Select from Drop Down",null,null,null,null,null,null,null,null,null,null,null,null,"Select from Drop Down","Select from Drop Down","Select from Drop Down"]
[622,null,null,"Select from Drop Down","Select from Drop Down","Select from Drop Down",null,null,null,null,null,null,null,null,null,null,null,null,"Select from Drop Down","Select from Drop Down","Select from Drop Down"]
[623,null,null,"Select from Drop Down","Select from Drop Down","Select from Drop Down",null,null,null,null,null,null,null,null,null,null,null,null,"Select from Drop Down","Select from Drop Down","Select from Drop Down"]
[624,null,null,"Select from Drop Down","Select from Drop Down","Select from Drop Down",null,null,null,null,null,null,null,null,null,null,null,null,"Select from Drop Down","Select from Drop Down","Select from Drop Down"]
[625,null,null,"Select from Drop Down","Select from Drop Down","Select from Drop Down",null,null,null,null,null,null,null,null,null,null,null,null,"Select from Drop Down","Select from Drop Down","Select from Drop Down"]
[626,null,null,"Select from Drop Down","Select from Drop Down","Select from Drop Down",null,null,null,null,null,null,null,null,null,null,null,null,"Select from Drop Down","Select from Drop Down","Select from Drop Down"]
[627,null,null,"Select from Drop Down","Select from Drop Down","Select from Drop Down",null,null,null,null,null,null,null,null,null,null,null,null,"Select from Drop Down","Select from Drop Down","Select from Drop Down"]
[628,null,null,"Select from Drop Down","Select from Drop Down","Select from Drop Down",null,null,null,null,null,null,null,null,null,null,null,null,"Select from Drop Down","Select from Drop Down","Select from Drop Down"]
[629,null,null,"Select from Drop Down","Select from Drop Down","Select from Drop Down",null,null,null,null,null,null,null,null,null,null,null,null,"Select from Drop Down","Select from Drop Down","Select from Drop Down"]
[630,null,null,"Select from Drop Down","Select from Drop Down","Select from Drop Down",null,null,null,null,null,null,null,null,null,null,null,null,"Select from Drop Down","Select from Drop Down","Select from Drop Down"]
[631,null,null,"Select from Drop Down","Select from Drop Down","Select from Drop Down",null,null,null,null,null,null,null,null,null,null,null,null,"Select from Drop Down","Select from Drop Down","Select from Drop Down"]
[632,null,null,"Select from Drop Down","Select from Drop Down","Select from Drop Down",null,null,null,null,null,null,null,null,null,null,null,null,"Select from Drop Down","Select from Drop Down","Select from Drop Down"]
[633,null,null,"Select from Drop Down","Select from Drop Down","Select from Drop Down",null,null,null,null,null,null,null,null,null,null,null,null,"Select from Drop Down","Select from Drop Down","Select from Drop Down"]
[634,null,null,"Select from Drop Down","Select from Drop Down","Select from Drop Down",null,null,null,null,null,null,null,null,null,null,null,null,"Select from Drop Down","Select from Drop Down","Select from Drop Down"]
[635,null,null,"Select from Drop Down","Select from Drop Down","Select from Drop Down",null,null,null,null,null,null,null,null,null,null,null,null,"Select from Drop Down","Select from Drop Down","Select from Drop Down"]
[636,null,null,"Select from Drop Down","Select from Drop Down","Select from Drop Down",null,null,null,null,null,null,null,null,null,null,null,null,"Select from Drop Down","Select from Drop Down","Select from Drop Down"]
[637,null,null,"Select from Drop Down","Select from Drop Down","Select from Drop Down",null,null,null,null,null,null,null,null,null,null,null,null,"Select from Drop Down","Select from Drop Down","Select from Drop Down"]
[638,null,null,"Select from Drop Down","Select from Drop Down","Select from Drop Down",null,null,null,null,null,null,null,null,null,null,null,null,"Select from Drop Down","Select from Drop Down","Select from Drop Down"]
[639,null,null,"Select from Drop Down","Select from Drop Down","Select from Drop Down",null,null,null,null,null,null,null,null,null,null,null,null,"Select from Drop Down","Select from Drop Down","Select from Drop Down"]
[640,null,null,"Select from Drop Down","Select from Drop Down","Select from Drop Down",null,null,null,null,null,null,null,null,null,null,null,null,"Select from Drop Down","Select from Drop Down","Select from Drop Down"]
[641,null,null,"Select from Drop Down","Select from Drop Down","Select from Drop Down",null,null,null,null,null,null,null,null,null,null,null,null,"Select from Drop Down","Select from Drop Down","Select from Drop Down"]
[642,null,null,"Select from Drop Down","Select from Drop Down","Select from Drop Down",null,null,null,null,null,null,null,null,null,null,null,null,"Select from Drop Down","Select from Drop Down","Select from Drop Down"]
[{"$f":"A652+1","v":643},null,null,"Select from Drop Down","Select from Drop Down","Select from Drop Down",null,null,null,null,null,null,null,null,null,null,null,null,"Select from Drop Down","Select from Drop Down","Select from Drop Down"]
[644,null,null,"Select from Drop Down","Select from Drop Down","Select from Drop Down",null,null,null,null,null,null,null,null,null,null,null,null,"Select from Drop Down","Select from Drop Down","Select from Drop Down"]
[645,null,null,"Select from Drop Down","Select from Drop Down","Select from Drop Down",null,null,null,null,null,null,null,null,null,null,null,null,"Select from Drop Down","Select from Drop Down","Select from Drop Down"]
[646,null,null,"Select from Drop Down","Select from Drop Down","Select from Drop Down",null,null,null,null,null,null,null,null,null,null,null,null,"Select from Drop Down","Select from Drop Down","Select from Drop Down"]
[647,null,null,"Select from Drop Down","Select from Drop Down","Select from Drop Down",null,null,null,null,null,null,null,null,null,null,null,null,"Select from Drop Down","Select from Drop Down","Select from Drop Down"]
[648,null,null,"Select from Drop Down","Select from Drop Down","Select from Drop Down",null,null,null,null,null,null,null,null,null,null,null,null,"Select from Drop Down","Select from Drop Down","Select from Drop Down"]
[649,null,null,"Select from Drop Down","Select from Drop Down","Select from Drop Down",null,null,null,null,null,null,null,null,null,null,null,null,"Select from Drop Down","Select from Drop Down","Select from Drop Down"]
[650,null,null,"Select from Drop Down","Select from Drop Down","Select from Drop Down",null,null,null,null,null,null,null,null,null,null,null,null,"Select from Drop Down","Select from Drop Down","Select from Drop Down"]
[651,null,null,"Select from Drop Down","Select from Drop Down","Select from Drop Down",null,null,null,null,null,null,null,null,null,null,null,null,"Select from Drop Down","Select from Drop Down","Select from Drop Down"]
[652,null,null,"Select from Drop Down","Select from Drop Down","Select from Drop Down",null,null,null,null,null,null,null,null,null,null,null,null,"Select from Drop Down","Select from Drop Down","Select from Drop Down"]
[653,null,null,"Select from Drop Down","Select from Drop Down","Select from Drop Down",null,null,null,null,null,null,null,null,null,null,null,null,"Select from Drop Down","Select from Drop Down","Select from Drop Down"]
[654,null,null,"Select from Drop Down","Select from Drop Down","Select from Drop Down",null,null,null,null,null,null,null,null,null,null,null,null,"Select from Drop Down","Select from Drop Down","Select from Drop Down"]
[655,null,null,"Select from Drop Down","Select from Drop Down","Select from Drop Down",null,null,null,null,null,null,null,null,null,null,null,null,"Select from Drop Down","Select from Drop Down","Select from Drop Down"]
[656,null,null,"Select from Drop Down","Select from Drop Down","Select from Drop Down",null,null,null,null,null,null,null,null,null,null,null,null,"Select from Drop Down","Select from Drop Down","Select from Drop Down"]
[657,null,null,"Select from Drop Down","Select from Drop Down","Select from Drop Down",null,null,null,null,null,null,null,null,null,null,null,null,"Select from Drop Down","Select from Drop Down","Select from Drop Down"]
[658,null,null,"Select from Drop Down","Select from Drop Down","Select from Drop Down",null,null,null,null,null,null,null,null,null,null,null,null,"Select from Drop Down","Select from Drop Down","Select from Drop Down"]
[659,null,null,"Select from Drop Down","Select from Drop Down","Select from Drop Down",null,null,null,null,null,null,null,null,null,null,null,null,"Select from Drop Down","Select from Drop Down","Select from Drop Down"]
[660,null,null,"Select from Drop Down","Select from Drop Down","Select from Drop Down",null,null,null,null,null,null,null,null,null,null,null,null,"Select from Drop Down","Select from Drop Down","Select from Drop Down"]
[661,null,null,"Select from Drop Down","Select from Drop Down","Select from Drop Down",null,null,null,null,null,null,null,null,null,null,null,null,"Select from Drop Down","Select from Drop Down","Select from Drop Down"]
[662,null,null,"Select from Drop Down","Select from Drop Down","Select from Drop Down",null,null,null,null,null,null,null,null,null,null,null,null,"Select from Drop Down","Select from Drop Down","Select from Drop Down"]
[663,null,null,"Select from Drop Down","Select from Drop Down","Select from Drop Down",null,null,null,null,null,null,null,null,null,null,null,null,"Select from Drop Down","Select from Drop Down","Select from Drop Down"]
[664,null,null,"Select from Drop Down","Select from Drop Down","Select from Drop Down",null,null,null,null,null,null,null,null,null,null,null,null,"Select from Drop Down","Select from Drop Down","Select from Drop Down"]
[665,null,null,"Select from Drop Down","Select from Drop Down","Select from Drop Down",null,null,null,null,null,null,null,null,null,null,null,null,"Select from Drop Down","Select from Drop Down","Select from Drop Down"]
[666,null,null,"Select from Drop Down","Select from Drop Down","Select from Drop Down",null,null,null,null,null,null,null,null,null,null,null,null,"Select from Drop Down","Select from Drop Down","Select from Drop Down"]
[667,null,null,"Select from Drop Down","Select from Drop Down","Select from Drop Down",null,null,null,null,null,null,null,null,null,null,null,null,"Select from Drop Down","Select from Drop Down","Select from Drop Down"]
[668,null,null,"Select from Drop Down","Select from Drop Down","Select from Drop Down",null,null,null,null,null,null,null,null,null,null,null,null,"Select from Drop Down","Select from Drop Down","Select from Drop Down"]
[669,null,null,"Select from Drop Down","Select from Drop Down","Select from Drop Down",null,null,null,null,null,null,null,null,null,null,null,null,"Select from Drop Down","Select from Drop Down","Select from Drop Down"]
[670,null,null,"Select from Drop Down","Select from Drop Down","Select from Drop Down",null,null,null,null,null,null,null,null,null,null,null,null,"Select from Drop Down","Select from Drop Down","Select from Drop Down"]
[671,null,null,"Select from Drop Down","Select from Drop Down","Select from Drop Down",null,null,null,null,null,null,null,null,null,null,null,null,"Select from Drop Down","Select from Drop Down","Select from Drop Down"]
[672,null,null,"Select from Drop Down","Select from Drop Down","Select from Drop Down",null,null,null,null,null,null,null,null,null,null,null,null,"Select from Drop Down","Select from Drop Down","Select from Drop Down"]
[673,null,null,"Select from Drop Down","Select from Drop Down","Select from Drop Down",null,null,null,null,null,null,null,null,null,null,null,null,"Select from Drop Down","Select from Drop Down","Select from Drop Down"]
[674,null,null,"Select from Drop Down","Select from Drop Down","Select from Drop Down",null,null,null,null,null,null,null,null,null,null,null,null,"Select from Drop Down","Select from Drop Down","Select from Drop Down"]
[675,null,null,"Select from Drop Down","Select from Drop Down","Select from Drop Down",null,null,null,null,null,null,null,null,null,null,null,null,"Select from Drop Down","Select from Drop Down","Select from Drop Down"]
[676,null,null,"Select from Drop Down","Select from Drop Down","Select from Drop Down",null,null,null,null,null,null,null,null,null,null,null,null,"Select from Drop Down","Select from Drop Down","Select from Drop Down"]
[677,null,null,"Select from Drop Down","Select from Drop Down","Select from Drop Down",null,null,null,null,null,null,null,null,null,null,null,null,"Select from Drop Down","Select from Drop Down","Select from Drop Down"]
[678,null,null,"Select from Drop Down","Select from Drop Down","Select from Drop Down",null,null,null,null,null,null,null,null,null,null,null,null,"Select from Drop Down","Select from Drop Down","Select from Drop Down"]
[679,null,null,"Select from Drop Down","Select from Drop Down","Select from Drop Down",null,null,null,null,null,null,null,null,null,null,null,null,"Select from Drop Down","Select from Drop Down","Select from Drop Down"]
[680,null,null,"Select from Drop Down","Select from Drop Down","Select from Drop Down",null,null,null,null,null,null,null,null,null,null,null,null,"Select from Drop Down","Select from Drop Down","Select from Drop Down"]
[681,null,null,"Select from Drop Down","Select from Drop Down","Select from Drop Down",null,null,null,null,null,null,null,null,null,null,null,null,"Select from Drop Down","Select from Drop Down","Select from Drop Down"]
[682,null,null,"Select from Drop Down","Select from Drop Down","Select from Drop Down",null,null,null,null,null,null,null,null,null,null,null,null,"Select from Drop Down","Select from Drop Down","Select from Drop Down"]
[683,null,null,"Select from Drop Down","Select from Drop Down","Select from Drop Down",null,null,null,null,null,null,null,null,null,null,null,null,"Select from Drop Down","Select from Drop Down","Select from Drop Down"]
[684,null,null,"Select from Drop Down","Select from Drop Down","Select from Drop Down",null,null,null,null,null,null,null,null,null,null,null,null,"Select from Drop Down","Select from Drop Down","Select from Drop Down"]
[685,null,null,"Select from Drop Down","Select from Drop Down","Select from Drop Down",null,null,null,null,null,null,null,null,null,null,null,null,"Select from Drop Down","Select from Drop Down","Select from Drop Down"]
[686,null,null,"Select from Drop Down","Select from Drop Down","Select from Drop Down",null,null,null,null,null,null,null,null,null,null,null,null,"Select from Drop Down","Select from Drop Down","Select from Drop Down"]
[687,null,null,"Select from Drop Down","Select from Drop Down","Select from Drop Down",null,null,null,null,null,null,null,null,null,null,null,null,"Select from Drop Down","Select from Drop Down","Select from Drop Down"]
[688,null,null,"Select from Drop Down","Select from Drop Down","Select from Drop Down",null,null,null,null,null,null,null,null,null,null,null,null,"Select from Drop Down","Select from Drop Down","Select from Drop Down"]
[689,null,null,"Select from Drop Down","Select from Drop Down","Select from Drop Down",null,null,null,null,null,null,null,null,null,null,null,null,"Select from Drop Down","Select from Drop Down","Select from Drop Down"]
[690,null,null,"Select from Drop Down","Select from Drop Down","Select from Drop Down",null,null,null,null,null,null,null,null,null,null,null,null,"Select from Drop Down","Select from Drop Down","Select from Drop Down"]
[691,null,null,"Select from Drop Down","Select from Drop Down","Select from Drop Down",null,null,null,null,null,null,null,null,null,null,null,null,"Select from Drop Down","Select from Drop Down","Select from Drop Down"]
[692,null,null,"Select from Drop Down","Select from Drop Down","Select from Drop Down",null,null,null,null,null,null,null,null,null,null,null,null,"Select from Drop Down","Select from Drop Down","Select from Drop Down"]
[693,null,null,"Select from Drop Down","Select from Drop Down","Select from Drop Down",null,null,null,null,null,null,null,null,null,null,null,null,"Select from Drop Down","Select from Drop Down","Select from Drop Down"]
[694,null,null,"Select from Drop Down","Select from Drop Down","Select from Drop Down",null,null,null,null,null,null,null,null,null,null,null,null,"Select from Drop Down","Select from Drop Down","Select from Drop Down"]
[695,null,null,"Select from Drop Down","Select from Drop Down","Select from Drop Down",null,null,null,null,null,null,null,null,null,null,null,null,"Select from Drop Down","Select from Drop Down","Select from Drop Down"]
[696,null,null,"Select from Drop Down","Select from Drop Down","Select from Drop Down",null,null,null,null,null,null,null,null,null,null,null,null,"Select from Drop Down","Select from Drop Down","Select from Drop Down"]
[697,null,null,"Select from Drop Down","Select from Drop Down","Select from Drop Down",null,null,null,null,null,null,null,null,null,null,null,null,"Select from Drop Down","Select from Drop Down","Select from Drop Down"]
[698,null,null,"Select from Drop Down","Select from Drop Down","Select from Drop Down",null,null,null,null,null,null,null,null,null,null,null,null,"Select from Drop Down","Select from Drop Down","Select from Drop Down"]
[699,null,null,"Select from Drop Down","Select from Drop Down","Select from Drop Down",null,null,null,null,null,null,null,null,null,null,null,null,"Select from Drop Down","Select from Drop Down","Select from Drop Down"]
[700,null,null,"Select from Drop Down","Select from Drop Down","Select from Drop Down",null,null,null,null,null,null,null,null,null,null,null,null,"Select from Drop Down","Select from Drop Down","Select from Drop Down"]
[701,null,null,"Select from Drop Down","Select from Drop Down","Select from Drop Down",null,null,null,null,null,null,null,null,null,null,null,null,"Select from Drop Down","Select from Drop Down","Select from Drop Down"]
[702,null,null,"Select from Drop Down","Select from Drop Down","Select from Drop Down",null,null,null,null,null,null,null,null,null,null,null,null,"Select from Drop Down","Select from Drop Down","Select from Drop Down"]
[703,null,null,"Select from Drop Down","Select from Drop Down","Select from Drop Down",null,null,null,null,null,null,null,null,null,null,null,null,"Select from Drop Down","Select from Drop Down","Select from Drop Down"]
[704,null,null,"Select from Drop Down","Select from Drop Down","Select from Drop Down",null,null,null,null,null,null,null,null,null,null,null,null,"Select from Drop Down","Select from Drop Down","Select from Drop Down"]
[705,null,null,"Select from Drop Down","Select from Drop Down","Select from Drop Down",null,null,null,null,null,null,null,null,null,null,null,null,"Select from Drop Down","Select from Drop Down","Select from Drop Down"]
[706,null,null,"Select from Drop Down","Select from Drop Down","Select from Drop Down",null,null,null,null,null,null,null,null,null,null,null,null,"Select from Drop Down","Select from Drop Down","Select from Drop Down"]
[{"$f":"A716+1","v":707},null,null,"Select from Drop Down","Select from Drop Down","Select from Drop Down",null,null,null,null,null,null,null,null,null,null,null,null,"Select from Drop Down","Select from Drop Down","Select from Drop Down"]
[708,null,null,"Select from Drop Down","Select from Drop Down","Select from Drop Down",null,null,null,null,null,null,null,null,null,null,null,null,"Select from Drop Down","Select from Drop Down","Select from Drop Down"]
[709,null,null,"Select from Drop Down","Select from Drop Down","Select from Drop Down",null,null,null,null,null,null,null,null,null,null,null,null,"Select from Drop Down","Select from Drop Down","Select from Drop Down"]
[710,null,null,"Select from Drop Down","Select from Drop Down","Select from Drop Down",null,null,null,null,null,null,null,null,null,null,null,null,"Select from Drop Down","Select from Drop Down","Select from Drop Down"]
[711,null,null,"Select from Drop Down","Select from Drop Down","Select from Drop Down",null,null,null,null,null,null,null,null,null,null,null,null,"Select from Drop Down","Select from Drop Down","Select from Drop Down"]
[712,null,null,"Select from Drop Down","Select from Drop Down","Select from Drop Down",null,null,null,null,null,null,null,null,null,null,null,null,"Select from Drop Down","Select from Drop Down","Select from Drop Down"]
[713,null,null,"Select from Drop Down","Select from Drop Down","Select from Drop Down",null,null,null,null,null,null,null,null,null,null,null,null,"Select from Drop Down","Select from Drop Down","Select from Drop Down"]
[714,null,null,"Select from Drop Down","Select from Drop Down","Select from Drop Down",null,null,null,null,null,null,null,null,null,null,null,null,"Select from Drop Down","Select from Drop Down","Select from Drop Down"]
[715,null,null,"Select from Drop Down","Select from Drop Down","Select from Drop Down",null,null,null,null,null,null,null,null,null,null,null,null,"Select from Drop Down","Select from Drop Down","Select from Drop Down"]
[716,null,null,"Select from Drop Down","Select from Drop Down","Select from Drop Down",null,null,null,null,null,null,null,null,null,null,null,null,"Select from Drop Down","Select from Drop Down","Select from Drop Down"]
[717,null,null,"Select from Drop Down","Select from Drop Down","Select from Drop Down",null,null,null,null,null,null,null,null,null,null,null,null,"Select from Drop Down","Select from Drop Down","Select from Drop Down"]
[718,null,null,"Select from Drop Down","Select from Drop Down","Select from Drop Down",null,null,null,null,null,null,null,null,null,null,null,null,"Select from Drop Down","Select from Drop Down","Select from Drop Down"]
[719,null,null,"Select from Drop Down","Select from Drop Down","Select from Drop Down",null,null,null,null,null,null,null,null,null,null,null,null,"Select from Drop Down","Select from Drop Down","Select from Drop Down"]
[720,null,null,"Select from Drop Down","Select from Drop Down","Select from Drop Down",null,null,null,null,null,null,null,null,null,null,null,null,"Select from Drop Down","Select from Drop Down","Select from Drop Down"]
[721,null,null,"Select from Drop Down","Select from Drop Down","Select from Drop Down",null,null,null,null,null,null,null,null,null,null,null,null,"Select from Drop Down","Select from Drop Down","Select from Drop Down"]
[722,null,null,"Select from Drop Down","Select from Drop Down","Select from Drop Down",null,null,null,null,null,null,null,null,null,null,null,null,"Select from Drop Down","Select from Drop Down","Select from Drop Down"]
[723,null,null,"Select from Drop Down","Select from Drop Down","Select from Drop Down",null,null,null,null,null,null,null,null,null,null,null,null,"Select from Drop Down","Select from Drop Down","Select from Drop Down"]
[724,null,null,"Select from Drop Down","Select from Drop Down","Select from Drop Down",null,null,null,null,null,null,null,null,null,null,null,null,"Select from Drop Down","Select from Drop Down","Select from Drop Down"]
[725,null,null,"Select from Drop Down","Select from Drop Down","Select from Drop Down",null,null,null,null,null,null,null,null,null,null,null,null,"Select from Drop Down","Select from Drop Down","Select from Drop Down"]
[726,null,null,"Select from Drop Down","Select from Drop Down","Select from Drop Down",null,null,null,null,null,null,null,null,null,null,null,null,"Select from Drop Down","Select from Drop Down","Select from Drop Down"]
[727,null,null,"Select from Drop Down","Select from Drop Down","Select from Drop Down",null,null,null,null,null,null,null,null,null,null,null,null,"Select from Drop Down","Select from Drop Down","Select from Drop Down"]
[728,null,null,"Select from Drop Down","Select from Drop Down","Select from Drop Down",null,null,null,null,null,null,null,null,null,null,null,null,"Select from Drop Down","Select from Drop Down","Select from Drop Down"]
[729,null,null,"Select from Drop Down","Select from Drop Down","Select from Drop Down",null,null,null,null,null,null,null,null,null,null,null,null,"Select from Drop Down","Select from Drop Down","Select from Drop Down"]
[730,null,null,"Select from Drop Down","Select from Drop Down","Select from Drop Down",null,null,null,null,null,null,null,null,null,null,null,null,"Select from Drop Down","Select from Drop Down","Select from Drop Down"]
[731,null,null,"Select from Drop Down","Select from Drop Down","Select from Drop Down",null,null,null,null,null,null,null,null,null,null,null,null,"Select from Drop Down","Select from Drop Down","Select from Drop Down"]
[732,null,null,"Select from Drop Down","Select from Drop Down","Select from Drop Down",null,null,null,null,null,null,null,null,null,null,null,null,"Select from Drop Down","Select from Drop Down","Select from Drop Down"]
[733,null,null,"Select from Drop Down","Select from Drop Down","Select from Drop Down",null,null,null,null,null,null,null,null,null,null,null,null,"Select from Drop Down","Select from Drop Down","Select from Drop Down"]
[734,null,null,"Select from Drop Down","Select from Drop Down","Select from Drop Down",null,null,null,null,null,null,null,null,null,null,null,null,"Select from Drop Down","Select from Drop Down","Select from Drop Down"]
[735,null,null,"Select from Drop Down","Select from Drop Down","Select from Drop Down",null,null,null,null,null,null,null,null,null,null,null,null,"Select from Drop Down","Select from Drop Down","Select from Drop Down"]
[736,null,null,"Select from Drop Down","Select from Drop Down","Select from Drop Down",null,null,null,null,null,null,null,null,null,null,null,null,"Select from Drop Down","Select from Drop Down","Select from Drop Down"]
[737,null,null,"Select from Drop Down","Select from Drop Down","Select from Drop Down",null,null,null,null,null,null,null,null,null,null,null,null,"Select from Drop Down","Select from Drop Down","Select from Drop Down"]
[738,null,null,"Select from Drop Down","Select from Drop Down","Select from Drop Down",null,null,null,null,null,null,null,null,null,null,null,null,"Select from Drop Down","Select from Drop Down","Select from Drop Down"]
[739,null,null,"Select from Drop Down","Select from Drop Down","Select from Drop Down",null,null,null,null,null,null,null,null,null,null,null,null,"Select from Drop Down","Select from Drop Down","Select from Drop Down"]
[740,null,null,"Select from Drop Down","Select from Drop Down","Select from Drop Down",null,null,null,null,null,null,null,null,null,null,null,null,"Select from Drop Down","Select from Drop Down","Select from Drop Down"]
[741,null,null,"Select from Drop Down","Select from Drop Down","Select from Drop Down",null,null,null,null,null,null,null,null,null,null,null,null,"Select from Drop Down","Select from Drop Down","Select from Drop Down"]
[742,null,null,"Select from Drop Down","Select from Drop Down","Select from Drop Down",null,null,null,null,null,null,null,null,null,null,null,null,"Select from Drop Down","Select from Drop Down","Select from Drop Down"]
[743,null,null,"Select from Drop Down","Select from Drop Down","Select from Drop Down",null,null,null,null,null,null,null,null,null,null,null,null,"Select from Drop Down","Select from Drop Down","Select from Drop Down"]
[744,null,null,"Select from Drop Down","Select from Drop Down","Select from Drop Down",null,null,null,null,null,null,null,null,null,null,null,null,"Select from Drop Down","Select from Drop Down","Select from Drop Down"]
[745,null,null,"Select from Drop Down","Select from Drop Down","Select from Drop Down",null,null,null,null,null,null,null,null,null,null,null,null,"Select from Drop Down","Select from Drop Down","Select from Drop Down"]
[746,null,null,"Select from Drop Down","Select from Drop Down","Select from Drop Down",null,null,null,null,null,null,null,null,null,null,null,null,"Select from Drop Down","Select from Drop Down","Select from Drop Down"]
[747,null,null,"Select from Drop Down","Select from Drop Down","Select from Drop Down",null,null,null,null,null,null,null,null,null,null,null,null,"Select from Drop Down","Select from Drop Down","Select from Drop Down"]
[748,null,null,"Select from Drop Down","Select from Drop Down","Select from Drop Down",null,null,null,null,null,null,null,null,null,null,null,null,"Select from Drop Down","Select from Drop Down","Select from Drop Down"]
[749,null,null,"Select from Drop Down","Select from Drop Down","Select from Drop Down",null,null,null,null,null,null,null,null,null,null,null,null,"Select from Drop Down","Select from Drop Down","Select from Drop Down"]
[750,null,null,"Select from Drop Down","Select from Drop Down","Select from Drop Down",null,null,null,null,null,null,null,null,null,null,null,null,"Select from Drop Down","Select from Drop Down","Select from Drop Down"]
[751,null,null,"Select from Drop Down","Select from Drop Down","Select from Drop Down",null,null,null,null,null,null,null,null,null,null,null,null,"Select from Drop Down","Select from Drop Down","Select from Drop Down"]
[752,null,null,"Select from Drop Down","Select from Drop Down","Select from Drop Down",null,null,null,null,null,null,null,null,null,null,null,null,"Select from Drop Down","Select from Drop Down","Select from Drop Down"]
[753,null,null,"Select from Drop Down","Select from Drop Down","Select from Drop Down",null,null,null,null,null,null,null,null,null,null,null,null,"Select from Drop Down","Select from Drop Down","Select from Drop Down"]
[754,null,null,"Select from Drop Down","Select from Drop Down","Select from Drop Down",null,null,null,null,null,null,null,null,null,null,null,null,"Select from Drop Down","Select from Drop Down","Select from Drop Down"]
[755,null,null,"Select from Drop Down","Select from Drop Down","Select from Drop Down",null,null,null,null,null,null,null,null,null,null,null,null,"Select from Drop Down","Select from Drop Down","Select from Drop Down"]
[756,null,null,"Select from Drop Down","Select from Drop Down","Select from Drop Down",null,null,null,null,null,null,null,null,null,null,null,null,"Select from Drop Down","Select from Drop Down","Select from Drop Down"]
[757,null,null,"Select from Drop Down","Select from Drop Down","Select from Drop Down",null,null,null,null,null,null,null,null,null,null,null,null,"Select from Drop Down","Select from Drop Down","Select from Drop Down"]
[758,null,null,"Select from Drop Down","Select from Drop Down","Select from Drop Down",null,null,null,null,null,null,null,null,null,null,null,null,"Select from Drop Down","Select from Drop Down","Select from Drop Down"]
[759,null,null,"Select from Drop Down","Select from Drop Down","Select from Drop Down",null,null,null,null,null,null,null,null,null,null,null,null,"Select from Drop Down","Select from Drop Down","Select from Drop Down"]
[760,null,null,"Select from Drop Down","Select from Drop Down","Select from Drop Down",null,null,null,null,null,null,null,null,null,null,null,null,"Select from Drop Down","Select from Drop Down","Select from Drop Down"]
[761,null,null,"Select from Drop Down","Select from Drop Down","Select from Drop Down",null,null,null,null,null,null,null,null,null,null,null,null,"Select from Drop Down","Select from Drop Down","Select from Drop Down"]
[762,null,null,"Select from Drop Down","Select from Drop Down","Select from Drop Down",null,null,null,null,null,null,null,null,null,null,null,null,"Select from Drop Down","Select from Drop Down","Select from Drop Down"]
[763,null,null,"Select from Drop Down","Select from Drop Down","Select from Drop Down",null,null,null,null,null,null,null,null,null,null,null,null,"Select from Drop Down","Select from Drop Down","Select from Drop Down"]
[764,null,null,"Select from Drop Down","Select from Drop Down","Select from Drop Down",null,null,null,null,null,null,null,null,null,null,null,null,"Select from Drop Down","Select from Drop Down","Select from Drop Down"]
[765,null,null,"Select from Drop Down","Select from Drop Down","Select from Drop Down",null,null,null,null,null,null,null,null,null,null,null,null,"Select from Drop Down","Select from Drop Down","Select from Drop Down"]
[766,null,null,"Select from Drop Down","Select from Drop Down","Select from Drop Down",null,null,null,null,null,null,null,null,null,null,null,null,"Select from Drop Down","Select from Drop Down","Select from Drop Down"]
[767,null,null,"Select from Drop Down","Select from Drop Down","Select from Drop Down",null,null,null,null,null,null,null,null,null,null,null,null,"Select from Drop Down","Select from Drop Down","Select from Drop Down"]
[768,null,null,"Select from Drop Down","Select from Drop Down","Select from Drop Down",null,null,null,null,null,null,null,null,null,null,null,null,"Select from Drop Down","Select from Drop Down","Select from Drop Down"]
[769,null,null,"Select from Drop Down","Select from Drop Down","Select from Drop Down",null,null,null,null,null,null,null,null,null,null,null,null,"Select from Drop Down","Select from Drop Down","Select from Drop Down"]
[770,null,null,"Select from Drop Down","Select from Drop Down","Select from Drop Down",null,null,null,null,null,null,null,null,null,null,null,null,"Select from Drop Down","Select from Drop Down","Select from Drop Down"]
[{"$f":"A780+1","v":771},null,null,"Select from Drop Down","Select from Drop Down","Select from Drop Down",null,null,null,null,null,null,null,null,null,null,null,null,"Select from Drop Down","Select from Drop Down","Select from Drop Down"]
[772,null,null,"Select from Drop Down","Select from Drop Down","Select from Drop Down",null,null,null,null,null,null,null,null,null,null,null,null,"Select from Drop Down","Select from Drop Down","Select from Drop Down"]
[773,null,null,"Select from Drop Down","Select from Drop Down","Select from Drop Down",null,null,null,null,null,null,null,null,null,null,null,null,"Select from Drop Down","Select from Drop Down","Select from Drop Down"]
[774,null,null,"Select from Drop Down","Select from Drop Down","Select from Drop Down",null,null,null,null,null,null,null,null,null,null,null,null,"Select from Drop Down","Select from Drop Down","Select from Drop Down"]
[775,null,null,"Select from Drop Down","Select from Drop Down","Select from Drop Down",null,null,null,null,null,null,null,null,null,null,null,null,"Select from Drop Down","Select from Drop Down","Select from Drop Down"]
[776,null,null,"Select from Drop Down","Select from Drop Down","Select from Drop Down",null,null,null,null,null,null,null,null,null,null,null,null,"Select from Drop Down","Select from Drop Down","Select from Drop Down"]
[777,null,null,"Select from Drop Down","Select from Drop Down","Select from Drop Down",null,null,null,null,null,null,null,null,null,null,null,null,"Select from Drop Down","Select from Drop Down","Select from Drop Down"]
[778,null,null,"Select from Drop Down","Select from Drop Down","Select from Drop Down",null,null,null,null,null,null,null,null,null,null,null,null,"Select from Drop Down","Select from Drop Down","Select from Drop Down"]
[779,null,null,"Select from Drop Down","Select from Drop Down","Select from Drop Down",null,null,null,null,null,null,null,null,null,null,null,null,"Select from Drop Down","Select from Drop Down","Select from Drop Down"]
[780,null,null,"Select from Drop Down","Select from Drop Down","Select from Drop Down",null,null,null,null,null,null,null,null,null,null,null,null,"Select from Drop Down","Select from Drop Down","Select from Drop Down"]
[781,null,null,"Select from Drop Down","Select from Drop Down","Select from Drop Down",null,null,null,null,null,null,null,null,null,null,null,null,"Select from Drop Down","Select from Drop Down","Select from Drop Down"]
[782,null,null,"Select from Drop Down","Select from Drop Down","Select from Drop Down",null,null,null,null,null,null,null,null,null,null,null,null,"Select from Drop Down","Select from Drop Down","Select from Drop Down"]
[783,null,null,"Select from Drop Down","Select from Drop Down","Select from Drop Down",null,null,null,null,null,null,null,null,null,null,null,null,"Select from Drop Down","Select from Drop Down","Select from Drop Down"]
[784,null,null,"Select from Drop Down","Select from Drop Down","Select from Drop Down",null,null,null,null,null,null,null,null,null,null,null,null,"Select from Drop Down","Select from Drop Down","Select from Drop Down"]
[785,null,null,"Select from Drop Down","Select from Drop Down","Select from Drop Down",null,null,null,null,null,null,null,null,null,null,null,null,"Select from Drop Down","Select from Drop Down","Select from Drop Down"]
[786,null,null,"Select from Drop Down","Select from Drop Down","Select from Drop Down",null,null,null,null,null,null,null,null,null,null,null,null,"Select from Drop Down","Select from Drop Down","Select from Drop Down"]
[787,null,null,"Select from Drop Down","Select from Drop Down","Select from Drop Down",null,null,null,null,null,null,null,null,null,null,null,null,"Select from Drop Down","Select from Drop Down","Select from Drop Down"]
[788,null,null,"Select from Drop Down","Select from Drop Down","Select from Drop Down",null,null,null,null,null,null,null,null,null,null,null,null,"Select from Drop Down","Select from Drop Down","Select from Drop Down"]
[789,null,null,"Select from Drop Down","Select from Drop Down","Select from Drop Down",null,null,null,null,null,null,null,null,null,null,null,null,"Select from Drop Down","Select from Drop Down","Select from Drop Down"]
[790,null,null,"Select from Drop Down","Select from Drop Down","Select from Drop Down",null,null,null,null,null,null,null,null,null,null,null,null,"Select from Drop Down","Select from Drop Down","Select from Drop Down"]
[791,null,null,"Select from Drop Down","Select from Drop Down","Select from Drop Down",null,null,null,null,null,null,null,null,null,null,null,null,"Select from Drop Down","Select from Drop Down","Select from Drop Down"]
[792,null,null,"Select from Drop Down","Select from Drop Down","Select from Drop Down",null,null,null,null,null,null,null,null,null,null,null,null,"Select from Drop Down","Select from Drop Down","Select from Drop Down"]
[793,null,null,"Select from Drop Down","Select from Drop Down","Select from Drop Down",null,null,null,null,null,null,null,null,null,null,null,null,"Select from Drop Down","Select from Drop Down","Select from Drop Down"]
[794,null,null,"Select from Drop Down","Select from Drop Down","Select from Drop Down",null,null,null,null,null,null,null,null,null,null,null,null,"Select from Drop Down","Select from Drop Down","Select from Drop Down"]
[795,null,null,"Select from Drop Down","Select from Drop Down","Select from Drop Down",null,null,null,null,null,null,null,null,null,null,null,null,"Select from Drop Down","Select from Drop Down","Select from Drop Down"]
[796,null,null,"Select from Drop Down","Select from Drop Down","Select from Drop Down",null,null,null,null,null,null,null,null,null,null,null,null,"Select from Drop Down","Select from Drop Down","Select from Drop Down"]
[797,null,null,"Select from Drop Down","Select from Drop Down","Select from Drop Down",null,null,null,null,null,null,null,null,null,null,null,null,"Select from Drop Down","Select from Drop Down","Select from Drop Down"]
[798,null,null,"Select from Drop Down","Select from Drop Down","Select from Drop Down",null,null,null,null,null,null,null,null,null,null,null,null,"Select from Drop Down","Select from Drop Down","Select from Drop Down"]
[799,null,null,"Select from Drop Down","Select from Drop Down","Select from Drop Down",null,null,null,null,null,null,null,null,null,null,null,null,"Select from Drop Down","Select from Drop Down","Select from Drop Down"]
[800,null,null,"Select from Drop Down","Select from Drop Down","Select from Drop Down",null,null,null,null,null,null,null,null,null,null,null,null,"Select from Drop Down","Select from Drop Down","Select from Drop Down"]
[801,null,null,"Select from Drop Down","Select from Drop Down","Select from Drop Down",null,null,null,null,null,null,null,null,null,null,null,null,"Select from Drop Down","Select from Drop Down","Select from Drop Down"]
[802,null,null,"Select from Drop Down","Select from Drop Down","Select from Drop Down",null,null,null,null,null,null,null,null,null,null,null,null,"Select from Drop Down","Select from Drop Down","Select from Drop Down"]
[803,null,null,"Select from Drop Down","Select from Drop Down","Select from Drop Down",null,null,null,null,null,null,null,null,null,null,null,null,"Select from Drop Down","Select from Drop Down","Select from Drop Down"]
[804,null,null,"Select from Drop Down","Select from Drop Down","Select from Drop Down",null,null,null,null,null,null,null,null,null,null,null,null,"Select from Drop Down","Select from Drop Down","Select from Drop Down"]
[805,null,null,"Select from Drop Down","Select from Drop Down","Select from Drop Down",null,null,null,null,null,null,null,null,null,null,null,null,"Select from Drop Down","Select from Drop Down","Select from Drop Down"]
[806,null,null,"Select from Drop Down","Select from Drop Down","Select from Drop Down",null,null,null,null,null,null,null,null,null,null,null,null,"Select from Drop Down","Select from Drop Down","Select from Drop Down"]
[807,null,null,"Select from Drop Down","Select from Drop Down","Select from Drop Down",null,null,null,null,null,null,null,null,null,null,null,null,"Select from Drop Down","Select from Drop Down","Select from Drop Down"]
[808,null,null,"Select from Drop Down","Select from Drop Down","Select from Drop Down",null,null,null,null,null,null,null,null,null,null,null,null,"Select from Drop Down","Select from Drop Down","Select from Drop Down"]
[809,null,null,"Select from Drop Down","Select from Drop Down","Select from Drop Down",null,null,null,null,null,null,null,null,null,null,null,null,"Select from Drop Down","Select from Drop Down","Select from Drop Down"]
[810,null,null,"Select from Drop Down","Select from Drop Down","Select from Drop Down",null,null,null,null,null,null,null,null,null,null,null,null,"Select from Drop Down","Select from Drop Down","Select from Drop Down"]
[811,null,null,"Select from Drop Down","Select from Drop Down","Select from Drop Down",null,null,null,null,null,null,null,null,null,null,null,null,"Select from Drop Down","Select from Drop Down","Select from Drop Down"]
[812,null,null,"Select from Drop Down","Select from Drop Down","Select from Drop Down",null,null,null,null,null,null,null,null,null,null,null,null,"Select from Drop Down","Select from Drop Down","Select from Drop Down"]
[813,null,null,"Select from Drop Down","Select from Drop Down","Select from Drop Down",null,null,null,null,null,null,null,null,null,null,null,null,"Select from Drop Down","Select from Drop Down","Select from Drop Down"]
[814,null,null,"Select from Drop Down","Select from Drop Down","Select from Drop Down",null,null,null,null,null,null,null,null,null,null,null,null,"Select from Drop Down","Select from Drop Down","Select from Drop Down"]
[815,null,null,"Select from Drop Down","Select from Drop Down","Select from Drop Down",null,null,null,null,null,null,null,null,null,null,null,null,"Select from Drop Down","Select from Drop Down","Select from Drop Down"]
[816,null,null,"Select from Drop Down","Select from Drop Down","Select from Drop Down",null,null,null,null,null,null,null,null,null,null,null,null,"Select from Drop Down","Select from Drop Down","Select from Drop Down"]
[817,null,null,"Select from Drop Down","Select from Drop Down","Select from Drop Down",null,null,null,null,null,null,null,null,null,null,null,null,"Select from Drop Down","Select from Drop Down","Select from Drop Down"]
[818,null,null,"Select from Drop Down","Select from Drop Down","Select from Drop Down",null,null,null,null,null,null,null,null,null,null,null,null,"Select from Drop Down","Select from Drop Down","Select from Drop Down"]
[819,null,null,"Select from Drop Down","Select from Drop Down","Select from Drop Down",null,null,null,null,null,null,null,null,null,null,null,null,"Select from Drop Down","Select from Drop Down","Select from Drop Down"]
[820,null,null,"Select from Drop Down","Select from Drop Down","Select from Drop Down",null,null,null,null,null,null,null,null,null,null,null,null,"Select from Drop Down","Select from Drop Down","Select from Drop Down"]
[821,null,null,"Select from Drop Down","Select from Drop Down","Select from Drop Down",null,null,null,null,null,null,null,null,null,null,null,null,"Select from Drop Down","Select from Drop Down","Select from Drop Down"]
[822,null,null,"Select from Drop Down","Select from Drop Down","Select from Drop Down",null,null,null,null,null,null,null,null,null,null,null,null,"Select from Drop Down","Select from Drop Down","Select from Drop Down"]
[823,null,null,"Select from Drop Down","Select from Drop Down","Select from Drop Down",null,null,null,null,null,null,null,null,null,null,null,null,"Select from Drop Down","Select from Drop Down","Select from Drop Down"]
[824,null,null,"Select from Drop Down","Select from Drop Down","Select from Drop Down",null,null,null,null,null,null,null,null,null,null,null,null,"Select from Drop Down","Select from Drop Down","Select from Drop Down"]
[825,null,null,"Select from Drop Down","Select from Drop Down","Select from Drop Down",null,null,null,null,null,null,null,null,null,null,null,null,"Select from Drop Down","Select from Drop Down","Select from Drop Down"]
[826,null,null,"Select from Drop Down","Select from Drop Down","Select from Drop Down",null,null,null,null,null,null,null,null,null,null,null,null,"Select from Drop Down","Select from Drop Down","Select from Drop Down"]
[827,null,null,"Select from Drop Down","Select from Drop Down","Select from Drop Down",null,null,null,null,null,null,null,null,null,null,null,null,"Select from Drop Down","Select from Drop Down","Select from Drop Down"]
[828,null,null,"Select from Drop Down","Select from Drop Down","Select from Drop Down",null,null,null,null,null,null,null,null,null,null,null,null,"Select from Drop Down","Select from Drop Down","Select from Drop Down"]
[829,null,null,"Select from Drop Down","Select from Drop Down","Select from Drop Down",null,null,null,null,null,null,null,null,null,null,null,null,"Select from Drop Down","Select from Drop Down","Select from Drop Down"]
[830,null,null,"Select from Drop Down","Select from Drop Down","Select from Drop Down",null,null,null,null,null,null,null,null,null,null,null,null,"Select from Drop Down","Select from Drop Down","Select from Drop Down"]
[831,null,null,"Select from Drop Down","Select from Drop Down","Select from Drop Down",null,null,null,null,null,null,null,null,null,null,null,null,"Select from Drop Down","Select from Drop Down","Select from Drop Down"]
[832,null,null,"Select from Drop Down","Select from Drop Down","Select from Drop Down",null,null,null,null,null,null,null,null,null,null,null,null,"Select from Drop Down","Select from Drop Down","Select from Drop Down"]
[833,null,null,"Select from Drop Down","Select from Drop Down","Select from Drop Down",null,null,null,null,null,null,null,null,null,null,null,null,"Select from Drop Down","Select from Drop Down","Select from Drop Down"]
[834,null,null,"Select from Drop Down","Select from Drop Down","Select from Drop Down",null,null,null,null,null,null,null,null,null,null,null,null,"Select from Drop Down","Select from Drop Down","Select from Drop Down"]
[{"$f":"A844+1","v":835},null,null,"Select from Drop Down","Select from Drop Down","Select from Drop Down",null,null,null,null,null,null,null,null,null,null,null,null,"Select from Drop Down","Select from Drop Down","Select from Drop Down"]
[836,null,null,"Select from Drop Down","Select from Drop Down","Select from Drop Down",null,null,null,null,null,null,null,null,null,null,null,null,"Select from Drop Down","Select from Drop Down","Select from Drop Down"]
[837,null,null,"Select from Drop Down","Select from Drop Down","Select from Drop Down",null,null,null,null,null,null,null,null,null,null,null,null,"Select from Drop Down","Select from Drop Down","Select from Drop Down"]
[838,null,null,"Select from Drop Down","Select from Drop Down","Select from Drop Down",null,null,null,null,null,null,null,null,null,null,null,null,"Select from Drop Down","Select from Drop Down","Select from Drop Down"]
[839,null,null,"Select from Drop Down","Select from Drop Down","Select from Drop Down",null,null,null,null,null,null,null,null,null,null,null,null,"Select from Drop Down","Select from Drop Down","Select from Drop Down"]
[840,null,null,"Select from Drop Down","Select from Drop Down","Select from Drop Down",null,null,null,null,null,null,null,null,null,null,null,null,"Select from Drop Down","Select from Drop Down","Select from Drop Down"]
[841,null,null,"Select from Drop Down","Select from Drop Down","Select from Drop Down",null,null,null,null,null,null,null,null,null,null,null,null,"Select from Drop Down","Select from Drop Down","Select from Drop Down"]
[842,null,null,"Select from Drop Down","Select from Drop Down","Select from Drop Down",null,null,null,null,null,null,null,null,null,null,null,null,"Select from Drop Down","Select from Drop Down","Select from Drop Down"]
[843,null,null,"Select from Drop Down","Select from Drop Down","Select from Drop Down",null,null,null,null,null,null,null,null,null,null,null,null,"Select from Drop Down","Select from Drop Down","Select from Drop Down"]
[844,null,null,"Select from Drop Down","Select from Drop Down","Select from Drop Down",null,null,null,null,null,null,null,null,null,null,null,null,"Select from Drop Down","Select from Drop Down","Select from Drop Down"]
[845,null,null,"Select from Drop Down","Select from Drop Down","Select from Drop Down",null,null,null,null,null,null,null,null,null,null,null,null,"Select from Drop Down","Select from Drop Down","Select from Drop Down"]
[846,null,null,"Select from Drop Down","Select from Drop Down","Select from Drop Down",null,null,null,null,null,null,null,null,null,null,null,null,"Select from Drop Down","Select from Drop Down","Select from Drop Down"]
[847,null,null,"Select from Drop Down","Select from Drop Down","Select from Drop Down",null,null,null,null,null,null,null,null,null,null,null,null,"Select from Drop Down","Select from Drop Down","Select from Drop Down"]
[848,null,null,"Select from Drop Down","Select from Drop Down","Select from Drop Down",null,null,null,null,null,null,null,null,null,null,null,null,"Select from Drop Down","Select from Drop Down","Select from Drop Down"]
[849,null,null,"Select from Drop Down","Select from Drop Down","Select from Drop Down",null,null,null,null,null,null,null,null,null,null,null,null,"Select from Drop Down","Select from Drop Down","Select from Drop Down"]
[850,null,null,"Select from Drop Down","Select from Drop Down","Select from Drop Down",null,null,null,null,null,null,null,null,null,null,null,null,"Select from Drop Down","Select from Drop Down","Select from Drop Down"]
[851,null,null,"Select from Drop Down","Select from Drop Down","Select from Drop Down",null,null,null,null,null,null,null,null,null,null,null,null,"Select from Drop Down","Select from Drop Down","Select from Drop Down"]
[852,null,null,"Select from Drop Down","Select from Drop Down","Select from Drop Down",null,null,null,null,null,null,null,null,null,null,null,null,"Select from Drop Down","Select from Drop Down","Select from Drop Down"]
[853,null,null,"Select from Drop Down","Select from Drop Down","Select from Drop Down",null,null,null,null,null,null,null,null,null,null,null,null,"Select from Drop Down","Select from Drop Down","Select from Drop Down"]
[854,null,null,"Select from Drop Down","Select from Drop Down","Select from Drop Down",null,null,null,null,null,null,null,null,null,null,null,null,"Select from Drop Down","Select from Drop Down","Select from Drop Down"]
[855,null,null,"Select from Drop Down","Select from Drop Down","Select from Drop Down",null,null,null,null,null,null,null,null,null,null,null,null,"Select from Drop Down","Select from Drop Down","Select from Drop Down"]
[856,null,null,"Select from Drop Down","Select from Drop Down","Select from Drop Down",null,null,null,null,null,null,null,null,null,null,null,null,"Select from Drop Down","Select from Drop Down","Select from Drop Down"]
[857,null,null,"Select from Drop Down","Select from Drop Down","Select from Drop Down",null,null,null,null,null,null,null,null,null,null,null,null,"Select from Drop Down","Select from Drop Down","Select from Drop Down"]
[858,null,null,"Select from Drop Down","Select from Drop Down","Select from Drop Down",null,null,null,null,null,null,null,null,null,null,null,null,"Select from Drop Down","Select from Drop Down","Select from Drop Down"]
[859,null,null,"Select from Drop Down","Select from Drop Down","Select from Drop Down",null,null,null,null,null,null,null,null,null,null,null,null,"Select from Drop Down","Select from Drop Down","Select from Drop Down"]
[860,null,null,"Select from Drop Down","Select from Drop Down","Select from Drop Down",null,null,null,null,null,null,null,null,null,null,null,null,"Select from Drop Down","Select from Drop Down","Select from Drop Down"]
[861,null,null,"Select from Drop Down","Select from Drop Down","Select from Drop Down",null,null,null,null,null,null,null,null,null,null,null,null,"Select from Drop Down","Select from Drop Down","Select from Drop Down"]
[862,null,null,"Select from Drop Down","Select from Drop Down","Select from Drop Down",null,null,null,null,null,null,null,null,null,null,null,null,"Select from Drop Down","Select from Drop Down","Select from Drop Down"]
[863,null,null,"Select from Drop Down","Select from Drop Down","Select from Drop Down",null,null,null,null,null,null,null,null,null,null,null,null,"Select from Drop Down","Select from Drop Down","Select from Drop Down"]
[864,null,null,"Select from Drop Down","Select from Drop Down","Select from Drop Down",null,null,null,null,null,null,null,null,null,null,null,null,"Select from Drop Down","Select from Drop Down","Select from Drop Down"]
[865,null,null,"Select from Drop Down","Select from Drop Down","Select from Drop Down",null,null,null,null,null,null,null,null,null,null,null,null,"Select from Drop Down","Select from Drop Down","Select from Drop Down"]
[866,null,null,"Select from Drop Down","Select from Drop Down","Select from Drop Down",null,null,null,null,null,null,null,null,null,null,null,null,"Select from Drop Down","Select from Drop Down","Select from Drop Down"]
[867,null,null,"Select from Drop Down","Select from Drop Down","Select from Drop Down",null,null,null,null,null,null,null,null,null,null,null,null,"Select from Drop Down","Select from Drop Down","Select from Drop Down"]
[868,null,null,"Select from Drop Down","Select from Drop Down","Select from Drop Down",null,null,null,null,null,null,null,null,null,null,null,null,"Select from Drop Down","Select from Drop Down","Select from Drop Down"]
[869,null,null,"Select from Drop Down","Select from Drop Down","Select from Drop Down",null,null,null,null,null,null,null,null,null,null,null,null,"Select from Drop Down","Select from Drop Down","Select from Drop Down"]
[870,null,null,"Select from Drop Down","Select from Drop Down","Select from Drop Down",null,null,null,null,null,null,null,null,null,null,null,null,"Select from Drop Down","Select from Drop Down","Select from Drop Down"]
[871,null,null,"Select from Drop Down","Select from Drop Down","Select from Drop Down",null,null,null,null,null,null,null,null,null,null,null,null,"Select from Drop Down","Select from Drop Down","Select from Drop Down"]
[872,null,null,"Select from Drop Down","Select from Drop Down","Select from Drop Down",null,null,null,null,null,null,null,null,null,null,null,null,"Select from Drop Down","Select from Drop Down","Select from Drop Down"]
[873,null,null,"Select from Drop Down","Select from Drop Down","Select from Drop Down",null,null,null,null,null,null,null,null,null,null,null,null,"Select from Drop Down","Select from Drop Down","Select from Drop Down"]
[874,null,null,"Select from Drop Down","Select from Drop Down","Select from Drop Down",null,null,null,null,null,null,null,null,null,null,null,null,"Select from Drop Down","Select from Drop Down","Select from Drop Down"]
[875,null,null,"Select from Drop Down","Select from Drop Down","Select from Drop Down",null,null,null,null,null,null,null,null,null,null,null,null,"Select from Drop Down","Select from Drop Down","Select from Drop Down"]
[876,null,null,"Select from Drop Down","Select from Drop Down","Select from Drop Down",null,null,null,null,null,null,null,null,null,null,null,null,"Select from Drop Down","Select from Drop Down","Select from Drop Down"]
[877,null,null,"Select from Drop Down","Select from Drop Down","Select from Drop Down",null,null,null,null,null,null,null,null,null,null,null,null,"Select from Drop Down","Select from Drop Down","Select from Drop Down"]
[878,null,null,"Select from Drop Down","Select from Drop Down","Select from Drop Down",null,null,null,null,null,null,null,null,null,null,null,null,"Select from Drop Down","Select from Drop Down","Select from Drop Down"]
[879,null,null,"Select from Drop Down","Select from Drop Down","Select from Drop Down",null,null,null,null,null,null,null,null,null,null,null,null,"Select from Drop Down","Select from Drop Down","Select from Drop Down"]
[880,null,null,"Select from Drop Down","Select from Drop Down","Select from Drop Down",null,null,null,null,null,null,null,null,null,null,null,null,"Select from Drop Down","Select from Drop Down","Select from Drop Down"]
[881,null,null,"Select from Drop Down","Select from Drop Down","Select from Drop Down",null,null,null,null,null,null,null,null,null,null,null,null,"Select from Drop Down","Select from Drop Down","Select from Drop Down"]
[882,null,null,"Select from Drop Down","Select from Drop Down","Select from Drop Down",null,null,null,null,null,null,null,null,null,null,null,null,"Select from Drop Down","Select from Drop Down","Select from Drop Down"]
[883,null,null,"Select from Drop Down","Select from Drop Down","Select from Drop Down",null,null,null,null,null,null,null,null,null,null,null,null,"Select from Drop Down","Select from Drop Down","Select from Drop Down"]
[884,null,null,"Select from Drop Down","Select from Drop Down","Select from Drop Down",null,null,null,null,null,null,null,null,null,null,null,null,"Select from Drop Down","Select from Drop Down","Select from Drop Down"]
[885,null,null,"Select from Drop Down","Select from Drop Down","Select from Drop Down",null,null,null,null,null,null,null,null,null,null,null,null,"Select from Drop Down","Select from Drop Down","Select from Drop Down"]
[886,null,null,"Select from Drop Down","Select from Drop Down","Select from Drop Down",null,null,null,null,null,null,null,null,null,null,null,null,"Select from Drop Down","Select from Drop Down","Select from Drop Down"]
[887,null,null,"Select from Drop Down","Select from Drop Down","Select from Drop Down",null,null,null,null,null,null,null,null,null,null,null,null,"Select from Drop Down","Select from Drop Down","Select from Drop Down"]
[888,null,null,"Select from Drop Down","Select from Drop Down","Select from Drop Down",null,null,null,null,null,null,null,null,null,null,null,null,"Select from Drop Down","Select from Drop Down","Select from Drop Down"]
[889,null,null,"Select from Drop Down","Select from Drop Down","Select from Drop Down",null,null,null,null,null,null,null,null,null,null,null,null,"Select from Drop Down","Select from Drop Down","Select from Drop Down"]
[890,null,null,"Select from Drop Down","Select from Drop Down","Select from Drop Down",null,null,null,null,null,null,null,null,null,null,null,null,"Select from Drop Down","Select from Drop Down","Select from Drop Down"]
[891,null,null,"Select from Drop Down","Select from Drop Down","Select from Drop Down",null,null,null,null,null,null,null,null,null,null,null,null,"Select from Drop Down","Select from Drop Down","Select from Drop Down"]
[892,null,null,"Select from Drop Down","Select from Drop Down","Select from Drop Down",null,null,null,null,null,null,null,null,null,null,null,null,"Select from Drop Down","Select from Drop Down","Select from Drop Down"]
[893,null,null,"Select from Drop Down","Select from Drop Down","Select from Drop Down",null,null,null,null,null,null,null,null,null,null,null,null,"Select from Drop Down","Select from Drop Down","Select from Drop Down"]
[894,null,null,"Select from Drop Down","Select from Drop Down","Select from Drop Down",null,null,null,null,null,null,null,null,null,null,null,null,"Select from Drop Down","Select from Drop Down","Select from Drop Down"]
[895,null,null,"Select from Drop Down","Select from Drop Down","Select from Drop Down",null,null,null,null,null,null,null,null,null,null,null,null,"Select from Drop Down","Select from Drop Down","Select from Drop Down"]
[896,null,null,"Select from Drop Down","Select from Drop Down","Select from Drop Down",null,null,null,null,null,null,null,null,null,null,null,null,"Select from Drop Down","Select from Drop Down","Select from Drop Down"]
[897,null,null,"Select from Drop Down","Select from Drop Down","Select from Drop Down",null,null,null,null,null,null,null,null,null,null,null,null,"Select from Drop Down","Select from Drop Down","Select from Drop Down"]
[898,null,null,"Select from Drop Down","Select from Drop Down","Select from Drop Down",null,null,null,null,null,null,null,null,null,null,null,null,"Select from Drop Down","Select from Drop Down","Select from Drop Down"]
[{"$f":"A908+1","v":899},null,null,"Select from Drop Down","Select from Drop Down","Select from Drop Down",null,null,null,null,null,null,null,null,null,null,null,null,"Select from Drop Down","Select from Drop Down","Select from Drop Down"]
[900,null,null,"Select from Drop Down","Select from Drop Down","Select from Drop Down",null,null,null,null,null,null,null,null,null,null,null,null,"Select from Drop Down","Select from Drop Down","Select from Drop Down"]
[901,null,null,"Select from Drop Down","Select from Drop Down","Select from Drop Down",null,null,null,null,null,null,null,null,null,null,null,null,"Select from Drop Down","Select from Drop Down","Select from Drop Down"]
[902,null,null,"Select from Drop Down","Select from Drop Down","Select from Drop Down",null,null,null,null,null,null,null,null,null,null,null,null,"Select from Drop Down","Select from Drop Down","Select from Drop Down"]
[903,null,null,"Select from Drop Down","Select from Drop Down","Select from Drop Down",null,null,null,null,null,null,null,null,null,null,null,null,"Select from Drop Down","Select from Drop Down","Select from Drop Down"]
[904,null,null,"Select from Drop Down","Select from Drop Down","Select from Drop Down",null,null,null,null,null,null,null,null,null,null,null,null,"Select from Drop Down","Select from Drop Down","Select from Drop Down"]
[905,null,null,"Select from Drop Down","Select from Drop Down","Select from Drop Down",null,null,null,null,null,null,null,null,null,null,null,null,"Select from Drop Down","Select from Drop Down","Select from Drop Down"]
[906,null,null,"Select from Drop Down","Select from Drop Down","Select from Drop Down",null,null,null,null,null,null,null,null,null,null,null,null,"Select from Drop Down","Select from Drop Down","Select from Drop Down"]
[907,null,null,"Select from Drop Down","Select from Drop Down","Select from Drop Down",null,null,null,null,null,null,null,null,null,null,null,null,"Select from Drop Down","Select from Drop Down","Select from Drop Down"]
[908,null,null,"Select from Drop Down","Select from Drop Down","Select from Drop Down",null,null,null,null,null,null,null,null,null,null,null,null,"Select from Drop Down","Select from Drop Down","Select from Drop Down"]
[909,null,null,"Select from Drop Down","Select from Drop Down","Select from Drop Down",null,null,null,null,null,null,null,null,null,null,null,null,"Select from Drop Down","Select from Drop Down","Select from Drop Down"]
[910,null,null,"Select from Drop Down","Select from Drop Down","Select from Drop Down",null,null,null,null,null,null,null,null,null,null,null,null,"Select from Drop Down","Select from Drop Down","Select from Drop Down"]
[911,null,null,"Select from Drop Down","Select from Drop Down","Select from Drop Down",null,null,null,null,null,null,null,null,null,null,null,null,"Select from Drop Down","Select from Drop Down","Select from Drop Down"]
[912,null,null,"Select from Drop Down","Select from Drop Down","Select from Drop Down",null,null,null,null,null,null,null,null,null,null,null,null,"Select from Drop Down","Select from Drop Down","Select from Drop Down"]
[913,null,null,"Select from Drop Down","Select from Drop Down","Select from Drop Down",null,null,null,null,null,null,null,null,null,null,null,null,"Select from Drop Down","Select from Drop Down","Select from Drop Down"]
[914,null,null,"Select from Drop Down","Select from Drop Down","Select from Drop Down",null,null,null,null,null,null,null,null,null,null,null,null,"Select from Drop Down","Select from Drop Down","Select from Drop Down"]
[915,null,null,"Select from Drop Down","Select from Drop Down","Select from Drop Down",null,null,null,null,null,null,null,null,null,null,null,null,"Select from Drop Down","Select from Drop Down","Select from Drop Down"]
[916,null,null,"Select from Drop Down","Select from Drop Down","Select from Drop Down",null,null,null,null,null,null,null,null,null,null,null,null,"Select from Drop Down","Select from Drop Down","Select from Drop Down"]
[917,null,null,"Select from Drop Down","Select from Drop Down","Select from Drop Down",null,null,null,null,null,null,null,null,null,null,null,null,"Select from Drop Down","Select from Drop Down","Select from Drop Down"]
[918,null,null,"Select from Drop Down","Select from Drop Down","Select from Drop Down",null,null,null,null,null,null,null,null,null,null,null,null,"Select from Drop Down","Select from Drop Down","Select from Drop Down"]
[919,null,null,"Select from Drop Down","Select from Drop Down","Select from Drop Down",null,null,null,null,null,null,null,null,null,null,null,null,"Select from Drop Down","Select from Drop Down","Select from Drop Down"]
[920,null,null,"Select from Drop Down","Select from Drop Down","Select from Drop Down",null,null,null,null,null,null,null,null,null,null,null,null,"Select from Drop Down","Select from Drop Down","Select from Drop Down"]
[921,null,null,"Select from Drop Down","Select from Drop Down","Select from Drop Down",null,null,null,null,null,null,null,null,null,null,null,null,"Select from Drop Down","Select from Drop Down","Select from Drop Down"]
[922,null,null,"Select from Drop Down","Select from Drop Down","Select from Drop Down",null,null,null,null,null,null,null,null,null,null,null,null,"Select from Drop Down","Select from Drop Down","Select from Drop Down"]
[923,null,null,"Select from Drop Down","Select from Drop Down","Select from Drop Down",null,null,null,null,null,null,null,null,null,null,null,null,"Select from Drop Down","Select from Drop Down","Select from Drop Down"]
[924,null,null,"Select from Drop Down","Select from Drop Down","Select from Drop Down",null,null,null,null,null,null,null,null,null,null,null,null,"Select from Drop Down","Select from Drop Down","Select from Drop Down"]
[925,null,null,"Select from Drop Down","Select from Drop Down","Select from Drop Down",null,null,null,null,null,null,null,null,null,null,null,null,"Select from Drop Down","Select from Drop Down","Select from Drop Down"]
[926,null,null,"Select from Drop Down","Select from Drop Down","Select from Drop Down",null,null,null,null,null,null,null,null,null,null,null,null,"Select from Drop Down","Select from Drop Down","Select from Drop Down"]
[927,null,null,"Select from Drop Down","Select from Drop Down","Select from Drop Down",null,null,null,null,null,null,null,null,null,null,null,null,"Select from Drop Down","Select from Drop Down","Select from Drop Down"]
[928,null,null,"Select from Drop Down","Select from Drop Down","Select from Drop Down",null,null,null,null,null,null,null,null,null,null,null,null,"Select from Drop Down","Select from Drop Down","Select from Drop Down"]
[929,null,null,"Select from Drop Down","Select from Drop Down","Select from Drop Down",null,null,null,null,null,null,null,null,null,null,null,null,"Select from Drop Down","Select from Drop Down","Select from Drop Down"]
[930,null,null,"Select from Drop Down","Select from Drop Down","Select from Drop Down",null,null,null,null,null,null,null,null,null,null,null,null,"Select from Drop Down","Select from Drop Down","Select from Drop Down"]
[931,null,null,"Select from Drop Down","Select from Drop Down","Select from Drop Down",null,null,null,null,null,null,null,null,null,null,null,null,"Select from Drop Down","Select from Drop Down","Select from Drop Down"]
[932,null,null,"Select from Drop Down","Select from Drop Down","Select from Drop Down",null,null,null,null,null,null,null,null,null,null,null,null,"Select from Drop Down","Select from Drop Down","Select from Drop Down"]
[933,null,null,"Select from Drop Down","Select from Drop Down","Select from Drop Down",null,null,null,null,null,null,null,null,null,null,null,null,"Select from Drop Down","Select from Drop Down","Select from Drop Down"]
[934,null,null,"Select from Drop Down","Select from Drop Down","Select from Drop Down",null,null,null,null,null,null,null,null,null,null,null,null,"Select from Drop Down","Select from Drop Down","Select from Drop Down"]
[935,null,null,"Select from Drop Down","Select from Drop Down","Select from Drop Down",null,null,null,null,null,null,null,null,null,null,null,null,"Select from Drop Down","Select from Drop Down","Select from Drop Down"]
[936,null,null,"Select from Drop Down","Select from Drop Down","Select from Drop Down",null,null,null,null,null,null,null,null,null,null,null,null,"Select from Drop Down","Select from Drop Down","Select from Drop Down"]
[937,null,null,"Select from Drop Down","Select from Drop Down","Select from Drop Down",null,null,null,null,null,null,null,null,null,null,null,null,"Select from Drop Down","Select from Drop Down","Select from Drop Down"]
[938,null,null,"Select from Drop Down","Select from Drop Down","Select from Drop Down",null,null,null,null,null,null,null,null,null,null,null,null,"Select from Drop Down","Select from Drop Down","Select from Drop Down"]
[939,null,null,"Select from Drop Down","Select from Drop Down","Select from Drop Down",null,null,null,null,null,null,null,null,null,null,null,null,"Select from Drop Down","Select from Drop Down","Select from Drop Down"]
[940,null,null,"Select from Drop Down","Select from Drop Down","Select from Drop Down",null,null,null,null,null,null,null,null,null,null,null,null,"Select from Drop Down","Select from Drop Down","Select from Drop Down"]
[941,null,null,"Select from Drop Down","Select from Drop Down","Select from Drop Down",null,null,null,null,null,null,null,null,null,null,null,null,"Select from Drop Down","Select from Drop Down","Select from Drop Down"]
[942,null,null,"Select from Drop Down","Select from Drop Down","Select from Drop Down",null,null,null,null,null,null,null,null,null,null,null,null,"Select from Drop Down","Select from Drop Down","Select from Drop Down"]
[943,null,null,"Select from Drop Down","Select from Drop Down","Select from Drop Down",null,null,null,null,null,null,null,null,null,null,null,null,"Select from Drop Down","Select from Drop Down","Select from Drop Down"]
[944,null,null,"Select from Drop Down","Select from Drop Down","Select from Drop Down",null,null,null,null,null,null,null,null,null,null,null,null,"Select from Drop Down","Select from Drop Down","Select from Drop Down"]
[945,null,null,"Select from Drop Down","Select from Drop Down","Select from Drop Down",null,null,null,null,null,null,null,null,null,null,null,null,"Select from Drop Down","Select from Drop Down","Select from Drop Down"]
[946,null,null,"Select from Drop Down","Select from Drop Down","Select from Drop Down",null,null,null,null,null,null,null,null,null,null,null,null,"Select from Drop Down","Select from Drop Down","Select from Drop Down"]
[947,null,null,"Select from Drop Down","Select from Drop Down","Select from Drop Down",null,null,null,null,null,null,null,null,null,null,null,null,"Select from Drop Down","Select from Drop Down","Select from Drop Down"]
[948,null,null,"Select from Drop Down","Select from Drop Down","Select from Drop Down",null,null,null,null,null,null,null,null,null,null,null,null,"Select from Drop Down","Select from Drop Down","Select from Drop Down"]
[949,null,null,"Select from Drop Down","Select from Drop Down","Select from Drop Down",null,null,null,null,null,null,null,null,null,null,null,null,"Select from Drop Down","Select from Drop Down","Select from Drop Down"]
[950,null,null,"Select from Drop Down","Select from Drop Down","Select from Drop Down",null,null,null,null,null,null,null,null,null,null,null,null,"Select from Drop Down","Select from Drop Down","Select from Drop Down"]
[951,null,null,"Select from Drop Down","Select from Drop Down","Select from Drop Down",null,null,null,null,null,null,null,null,null,null,null,null,"Select from Drop Down","Select from Drop Down","Select from Drop Down"]
[952,null,null,"Select from Drop Down","Select from Drop Down","Select from Drop Down",null,null,null,null,null,null,null,null,null,null,null,null,"Select from Drop Down","Select from Drop Down","Select from Drop Down"]
[953,null,null,"Select from Drop Down","Select from Drop Down","Select from Drop Down",null,null,null,null,null,null,null,null,null,null,null,null,"Select from Drop Down","Select from Drop Down","Select from Drop Down"]
[954,null,null,"Select from Drop Down","Select from Drop Down","Select from Drop Down",null,null,null,null,null,null,null,null,null,null,null,null,"Select from Drop Down","Select from Drop Down","Select from Drop Down"]
[955,null,null,"Select from Drop Down","Select from Drop Down","Select from Drop Down",null,null,null,null,null,null,null,null,null,null,null,null,"Select from Drop Down","Select from Drop Down","Select from Drop Down"]
[956,null,null,"Select from Drop Down","Select from Drop Down","Select from Drop Down",null,null,null,null,null,null,null,null,null,null,null,null,"Select from Drop Down","Select from Drop Down","Select from Drop Down"]
[957,null,null,"Select from Drop Down","Select from Drop Down","Select from Drop Down",null,null,null,null,null,null,null,null,null,null,null,null,"Select from Drop Down","Select from Drop Down","Select from Drop Down"]
[958,null,null,"Select from Drop Down","Select from Drop Down","Select from Drop Down",null,null,null,null,null,null,null,null,null,null,null,null,"Select from Drop Down","Select from Drop Down","Select from Drop Down"]
[959,null,null,"Select from Drop Down","Select from Drop Down","Select from Drop Down",null,null,null,null,null,null,null,null,null,null,null,null,"Select from Drop Down","Select from Drop Down","Select from Drop Down"]
[960,null,null,"Select from Drop Down","Select from Drop Down","Select from Drop Down",null,null,null,null,null,null,null,null,null,null,null,null,"Select from Drop Down","Select from Drop Down","Select from Drop Down"]
[961,null,null,"Select from Drop Down","Select from Drop Down","Select from Drop Down",null,null,null,null,null,null,null,null,null,null,null,null,"Select from Drop Down","Select from Drop Down","Select from Drop Down"]
[962,null,null,"Select from Drop Down","Select from Drop Down","Select from Drop Down",null,null,null,null,null,null,null,null,null,null,null,null,"Select from Drop Down","Select from Drop Down","Select from Drop Down"]
[{"$f":"A972+1","v":963},null,null,"Select from Drop Down","Select from Drop Down","Select from Drop Down",null,null,null,null,null,null,null,null,null,null,null,null,"Select from Drop Down","Select from Drop Down","Select from Drop Down"]
[964,null,null,"Select from Drop Down","Select from Drop Down","Select from Drop Down",null,null,null,null,null,null,null,null,null,null,null,null,"Select from Drop Down","Select from Drop Down","Select from Drop Down"]
[965,null,null,"Select from Drop Down","Select from Drop Down","Select from Drop Down",null,null,null,null,null,null,null,null,null,null,null,null,"Select from Drop Down","Select from Drop Down","Select from Drop Down"]
[966,null,null,"Select from Drop Down","Select from Drop Down","Select from Drop Down",null,null,null,null,null,null,null,null,null,null,null,null,"Select from Drop Down","Select from Drop Down","Select from Drop Down"]
[967,null,null,"Select from Drop Down","Select from Drop Down","Select from Drop Down",null,null,null,null,null,null,null,null,null,null,null,null,"Select from Drop Down","Select from Drop Down","Select from Drop Down"]
[968,null,null,"Select from Drop Down","Select from Drop Down","Select from Drop Down",null,null,null,null,null,null,null,null,null,null,null,null,"Select from Drop Down","Select from Drop Down","Select from Drop Down"]
[969,null,null,"Select from Drop Down","Select from Drop Down","Select from Drop Down",null,null,null,null,null,null,null,null,null,null,null,null,"Select from Drop Down","Select from Drop Down","Select from Drop Down"]
[970,null,null,"Select from Drop Down","Select from Drop Down","Select from Drop Down",null,null,null,null,null,null,null,null,null,null,null,null,"Select from Drop Down","Select from Drop Down","Select from Drop Down"]
[971,null,null,"Select from Drop Down","Select from Drop Down","Select from Drop Down",null,null,null,null,null,null,null,null,null,null,null,null,"Select from Drop Down","Select from Drop Down","Select from Drop Down"]
[972,null,null,"Select from Drop Down","Select from Drop Down","Select from Drop Down",null,null,null,null,null,null,null,null,null,null,null,null,"Select from Drop Down","Select from Drop Down","Select from Drop Down"]
[973,null,null,"Select from Drop Down","Select from Drop Down","Select from Drop Down",null,null,null,null,null,null,null,null,null,null,null,null,"Select from Drop Down","Select from Drop Down","Select from Drop Down"]
[974,null,null,"Select from Drop Down","Select from Drop Down","Select from Drop Down",null,null,null,null,null,null,null,null,null,null,null,null,"Select from Drop Down","Select from Drop Down","Select from Drop Down"]
[975,null,null,"Select from Drop Down","Select from Drop Down","Select from Drop Down",null,null,null,null,null,null,null,null,null,null,null,null,"Select from Drop Down","Select from Drop Down","Select from Drop Down"]
[976,null,null,"Select from Drop Down","Select from Drop Down","Select from Drop Down",null,null,null,null,null,null,null,null,null,null,null,null,"Select from Drop Down","Select from Drop Down","Select from Drop Down"]
[977,null,null,"Select from Drop Down","Select from Drop Down","Select from Drop Down",null,null,null,null,null,null,null,null,null,null,null,null,"Select from Drop Down","Select from Drop Down","Select from Drop Down"]
[978,null,null,"Select from Drop Down","Select from Drop Down","Select from Drop Down",null,null,null,null,null,null,null,null,null,null,null,null,"Select from Drop Down","Select from Drop Down","Select from Drop Down"]
[979,null,null,"Select from Drop Down","Select from Drop Down","Select from Drop Down",null,null,null,null,null,null,null,null,null,null,null,null,"Select from Drop Down","Select from Drop Down","Select from Drop Down"]
[980,null,null,"Select from Drop Down","Select from Drop Down","Select from Drop Down",null,null,null,null,null,null,null,null,null,null,null,null,"Select from Drop Down","Select from Drop Down","Select from Drop Down"]
[981,null,null,"Select from Drop Down","Select from Drop Down","Select from Drop Down",null,null,null,null,null,null,null,null,null,null,null,null,"Select from Drop Down","Select from Drop Down","Select from Drop Down"]
[982,null,null,"Select from Drop Down","Select from Drop Down","Select from Drop Down",null,null,null,null,null,null,null,null,null,null,null,null,"Select from Drop Down","Select from Drop Down","Select from Drop Down"]
[983,null,null,"Select from Drop Down","Select from Drop Down","Select from Drop Down",null,null,null,null,null,null,null,null,null,null,null,null,"Select from Drop Down","Select from Drop Down","Select from Drop Down"]
[984,null,null,"Select from Drop Down","Select from Drop Down","Select from Drop Down",null,null,null,null,null,null,null,null,null,null,null,null,"Select from Drop Down","Select from Drop Down","Select from Drop Down"]
[985,null,null,"Select from Drop Down","Select from Drop Down","Select from Drop Down",null,null,null,null,null,null,null,null,null,null,null,null,"Select from Drop Down","Select from Drop Down","Select from Drop Down"]
[986,null,null,"Select from Drop Down","Select from Drop Down","Select from Drop Down",null,null,null,null,null,null,null,null,null,null,null,null,"Select from Drop Down","Select from Drop Down","Select from Drop Down"]
[987,null,null,"Select from Drop Down","Select from Drop Down","Select from Drop Down",null,null,null,null,null,null,null,null,null,null,null,null,"Select from Drop Down","Select from Drop Down","Select from Drop Down"]
[988,null,null,"Select from Drop Down","Select from Drop Down","Select from Drop Down",null,null,null,null,null,null,null,null,null,null,null,null,"Select from Drop Down","Select from Drop Down","Select from Drop Down"]
[989,null,null,"Select from Drop Down","Select from Drop Down","Select from Drop Down",null,null,null,null,null,null,null,null,null,null,null,null,"Select from Drop Down","Select from Drop Down","Select from Drop Down"]
[990,null,null,"Select from Drop Down","Select from Drop Down","Select from Drop Down",null,null,null,null,null,null,null,null,null,null,null,null,"Select from Drop Down","Select from Drop Down","Select from Drop Down"]
[991,null,null,"Select from Drop Down","Select from Drop Down","Select from Drop Down",null,null,null,null,null,null,null,null,null,null,null,null,"Select from Drop Down","Select from Drop Down","Select from Drop Down"]
[992,null,null,"Select from Drop Down","Select from Drop Down","Select from Drop Down",null,null,null,null,null,null,null,null,null,null,null,null,"Select from Drop Down","Select from Drop Down","Select from Drop Down"]
[993,null,null,"Select from Drop Down","Select from Drop Down","Select from Drop Down",null,null,null,null,null,null,null,null,null,null,null,null,"Select from Drop Down","Select from Drop Down","Select from Drop Down"]
[994,null,null,"Select from Drop Down","Select from Drop Down","Select from Drop Down",null,null,null,null,null,null,null,null,null,null,null,null,"Select from Drop Down","Select from Drop Down","Select from Drop Down"]
[995,null,null,"Select from Drop Down","Select from Drop Down","Select from Drop Down",null,null,null,null,null,null,null,null,null,null,null,null,"Select from Drop Down","Select from Drop Down","Select from Drop Down"]
[996,null,null,"Select from Drop Down","Select from Drop Down","Select from Drop Down",null,null,null,null,null,null,null,null,null,null,null,null,"Select from Drop Down","Select from Drop Down","Select from Drop Down"]
[997,null,null,"Select from Drop Down","Select from Drop Down","Select from Drop Down",null,null,null,null,null,null,null,null,null,null,null,null,"Select from Drop Down","Select from Drop Down","Select from Drop Down"]
[998,null,null,"Select from Drop Down","Select from Drop Down","Select from Drop Down",null,null,null,null,null,null,null,null,null,null,null,null,"Select from Drop Down","Select from Drop Down","Select from Drop Down"]
[999,null,null,"Select from Drop Down","Select from Drop Down","Select from Drop Down",null,null,null,null,null,null,null,null,null,null,null,null,"Select from Drop Down","Select from Drop Down","Select from Drop Down"]
[1000,null,null,"Select from Drop Down","Select from Drop Down","Select from Drop Down",null,null,null,null,null,null,null,null,null,null,null,null,"Select from Drop Down","Select from Drop Down","Select from Drop Down"]
[1001,null,null,"Select from Drop Down","Select from Drop Down","Select from Drop Down",null,null,null,null,null,null,null,null,null,null,null,null,"Select from Drop Down","Select from Drop Down","Select from Drop Down"]
[1002,null,null,"Select from Drop Down","Select from Drop Down","Select from Drop Down",null,null,null,null,null,null,null,null,null,null,null,null,"Select from Drop Down","Select from Drop Down","Select from Drop Down"]
[1003,null,null,"Select from Drop Down","Select from Drop Down","Select from Drop Down",null,null,null,null,null,null,null,null,null,null,null,null,"Select from Drop Down","Select from Drop Down","Select from Drop Down"]
[1004,null,null,"Select from Drop Down","Select from Drop Down","Select from Drop Down",null,null,null,null,null,null,null,null,null,null,null,null,"Select from Drop Down","Select from Drop Down","Select from Drop Down"]
[1005,null,null,"Select from Drop Down","Select from Drop Down","Select from Drop Down",null,null,null,null,null,null,null,null,null,null,null,null,"Select from Drop Down","Select from Drop Down","Select from Drop Down"]
[1006,null,null,"Select from Drop Down","Select from Drop Down","Select from Drop Down",null,null,null,null,null,null,null,null,null,null,null,null,"Select from Drop Down","Select from Drop Down","Select from Drop Down"]
[1007,null,null,"Select from Drop Down","Select from Drop Down","Select from Drop Down",null,null,null,null,null,null,null,null,null,null,null,null,"Select from Drop Down","Select from Drop Down","Select from Drop Down"]
[1008,null,null,"Select from Drop Down","Select from Drop Down","Select from Drop Down",null,null,null,null,null,null,null,null,null,null,null,null,"Select from Drop Down","Select from Drop Down","Select from Drop Down"]
[1009,null,null,"Select from Drop Down","Select from Drop Down","Select from Drop Down",null,null,null,null,null,null,null,null,null,null,null,null,"Select from Drop Down","Select from Drop Down","Select from Drop Down"]
[1010,null,null,"Select from Drop Down","Select from Drop Down","Select from Drop Down",null,null,null,null,null,null,null,null,null,null,null,null,"Select from Drop Down","Select from Drop Down","Select from Drop Down"]
[1011,null,null,"Select from Drop Down","Select from Drop Down","Select from Drop Down",null,null,null,null,null,null,null,null,null,null,null,null,"Select from Drop Down","Select from Drop Down","Select from Drop Down"]
[1012,null,null,"Select from Drop Down","Select from Drop Down","Select from Drop Down",null,null,null,null,null,null,null,null,null,null,null,null,"Select from Drop Down","Select from Drop Down","Select from Drop Down"]
[1013,null,null,"Select from Drop Down","Select from Drop Down","Select from Drop Down",null,null,null,null,null,null,null,null,null,null,null,null,"Select from Drop Down","Select from Drop Down","Select from Drop Down"]
[1014,null,null,"Select from Drop Down","Select from Drop Down","Select from Drop Down",null,null,null,null,null,null,null,null,null,null,null,null,"Select from Drop Down","Select from Drop Down","Select from Drop Down"]
[1015,null,null,"Select from Drop Down","Select from Drop Down","Select from Drop Down",null,null,null,null,null,null,null,null,null,null,null,null,"Select from Drop Down","Select from Drop Down","Select from Drop Down"]
[1016,null,null,"Select from Drop Down","Select from Drop Down","Select from Drop Down",null,null,null,null,null,null,null,null,null,null,null,null,"Select from Drop Down","Select from Drop Down","Select from Drop Down"]
[1017,null,null,"Select from Drop Down","Select from Drop Down","Select from Drop Down",null,null,null,null,null,null,null,null,null,null,null,null,"Select from Drop Down","Select from Drop Down","Select from Drop Down"]
[1018,null,null,"Select from Drop Down","Select from Drop Down","Select from Drop Down",null,null,null,null,null,null,null,null,null,null,null,null,"Select from Drop Down","Select from Drop Down","Select from Drop Down"]
[1019,null,null,"Select from Drop Down","Select from Drop Down","Select from Drop Down",null,null,null,null,null,null,null,null,null,null,null,null,"Select from Drop Down","Select from Drop Down","Select from Drop Down"]
[1020,null,null,"Select from Drop Down","Select from Drop Down","Select from Drop Down",null,null,null,null,null,null,null,null,null,null,null,null,"Select from Drop Down","Select from Drop Down","Select from Drop Down"]
[1021,null,null,"Select from Drop Down","Select from Drop Down","Select from Drop Down",null,null,null,null,null,null,null,null,null,null,null,null,"Select from Drop Down","Select from Drop Down","Select from Drop Down"]
[1022,null,null,"Select from Drop Down","Select from Drop Down","Select from Drop Down",null,null,null,null,null,null,null,null,null,null,null,null,"Select from Drop Down","Select from Drop Down","Select from Drop Down"]
[1023,null,null,"Select from Drop Down","Select from Drop Down","Select from Drop Down",null,null,null,null,null,null,null,null,null,null,null,null,"Select from Drop Down","Select from Drop Down","Select from Drop Down"]
[1024,null,null,"Select from Drop Down","Select from Drop Down","Select from Drop Down",null,null,null,null,null,null,null,null,null,null,null,null,"Select from Drop Down","Select from Drop Down","Select from Drop Down"]
[1025,null,null,"Select from Drop Down","Select from Drop Down","Select from Drop Down",null,null,null,null,null,null,null,null,null,null,null,null,"Select from Drop Down","Select from Drop Down","Select from Drop Down"]
[1026,null,null,"Select from Drop Down","Select from Drop Down","Select from Drop Down",null,null,null,null,null,null,null,null,null,null,null,null,"Select from Drop Down","Select from Drop Down","Select from Drop Down"]
[{"$f":"A1036+1","v":1027},null,null,"Select from Drop Down","Select from Drop Down","Select from Drop Down",null,null,null,null,null,null,null,null,null,null,null,null,"Select from Drop Down","Select from Drop Down","Select from Drop Down"]
[1028,null,null,"Select from Drop Down","Select from Drop Down","Select from Drop Down",null,null,null,null,null,null,null,null,null,null,null,null,"Select from Drop Down","Select from Drop Down","Select from Drop Down"]
[1029,null,null,"Select from Drop Down","Select from Drop Down","Select from Drop Down",null,null,null,null,null,null,null,null,null,null,null,null,"Select from Drop Down","Select from Drop Down","Select from Drop Down"]
[1030,null,null,"Select from Drop Down","Select from Drop Down","Select from Drop Down",null,null,null,null,null,null,null,null,null,null,null,null,"Select from Drop Down","Select from Drop Down","Select from Drop Down"]
[1031,null,null,"Select from Drop Down","Select from Drop Down","Select from Drop Down",null,null,null,null,null,null,null,null,null,null,null,null,"Select from Drop Down","Select from Drop Down","Select from Drop Down"]
[1032,null,null,"Select from Drop Down","Select from Drop Down","Select from Drop Down",null,null,null,null,null,null,null,null,null,null,null,null,"Select from Drop Down","Select from Drop Down","Select from Drop Down"]
[1033,null,null,"Select from Drop Down","Select from Drop Down","Select from Drop Down",null,null,null,null,null,null,null,null,null,null,null,null,"Select from Drop Down","Select from Drop Down","Select from Drop Down"]
[1034,null,null,"Select from Drop Down","Select from Drop Down","Select from Drop Down",null,null,null,null,null,null,null,null,null,null,null,null,"Select from Drop Down","Select from Drop Down","Select from Drop Down"]
[1035,null,null,"Select from Drop Down","Select from Drop Down","Select from Drop Down",null,null,null,null,null,null,null,null,null,null,null,null,"Select from Drop Down","Select from Drop Down","Select from Drop Down"]
[1036,null,null,"Select from Drop Down","Select from Drop Down","Select from Drop Down",null,null,null,null,null,null,null,null,null,null,null,null,"Select from Drop Down","Select from Drop Down","Select from Drop Down"]
[1037,null,null,"Select from Drop Down","Select from Drop Down","Select from Drop Down",null,null,null,null,null,null,null,null,null,null,null,null,"Select from Drop Down","Select from Drop Down","Select from Drop Down"]
[1038,null,null,"Select from Drop Down","Select from Drop Down","Select from Drop Down",null,null,null,null,null,null,null,null,null,null,null,null,"Select from Drop Down","Select from Drop Down","Select from Drop Down"]
[1039,null,null,"Select from Drop Down","Select from Drop Down","Select from Drop Down",null,null,null,null,null,null,null,null,null,null,null,null,"Select from Drop Down","Select from Drop Down","Select from Drop Down"]
[1040,null,null,"Select from Drop Down","Select from Drop Down","Select from Drop Down",null,null,null,null,null,null,null,null,null,null,null,null,"Select from Drop Down","Select from Drop Down","Select from Drop Down"]
[1041,null,null,"Select from Drop Down","Select from Drop Down","Select from Drop Down",null,null,null,null,null,null,null,null,null,null,null,null,"Select from Drop Down","Select from Drop Down","Select from Drop Down"]
[1042,null,null,"Select from Drop Down","Select from Drop Down","Select from Drop Down",null,null,null,null,null,null,null,null,null,null,null,null,"Select from Drop Down","Select from Drop Down","Select from Drop Down"]
[1043,null,null,"Select from Drop Down","Select from Drop Down","Select from Drop Down",null,null,null,null,null,null,null,null,null,null,null,null,"Select from Drop Down","Select from Drop Down","Select from Drop Down"]
[1044,null,null,"Select from Drop Down","Select from Drop Down","Select from Drop Down",null,null,null,null,null,null,null,null,null,null,null,null,"Select from Drop Down","Select from Drop Down","Select from Drop Down"]
[1045,null,null,"Select from Drop Down","Select from Drop Down","Select from Drop Down",null,null,null,null,null,null,null,null,null,null,null,null,"Select from Drop Down","Select from Drop Down","Select from Drop Down"]
[1046,null,null,"Select from Drop Down","Select from Drop Down","Select from Drop Down",null,null,null,null,null,null,null,null,null,null,null,null,"Select from Drop Down","Select from Drop Down","Select from Drop Down"]
[1047,null,null,"Select from Drop Down","Select from Drop Down","Select from Drop Down",null,null,null,null,null,null,null,null,null,null,null,null,"Select from Drop Down","Select from Drop Down","Select from Drop Down"]
[1048,null,null,"Select from Drop Down","Select from Drop Down","Select from Drop Down",null,null,null,null,null,null,null,null,null,null,null,null,"Select from Drop Down","Select from Drop Down","Select from Drop Down"]
[1049,null,null,"Select from Drop Down","Select from Drop Down","Select from Drop Down",null,null,null,null,null,null,null,null,null,null,null,null,"Select from Drop Down","Select from Drop Down","Select from Drop Down"]
[1050,null,null,"Select from Drop Down","Select from Drop Down","Select from Drop Down",null,null,null,null,null,null,null,null,null,null,null,null,"Select from Drop Down","Select from Drop Down","Select from Drop Down"]
[1051,null,null,"Select from Drop Down","Select from Drop Down","Select from Drop Down",null,null,null,null,null,null,null,null,null,null,null,null,"Select from Drop Down","Select from Drop Down","Select from Drop Down"]
[1052,null,null,"Select from Drop Down","Select from Drop Down","Select from Drop Down",null,null,null,null,null,null,null,null,null,null,null,null,"Select from Drop Down","Select from Drop Down","Select from Drop Down"]
[1053,null,null,"Select from Drop Down","Select from Drop Down","Select from Drop Down",null,null,null,null,null,null,null,null,null,null,null,null,"Select from Drop Down","Select from Drop Down","Select from Drop Down"]
[1054,null,null,"Select from Drop Down","Select from Drop Down","Select from Drop Down",null,null,null,null,null,null,null,null,null,null,null,null,"Select from Drop Down","Select from Drop Down","Select from Drop Down"]
[1055,null,null,"Select from Drop Down","Select from Drop Down","Select from Drop Down",null,null,null,null,null,null,null,null,null,null,null,null,"Select from Drop Down","Select from Drop Down","Select from Drop Down"]
[1056,null,null,"Select from Drop Down","Select from Drop Down","Select from Drop Down",null,null,null,null,null,null,null,null,null,null,null,null,"Select from Drop Down","Select from Drop Down","Select from Drop Down"]
[1057,null,null,"Select from Drop Down","Select from Drop Down","Select from Drop Down",null,null,null,null,null,null,null,null,null,null,null,null,"Select from Drop Down","Select from Drop Down","Select from Drop Down"]
[1058,null,null,"Select from Drop Down","Select from Drop Down","Select from Drop Down",null,null,null,null,null,null,null,null,null,null,null,null,"Select from Drop Down","Select from Drop Down","Select from Drop Down"]
[1059,null,null,"Select from Drop Down","Select from Drop Down","Select from Drop Down",null,null,null,null,null,null,null,null,null,null,null,null,"Select from Drop Down","Select from Drop Down","Select from Drop Down"]
[1060,null,null,"Select from Drop Down","Select from Drop Down","Select from Drop Down",null,null,null,null,null,null,null,null,null,null,null,null,"Select from Drop Down","Select from Drop Down","Select from Drop Down"]
[1061,null,null,"Select from Drop Down","Select from Drop Down","Select from Drop Down",null,null,null,null,null,null,null,null,null,null,null,null,"Select from Drop Down","Select from Drop Down","Select from Drop Down"]
[1062,null,null,"Select from Drop Down","Select from Drop Down","Select from Drop Down",null,null,null,null,null,null,null,null,null,null,null,null,"Select from Drop Down","Select from Drop Down","Select from Drop Down"]
[1063,null,null,"Select from Drop Down","Select from Drop Down","Select from Drop Down",null,null,null,null,null,null,null,null,null,null,null,null,"Select from Drop Down","Select from Drop Down","Select from Drop Down"]
[1064,null,null,"Select from Drop Down","Select from Drop Down","Select from Drop Down",null,null,null,null,null,null,null,null,null,null,null,null,"Select from Drop Down","Select from Drop Down","Select from Drop Down"]
[1065,null,null,"Select from Drop Down","Select from Drop Down","Select from Drop Down",null,null,null,null,null,null,null,null,null,null,null,null,"Select from Drop Down","Select from Drop Down","Select from Drop Down"]
[1066,null,null,"Select from Drop Down","Select from Drop Down","Select from Drop Down",null,null,null,null,null,null,null,null,null,null,null,null,"Select from Drop Down","Select from Drop Down","Select from Drop Down"]
[1067,null,null,"Select from Drop Down","Select from Drop Down","Select from Drop Down",null,null,null,null,null,null,null,null,null,null,null,null,"Select from Drop Down","Select from Drop Down","Select from Drop Down"]
[1068,null,null,"Select from Drop Down","Select from Drop Down","Select from Drop Down",null,null,null,null,null,null,null,null,null,null,null,null,"Select from Drop Down","Select from Drop Down","Select from Drop Down"]
[1069,null,null,"Select from Drop Down","Select from Drop Down","Select from Drop Down",null,null,null,null,null,null,null,null,null,null,null,null,"Select from Drop Down","Select from Drop Down","Select from Drop Down"]
[1070,null,null,"Select from Drop Down","Select from Drop Down","Select from Drop Down",null,null,null,null,null,null,null,null,null,null,null,null,"Select from Drop Down","Select from Drop Down","Select from Drop Down"]
[1071,null,null,"Select from Drop Down","Select from Drop Down","Select from Drop Down",null,null,null,null,null,null,null,null,null,null,null,null,"Select from Drop Down","Select from Drop Down","Select from Drop Down"]
[1072,null,null,"Select from Drop Down","Select from Drop Down","Select from Drop Down",null,null,null,null,null,null,null,null,null,null,null,null,"Select from Drop Down","Select from Drop Down","Select from Drop Down"]
[1073,null,null,"Select from Drop Down","Select from Drop Down","Select from Drop Down",null,null,null,null,null,null,null,null,null,null,null,null,"Select from Drop Down","Select from Drop Down","Select from Drop Down"]
[1074,null,null,"Select from Drop Down","Select from Drop Down","Select from Drop Down",null,null,null,null,null,null,null,null,null,null,null,null,"Select from Drop Down","Select from Drop Down","Select from Drop Down"]
[1075,null,null,"Select from Drop Down","Select from Drop Down","Select from Drop Down",null,null,null,null,null,null,null,null,null,null,null,null,"Select from Drop Down","Select from Drop Down","Select from Drop Down"]
[1076,null,null,"Select from Drop Down","Select from Drop Down","Select from Drop Down",null,null,null,null,null,null,null,null,null,null,null,null,"Select from Drop Down","Select from Drop Down","Select from Drop Down"]
[1077,null,null,"Select from Drop Down","Select from Drop Down","Select from Drop Down",null,null,null,null,null,null,null,null,null,null,null,null,"Select from Drop Down","Select from Drop Down","Select from Drop Down"]
[1078,null,null,"Select from Drop Down","Select from Drop Down","Select from Drop Down",null,null,null,null,null,null,null,null,null,null,null,null,"Select from Drop Down","Select from Drop Down","Select from Drop Down"]
[1079,null,null,"Select from Drop Down","Select from Drop Down","Select from Drop Down",null,null,null,null,null,null,null,null,null,null,null,null,"Select from Drop Down","Select from Drop Down","Select from Drop Down"]
[1080,null,null,"Select from Drop Down","Select from Drop Down","Select from Drop Down",null,null,null,null,null,null,null,null,null,null,null,null,"Select from Drop Down","Select from Drop Down","Select from Drop Down"]
[1081,null,null,"Select from Drop Down","Select from Drop Down","Select from Drop Down",null,null,null,null,null,null,null,null,null,null,null,null,"Select from Drop Down","Select from Drop Down","Select from Drop Down"]
[1082,null,null,"Select from Drop Down","Select from Drop Down","Select from Drop Down",null,null,null,null,null,null,null,null,null,null,null,null,"Select from Drop Down","Select from Drop Down","Select from Drop Down"]
[1083,null,null,"Select from Drop Down","Select from Drop Down","Select from Drop Down",null,null,null,null,null,null,null,null,null,null,null,null,"Select from Drop Down","Select from Drop Down","Select from Drop Down"]
[1084,null,null,"Select from Drop Down","Select from Drop Down","Select from Drop Down",null,null,null,null,null,null,null,null,null,null,null,null,"Select from Drop Down","Select from Drop Down","Select from Drop Down"]
[1085,null,null,"Select from Drop Down","Select from Drop Down","Select from Drop Down",null,null,null,null,null,null,null,null,null,null,null,null,"Select from Drop Down","Select from Drop Down","Select from Drop Down"]
[1086,null,null,"Select from Drop Down","Select from Drop Down","Select from Drop Down",null,null,null,null,null,null,null,null,null,null,null,null,"Select from Drop Down","Select from Drop Down","Select from Drop Down"]
[1087,null,null,"Select from Drop Down","Select from Drop Down","Select from Drop Down",null,null,null,null,null,null,null,null,null,null,null,null,"Select from Drop Down","Select from Drop Down","Select from Drop Down"]
[1088,null,null,"Select from Drop Down","Select from Drop Down","Select from Drop Down",null,null,null,null,null,null,null,null,null,null,null,null,"Select from Drop Down","Select from Drop Down","Select from Drop Down"]
[1089,null,null,"Select from Drop Down","Select from Drop Down","Select from Drop Down",null,null,null,null,null,null,null,null,null,null,null,null,"Select from Drop Down","Select from Drop Down","Select from Drop Down"]
[1090,null,null,"Select from Drop Down","Select from Drop Down","Select from Drop Down",null,null,null,null,null,null,null,null,null,null,null,null,"Select from Drop Down","Select from Drop Down","Select from Drop Down"]
[{"$f":"A1100+1","v":1091},null,null,"Select from Drop Down","Select from Drop Down","Select from Drop Down",null,null,null,null,null,null,null,null,null,null,null,null,"Select from Drop Down","Select from Drop Down","Select from Drop Down"]
[1092,null,null,"Select from Drop Down","Select from Drop Down","Select from Drop Down",null,null,null,null,null,null,null,null,null,null,null,null,"Select from Drop Down","Select from Drop Down","Select from Drop Down"]
[1093,null,null,"Select from Drop Down","Select from Drop Down","Select from Drop Down",null,null,null,null,null,null,null,null,null,null,null,null,"Select from Drop Down","Select from Drop Down","Select from Drop Down"]
[1094,null,null,"Select from Drop Down","Select from Drop Down","Select from Drop Down",null,null,null,null,null,null,null,null,null,null,null,null,"Select from Drop Down","Select from Drop Down","Select from Drop Down"]
[1095,null,null,"Select from Drop Down","Select from Drop Down","Select from Drop Down",null,null,null,null,null,null,null,null,null,null,null,null,"Select from Drop Down","Select from Drop Down","Select from Drop Down"]
[1096,null,null,"Select from Drop Down","Select from Drop Down","Select from Drop Down",null,null,null,null,null,null,null,null,null,null,null,null,"Select from Drop Down","Select from Drop Down","Select from Drop Down"]
[1097,null,null,"Select from Drop Down","Select from Drop Down","Select from Drop Down",null,null,null,null,null,null,null,null,null,null,null,null,"Select from Drop Down","Select from Drop Down","Select from Drop Down"]
[1098,null,null,"Select from Drop Down","Select from Drop Down","Select from Drop Down",null,null,null,null,null,null,null,null,null,null,null,null,"Select from Drop Down","Select from Drop Down","Select from Drop Down"]
[1099,null,null,"Select from Drop Down","Select from Drop Down","Select from Drop Down",null,null,null,null,null,null,null,null,null,null,null,null,"Select from Drop Down","Select from Drop Down","Select from Drop Down"]
[1100,null,null,"Select from Drop Down","Select from Drop Down","Select from Drop Down",null,null,null,null,null,null,null,null,null,null,null,null,"Select from Drop Down","Select from Drop Down","Select from Drop Down"]
[1101,null,null,"Select from Drop Down","Select from Drop Down","Select from Drop Down",null,null,null,null,null,null,null,null,null,null,null,null,"Select from Drop Down","Select from Drop Down","Select from Drop Down"]
[1102,null,null,"Select from Drop Down","Select from Drop Down","Select from Drop Down",null,null,null,null,null,null,null,null,null,null,null,null,"Select from Drop Down","Select from Drop Down","Select from Drop Down"]
[1103,null,null,"Select from Drop Down","Select from Drop Down","Select from Drop Down",null,null,null,null,null,null,null,null,null,null,null,null,"Select from Drop Down","Select from Drop Down","Select from Drop Down"]
[1104,null,null,"Select from Drop Down","Select from Drop Down","Select from Drop Down",null,null,null,null,null,null,null,null,null,null,null,null,"Select from Drop Down","Select from Drop Down","Select from Drop Down"]
[1105,null,null,"Select from Drop Down","Select from Drop Down","Select from Drop Down",null,null,null,null,null,null,null,null,null,null,null,null,"Select from Drop Down","Select from Drop Down","Select from Drop Down"]
[1106,null,null,"Select from Drop Down","Select from Drop Down","Select from Drop Down",null,null,null,null,null,null,null,null,null,null,null,null,"Select from Drop Down","Select from Drop Down","Select from Drop Down"]
[1107,null,null,"Select from Drop Down","Select from Drop Down","Select from Drop Down",null,null,null,null,null,null,null,null,null,null,null,null,"Select from Drop Down","Select from Drop Down","Select from Drop Down"]
[1108,null,null,"Select from Drop Down","Select from Drop Down","Select from Drop Down",null,null,null,null,null,null,null,null,null,null,null,null,"Select from Drop Down","Select from Drop Down","Select from Drop Down"]
[1109,null,null,"Select from Drop Down","Select from Drop Down","Select from Drop Down",null,null,null,null,null,null,null,null,null,null,null,null,"Select from Drop Down","Select from Drop Down","Select from Drop Down"]
[1110,null,null,"Select from Drop Down","Select from Drop Down","Select from Drop Down",null,null,null,null,null,null,null,null,null,null,null,null,"Select from Drop Down","Select from Drop Down","Select from Drop Down"]
[1111,null,null,"Select from Drop Down","Select from Drop Down","Select from Drop Down",null,null,null,null,null,null,null,null,null,null,null,null,"Select from Drop Down","Select from Drop Down","Select from Drop Down"]
[1112,null,null,"Select from Drop Down","Select from Drop Down","Select from Drop Down",null,null,null,null,null,null,null,null,null,null,null,null,"Select from Drop Down","Select from Drop Down","Select from Drop Down"]
[1113,null,null,"Select from Drop Down","Select from Drop Down","Select from Drop Down",null,null,null,null,null,null,null,null,null,null,null,null,"Select from Drop Down","Select from Drop Down","Select from Drop Down"]
[1114,null,null,"Select from Drop Down","Select from Drop Down","Select from Drop Down",null,null,null,null,null,null,null,null,null,null,null,null,"Select from Drop Down","Select from Drop Down","Select from Drop Down"]
[1115,null,null,"Select from Drop Down","Select from Drop Down","Select from Drop Down",null,null,null,null,null,null,null,null,null,null,null,null,"Select from Drop Down","Select from Drop Down","Select from Drop Down"]
[1116,null,null,"Select from Drop Down","Select from Drop Down","Select from Drop Down",null,null,null,null,null,null,null,null,null,null,null,null,"Select from Drop Down","Select from Drop Down","Select from Drop Down"]
[1117,null,null,"Select from Drop Down","Select from Drop Down","Select from Drop Down",null,null,null,null,null,null,null,null,null,null,null,null,"Select from Drop Down","Select from Drop Down","Select from Drop Down"]
[1118,null,null,"Select from Drop Down","Select from Drop Down","Select from Drop Down",null,null,null,null,null,null,null,null,null,null,null,null,"Select from Drop Down","Select from Drop Down","Select from Drop Down"]
[1119,null,null,"Select from Drop Down","Select from Drop Down","Select from Drop Down",null,null,null,null,null,null,null,null,null,null,null,null,"Select from Drop Down","Select from Drop Down","Select from Drop Down"]
[1120,null,null,"Select from Drop Down","Select from Drop Down","Select from Drop Down",null,null,null,null,null,null,null,null,null,null,null,null,"Select from Drop Down","Select from Drop Down","Select from Drop Down"]
[1121,null,null,"Select from Drop Down","Select from Drop Down","Select from Drop Down",null,null,null,null,null,null,null,null,null,null,null,null,"Select from Drop Down","Select from Drop Down","Select from Drop Down"]
[1122,null,null,"Select from Drop Down","Select from Drop Down","Select from Drop Down",null,null,null,null,null,null,null,null,null,null,null,null,"Select from Drop Down","Select from Drop Down","Select from Drop Down"]
[1123,null,null,"Select from Drop Down","Select from Drop Down","Select from Drop Down",null,null,null,null,null,null,null,null,null,null,null,null,"Select from Drop Down","Select from Drop Down","Select from Drop Down"]
[1124,null,null,"Select from Drop Down","Select from Drop Down","Select from Drop Down",null,null,null,null,null,null,null,null,null,null,null,null,"Select from Drop Down","Select from Drop Down","Select from Drop Down"]
[1125,null,null,"Select from Drop Down","Select from Drop Down","Select from Drop Down",null,null,null,null,null,null,null,null,null,null,null,null,"Select from Drop Down","Select from Drop Down","Select from Drop Down"]
[1126,null,null,"Select from Drop Down","Select from Drop Down","Select from Drop Down",null,null,null,null,null,null,null,null,null,null,null,null,"Select from Drop Down","Select from Drop Down","Select from Drop Down"]
[1127,null,null,"Select from Drop Down","Select from Drop Down","Select from Drop Down",null,null,null,null,null,null,null,null,null,null,null,null,"Select from Drop Down","Select from Drop Down","Select from Drop Down"]
[1128,null,null,"Select from Drop Down","Select from Drop Down","Select from Drop Down",null,null,null,null,null,null,null,null,null,null,null,null,"Select from Drop Down","Select from Drop Down","Select from Drop Down"]
[1129,null,null,"Select from Drop Down","Select from Drop Down","Select from Drop Down",null,null,null,null,null,null,null,null,null,null,null,null,"Select from Drop Down","Select from Drop Down","Select from Drop Down"]
[1130,null,null,"Select from Drop Down","Select from Drop Down","Select from Drop Down",null,null,null,null,null,null,null,null,null,null,null,null,"Select from Drop Down","Select from Drop Down","Select from Drop Down"]
[1131,null,null,"Select from Drop Down","Select from Drop Down","Select from Drop Down",null,null,null,null,null,null,null,null,null,null,null,null,"Select from Drop Down","Select from Drop Down","Select from Drop Down"]
[1132,null,null,"Select from Drop Down","Select from Drop Down","Select from Drop Down",null,null,null,null,null,null,null,null,null,null,null,null,"Select from Drop Down","Select from Drop Down","Select from Drop Down"]
[1133,null,null,"Select from Drop Down","Select from Drop Down","Select from Drop Down",null,null,null,null,null,null,null,null,null,null,null,null,"Select from Drop Down","Select from Drop Down","Select from Drop Down"]
[1134,null,null,"Select from Drop Down","Select from Drop Down","Select from Drop Down",null,null,null,null,null,null,null,null,null,null,null,null,"Select from Drop Down","Select from Drop Down","Select from Drop Down"]
[1135,null,null,"Select from Drop Down","Select from Drop Down","Select from Drop Down",null,null,null,null,null,null,null,null,null,null,null,null,"Select from Drop Down","Select from Drop Down","Select from Drop Down"]
[1136,null,null,"Select from Drop Down","Select from Drop Down","Select from Drop Down",null,null,null,null,null,null,null,null,null,null,null,null,"Select from Drop Down","Select from Drop Down","Select from Drop Down"]
[1137,null,null,"Select from Drop Down","Select from Drop Down","Select from Drop Down",null,null,null,null,null,null,null,null,null,null,null,null,"Select from Drop Down","Select from Drop Down","Select from Drop Down"]
[1138,null,null,"Select from Drop Down","Select from Drop Down","Select from Drop Down",null,null,null,null,null,null,null,null,null,null,null,null,"Select from Drop Down","Select from Drop Down","Select from Drop Down"]
[1139,null,null,"Select from Drop Down","Select from Drop Down","Select from Drop Down",null,null,null,null,null,null,null,null,null,null,null,null,"Select from Drop Down","Select from Drop Down","Select from Drop Down"]
[1140,null,null,"Select from Drop Down","Select from Drop Down","Select from Drop Down",null,null,null,null,null,null,null,null,null,null,null,null,"Select from Drop Down","Select from Drop Down","Select from Drop Down"]
[1141,null,null,"Select from Drop Down","Select from Drop Down","Select from Drop Down",null,null,null,null,null,null,null,null,null,null,null,null,"Select from Drop Down","Select from Drop Down","Select from Drop Down"]
[1142,null,null,"Select from Drop Down","Select from Drop Down","Select from Drop Down",null,null,null,null,null,null,null,null,null,null,null,null,"Select from Drop Down","Select from Drop Down","Select from Drop Down"]
[1143,null,null,"Select from Drop Down","Select from Drop Down","Select from Drop Down",null,null,null,null,null,null,null,null,null,null,null,null,"Select from Drop Down","Select from Drop Down","Select from Drop Down"]
[1144,null,null,"Select from Drop Down","Select from Drop Down","Select from Drop Down",null,null,null,null,null,null,null,null,null,null,null,null,"Select from Drop Down","Select from Drop Down","Select from Drop Down"]
[1145,null,null,"Select from Drop Down","Select from Drop Down","Select from Drop Down",null,null,null,null,null,null,null,null,null,null,null,null,"Select from Drop Down","Select from Drop Down","Select from Drop Down"]
[1146,null,null,"Select from Drop Down","Select from Drop Down","Select from Drop Down",null,null,null,null,null,null,null,null,null,null,null,null,"Select from Drop Down","Select from Drop Down","Select from Drop Down"]
[1147,null,null,"Select from Drop Down","Select from Drop Down","Select from Drop Down",null,null,null,null,null,null,null,null,null,null,null,null,"Select from Drop Down","Select from Drop Down","Select from Drop Down"]
[1148,null,null,"Select from Drop Down","Select from Drop Down","Select from Drop Down",null,null,null,null,null,null,null,null,null,null,null,null,"Select from Drop Down","Select from Drop Down","Select from Drop Down"]
[1149,null,null,"Select from Drop Down","Select from Drop Down","Select from Drop Down",null,null,null,null,null,null,null,null,null,null,null,null,"Select from Drop Down","Select from Drop Down","Select from Drop Down"]
[1150,null,null,"Select from Drop Down","Select from Drop Down","Select from Drop Down",null,null,null,null,null,null,null,null,null,null,null,null,"Select from Drop Down","Select from Drop Down","Select from Drop Down"]
[1151,null,null,"Select from Drop Down","Select from Drop Down","Select from Drop Down",null,null,null,null,null,null,null,null,null,null,null,null,"Select from Drop Down","Select from Drop Down","Select from Drop Down"]
[1152,null,null,"Select from Drop Down","Select from Drop Down","Select from Drop Down",null,null,null,null,null,null,null,null,null,null,null,null,"Select from Drop Down","Select from Drop Down","Select from Drop Down"]
[1153,null,null,"Select from Drop Down","Select from Drop Down","Select from Drop Down",null,null,null,null,null,null,null,null,null,null,null,null,"Select from Drop Down","Select from Drop Down","Select from Drop Down"]
[1154,null,null,"Select from Drop Down","Select from Drop Down","Select from Drop Down",null,null,null,null,null,null,null,null,null,null,null,null,"Select from Drop Down","Select from Drop Down","Select from Drop Down"]
[{"$f":"A1164+1","v":1155},null,null,"Select from Drop Down","Select from Drop Down","Select from Drop Down",null,null,null,null,null,null,null,null,null,null,null,null,"Select from Drop Down","Select from Drop Down","Select from Drop Down"]
[1156,null,null,"Select from Drop Down","Select from Drop Down","Select from Drop Down",null,null,null,null,null,null,null,null,null,null,null,null,"Select from Drop Down","Select from Drop Down","Select from Drop Down"]
[1157,null,null,"Select from Drop Down","Select from Drop Down","Select from Drop Down",null,null,null,null,null,null,null,null,null,null,null,null,"Select from Drop Down","Select from Drop Down","Select from Drop Down"]
[1158,null,null,"Select from Drop Down","Select from Drop Down","Select from Drop Down",null,null,null,null,null,null,null,null,null,null,null,null,"Select from Drop Down","Select from Drop Down","Select from Drop Down"]
[1159,null,null,"Select from Drop Down","Select from Drop Down","Select from Drop Down",null,null,null,null,null,null,null,null,null,null,null,null,"Select from Drop Down","Select from Drop Down","Select from Drop Down"]
[1160,null,null,"Select from Drop Down","Select from Drop Down","Select from Drop Down",null,null,null,null,null,null,null,null,null,null,null,null,"Select from Drop Down","Select from Drop Down","Select from Drop Down"]
[1161,null,null,"Select from Drop Down","Select from Drop Down","Select from Drop Down",null,null,null,null,null,null,null,null,null,null,null,null,"Select from Drop Down","Select from Drop Down","Select from Drop Down"]
[1162,null,null,"Select from Drop Down","Select from Drop Down","Select from Drop Down",null,null,null,null,null,null,null,null,null,null,null,null,"Select from Drop Down","Select from Drop Down","Select from Drop Down"]
[1163,null,null,"Select from Drop Down","Select from Drop Down","Select from Drop Down",null,null,null,null,null,null,null,null,null,null,null,null,"Select from Drop Down","Select from Drop Down","Select from Drop Down"]
[1164,null,null,"Select from Drop Down","Select from Drop Down","Select from Drop Down",null,null,null,null,null,null,null,null,null,null,null,null,"Select from Drop Down","Select from Drop Down","Select from Drop Down"]
[1165,null,null,"Select from Drop Down","Select from Drop Down","Select from Drop Down",null,null,null,null,null,null,null,null,null,null,null,null,"Select from Drop Down","Select from Drop Down","Select from Drop Down"]
[1166,null,null,"Select from Drop Down","Select from Drop Down","Select from Drop Down",null,null,null,null,null,null,null,null,null,null,null,null,"Select from Drop Down","Select from Drop Down","Select from Drop Down"]
[1167,null,null,"Select from Drop Down","Select from Drop Down","Select from Drop Down",null,null,null,null,null,null,null,null,null,null,null,null,"Select from Drop Down","Select from Drop Down","Select from Drop Down"]
[1168,null,null,"Select from Drop Down","Select from Drop Down","Select from Drop Down",null,null,null,null,null,null,null,null,null,null,null,null,"Select from Drop Down","Select from Drop Down","Select from Drop Down"]
[1169,null,null,"Select from Drop Down","Select from Drop Down","Select from Drop Down",null,null,null,null,null,null,null,null,null,null,null,null,"Select from Drop Down","Select from Drop Down","Select from Drop Down"]
[1170,null,null,"Select from Drop Down","Select from Drop Down","Select from Drop Down",null,null,null,null,null,null,null,null,null,null,null,null,"Select from Drop Down","Select from Drop Down","Select from Drop Down"]
[1171,null,null,"Select from Drop Down","Select from Drop Down","Select from Drop Down",null,null,null,null,null,null,null,null,null,null,null,null,"Select from Drop Down","Select from Drop Down","Select from Drop Down"]
[1172,null,null,"Select from Drop Down","Select from Drop Down","Select from Drop Down",null,null,null,null,null,null,null,null,null,null,null,null,"Select from Drop Down","Select from Drop Down","Select from Drop Down"]
[1173,null,null,"Select from Drop Down","Select from Drop Down","Select from Drop Down",null,null,null,null,null,null,null,null,null,null,null,null,"Select from Drop Down","Select from Drop Down","Select from Drop Down"]
[1174,null,null,"Select from Drop Down","Select from Drop Down","Select from Drop Down",null,null,null,null,null,null,null,null,null,null,null,null,"Select from Drop Down","Select from Drop Down","Select from Drop Down"]
[1175,null,null,"Select from Drop Down","Select from Drop Down","Select from Drop Down",null,null,null,null,null,null,null,null,null,null,null,null,"Select from Drop Down","Select from Drop Down","Select from Drop Down"]
[1176,null,null,"Select from Drop Down","Select from Drop Down","Select from Drop Down",null,null,null,null,null,null,null,null,null,null,null,null,"Select from Drop Down","Select from Drop Down","Select from Drop Down"]
[1177,null,null,"Select from Drop Down","Select from Drop Down","Select from Drop Down",null,null,null,null,null,null,null,null,null,null,null,null,"Select from Drop Down","Select from Drop Down","Select from Drop Down"]
[1178,null,null,"Select from Drop Down","Select from Drop Down","Select from Drop Down",null,null,null,null,null,null,null,null,null,null,null,null,"Select from Drop Down","Select from Drop Down","Select from Drop Down"]
[1179,null,null,"Select from Drop Down","Select from Drop Down","Select from Drop Down",null,null,null,null,null,null,null,null,null,null,null,null,"Select from Drop Down","Select from Drop Down","Select from Drop Down"]
[1180,null,null,"Select from Drop Down","Select from Drop Down","Select from Drop Down",null,null,null,null,null,null,null,null,null,null,null,null,"Select from Drop Down","Select from Drop Down","Select from Drop Down"]
[1181,null,null,"Select from Drop Down","Select from Drop Down","Select from Drop Down",null,null,null,null,null,null,null,null,null,null,null,null,"Select from Drop Down","Select from Drop Down","Select from Drop Down"]
[1182,null,null,"Select from Drop Down","Select from Drop Down","Select from Drop Down",null,null,null,null,null,null,null,null,null,null,null,null,"Select from Drop Down","Select from Drop Down","Select from Drop Down"]
[1183,null,null,"Select from Drop Down","Select from Drop Down","Select from Drop Down",null,null,null,null,null,null,null,null,null,null,null,null,"Select from Drop Down","Select from Drop Down","Select from Drop Down"]
[1184,null,null,"Select from Drop Down","Select from Drop Down","Select from Drop Down",null,null,null,null,null,null,null,null,null,null,null,null,"Select from Drop Down","Select from Drop Down","Select from Drop Down"]
[1185,null,null,"Select from Drop Down","Select from Drop Down","Select from Drop Down",null,null,null,null,null,null,null,null,null,null,null,null,"Select from Drop Down","Select from Drop Down","Select from Drop Down"]
[1186,null,null,"Select from Drop Down","Select from Drop Down","Select from Drop Down",null,null,null,null,null,null,null,null,null,null,null,null,"Select from Drop Down","Select from Drop Down","Select from Drop Down"]
[1187,null,null,"Select from Drop Down","Select from Drop Down","Select from Drop Down",null,null,null,null,null,null,null,null,null,null,null,null,"Select from Drop Down","Select from Drop Down","Select from Drop Down"]
[1188,null,null,"Select from Drop Down","Select from Drop Down","Select from Drop Down",null,null,null,null,null,null,null,null,null,null,null,null,"Select from Drop Down","Select from Drop Down","Select from Drop Down"]
[1189,null,null,"Select from Drop Down","Select from Drop Down","Select from Drop Down",null,null,null,null,null,null,null,null,null,null,null,null,"Select from Drop Down","Select from Drop Down","Select from Drop Down"]
[1190,null,null,"Select from Drop Down","Select from Drop Down","Select from Drop Down",null,null,null,null,null,null,null,null,null,null,null,null,"Select from Drop Down","Select from Drop Down","Select from Drop Down"]
[1191,null,null,"Select from Drop Down","Select from Drop Down","Select from Drop Down",null,null,null,null,null,null,null,null,null,null,null,null,"Select from Drop Down","Select from Drop Down","Select from Drop Down"]
[1192,null,null,"Select from Drop Down","Select from Drop Down","Select from Drop Down",null,null,null,null,null,null,null,null,null,null,null,null,"Select from Drop Down","Select from Drop Down","Select from Drop Down"]
[1193,null,null,"Select from Drop Down","Select from Drop Down","Select from Drop Down",null,null,null,null,null,null,null,null,null,null,null,null,"Select from Drop Down","Select from Drop Down","Select from Drop Down"]
[1194,null,null,"Select from Drop Down","Select from Drop Down","Select from Drop Down",null,null,null,null,null,null,null,null,null,null,null,null,"Select from Drop Down","Select from Drop Down","Select from Drop Down"]
[1195,null,null,"Select from Drop Down","Select from Drop Down","Select from Drop Down",null,null,null,null,null,null,null,null,null,null,null,null,"Select from Drop Down","Select from Drop Down","Select from Drop Down"]
[1196,null,null,"Select from Drop Down","Select from Drop Down","Select from Drop Down",null,null,null,null,null,null,null,null,null,null,null,null,"Select from Drop Down","Select from Drop Down","Select from Drop Down"]
[1197,null,null,"Select from Drop Down","Select from Drop Down","Select from Drop Down",null,null,null,null,null,null,null,null,null,null,null,null,"Select from Drop Down","Select from Drop Down","Select from Drop Down"]
[1198,null,null,"Select from Drop Down","Select from Drop Down","Select from Drop Down",null,null,null,null,null,null,null,null,null,null,null,null,"Select from Drop Down","Select from Drop Down","Select from Drop Down"]
[1199,null,null,"Select from Drop Down","Select from Drop Down","Select from Drop Down",null,null,null,null,null,null,null,null,null,null,null,null,"Select from Drop Down","Select from Drop Down","Select from Drop Down"]
[1200,null,null,"Select from Drop Down","Select from Drop Down","Select from Drop Down",null,null,null,null,null,null,null,null,null,null,null,null,"Select from Drop Down","Select from Drop Down","Select from Drop Down"]
[1201,null,null,"Select from Drop Down","Select from Drop Down","Select from Drop Down",null,null,null,null,null,null,null,null,null,null,null,null,"Select from Drop Down","Select from Drop Down","Select from Drop Down"]
[1202,null,null,"Select from Drop Down","Select from Drop Down","Select from Drop Down",null,null,null,null,null,null,null,null,null,null,null,null,"Select from Drop Down","Select from Drop Down","Select from Drop Down"]
[1203,null,null,"Select from Drop Down","Select from Drop Down","Select from Drop Down",null,null,null,null,null,null,null,null,null,null,null,null,"Select from Drop Down","Select from Drop Down","Select from Drop Down"]
[1204,null,null,"Select from Drop Down","Select from Drop Down","Select from Drop Down",null,null,null,null,null,null,null,null,null,null,null,null,"Select from Drop Down","Select from Drop Down","Select from Drop Down"]
[1205,null,null,"Select from Drop Down","Select from Drop Down","Select from Drop Down",null,null,null,null,null,null,null,null,null,null,null,null,"Select from Drop Down","Select from Drop Down","Select from Drop Down"]
[1206,null,null,"Select from Drop Down","Select from Drop Down","Select from Drop Down",null,null,null,null,null,null,null,null,null,null,null,null,"Select from Drop Down","Select from Drop Down","Select from Drop Down"]
[1207,null,null,"Select from Drop Down","Select from Drop Down","Select from Drop Down",null,null,null,null,null,null,null,null,null,null,null,null,"Select from Drop Down","Select from Drop Down","Select from Drop Down"]
[1208,null,null,"Select from Drop Down","Select from Drop Down","Select from Drop Down",null,null,null,null,null,null,null,null,null,null,null,null,"Select from Drop Down","Select from Drop Down","Select from Drop Down"]
[1209,null,null,"Select from Drop Down","Select from Drop Down","Select from Drop Down",null,null,null,null,null,null,null,null,null,null,null,null,"Select from Drop Down","Select from Drop Down","Select from Drop Down"]
[1210,null,null,"Select from Drop Down","Select from Drop Down","Select from Drop Down",null,null,null,null,null,null,null,null,null,null,null,null,"Select from Drop Down","Select from Drop Down","Select from Drop Down"]
[1211,null,null,"Select from Drop Down","Select from Drop Down","Select from Drop Down",null,null,null,null,null,null,null,null,null,null,null,null,"Select from Drop Down","Select from Drop Down","Select from Drop Down"]
[1212,null,null,"Select from Drop Down","Select from Drop Down","Select from Drop Down",null,null,null,null,null,null,null,null,null,null,null,null,"Select from Drop Down","Select from Drop Down","Select from Drop Down"]
[1213,null,null,"Select from Drop Down","Select from Drop Down","Select from Drop Down",null,null,null,null,null,null,null,null,null,null,null,null,"Select from Drop Down","Select from Drop Down","Select from Drop Down"]
[1214,null,null,"Select from Drop Down","Select from Drop Down","Select from Drop Down",null,null,null,null,null,null,null,null,null,null,null,null,"Select from Drop Down","Select from Drop Down","Select from Drop Down"]
[1215,null,null,"Select from Drop Down","Select from Drop Down","Select from Drop Down",null,null,null,null,null,null,null,null,null,null,null,null,"Select from Drop Down","Select from Drop Down","Select from Drop Down"]
[1216,null,null,"Select from Drop Down","Select from Drop Down","Select from Drop Down",null,null,null,null,null,null,null,null,null,null,null,null,"Select from Drop Down","Select from Drop Down","Select from Drop Down"]
[1217,null,null,"Select from Drop Down","Select from Drop Down","Select from Drop Down",null,null,null,null,null,null,null,null,null,null,null,null,"Select from Drop Down","Select from Drop Down","Select from Drop Down"]
[1218,null,null,"Select from Drop Down","Select from Drop Down","Select from Drop Down",null,null,null,null,null,null,null,null,null,null,null,null,"Select from Drop Down","Select from Drop Down","Select from Drop Down"]
[{"$f":"A1228+1","v":1219},null,null,"Select from Drop Down","Select from Drop Down","Select from Drop Down",null,null,null,null,null,null,null,null,null,null,null,null,"Select from Drop Down","Select from Drop Down","Select from Drop Down"]
[1220,null,null,"Select from Drop Down","Select from Drop Down","Select from Drop Down",null,null,null,null,null,null,null,null,null,null,null,null,"Select from Drop Down","Select from Drop Down","Select from Drop Down"]
[1221,null,null,"Select from Drop Down","Select from Drop Down","Select from Drop Down",null,null,null,null,null,null,null,null,null,null,null,null,"Select from Drop Down","Select from Drop Down","Select from Drop Down"]
[1222,null,null,"Select from Drop Down","Select from Drop Down","Select from Drop Down",null,null,null,null,null,null,null,null,null,null,null,null,"Select from Drop Down","Select from Drop Down","Select from Drop Down"]
[1223,null,null,"Select from Drop Down","Select from Drop Down","Select from Drop Down",null,null,null,null,null,null,null,null,null,null,null,null,"Select from Drop Down","Select from Drop Down","Select from Drop Down"]
[1224,null,null,"Select from Drop Down","Select from Drop Down","Select from Drop Down",null,null,null,null,null,null,null,null,null,null,null,null,"Select from Drop Down","Select from Drop Down","Select from Drop Down"]
[1225,null,null,"Select from Drop Down","Select from Drop Down","Select from Drop Down",null,null,null,null,null,null,null,null,null,null,null,null,"Select from Drop Down","Select from Drop Down","Select from Drop Down"]
[1226,null,null,"Select from Drop Down","Select from Drop Down","Select from Drop Down",null,null,null,null,null,null,null,null,null,null,null,null,"Select from Drop Down","Select from Drop Down","Select from Drop Down"]
[1227,null,null,"Select from Drop Down","Select from Drop Down","Select from Drop Down",null,null,null,null,null,null,null,null,null,null,null,null,"Select from Drop Down","Select from Drop Down","Select from Drop Down"]
[1228,null,null,"Select from Drop Down","Select from Drop Down","Select from Drop Down",null,null,null,null,null,null,null,null,null,null,null,null,"Select from Drop Down","Select from Drop Down","Select from Drop Down"]
[1229,null,null,"Select from Drop Down","Select from Drop Down","Select from Drop Down",null,null,null,null,null,null,null,null,null,null,null,null,"Select from Drop Down","Select from Drop Down","Select from Drop Down"]
[1230,null,null,"Select from Drop Down","Select from Drop Down","Select from Drop Down",null,null,null,null,null,null,null,null,null,null,null,null,"Select from Drop Down","Select from Drop Down","Select from Drop Down"]
[1231,null,null,"Select from Drop Down","Select from Drop Down","Select from Drop Down",null,null,null,null,null,null,null,null,null,null,null,null,"Select from Drop Down","Select from Drop Down","Select from Drop Down"]
[1232,null,null,"Select from Drop Down","Select from Drop Down","Select from Drop Down",null,null,null,null,null,null,null,null,null,null,null,null,"Select from Drop Down","Select from Drop Down","Select from Drop Down"]
[1233,null,null,"Select from Drop Down","Select from Drop Down","Select from Drop Down",null,null,null,null,null,null,null,null,null,null,null,null,"Select from Drop Down","Select from Drop Down","Select from Drop Down"]
[1234,null,null,"Select from Drop Down","Select from Drop Down","Select from Drop Down",null,null,null,null,null,null,null,null,null,null,null,null,"Select from Drop Down","Select from Drop Down","Select from Drop Down"]
[1235,null,null,"Select from Drop Down","Select from Drop Down","Select from Drop Down",null,null,null,null,null,null,null,null,null,null,null,null,"Select from Drop Down","Select from Drop Down","Select from Drop Down"]
[1236,null,null,"Select from Drop Down","Select from Drop Down","Select from Drop Down",null,null,null,null,null,null,null,null,null,null,null,null,"Select from Drop Down","Select from Drop Down","Select from Drop Down"]
[1237,null,null,"Select from Drop Down","Select from Drop Down","Select from Drop Down",null,null,null,null,null,null,null,null,null,null,null,null,"Select from Drop Down","Select from Drop Down","Select from Drop Down"]
[1238,null,null,"Select from Drop Down","Select from Drop Down","Select from Drop Down",null,null,null,null,null,null,null,null,null,null,null,null,"Select from Drop Down","Select from Drop Down","Select from Drop Down"]
[1239,null,null,"Select from Drop Down","Select from Drop Down","Select from Drop Down",null,null,null,null,null,null,null,null,null,null,null,null,"Select from Drop Down","Select from Drop Down","Select from Drop Down"]
[1240,null,null,"Select from Drop Down","Select from Drop Down","Select from Drop Down",null,null,null,null,null,null,null,null,null,null,null,null,"Select from Drop Down","Select from Drop Down","Select from Drop Down"]
[1241,null,null,"Select from Drop Down","Select from Drop Down","Select from Drop Down",null,null,null,null,null,null,null,null,null,null,null,null,"Select from Drop Down","Select from Drop Down","Select from Drop Down"]
[1242,null,null,"Select from Drop Down","Select from Drop Down","Select from Drop Down",null,null,null,null,null,null,null,null,null,null,null,null,"Select from Drop Down","Select from Drop Down","Select from Drop Down"]
[1243,null,null,"Select from Drop Down","Select from Drop Down","Select from Drop Down",null,null,null,null,null,null,null,null,null,null,null,null,"Select from Drop Down","Select from Drop Down","Select from Drop Down"]
[1244,null,null,"Select from Drop Down","Select from Drop Down","Select from Drop Down",null,null,null,null,null,null,null,null,null,null,null,null,"Select from Drop Down","Select from Drop Down","Select from Drop Down"]
[1245,null,null,"Select from Drop Down","Select from Drop Down","Select from Drop Down",null,null,null,null,null,null,null,null,null,null,null,null,"Select from Drop Down","Select from Drop Down","Select from Drop Down"]
[1246,null,null,"Select from Drop Down","Select from Drop Down","Select from Drop Down",null,null,null,null,null,null,null,null,null,null,null,null,"Select from Drop Down","Select from Drop Down","Select from Drop Down"]
[1247,null,null,"Select from Drop Down","Select from Drop Down","Select from Drop Down",null,null,null,null,null,null,null,null,null,null,null,null,"Select from Drop Down","Select from Drop Down","Select from Drop Down"]
[1248,null,null,"Select from Drop Down","Select from Drop Down","Select from Drop Down",null,null,null,null,null,null,null,null,null,null,null,null,"Select from Drop Down","Select from Drop Down","Select from Drop Down"]
[1249,null,null,"Select from Drop Down","Select from Drop Down","Select from Drop Down",null,null,null,null,null,null,null,null,null,null,null,null,"Select from Drop Down","Select from Drop Down","Select from Drop Down"]
[1250,null,null,"Select from Drop Down","Select from Drop Down","Select from Drop Down",null,null,null,null,null,null,null,null,null,null,null,null,"Select from Drop Down","Select from Drop Down","Select from Drop Down"]
[1251,null,null,"Select from Drop Down","Select from Drop Down","Select from Drop Down",null,null,null,null,null,null,null,null,null,null,null,null,"Select from Drop Down","Select from Drop Down","Select from Drop Down"]
[1252,null,null,"Select from Drop Down","Select from Drop Down","Select from Drop Down",null,null,null,null,null,null,null,null,null,null,null,null,"Select from Drop Down","Select from Drop Down","Select from Drop Down"]
[1253,null,null,"Select from Drop Down","Select from Drop Down","Select from Drop Down",null,null,null,null,null,null,null,null,null,null,null,null,"Select from Drop Down","Select from Drop Down","Select from Drop Down"]
[1254,null,null,"Select from Drop Down","Select from Drop Down","Select from Drop Down",null,null,null,null,null,null,null,null,null,null,null,null,"Select from Drop Down","Select from Drop Down","Select from Drop Down"]
[1255,null,null,"Select from Drop Down","Select from Drop Down","Select from Drop Down",null,null,null,null,null,null,null,null,null,null,null,null,"Select from Drop Down","Select from Drop Down","Select from Drop Down"]
[1256,null,null,"Select from Drop Down","Select from Drop Down","Select from Drop Down",null,null,null,null,null,null,null,null,null,null,null,null,"Select from Drop Down","Select from Drop Down","Select from Drop Down"]
[1257,null,null,"Select from Drop Down","Select from Drop Down","Select from Drop Down",null,null,null,null,null,null,null,null,null,null,null,null,"Select from Drop Down","Select from Drop Down","Select from Drop Down"]
[1258,null,null,"Select from Drop Down","Select from Drop Down","Select from Drop Down",null,null,null,null,null,null,null,null,null,null,null,null,"Select from Drop Down","Select from Drop Down","Select from Drop Down"]
[1259,null,null,"Select from Drop Down","Select from Drop Down","Select from Drop Down",null,null,null,null,null,null,null,null,null,null,null,null,"Select from Drop Down","Select from Drop Down","Select from Drop Down"]
[1260,null,null,"Select from Drop Down","Select from Drop Down","Select from Drop Down",null,null,null,null,null,null,null,null,null,null,null,null,"Select from Drop Down","Select from Drop Down","Select from Drop Down"]
[1261,null,null,"Select from Drop Down","Select from Drop Down","Select from Drop Down",null,null,null,null,null,null,null,null,null,null,null,null,"Select from Drop Down","Select from Drop Down","Select from Drop Down"]
[1262,null,null,"Select from Drop Down","Select from Drop Down","Select from Drop Down",null,null,null,null,null,null,null,null,null,null,null,null,"Select from Drop Down","Select from Drop Down","Select from Drop Down"]
[1263,null,null,"Select from Drop Down","Select from Drop Down","Select from Drop Down",null,null,null,null,null,null,null,null,null,null,null,null,"Select from Drop Down","Select from Drop Down","Select from Drop Down"]
[1264,null,null,"Select from Drop Down","Select from Drop Down","Select from Drop Down",null,null,null,null,null,null,null,null,null,null,null,null,"Select from Drop Down","Select from Drop Down","Select from Drop Down"]
[1265,null,null,"Select from Drop Down","Select from Drop Down","Select from Drop Down",null,null,null,null,null,null,null,null,null,null,null,null,"Select from Drop Down","Select from Drop Down","Select from Drop Down"]
[1266,null,null,"Select from Drop Down","Select from Drop Down","Select from Drop Down",null,null,null,null,null,null,null,null,null,null,null,null,"Select from Drop Down","Select from Drop Down","Select from Drop Down"]
[1267,null,null,"Select from Drop Down","Select from Drop Down","Select from Drop Down",null,null,null,null,null,null,null,null,null,null,null,null,"Select from Drop Down","Select from Drop Down","Select from Drop Down"]
[1268,null,null,"Select from Drop Down","Select from Drop Down","Select from Drop Down",null,null,null,null,null,null,null,null,null,null,null,null,"Select from Drop Down","Select from Drop Down","Select from Drop Down"]
[1269,null,null,"Select from Drop Down","Select from Drop Down","Select from Drop Down",null,null,null,null,null,null,null,null,null,null,null,null,"Select from Drop Down","Select from Drop Down","Select from Drop Down"]
[1270,null,null,"Select from Drop Down","Select from Drop Down","Select from Drop Down",null,null,null,null,null,null,null,null,null,null,null,null,"Select from Drop Down","Select from Drop Down","Select from Drop Down"]
[1271,null,null,"Select from Drop Down","Select from Drop Down","Select from Drop Down",null,null,null,null,null,null,null,null,null,null,null,null,"Select from Drop Down","Select from Drop Down","Select from Drop Down"]
[1272,null,null,"Select from Drop Down","Select from Drop Down","Select from Drop Down",null,null,null,null,null,null,null,null,null,null,null,null,"Select from Drop Down","Select from Drop Down","Select from Drop Down"]
[1273,null,null,"Select from Drop Down","Select from Drop Down","Select from Drop Down",null,null,null,null,null,null,null,null,null,null,null,null,"Select from Drop Down","Select from Drop Down","Select from Drop Down"]
[1274,null,null,"Select from Drop Down","Select from Drop Down","Select from Drop Down",null,null,null,null,null,null,null,null,null,null,null,null,"Select from Drop Down","Select from Drop Down","Select from Drop Down"]
[1275,null,null,"Select from Drop Down","Select from Drop Down","Select from Drop Down",null,null,null,null,null,null,null,null,null,null,null,null,"Select from Drop Down","Select from Drop Down","Select from Drop Down"]
[1276,null,null,"Select from Drop Down","Select from Drop Down","Select from Drop Down",null,null,null,null,null,null,null,null,null,null,null,null,"Select from Drop Down","Select from Drop Down","Select from Drop Down"]
[1277,null,null,"Select from Drop Down","Select from Drop Down","Select from Drop Down",null,null,null,null,null,null,null,null,null,null,null,null,"Select from Drop Down","Select from Drop Down","Select from Drop Down"]
[1278,null,null,"Select from Drop Down","Select from Drop Down","Select from Drop Down",null,null,null,null,null,null,null,null,null,null,null,null,"Select from Drop Down","Select from Drop Down","Select from Drop Down"]
[1279,null,null,"Select from Drop Down","Select from Drop Down","Select from Drop Down",null,null,null,null,null,null,null,null,null,null,null,null,"Select from Drop Down","Select from Drop Down","Select from Drop Down"]
[1280,null,null,"Select from Drop Down","Select from Drop Down","Select from Drop Down",null,null,null,null,null,null,null,null,null,null,null,null,"Select from Drop Down","Select from Drop Down","Select from Drop Down"]
[1281,null,null,"Select from Drop Down","Select from Drop Down","Select from Drop Down",null,null,null,null,null,null,null,null,null,null,null,null,"Select from Drop Down","Select from Drop Down","Select from Drop Down"]
[1282,null,null,"Select from Drop Down","Select from Drop Down","Select from Drop Down",null,null,null,null,null,null,null,null,null,null,null,null,"Select from Drop Down","Select from Drop Down","Select from Drop Down"]
[{"$f":"A1292+1","v":1283},null,null,"Select from Drop Down","Select from Drop Down","Select from Drop Down",null,null,null,null,null,null,null,null,null,null,null,null,"Select from Drop Down","Select from Drop Down","Select from Drop Down"]
[1284,null,null,"Select from Drop Down","Select from Drop Down","Select from Drop Down",null,null,null,null,null,null,null,null,null,null,null,null,"Select from Drop Down","Select from Drop Down","Select from Drop Down"]
[1285,null,null,"Select from Drop Down","Select from Drop Down","Select from Drop Down",null,null,null,null,null,null,null,null,null,null,null,null,"Select from Drop Down","Select from Drop Down","Select from Drop Down"]
[1286,null,null,"Select from Drop Down","Select from Drop Down","Select from Drop Down",null,null,null,null,null,null,null,null,null,null,null,null,"Select from Drop Down","Select from Drop Down","Select from Drop Down"]
[1287,null,null,"Select from Drop Down","Select from Drop Down","Select from Drop Down",null,null,null,null,null,null,null,null,null,null,null,null,"Select from Drop Down","Select from Drop Down","Select from Drop Down"]
[1288,null,null,"Select from Drop Down","Select from Drop Down","Select from Drop Down",null,null,null,null,null,null,null,null,null,null,null,null,"Select from Drop Down","Select from Drop Down","Select from Drop Down"]
[1289,null,null,"Select from Drop Down","Select from Drop Down","Select from Drop Down",null,null,null,null,null,null,null,null,null,null,null,null,"Select from Drop Down","Select from Drop Down","Select from Drop Down"]
[1290,null,null,"Select from Drop Down","Select from Drop Down","Select from Drop Down",null,null,null,null,null,null,null,null,null,null,null,null,"Select from Drop Down","Select from Drop Down","Select from Drop Down"]
[1291,null,null,"Select from Drop Down","Select from Drop Down","Select from Drop Down",null,null,null,null,null,null,null,null,null,null,null,null,"Select from Drop Down","Select from Drop Down","Select from Drop Down"]
[1292,null,null,"Select from Drop Down","Select from Drop Down","Select from Drop Down",null,null,null,null,null,null,null,null,null,null,null,null,"Select from Drop Down","Select from Drop Down","Select from Drop Down"]
[1293,null,null,"Select from Drop Down","Select from Drop Down","Select from Drop Down",null,null,null,null,null,null,null,null,null,null,null,null,"Select from Drop Down","Select from Drop Down","Select from Drop Down"]
[1294,null,null,"Select from Drop Down","Select from Drop Down","Select from Drop Down",null,null,null,null,null,null,null,null,null,null,null,null,"Select from Drop Down","Select from Drop Down","Select from Drop Down"]
[1295,null,null,"Select from Drop Down","Select from Drop Down","Select from Drop Down",null,null,null,null,null,null,null,null,null,null,null,null,"Select from Drop Down","Select from Drop Down","Select from Drop Down"]
[1296,null,null,"Select from Drop Down","Select from Drop Down","Select from Drop Down",null,null,null,null,null,null,null,null,null,null,null,null,"Select from Drop Down","Select from Drop Down","Select from Drop Down"]
[1297,null,null,"Select from Drop Down","Select from Drop Down","Select from Drop Down",null,null,null,null,null,null,null,null,null,null,null,null,"Select from Drop Down","Select from Drop Down","Select from Drop Down"]
[1298,null,null,"Select from Drop Down","Select from Drop Down","Select from Drop Down",null,null,null,null,null,null,null,null,null,null,null,null,"Select from Drop Down","Select from Drop Down","Select from Drop Down"]
[1299,null,null,"Select from Drop Down","Select from Drop Down","Select from Drop Down",null,null,null,null,null,null,null,null,null,null,null,null,"Select from Drop Down","Select from Drop Down","Select from Drop Down"]
[1300,null,null,"Select from Drop Down","Select from Drop Down","Select from Drop Down",null,null,null,null,null,null,null,null,null,null,null,null,"Select from Drop Down","Select from Drop Down","Select from Drop Down"]
[1301,null,null,"Select from Drop Down","Select from Drop Down","Select from Drop Down",null,null,null,null,null,null,null,null,null,null,null,null,"Select from Drop Down","Select from Drop Down","Select from Drop Down"]
[1302,null,null,"Select from Drop Down","Select from Drop Down","Select from Drop Down",null,null,null,null,null,null,null,null,null,null,null,null,"Select from Drop Down","Select from Drop Down","Select from Drop Down"]
[1303,null,null,"Select from Drop Down","Select from Drop Down","Select from Drop Down",null,null,null,null,null,null,null,null,null,null,null,null,"Select from Drop Down","Select from Drop Down","Select from Drop Down"]
[1304,null,null,"Select from Drop Down","Select from Drop Down","Select from Drop Down",null,null,null,null,null,null,null,null,null,null,null,null,"Select from Drop Down","Select from Drop Down","Select from Drop Down"]
[1305,null,null,"Select from Drop Down","Select from Drop Down","Select from Drop Down",null,null,null,null,null,null,null,null,null,null,null,null,"Select from Drop Down","Select from Drop Down","Select from Drop Down"]
[1306,null,null,"Select from Drop Down","Select from Drop Down","Select from Drop Down",null,null,null,null,null,null,null,null,null,null,null,null,"Select from Drop Down","Select from Drop Down","Select from Drop Down"]
[1307,null,null,"Select from Drop Down","Select from Drop Down","Select from Drop Down",null,null,null,null,null,null,null,null,null,null,null,null,"Select from Drop Down","Select from Drop Down","Select from Drop Down"]
[1308,null,null,"Select from Drop Down","Select from Drop Down","Select from Drop Down",null,null,null,null,null,null,null,null,null,null,null,null,"Select from Drop Down","Select from Drop Down","Select from Drop Down"]
[1309,null,null,"Select from Drop Down","Select from Drop Down","Select from Drop Down",null,null,null,null,null,null,null,null,null,null,null,null,"Select from Drop Down","Select from Drop Down","Select from Drop Down"]
[1310,null,null,"Select from Drop Down","Select from Drop Down","Select from Drop Down",null,null,null,null,null,null,null,null,null,null,null,null,"Select from Drop Down","Select from Drop Down","Select from Drop Down"]
[1311,null,null,"Select from Drop Down","Select from Drop Down","Select from Drop Down",null,null,null,null,null,null,null,null,null,null,null,null,"Select from Drop Down","Select from Drop Down","Select from Drop Down"]
[1312,null,null,"Select from Drop Down","Select from Drop Down","Select from Drop Down",null,null,null,null,null,null,null,null,null,null,null,null,"Select from Drop Down","Select from Drop Down","Select from Drop Down"]
[1313,null,null,"Select from Drop Down","Select from Drop Down","Select from Drop Down",null,null,null,null,null,null,null,null,null,null,null,null,"Select from Drop Down","Select from Drop Down","Select from Drop Down"]
[1314,null,null,"Select from Drop Down","Select from Drop Down","Select from Drop Down",null,null,null,null,null,null,null,null,null,null,null,null,"Select from Drop Down","Select from Drop Down","Select from Drop Down"]
[1315,null,null,"Select from Drop Down","Select from Drop Down","Select from Drop Down",null,null,null,null,null,null,null,null,null,null,null,null,"Select from Drop Down","Select from Drop Down","Select from Drop Down"]
[1316,null,null,"Select from Drop Down","Select from Drop Down","Select from Drop Down",null,null,null,null,null,null,null,null,null,null,null,null,"Select from Drop Down","Select from Drop Down","Select from Drop Down"]
[1317,null,null,"Select from Drop Down","Select from Drop Down","Select from Drop Down",null,null,null,null,null,null,null,null,null,null,null,null,"Select from Drop Down","Select from Drop Down","Select from Drop Down"]
[1318,null,null,"Select from Drop Down","Select from Drop Down","Select from Drop Down",null,null,null,null,null,null,null,null,null,null,null,null,"Select from Drop Down","Select from Drop Down","Select from Drop Down"]
[1319,null,null,"Select from Drop Down","Select from Drop Down","Select from Drop Down",null,null,null,null,null,null,null,null,null,null,null,null,"Select from Drop Down","Select from Drop Down","Select from Drop Down"]
[1320,null,null,"Select from Drop Down","Select from Drop Down","Select from Drop Down",null,null,null,null,null,null,null,null,null,null,null,null,"Select from Drop Down","Select from Drop Down","Select from Drop Down"]
[1321,null,null,"Select from Drop Down","Select from Drop Down","Select from Drop Down",null,null,null,null,null,null,null,null,null,null,null,null,"Select from Drop Down","Select from Drop Down","Select from Drop Down"]
[1322,null,null,"Select from Drop Down","Select from Drop Down","Select from Drop Down",null,null,null,null,null,null,null,null,null,null,null,null,"Select from Drop Down","Select from Drop Down","Select from Drop Down"]
[1323,null,null,"Select from Drop Down","Select from Drop Down","Select from Drop Down",null,null,null,null,null,null,null,null,null,null,null,null,"Select from Drop Down","Select from Drop Down","Select from Drop Down"]
[1324,null,null,"Select from Drop Down","Select from Drop Down","Select from Drop Down",null,null,null,null,null,null,null,null,null,null,null,null,"Select from Drop Down","Select from Drop Down","Select from Drop Down"]
[1325,null,null,"Select from Drop Down","Select from Drop Down","Select from Drop Down",null,null,null,null,null,null,null,null,null,null,null,null,"Select from Drop Down","Select from Drop Down","Select from Drop Down"]
[1326,null,null,"Select from Drop Down","Select from Drop Down","Select from Drop Down",null,null,null,null,null,null,null,null,null,null,null,null,"Select from Drop Down","Select from Drop Down","Select from Drop Down"]
[1327,null,null,"Select from Drop Down","Select from Drop Down","Select from Drop Down",null,null,null,null,null,null,null,null,null,null,null,null,"Select from Drop Down","Select from Drop Down","Select from Drop Down"]
[1328,null,null,"Select from Drop Down","Select from Drop Down","Select from Drop Down",null,null,null,null,null,null,null,null,null,null,null,null,"Select from Drop Down","Select from Drop Down","Select from Drop Down"]
[1329,null,null,"Select from Drop Down","Select from Drop Down","Select from Drop Down",null,null,null,null,null,null,null,null,null,null,null,null,"Select from Drop Down","Select from Drop Down","Select from Drop Down"]
[1330,null,null,"Select from Drop Down","Select from Drop Down","Select from Drop Down",null,null,null,null,null,null,null,null,null,null,null,null,"Select from Drop Down","Select from Drop Down","Select from Drop Down"]
[1331,null,null,"Select from Drop Down","Select from Drop Down","Select from Drop Down",null,null,null,null,null,null,null,null,null,null,null,null,"Select from Drop Down","Select from Drop Down","Select from Drop Down"]
[1332,null,null,"Select from Drop Down","Select from Drop Down","Select from Drop Down",null,null,null,null,null,null,null,null,null,null,null,null,"Select from Drop Down","Select from Drop Down","Select from Drop Down"]
[1333,null,null,"Select from Drop Down","Select from Drop Down","Select from Drop Down",null,null,null,null,null,null,null,null,null,null,null,null,"Select from Drop Down","Select from Drop Down","Select from Drop Down"]
[1334,null,null,"Select from Drop Down","Select from Drop Down","Select from Drop Down",null,null,null,null,null,null,null,null,null,null,null,null,"Select from Drop Down","Select from Drop Down","Select from Drop Down"]
[1335,null,null,"Select from Drop Down","Select from Drop Down","Select from Drop Down",null,null,null,null,null,null,null,null,null,null,null,null,"Select from Drop Down","Select from Drop Down","Select from Drop Down"]
[1336,null,null,"Select from Drop Down","Select from Drop Down","Select from Drop Down",null,null,null,null,null,null,null,null,null,null,null,null,"Select from Drop Down","Select from Drop Down","Select from Drop Down"]
[1337,null,null,"Select from Drop Down","Select from Drop Down","Select from Drop Down",null,null,null,null,null,null,null,null,null,null,null,null,"Select from Drop Down","Select from Drop Down","Select from Drop Down"]
[1338,null,null,"Select from Drop Down","Select from Drop Down","Select from Drop Down",null,null,null,null,null,null,null,null,null,null,null,null,"Select from Drop Down","Select from Drop Down","Select from Drop Down"]
[1339,null,null,"Select from Drop Down","Select from Drop Down","Select from Drop Down",null,null,null,null,null,null,null,null,null,null,null,null,"Select from Drop Down","Select from Drop Down","Select from Drop Down"]
[1340,null,null,"Select from Drop Down","Select from Drop Down","Select from Drop Down",null,null,null,null,null,null,null,null,null,null,null,null,"Select from Drop Down","Select from Drop Down","Select from Drop Down"]
[1341,null,null,"Select from Drop Down","Select from Drop Down","Select from Drop Down",null,null,null,null,null,null,null,null,null,null,null,null,"Select from Drop Down","Select from Drop Down","Select from Drop Down"]
[1342,null,null,"Select from Drop Down","Select from Drop Down","Select from Drop Down",null,null,null,null,null,null,null,null,null,null,null,null,"Select from Drop Down","Select from Drop Down","Select from Drop Down"]
[1343,null,null,"Select from Drop Down","Select from Drop Down","Select from Drop Down",null,null,null,null,null,null,null,null,null,null,null,null,"Select from Drop Down","Select from Drop Down","Select from Drop Down"]
[1344,null,null,"Select from Drop Down","Select from Drop Down","Select from Drop Down",null,null,null,null,null,null,null,null,null,null,null,null,"Select from Drop Down","Select from Drop Down","Select from Drop Down"]
[1345,null,null,"Select from Drop Down","Select from Drop Down","Select from Drop Down",null,null,null,null,null,null,null,null,null,null,null,null,"Select from Drop Down","Select from Drop Down","Select from Drop Down"]
[1346,null,null,"Select from Drop Down","Select from Drop Down","Select from Drop Down",null,null,null,null,null,null,null,null,null,null,null,null,"Select from Drop Down","Select from Drop Down","Select from Drop Down"]
[{"$f":"A1356+1","v":1347},null,null,"Select from Drop Down","Select from Drop Down","Select from Drop Down",null,null,null,null,null,null,null,null,null,null,null,null,"Select from Drop Down","Select from Drop Down","Select from Drop Down"]
[1348,null,null,"Select from Drop Down","Select from Drop Down","Select from Drop Down",null,null,null,null,null,null,null,null,null,null,null,null,"Select from Drop Down","Select from Drop Down","Select from Drop Down"]
[1349,null,null,"Select from Drop Down","Select from Drop Down","Select from Drop Down",null,null,null,null,null,null,null,null,null,null,null,null,"Select from Drop Down","Select from Drop Down","Select from Drop Down"]
[1350,null,null,"Select from Drop Down","Select from Drop Down","Select from Drop Down",null,null,null,null,null,null,null,null,null,null,null,null,"Select from Drop Down","Select from Drop Down","Select from Drop Down"]
[1351,null,null,"Select from Drop Down","Select from Drop Down","Select from Drop Down",null,null,null,null,null,null,null,null,null,null,null,null,"Select from Drop Down","Select from Drop Down","Select from Drop Down"]
[1352,null,null,"Select from Drop Down","Select from Drop Down","Select from Drop Down",null,null,null,null,null,null,null,null,null,null,null,null,"Select from Drop Down","Select from Drop Down","Select from Drop Down"]
[1353,null,null,"Select from Drop Down","Select from Drop Down","Select from Drop Down",null,null,null,null,null,null,null,null,null,null,null,null,"Select from Drop Down","Select from Drop Down","Select from Drop Down"]
[1354,null,null,"Select from Drop Down","Select from Drop Down","Select from Drop Down",null,null,null,null,null,null,null,null,null,null,null,null,"Select from Drop Down","Select from Drop Down","Select from Drop Down"]
[1355,null,null,"Select from Drop Down","Select from Drop Down","Select from Drop Down",null,null,null,null,null,null,null,null,null,null,null,null,"Select from Drop Down","Select from Drop Down","Select from Drop Down"]
[1356,null,null,"Select from Drop Down","Select from Drop Down","Select from Drop Down",null,null,null,null,null,null,null,null,null,null,null,null,"Select from Drop Down","Select from Drop Down","Select from Drop Down"]
[1357,null,null,"Select from Drop Down","Select from Drop Down","Select from Drop Down",null,null,null,null,null,null,null,null,null,null,null,null,"Select from Drop Down","Select from Drop Down","Select from Drop Down"]
[1358,null,null,"Select from Drop Down","Select from Drop Down","Select from Drop Down",null,null,null,null,null,null,null,null,null,null,null,null,"Select from Drop Down","Select from Drop Down","Select from Drop Down"]
[1359,null,null,"Select from Drop Down","Select from Drop Down","Select from Drop Down",null,null,null,null,null,null,null,null,null,null,null,null,"Select from Drop Down","Select from Drop Down","Select from Drop Down"]
[1360,null,null,"Select from Drop Down","Select from Drop Down","Select from Drop Down",null,null,null,null,null,null,null,null,null,null,null,null,"Select from Drop Down","Select from Drop Down","Select from Drop Down"]
[1361,null,null,"Select from Drop Down","Select from Drop Down","Select from Drop Down",null,null,null,null,null,null,null,null,null,null,null,null,"Select from Drop Down","Select from Drop Down","Select from Drop Down"]
[1362,null,null,"Select from Drop Down","Select from Drop Down","Select from Drop Down",null,null,null,null,null,null,null,null,null,null,null,null,"Select from Drop Down","Select from Drop Down","Select from Drop Down"]
[1363,null,null,"Select from Drop Down","Select from Drop Down","Select from Drop Down",null,null,null,null,null,null,null,null,null,null,null,null,"Select from Drop Down","Select from Drop Down","Select from Drop Down"]
[1364,null,null,"Select from Drop Down","Select from Drop Down","Select from Drop Down",null,null,null,null,null,null,null,null,null,null,null,null,"Select from Drop Down","Select from Drop Down","Select from Drop Down"]
[1365,null,null,"Select from Drop Down","Select from Drop Down","Select from Drop Down",null,null,null,null,null,null,null,null,null,null,null,null,"Select from Drop Down","Select from Drop Down","Select from Drop Down"]
[1366,null,null,"Select from Drop Down","Select from Drop Down","Select from Drop Down",null,null,null,null,null,null,null,null,null,null,null,null,"Select from Drop Down","Select from Drop Down","Select from Drop Down"]
[1367,null,null,"Select from Drop Down","Select from Drop Down","Select from Drop Down",null,null,null,null,null,null,null,null,null,null,null,null,"Select from Drop Down","Select from Drop Down","Select from Drop Down"]
[1368,null,null,"Select from Drop Down","Select from Drop Down","Select from Drop Down",null,null,null,null,null,null,null,null,null,null,null,null,"Select from Drop Down","Select from Drop Down","Select from Drop Down"]
[1369,null,null,"Select from Drop Down","Select from Drop Down","Select from Drop Down",null,null,null,null,null,null,null,null,null,null,null,null,"Select from Drop Down","Select from Drop Down","Select from Drop Down"]
[1370,null,null,"Select from Drop Down","Select from Drop Down","Select from Drop Down",null,null,null,null,null,null,null,null,null,null,null,null,"Select from Drop Down","Select from Drop Down","Select from Drop Down"]
[1371,null,null,"Select from Drop Down","Select from Drop Down","Select from Drop Down",null,null,null,null,null,null,null,null,null,null,null,null,"Select from Drop Down","Select from Drop Down","Select from Drop Down"]
[1372,null,null,"Select from Drop Down","Select from Drop Down","Select from Drop Down",null,null,null,null,null,null,null,null,null,null,null,null,"Select from Drop Down","Select from Drop Down","Select from Drop Down"]
[1373,null,null,"Select from Drop Down","Select from Drop Down","Select from Drop Down",null,null,null,null,null,null,null,null,null,null,null,null,"Select from Drop Down","Select from Drop Down","Select from Drop Down"]
[1374,null,null,"Select from Drop Down","Select from Drop Down","Select from Drop Down",null,null,null,null,null,null,null,null,null,null,null,null,"Select from Drop Down","Select from Drop Down","Select from Drop Down"]
[1375,null,null,"Select from Drop Down","Select from Drop Down","Select from Drop Down",null,null,null,null,null,null,null,null,null,null,null,null,"Select from Drop Down","Select from Drop Down","Select from Drop Down"]
[1376,null,null,"Select from Drop Down","Select from Drop Down","Select from Drop Down",null,null,null,null,null,null,null,null,null,null,null,null,"Select from Drop Down","Select from Drop Down","Select from Drop Down"]
[1377,null,null,"Select from Drop Down","Select from Drop Down","Select from Drop Down",null,null,null,null,null,null,null,null,null,null,null,null,"Select from Drop Down","Select from Drop Down","Select from Drop Down"]
[1378,null,null,"Select from Drop Down","Select from Drop Down","Select from Drop Down",null,null,null,null,null,null,null,null,null,null,null,null,"Select from Drop Down","Select from Drop Down","Select from Drop Down"]
[1379,null,null,"Select from Drop Down","Select from Drop Down","Select from Drop Down",null,null,null,null,null,null,null,null,null,null,null,null,"Select from Drop Down","Select from Drop Down","Select from Drop Down"]
[1380,null,null,"Select from Drop Down","Select from Drop Down","Select from Drop Down",null,null,null,null,null,null,null,null,null,null,null,null,"Select from Drop Down","Select from Drop Down","Select from Drop Down"]
[1381,null,null,"Select from Drop Down","Select from Drop Down","Select from Drop Down",null,null,null,null,null,null,null,null,null,null,null,null,"Select from Drop Down","Select from Drop Down","Select from Drop Down"]
[1382,null,null,"Select from Drop Down","Select from Drop Down","Select from Drop Down",null,null,null,null,null,null,null,null,null,null,null,null,"Select from Drop Down","Select from Drop Down","Select from Drop Down"]
[1383,null,null,"Select from Drop Down","Select from Drop Down","Select from Drop Down",null,null,null,null,null,null,null,null,null,null,null,null,"Select from Drop Down","Select from Drop Down","Select from Drop Down"]
[1384,null,null,"Select from Drop Down","Select from Drop Down","Select from Drop Down",null,null,null,null,null,null,null,null,null,null,null,null,"Select from Drop Down","Select from Drop Down","Select from Drop Down"]
[1385,null,null,"Select from Drop Down","Select from Drop Down","Select from Drop Down",null,null,null,null,null,null,null,null,null,null,null,null,"Select from Drop Down","Select from Drop Down","Select from Drop Down"]
[1386,null,null,"Select from Drop Down","Select from Drop Down","Select from Drop Down",null,null,null,null,null,null,null,null,null,null,null,null,"Select from Drop Down","Select from Drop Down","Select from Drop Down"]
[1387,null,null,"Select from Drop Down","Select from Drop Down","Select from Drop Down",null,null,null,null,null,null,null,null,null,null,null,null,"Select from Drop Down","Select from Drop Down","Select from Drop Down"]
[1388,null,null,"Select from Drop Down","Select from Drop Down","Select from Drop Down",null,null,null,null,null,null,null,null,null,null,null,null,"Select from Drop Down","Select from Drop Down","Select from Drop Down"]
[1389,null,null,"Select from Drop Down","Select from Drop Down","Select from Drop Down",null,null,null,null,null,null,null,null,null,null,null,null,"Select from Drop Down","Select from Drop Down","Select from Drop Down"]
[1390,null,null,"Select from Drop Down","Select from Drop Down","Select from Drop Down",null,null,null,null,null,null,null,null,null,null,null,null,"Select from Drop Down","Select from Drop Down","Select from Drop Down"]
[1391,null,null,"Select from Drop Down","Select from Drop Down","Select from Drop Down",null,null,null,null,null,null,null,null,null,null,null,null,"Select from Drop Down","Select from Drop Down","Select from Drop Down"]
[1392,null,null,"Select from Drop Down","Select from Drop Down","Select from Drop Down",null,null,null,null,null,null,null,null,null,null,null,null,"Select from Drop Down","Select from Drop Down","Select from Drop Down"]
[1393,null,null,"Select from Drop Down","Select from Drop Down","Select from Drop Down",null,null,null,null,null,null,null,null,null,null,null,null,"Select from Drop Down","Select from Drop Down","Select from Drop Down"]
[1394,null,null,"Select from Drop Down","Select from Drop Down","Select from Drop Down",null,null,null,null,null,null,null,null,null,null,null,null,"Select from Drop Down","Select from Drop Down","Select from Drop Down"]
[1395,null,null,"Select from Drop Down","Select from Drop Down","Select from Drop Down",null,null,null,null,null,null,null,null,null,null,null,null,"Select from Drop Down","Select from Drop Down","Select from Drop Down"]
[1396,null,null,"Select from Drop Down","Select from Drop Down","Select from Drop Down",null,null,null,null,null,null,null,null,null,null,null,null,"Select from Drop Down","Select from Drop Down","Select from Drop Down"]
[1397,null,null,"Select from Drop Down","Select from Drop Down","Select from Drop Down",null,null,null,null,null,null,null,null,null,null,null,null,"Select from Drop Down","Select from Drop Down","Select from Drop Down"]
[1398,null,null,"Select from Drop Down","Select from Drop Down","Select from Drop Down",null,null,null,null,null,null,null,null,null,null,null,null,"Select from Drop Down","Select from Drop Down","Select from Drop Down"]
[1399,null,null,"Select from Drop Down","Select from Drop Down","Select from Drop Down",null,null,null,null,null,null,null,null,null,null,null,null,"Select from Drop Down","Select from Drop Down","Select from Drop Down"]
[1400,null,null,"Select from Drop Down","Select from Drop Down","Select from Drop Down",null,null,null,null,null,null,null,null,null,null,null,null,"Select from Drop Down","Select from Drop Down","Select from Drop Down"]
[1401,null,null,"Select from Drop Down","Select from Drop Down","Select from Drop Down",null,null,null,null,null,null,null,null,null,null,null,null,"Select from Drop Down","Select from Drop Down","Select from Drop Down"]
[1402,null,null,"Select from Drop Down","Select from Drop Down","Select from Drop Down",null,null,null,null,null,null,null,null,null,null,null,null,"Select from Drop Down","Select from Drop Down","Select from Drop Down"]
[1403,null,null,"Select from Drop Down","Select from Drop Down","Select from Drop Down",null,null,null,null,null,null,null,null,null,null,null,null,"Select from Drop Down","Select from Drop Down","Select from Drop Down"]
[1404,null,null,"Select from Drop Down","Select from Drop Down","Select from Drop Down",null,null,null,null,null,null,null,null,null,null,null,null,"Select from Drop Down","Select from Drop Down","Select from Drop Down"]
[1405,null,null,"Select from Drop Down","Select from Drop Down","Select from Drop Down",null,null,null,null,null,null,null,null,null,null,null,null,"Select from Drop Down","Select from Drop Down","Select from Drop Down"]
[1406,null,null,"Select from Drop Down","Select from Drop Down","Select from Drop Down",null,null,null,null,null,null,null,null,null,null,null,null,"Select from Drop Down","Select from Drop Down","Select from Drop Down"]
[1407,null,null,"Select from Drop Down","Select from Drop Down","Select from Drop Down",null,null,null,null,null,null,null,null,null,null,null,null,"Select from Drop Down","Select from Drop Down","Select from Drop Down"]
[1408,null,null,"Select from Drop Down","Select from Drop Down","Select from Drop Down",null,null,null,null,null,null,null,null,null,null,null,null,"Select from Drop Down","Select from Drop Down","Select from Drop Down"]
[1409,null,null,"Select from Drop Down","Select from Drop Down","Select from Drop Down",null,null,null,null,null,null,null,null,null,null,null,null,"Select from Drop Down","Select from Drop Down","Select from Drop Down"]
[1410,null,null,"Select from Drop Down","Select from Drop Down","Select from Drop Down",null,null,null,null,null,null,null,null,null,null,null,null,"Select from Drop Down","Select from Drop Down","Select from Drop Down"]
[{"$f":"A1420+1","v":1411},null,null,"Select from Drop Down","Select from Drop Down","Select from Drop Down",null,null,null,null,null,null,null,null,null,null,null,null,"Select from Drop Down","Select from Drop Down","Select from Drop Down"]
[1412,null,null,"Select from Drop Down","Select from Drop Down","Select from Drop Down",null,null,null,null,null,null,null,null,null,null,null,null,"Select from Drop Down","Select from Drop Down","Select from Drop Down"]
[1413,null,null,"Select from Drop Down","Select from Drop Down","Select from Drop Down",null,null,null,null,null,null,null,null,null,null,null,null,"Select from Drop Down","Select from Drop Down","Select from Drop Down"]
[1414,null,null,"Select from Drop Down","Select from Drop Down","Select from Drop Down",null,null,null,null,null,null,null,null,null,null,null,null,"Select from Drop Down","Select from Drop Down","Select from Drop Down"]
[1415,null,null,"Select from Drop Down","Select from Drop Down","Select from Drop Down",null,null,null,null,null,null,null,null,null,null,null,null,"Select from Drop Down","Select from Drop Down","Select from Drop Down"]
[1416,null,null,"Select from Drop Down","Select from Drop Down","Select from Drop Down",null,null,null,null,null,null,null,null,null,null,null,null,"Select from Drop Down","Select from Drop Down","Select from Drop Down"]
[1417,null,null,"Select from Drop Down","Select from Drop Down","Select from Drop Down",null,null,null,null,null,null,null,null,null,null,null,null,"Select from Drop Down","Select from Drop Down","Select from Drop Down"]
[1418,null,null,"Select from Drop Down","Select from Drop Down","Select from Drop Down",null,null,null,null,null,null,null,null,null,null,null,null,"Select from Drop Down","Select from Drop Down","Select from Drop Down"]
[1419,null,null,"Select from Drop Down","Select from Drop Down","Select from Drop Down",null,null,null,null,null,null,null,null,null,null,null,null,"Select from Drop Down","Select from Drop Down","Select from Drop Down"]
[1420,null,null,"Select from Drop Down","Select from Drop Down","Select from Drop Down",null,null,null,null,null,null,null,null,null,null,null,null,"Select from Drop Down","Select from Drop Down","Select from Drop Down"]
[1421,null,null,"Select from Drop Down","Select from Drop Down","Select from Drop Down",null,null,null,null,null,null,null,null,null,null,null,null,"Select from Drop Down","Select from Drop Down","Select from Drop Down"]
[1422,null,null,"Select from Drop Down","Select from Drop Down","Select from Drop Down",null,null,null,null,null,null,null,null,null,null,null,null,"Select from Drop Down","Select from Drop Down","Select from Drop Down"]
[1423,null,null,"Select from Drop Down","Select from Drop Down","Select from Drop Down",null,null,null,null,null,null,null,null,null,null,null,null,"Select from Drop Down","Select from Drop Down","Select from Drop Down"]
[1424,null,null,"Select from Drop Down","Select from Drop Down","Select from Drop Down",null,null,null,null,null,null,null,null,null,null,null,null,"Select from Drop Down","Select from Drop Down","Select from Drop Down"]
[1425,null,null,"Select from Drop Down","Select from Drop Down","Select from Drop Down",null,null,null,null,null,null,null,null,null,null,null,null,"Select from Drop Down","Select from Drop Down","Select from Drop Down"]
[1426,null,null,"Select from Drop Down","Select from Drop Down","Select from Drop Down",null,null,null,null,null,null,null,null,null,null,null,null,"Select from Drop Down","Select from Drop Down","Select from Drop Down"]
[1427,null,null,"Select from Drop Down","Select from Drop Down","Select from Drop Down",null,null,null,null,null,null,null,null,null,null,null,null,"Select from Drop Down","Select from Drop Down","Select from Drop Down"]
[1428,null,null,"Select from Drop Down","Select from Drop Down","Select from Drop Down",null,null,null,null,null,null,null,null,null,null,null,null,"Select from Drop Down","Select from Drop Down","Select from Drop Down"]
[1429,null,null,"Select from Drop Down","Select from Drop Down","Select from Drop Down",null,null,null,null,null,null,null,null,null,null,null,null,"Select from Drop Down","Select from Drop Down","Select from Drop Down"]
[1430,null,null,"Select from Drop Down","Select from Drop Down","Select from Drop Down",null,null,null,null,null,null,null,null,null,null,null,null,"Select from Drop Down","Select from Drop Down","Select from Drop Down"]
[1431,null,null,"Select from Drop Down","Select from Drop Down","Select from Drop Down",null,null,null,null,null,null,null,null,null,null,null,null,"Select from Drop Down","Select from Drop Down","Select from Drop Down"]
[1432,null,null,"Select from Drop Down","Select from Drop Down","Select from Drop Down",null,null,null,null,null,null,null,null,null,null,null,null,"Select from Drop Down","Select from Drop Down","Select from Drop Down"]
[1433,null,null,"Select from Drop Down","Select from Drop Down","Select from Drop Down",null,null,null,null,null,null,null,null,null,null,null,null,"Select from Drop Down","Select from Drop Down","Select from Drop Down"]
[1434,null,null,"Select from Drop Down","Select from Drop Down","Select from Drop Down",null,null,null,null,null,null,null,null,null,null,null,null,"Select from Drop Down","Select from Drop Down","Select from Drop Down"]
[1435,null,null,"Select from Drop Down","Select from Drop Down","Select from Drop Down",null,null,null,null,null,null,null,null,null,null,null,null,"Select from Drop Down","Select from Drop Down","Select from Drop Down"]
[1436,null,null,"Select from Drop Down","Select from Drop Down","Select from Drop Down",null,null,null,null,null,null,null,null,null,null,null,null,"Select from Drop Down","Select from Drop Down","Select from Drop Down"]
[1437,null,null,"Select from Drop Down","Select from Drop Down","Select from Drop Down",null,null,null,null,null,null,null,null,null,null,null,null,"Select from Drop Down","Select from Drop Down","Select from Drop Down"]
[1438,null,null,"Select from Drop Down","Select from Drop Down","Select from Drop Down",null,null,null,null,null,null,null,null,null,null,null,null,"Select from Drop Down","Select from Drop Down","Select from Drop Down"]
[1439,null,null,"Select from Drop Down","Select from Drop Down","Select from Drop Down",null,null,null,null,null,null,null,null,null,null,null,null,"Select from Drop Down","Select from Drop Down","Select from Drop Down"]
[1440,null,null,"Select from Drop Down","Select from Drop Down","Select from Drop Down",null,null,null,null,null,null,null,null,null,null,null,null,"Select from Drop Down","Select from Drop Down","Select from Drop Down"]
[1441,null,null,"Select from Drop Down","Select from Drop Down","Select from Drop Down",null,null,null,null,null,null,null,null,null,null,null,null,"Select from Drop Down","Select from Drop Down","Select from Drop Down"]
[1442,null,null,"Select from Drop Down","Select from Drop Down","Select from Drop Down",null,null,null,null,null,null,null,null,null,null,null,null,"Select from Drop Down","Select from Drop Down","Select from Drop Down"]
[1443,null,null,"Select from Drop Down","Select from Drop Down","Select from Drop Down",null,null,null,null,null,null,null,null,null,null,null,null,"Select from Drop Down","Select from Drop Down","Select from Drop Down"]
[1444,null,null,"Select from Drop Down","Select from Drop Down","Select from Drop Down",null,null,null,null,null,null,null,null,null,null,null,null,"Select from Drop Down","Select from Drop Down","Select from Drop Down"]
[1445,null,null,"Select from Drop Down","Select from Drop Down","Select from Drop Down",null,null,null,null,null,null,null,null,null,null,null,null,"Select from Drop Down","Select from Drop Down","Select from Drop Down"]
[1446,null,null,"Select from Drop Down","Select from Drop Down","Select from Drop Down",null,null,null,null,null,null,null,null,null,null,null,null,"Select from Drop Down","Select from Drop Down","Select from Drop Down"]
[1447,null,null,"Select from Drop Down","Select from Drop Down","Select from Drop Down",null,null,null,null,null,null,null,null,null,null,null,null,"Select from Drop Down","Select from Drop Down","Select from Drop Down"]
[1448,null,null,"Select from Drop Down","Select from Drop Down","Select from Drop Down",null,null,null,null,null,null,null,null,null,null,null,null,"Select from Drop Down","Select from Drop Down","Select from Drop Down"]
[1449,null,null,"Select from Drop Down","Select from Drop Down","Select from Drop Down",null,null,null,null,null,null,null,null,null,null,null,null,"Select from Drop Down","Select from Drop Down","Select from Drop Down"]
[1450,null,null,"Select from Drop Down","Select from Drop Down","Select from Drop Down",null,null,null,null,null,null,null,null,null,null,null,null,"Select from Drop Down","Select from Drop Down","Select from Drop Down"]
[1451,null,null,"Select from Drop Down","Select from Drop Down","Select from Drop Down",null,null,null,null,null,null,null,null,null,null,null,null,"Select from Drop Down","Select from Drop Down","Select from Drop Down"]
[1452,null,null,"Select from Drop Down","Select from Drop Down","Select from Drop Down",null,null,null,null,null,null,null,null,null,null,null,null,"Select from Drop Down","Select from Drop Down","Select from Drop Down"]
[1453,null,null,"Select from Drop Down","Select from Drop Down","Select from Drop Down",null,null,null,null,null,null,null,null,null,null,null,null,"Select from Drop Down","Select from Drop Down","Select from Drop Down"]
[1454,null,null,"Select from Drop Down","Select from Drop Down","Select from Drop Down",null,null,null,null,null,null,null,null,null,null,null,null,"Select from Drop Down","Select from Drop Down","Select from Drop Down"]
[1455,null,null,"Select from Drop Down","Select from Drop Down","Select from Drop Down",null,null,null,null,null,null,null,null,null,null,null,null,"Select from Drop Down","Select from Drop Down","Select from Drop Down"]
[1456,null,null,"Select from Drop Down","Select from Drop Down","Select from Drop Down",null,null,null,null,null,null,null,null,null,null,null,null,"Select from Drop Down","Select from Drop Down","Select from Drop Down"]
[1457,null,null,"Select from Drop Down","Select from Drop Down","Select from Drop Down",null,null,null,null,null,null,null,null,null,null,null,null,"Select from Drop Down","Select from Drop Down","Select from Drop Down"]
[1458,null,null,"Select from Drop Down","Select from Drop Down","Select from Drop Down",null,null,null,null,null,null,null,null,null,null,null,null,"Select from Drop Down","Select from Drop Down","Select from Drop Down"]
[1459,null,null,"Select from Drop Down","Select from Drop Down","Select from Drop Down",null,null,null,null,null,null,null,null,null,null,null,null,"Select from Drop Down","Select from Drop Down","Select from Drop Down"]
[1460,null,null,"Select from Drop Down","Select from Drop Down","Select from Drop Down",null,null,null,null,null,null,null,null,null,null,null,null,"Select from Drop Down","Select from Drop Down","Select from Drop Down"]
[1461,null,null,"Select from Drop Down","Select from Drop Down","Select from Drop Down",null,null,null,null,null,null,null,null,null,null,null,null,"Select from Drop Down","Select from Drop Down","Select from Drop Down"]
[1462,null,null,"Select from Drop Down","Select from Drop Down","Select from Drop Down",null,null,null,null,null,null,null,null,null,null,null,null,"Select from Drop Down","Select from Drop Down","Select from Drop Down"]
[1463,null,null,"Select from Drop Down","Select from Drop Down","Select from Drop Down",null,null,null,null,null,null,null,null,null,null,null,null,"Select from Drop Down","Select from Drop Down","Select from Drop Down"]
[1464,null,null,"Select from Drop Down","Select from Drop Down","Select from Drop Down",null,null,null,null,null,null,null,null,null,null,null,null,"Select from Drop Down","Select from Drop Down","Select from Drop Down"]
[1465,null,null,"Select from Drop Down","Select from Drop Down","Select from Drop Down",null,null,null,null,null,null,null,null,null,null,null,null,"Select from Drop Down","Select from Drop Down","Select from Drop Down"]
[1466,null,null,"Select from Drop Down","Select from Drop Down","Select from Drop Down",null,null,null,null,null,null,null,null,null,null,null,null,"Select from Drop Down","Select from Drop Down","Select from Drop Down"]
[1467,null,null,"Select from Drop Down","Select from Drop Down","Select from Drop Down",null,null,null,null,null,null,null,null,null,null,null,null,"Select from Drop Down","Select from Drop Down","Select from Drop Down"]
[1468,null,null,"Select from Drop Down","Select from Drop Down","Select from Drop Down",null,null,null,null,null,null,null,null,null,null,null,null,"Select from Drop Down","Select from Drop Down","Select from Drop Down"]
[1469,null,null,"Select from Drop Down","Select from Drop Down","Select from Drop Down",null,null,null,null,null,null,null,null,null,null,null,null,"Select from Drop Down","Select from Drop Down","Select from Drop Down"]
[1470,null,null,"Select from Drop Down","Select from Drop Down","Select from Drop Down",null,null,null,null,null,null,null,null,null,null,null,null,"Select from Drop Down","Select from Drop Down","Select from Drop Down"]
[1471,null,null,"Select from Drop Down","Select from Drop Down","Select from Drop Down",null,null,null,null,null,null,null,null,null,null,null,null,"Select from Drop Down","Select from Drop Down","Select from Drop Down"]
[1472,null,null,"Select from Drop Down","Select from Drop Down","Select from Drop Down",null,null,null,null,null,null,null,null,null,null,null,null,"Select from Drop Down","Select from Drop Down","Select from Drop Down"]
[1473,null,null,"Select from Drop Down","Select from Drop Down","Select from Drop Down",null,null,null,null,null,null,null,null,null,null,null,null,"Select from Drop Down","Select from Drop Down","Select from Drop Down"]
[1474,null,null,"Select from Drop Down","Select from Drop Down","Select from Drop Down",null,null,null,null,null,null,null,null,null,null,null,null,"Select from Drop Down","Select from Drop Down","Select from Drop Down"]
[{"$f":"A1484+1","v":1475},null,null,"Select from Drop Down","Select from Drop Down","Select from Drop Down",null,null,null,null,null,null,null,null,null,null,null,null,"Select from Drop Down","Select from Drop Down","Select from Drop Down"]
[1476,null,null,"Select from Drop Down","Select from Drop Down","Select from Drop Down",null,null,null,null,null,null,null,null,null,null,null,null,"Select from Drop Down","Select from Drop Down","Select from Drop Down"]
[1477,null,null,"Select from Drop Down","Select from Drop Down","Select from Drop Down",null,null,null,null,null,null,null,null,null,null,null,null,"Select from Drop Down","Select from Drop Down","Select from Drop Down"]
[1478,null,null,"Select from Drop Down","Select from Drop Down","Select from Drop Down",null,null,null,null,null,null,null,null,null,null,null,null,"Select from Drop Down","Select from Drop Down","Select from Drop Down"]
[1479,null,null,"Select from Drop Down","Select from Drop Down","Select from Drop Down",null,null,null,null,null,null,null,null,null,null,null,null,"Select from Drop Down","Select from Drop Down","Select from Drop Down"]
[1480,null,null,"Select from Drop Down","Select from Drop Down","Select from Drop Down",null,null,null,null,null,null,null,null,null,null,null,null,"Select from Drop Down","Select from Drop Down","Select from Drop Down"]
[1481,null,null,"Select from Drop Down","Select from Drop Down","Select from Drop Down",null,null,null,null,null,null,null,null,null,null,null,null,"Select from Drop Down","Select from Drop Down","Select from Drop Down"]
[1482,null,null,"Select from Drop Down","Select from Drop Down","Select from Drop Down",null,null,null,null,null,null,null,null,null,null,null,null,"Select from Drop Down","Select from Drop Down","Select from Drop Down"]
[1483,null,null,"Select from Drop Down","Select from Drop Down","Select from Drop Down",null,null,null,null,null,null,null,null,null,null,null,null,"Select from Drop Down","Select from Drop Down","Select from Drop Down"]
[1484,null,null,"Select from Drop Down","Select from Drop Down","Select from Drop Down",null,null,null,null,null,null,null,null,null,null,null,null,"Select from Drop Down","Select from Drop Down","Select from Drop Down"]
[1485,null,null,"Select from Drop Down","Select from Drop Down","Select from Drop Down",null,null,null,null,null,null,null,null,null,null,null,null,"Select from Drop Down","Select from Drop Down","Select from Drop Down"]
[1486,null,null,"Select from Drop Down","Select from Drop Down","Select from Drop Down",null,null,null,null,null,null,null,null,null,null,null,null,"Select from Drop Down","Select from Drop Down","Select from Drop Down"]
[1487,null,null,"Select from Drop Down","Select from Drop Down","Select from Drop Down",null,null,null,null,null,null,null,null,null,null,null,null,"Select from Drop Down","Select from Drop Down","Select from Drop Down"]
[1488,null,null,"Select from Drop Down","Select from Drop Down","Select from Drop Down",null,null,null,null,null,null,null,null,null,null,null,null,"Select from Drop Down","Select from Drop Down","Select from Drop Down"]
[1489,null,null,"Select from Drop Down","Select from Drop Down","Select from Drop Down",null,null,null,null,null,null,null,null,null,null,null,null,"Select from Drop Down","Select from Drop Down","Select from Drop Down"]
[1490,null,null,"Select from Drop Down","Select from Drop Down","Select from Drop Down",null,null,null,null,null,null,null,null,null,null,null,null,"Select from Drop Down","Select from Drop Down","Select from Drop Down"]
[1491,null,null,"Select from Drop Down","Select from Drop Down","Select from Drop Down",null,null,null,null,null,null,null,null,null,null,null,null,"Select from Drop Down","Select from Drop Down","Select from Drop Down"]
[1492,null,null,"Select from Drop Down","Select from Drop Down","Select from Drop Down",null,null,null,null,null,null,null,null,null,null,null,null,"Select from Drop Down","Select from Drop Down","Select from Drop Down"]
[1493,null,null,"Select from Drop Down","Select from Drop Down","Select from Drop Down",null,null,null,null,null,null,null,null,null,null,null,null,"Select from Drop Down","Select from Drop Down","Select from Drop Down"]
[1494,null,null,"Select from Drop Down","Select from Drop Down","Select from Drop Down",null,null,null,null,null,null,null,null,null,null,null,null,"Select from Drop Down","Select from Drop Down","Select from Drop Down"]
[1495,null,null,"Select from Drop Down","Select from Drop Down","Select from Drop Down",null,null,null,null,null,null,null,null,null,null,null,null,"Select from Drop Down","Select from Drop Down","Select from Drop Down"]
[1496,null,null,"Select from Drop Down","Select from Drop Down","Select from Drop Down",null,null,null,null,null,null,null,null,null,null,null,null,"Select from Drop Down","Select from Drop Down","Select from Drop Down"]
[1497,null,null,"Select from Drop Down","Select from Drop Down","Select from Drop Down",null,null,null,null,null,null,null,null,null,null,null,null,"Select from Drop Down","Select from Drop Down","Select from Drop Down"]
[1498,null,null,"Select from Drop Down","Select from Drop Down","Select from Drop Down",null,null,null,null,null,null,null,null,null,null,null,null,"Select from Drop Down","Select from Drop Down","Select from Drop Down"]
[1499,null,null,"Select from Drop Down","Select from Drop Down","Select from Drop Down",null,null,null,null,null,null,null,null,null,null,null,null,"Select from Drop Down","Select from Drop Down","Select from Drop Down"]
[1500,null,null,"Select from Drop Down","Select from Drop Down","Select from Drop Down",null,null,null,null,null,null,null,null,null,null,null,null,"Select from Drop Down","Select from Drop Down","Select from Drop Down"]
[]
[null,"TOTAL",null,null,null,null,{"$f":"SUM(G11:G1510)","v":0},{"$f":"SUM(H11:H1510)","v":0},null,null,null,{"$f":"SUM(L11:L1510)","v":0},0,0,0,0,0,0,null,null,null,{"$f":"SUM(V11:V1510)","v":0}]
[]
[null,"General Comments"]
[null,{"$f":"Import!E2296","v":0}]
[]
[]
[]
[]
[]
[]
[]
[]
[]
[null,null,null,null,null,null,null,null,"Select Yes/No",null,null,null,"Lines of Business",null,null,"Zones",null,null,"Currency",null,"Select from Drop Down","Nature of Collateral"]
[null,null,null,null,null,null,null,null,"Yes",null,null,null,"Select from Drop Down",null,null,"Select from Drop Down",null,null,"Select from Drop Down",null,"AAA","Select from Drop Down"]
[null,null,null,null,null,null,"Select from Drop Down","Select from Drop Down","No",null,null,null,"Property Catastrophe",null,null,"US,",null,null,"USD",null,"AA","Money Market Fund"]
[null,null,null,null,null,null,"Indemnity ","Parametric/Industry Loss Warranty",null,"Select from Drop Down",null,null,"Property",null,null,"Europe",null,null,"BP",null,"A","Letter of Credit "]
[null,null,null,null,null,null,"Excess-of-Loss","Excess-of-Loss",null,"Catastrophe Bond",null,null,"Property Non – Proportional",null,null,"UK",null,null,"Euro",null,"BBB","Funds Withheld"]
[null,null,null,null,null,null,"Industry Loss Warranty","Quota Share",null,"Sidecar",null,null,"Personal Accident",null,null,"Latin America",null,null,"AUD",null,"BB","Cash"]
[null,null,null,null,null,null,"Quota Share","Stop Loss",null,"Collateralised Reinsurance",null,null,"Personal Accident Non- Proportional",null,null,"Asia",null,null,"CAD",null,"B","Sovereign Bonds"]
[null,null,null,null,null,null,"Stop Loss","Other",null,"Other",null,null,"Aviation",null,null,"Africa",null,null,"Yen",null,"CCC","Corporate Bonds"]
[null,null,null,null,null,null,"Other",null,null,null,null,null,"Aviation Non – Proportional",null,null,"Worldwide",null,null,"Multi Currency",null,"CCC or Below","Other"]
[null,null,null,null,null,null,null,null,null,null,null,null,"Credit / Surety ",null,null,"Other",null,null,"Other"]
[null,null,null,null,null,null,null,null,null,null,null,null,"Credit / Surety Non – Proportional"]
[null,null,null,null,null,null,null,null,null,null,null,null,"Energy Offshore / Marine"]
[null,null,null,null,null,null,null,null,null,null,null,null,"Energy Offshore / Marine Non - Proportional "]
[null,null,null,null,null,null,null,null,null,null,null,null,"US Casualty"]
[null,null,null,null,null,null,null,null,null,null,null,null,"US Casualty Non - Proportional "]
[null,null,null,null,null,null,null,null,null,null,null,null,"US Professional"]
[null,null,null,null,null,null,null,null,null,null,null,null,"US Professional Non – Proportional"]
[null,null,null,null,null,null,null,null,null,null,null,null,"US Specialty "]
[null,null,null,null,null,null,null,null,null,null,null,null,"US Specialty Non - Proportional"]
[null,null,null,null,null,null,null,null,null,null,null,null,"International Motor "]
[null,null,null,null,null,null,null,null,null,null,null,null,"International Motor Non – Proportional"]
[null,null,null,null,null,null,null,null,null,null,null,null,"International Casualty Non – Motor "]
[null,null,null,null,null,null,null,null,null,null,null,null,"International Casualty Non Motor Non – Proportional "]
[null,null,null,null,null,null,null,null,null,null,null,null,"Retro Property"]
[null,null,null,null,null,null,null,null,null,null,null,null,"Structured / Finite Reinsurance"]
[null,null,null,null,null,null,null,null,null,null,null,null,"Health"]
[]
[null,null,null,null,null,null,null,null,null,null,null,null,"Mortality "]
[null,null,null,null,null,null,null,null,null,null,null,null,"Critical Illness"]
[null,null,null,null,null,null,null,null,null,null,null,null,"Longevity"]
[null,null,null,null,null,null,null,null,null,null,null,null,"Deferred Annuities"]
[null,null,null,null,null,null,null,null,null,null,null,null,"Disability Income: Active lives with premium guarantee"]
[null,null,null,null,null,null,null,null,null,null,null,null,"Disability Income: Actives lives for other accident and sickenss"]
[null,null,null,null,null,null,null,null,null,null,null,null,"Disability Income: Claims in payment "]
[null,null,null,null,null,null,null,null,null,null,null,null,"Disability Income: Claims in payment for other accident and sickness"]
[null,null,null,null,null,null,null,null,null,null,null,null,"Group Life"]
[null,null,null,null,null,null,null,null,null,null,null,null,"Group Disability"]
[null,null,null,null,null,null,null,null,null,null,null,null,"Group Health"]
[null,null,null,null,null,null,null,null,null,null,null,null,"Stop Loss"]
[null,null,null,null,null,null,null,null,null,null,null,null,"Rider"]
[null,null,null,null,null,null,null,null,null,null,null,null,"Variable Annuities"]

{"sheet":"Schedule XVIII","index":25,"n_rows":131,"n_cols":24,"rows_kept":131,"cut":false,"hidden":false,"merged":[[94,10,94,13],[95,10,95,13],[96,10,96,13],[97,10,97,13],[129,10,129,13],[89,10,89,13],[90,10,90,13],[91,10,91,13],[92,10,92,13],[93,10,93,13],[98,10,98,13],[99,10,99,13],[100,10,100,13],[101,10,101,13],[102,10,102,13],[103,10,103,13],[104,10,104,13],[105,10,105,13],[106,10,106,13],[117,10,117,13],[118,10,118,13],[119,10,119,13],[112,10,112,13],[113,10,113,13],[129,2,129,3],[93,2,93,3],[94,2,94,3],[95,2,95,3],[96,2,96,3],[97,2,97,3],[88,8,88,9],[89,2,89,3],[90,2,90,3],[91,2,91,3],[92,2,92,3],[72,3,73,4],[74,8,74,9],[76,3,77,13],[63,3,63,4],[64,3,64,4],[65,3,65,4],[66,3,66,4],[67,3,67,4],[84,2,84,14],[49,2,49,3],[50,2,50,3],[51,2,51,3],[52,2,52,3],[53,2,53,3],[58,3,58,4],[59,3,59,4],[60,3,60,4],[61,3,61,4],[57,3,57,4],[21,2,21,3],[12,8,12,9],[34,2,34,3],[23,2,23,3],[24,2,24,3],[25,2,25,3],[26,2,26,3],[27,2,27,3],[28,2,28,3],[29,2,29,3],[30,2,30,3],[31,2,31,3],[32,2,32,3],[33,2,33,3],[0,2,0,9],[13,2,13,3],[14,2,14,3],[15,2,15,3],[16,2,16,3],[17,2,17,3],[18,2,18,3],[19,2,19,3],[20,2,20,3],[114,10,114,13],[115,10,115,13],[116,10,116,13],[107,10,107,13],[108,10,108,13],[109,10,109,13],[110,10,110,13],[111,10,111,13],[22,2,22,3],[46,2,46,3],[35,2,35,3],[36,2,36,3],[37,2,37,3],[38,2,38,3],[39,2,39,3],[40,2,40,3],[41,2,41,3],[42,2,42,3],[43,2,43,3],[44,2,44,3],[45,2,45,3],[62,3,62,4],[47,2,47,3],[48,2,48,3]]}
[null,null,"SCHEDULE OF PARTICULARS OF OUTWARD REINSURANCE",null,null,null,null,null,null,null,null,null,null,{"$f":"HYPERLINK(\"#'Index'!A1\",\"Return to Index\")","v":"Return to Index"}]
[]
[null,null,{"$f":"+'Company Information'!C7","v":"Enter Company Name"},null,null,null,null,null,null,null,null,null,null,null,null,null,{"$f":"IF(C4=\"\",\"\",TEXT(DATE(YEAR(C4+1)-1,MONTH(C4+1),DAY(C4+1)),\"mm/dd/yyyy\"))","v":"01/01/2019"}]
[null,null,{"$f":"+'Company Information'!C3","v":"2019-12-31"},null,null,null,null,null,null,null,null,null,null,null,null,null,{"$f":"IF(C4=\"\",\"\",TEXT(C4,\"mm/dd/yyyy\"))","v":"12/31/2019"}]
[null,null,{"$f":"'Form 1SFS GB'!$C$5","v":"United States Dollars"},null,null,null,null,null,null,null,null,null,null,"SCHEDULE XVIII"]
[]
[null,null,"Particulars of reinsurance balances "]
[]
[null,null,"SECTION A: ENTER OUTWARD REINSURANCE, SECURING AGGREGATE LIMIT(S), GROUPED ACCORDING TO BSCR RATINGS INSURED"]
[]
[null,null,"Enter Number of Entities",null,{"$f":"Import!I2298","v":0}]
[null,null,"Exposure by Reinsurer",null,null,null,"(A)",null,"(B)","(C)",null,"(D)",null,"(E)",null,null,"brrt_ExposureByReinsurer"]
[null,null,null,null,null,null,null,null,"Collateral Held by Reinsurers for the benefit of the Company",null,null,null,null,null,null,null,"brrt_ParticularsOfCededReinsuranceNameOfReinsurer","brrt_ParticularsOfCededReinsuranceBSCRRating","brrt_ParticularsOfCededReinsuranceReinsuranceRecoverable","brrt_ParticularsOfCededReinsuranceReinsurancePayable","brrt_ParticularsOfCededReinsuranceCollateral","brrt_ParticularsOfCededReinsuranceQualifyingCollateral","brrt_ParticularsOfCededReinsuranceNetQualifyingExposure"]
[null,null,"Name of Reinsurer",null,"BSCR Rating",null,"Amount of Outward Reinsurance Cover",null,"Cash and Cash Equivalents","Other Collateral Assets",null,"Qualifying Collateral\n(B) + [(C - 2%)]",null,"Net Qualifying Exposure\n(A) - (D)"]
[null,1,{"$f":"Import!I2299","v":0},null,"Select",null,{"$f":"Import!I2359","v":0},null,{"$f":"Import!I2390","v":0},{"$f":"Import!I2421","v":0},null,{"$f":"IF(SUM(I15:J15)=0,0,I15+(J15*0.98))","v":0},null,{"$f":"MAX(0,(G15-L15))","v":0},null,null,null,null,null,null,null,null,null,{"$f":"IF(OR(C15<>\"\",E15<>\"\",G15<>\"\",I15<>\"\",J15<>\"\"),XBRLMapTuple($Q$12,Q$3,Q$4,\"BMA\",CONFIGURATION!$B$1,\"bscr\",\"\",CONFIGURATION!$B$12,$Q$13,C15,$R$13,E15,$S$13,G15,$T$13,I15,$U$13,J15,$V$13,L15,$W$13,N15),\"emptyTuple\")","v":"Mapped"}]
[null,2,{"$f":"Import!I2300","v":0},null,{"$f":"Import!I2330","v":"Select"},null,{"$f":"Import!I2360","v":0},null,{"$f":"Import!I2391","v":0},{"$f":"Import!I2422","v":0},null,{"$f":"IF(SUM(I16:J16)=0,0,I16+(J16*0.98))","v":0},null,{"$f":"MAX(0,(G16-L16))","v":0},null,null,null,null,null,null,null,null,null,{"$f":"IF(OR(C16<>\"\",E16<>\"\",G16<>\"\",I16<>\"\",J16<>\"\"),XBRLMapTuple($Q$12,Q$3,Q$4,\"BMA\",CONFIGURATION!$B$1,\"bscr\",\"\",CONFIGURATION!$B$12,$Q$13,C16,$R$13,E16,$S$13,G16,$T$13,I16,$U$13,J16,$V$13,L16,$W$13,N16),\"emptyTuple\")","v":"Mapped"}]
[null,3,{"$f":"Import!I2301","v":0},null,"Select",null,{"$f":"Import!I2361","v":0},null,{"$f":"Import!I2392","v":0},{"$f":"Import!I2423","v":0},null,0,null,0,null,null,null,null,null,null,null,null,null,{"$f":"IF(OR(C17<>\"\",E17<>\"\",G17<>\"\",I17<>\"\",J17<>\"\"),XBRLMapTuple($Q$12,Q$3,Q$4,\"BMA\",CONFIGURATION!$B$1,\"bscr\",\"\",CONFIGURATION!$B$12,$Q$13,C17,$R$13,E17,$S$13,G17,$T$13,I17,$U$13,J17,$V$13,L17,$W$13,N17),\"emptyTuple\")","v":"Mapped"}]
[null,4,{"$f":"Import!I2302","v":0},null,{"$f":"Import!I2332","v":"Select"},null,{"$f":"Import!I2362","v":0},null,{"$f":"Import!I2393","v":0},{"$f":"Import!I2424","v":0},null,0,null,0,null,null,null,null,null,null,null,null,null,{"$f":"IF(OR(C18<>\"\",E18<>\"\",G18<>\"\",I18<>\"\",J18<>\"\"),XBRLMapTuple($Q$12,Q$3,Q$4,\"BMA\",CONFIGURATION!$B$1,\"bscr\",\"\",CONFIGURATION!$B$12,$Q$13,C18,$R$13,E18,$S$13,G18,$T$13,I18,$U$13,J18,$V$13,L18,$W$13,N18),\"emptyTuple\")","v":"Mapped"}]
[null,5,{"$f":"Import!I2303","v":0},null,"Select",null,{"$f":"Import!I2363","v":0},null,{"$f":"Import!I2394","v":0},{"$f":"Import!I2425","v":0},null,0,null,0,null,null,null,null,null,null,null,null,null,{"$f":"IF(OR(C19<>\"\",E19<>\"\",G19<>\"\",I19<>\"\",J19<>\"\"),XBRLMapTuple($Q$12,Q$3,Q$4,\"BMA\",CONFIGURATION!$B$1,\"bscr\",\"\",CONFIGURATION!$B$12,$Q$13,C19,$R$13,E19,$S$13,G19,$T$13,I19,$U$13,J19,$V$13,L19,$W$13,N19),\"emptyTuple\")","v":"Mapped"}]
[null,6,{"$f":"Import!I2304","v":0},null,{"$f":"Import!I2334","v":"Select"},null,{"$f":"Import!I2364","v":0},null,{"$f":"Import!I2395","v":0},{"$f":"Import!I2426","v":0},null,0,null,0,null,null,null,null,null,null,null,null,null,{"$f":"IF(OR(C20<>\"\",E20<>\"\",G20<>\"\",I20<>\"\",J20<>\"\"),XBRLMapTuple($Q$12,Q$3,Q$4,\"BMA\",CONFIGURATION!$B$1,\"bscr\",\"\",CONFIGURATION!$B$12,$Q$13,C20,$R$13,E20,$S$13,G20,$T$13,I20,$U$13,J20,$V$13,L20,$W$13,N20),\"emptyTuple\")","v":"Mapped"}]
[null,7,{"$f":"Import!I2305","v":0},null,{"$f":"Import!I2335","v":"Select"},null,{"$f":"Import!I2365","v":0},null,{"$f":"Import!I2396","v":0},{"$f":"Import!I2427","v":0},null,0,null,0,null,null,null,null,null,null,null,null,null,{"$f":"IF(OR(C21<>\"\",E21<>\"\",G21<>\"\",I21<>\"\",J21<>\"\"),XBRLMapTuple($Q$12,Q$3,Q$4,\"BMA\",CONFIGURATION!$B$1,\"bscr\",\"\",CONFIGURATION!$B$12,$Q$13,C21,$R$13,E21,$S$13,G21,$T$13,I21,$U$13,J21,$V$13,L21,$W$13,N21),\"emptyTuple\")","v":"Mapped"}]
[null,8,{"$f":"Import!I2306","v":0},null,{"$f":"Import!I2336","v":"Select"},null,{"$f":"Import!I2366","v":0},null,{"$f":"Import!I2397","v":0},{"$f":"Import!I2428","v":0},null,0,null,0,null,null,null,null,null,null,null,null,null,{"$f":"IF(OR(C22<>\"\",E22<>\"\",G22<>\"\",I22<>\"\",J22<>\"\"),XBRLMapTuple($Q$12,Q$3,Q$4,\"BMA\",CONFIGURATION!$B$1,\"bscr\",\"\",CONFIGURATION!$B$12,$Q$13,C22,$R$13,E22,$S$13,G22,$T$13,I22,$U$13,J22,$V$13,L22,$W$13,N22),\"emptyTuple\")","v":"Mapped"}]
[null,9,{"$f":"Import!I2307","v":0},null,{"$f":"Import!I2337","v":"Select"},null,{"$f":"Import!I2367","v":0},null,{"$f":"Import!I2398","v":0},{"$f":"Import!I2429","v":0},null,0,null,0,null,null,null,null,null,null,null,null,null,{"$f":"IF(OR(C23<>\"\",E23<>\"\",G23<>\"\",I23<>\"\",J23<>\"\"),XBRLMapTuple($Q$12,Q$3,Q$4,\"BMA\",CONFIGURATION!$B$1,\"bscr\",\"\",CONFIGURATION!$B$12,$Q$13,C23,$R$13,E23,$S$13,G23,$T$13,I23,$U$13,J23,$V$13,L23,$W$13,N23),\"emptyTuple\")","v":"Mapped"}]
[null,10,{"$f":"Import!I2308","v":0},null,{"$f":"Import!I2338","v":"Select"},null,{"$f":"Import!I2368","v":0},null,{"$f":"Import!I2399","v":0},{"$f":"Import!I2430","v":0},null,0,null,0,null,null,null,null,null,null,null,null,null,{"$f":"IF(OR(C24<>\"\",E24<>\"\",G24<>\"\",I24<>\"\",J24<>\"\"),XBRLMapTuple($Q$12,Q$3,Q$4,\"BMA\",CONFIGURATION!$B$1,\"bscr\",\"\",CONFIGURATION!$B$12,$Q$13,C24,$R$13,E24,$S$13,G24,$T$13,I24,$U$13,J24,$V$13,L24,$W$13,N24),\"emptyTuple\")","v":"Mapped"}]
[null,11,{"$f":"Import!I2309","v":0},null,{"$f":"Import!I2339","v":"Select"},null,{"$f":"Import!I2369","v":0},null,{"$f":"Import!I2400","v":0},{"$f":"Import!I2431","v":0},null,0,null,0,null,null,null,null,null,null,null,null,null,{"$f":"IF(OR(C25<>\"\",E25<>\"\",G25<>\"\",I25<>\"\",J25<>\"\"),XBRLMapTuple($Q$12,Q$3,Q$4,\"BMA\",CONFIGURATION!$B$1,\"bscr\",\"\",CONFIGURATION!$B$12,$Q$13,C25,$R$13,E25,$S$13,G25,$T$13,I25,$U$13,J25,$V$13,L25,$W$13,N25),\"emptyTuple\")","v":"Mapped"}]
[null,12,{"$f":"Import!I2310","v":0},null,{"$f":"Import!I2340","v":"Select"},null,{"$f":"Import!I2370","v":0},null,{"$f":"Import!I2401","v":0},{"$f":"Import!I2432","v":0},null,0,null,0,null,null,null,null,null,null,null,null,null,{"$f":"IF(OR(C26<>\"\",E26<>\"\",G26<>\"\",I26<>\"\",J26<>\"\"),XBRLMapTuple($Q$12,Q$3,Q$4,\"BMA\",CONFIGURATION!$B$1,\"bscr\",\"\",CONFIGURATION!$B$12,$Q$13,C26,$R$13,E26,$S$13,G26,$T$13,I26,$U$13,J26,$V$13,L26,$W$13,N26),\"emptyTuple\")","v":"Mapped"}]
[null,13,{"$f":"Import!I2311","v":0},null,{"$f":"Import!I2341","v":"Select"},null,{"$f":"Import!I2371","v":0},null,{"$f":"Import!I2402","v":0},{"$f":"Import!I2433","v":0},null,0,null,0,null,null,null,null,null,null,null,null,null,{"$f":"IF(OR(C27<>\"\",E27<>\"\",G27<>\"\",I27<>\"\",J27<>\"\"),XBRLMapTuple($Q$12,Q$3,Q$4,\"BMA\",CONFIGURATION!$B$1,\"bscr\",\"\",CONFIGURATION!$B$12,$Q$13,C27,$R$13,E27,$S$13,G27,$T$13,I27,$U$13,J27,$V$13,L27,$W$13,N27),\"emptyTuple\")","v":"Mapped"}]
[null,14,{"$f":"Import!I2312","v":0},null,{"$f":"Import!I2342","v":"Select"},null,{"$f":"Import!I2372","v":0},null,{"$f":"Import!I2403","v":0},{"$f":"Import!I2434","v":0},null,0,null,0,null,null,null,null,null,null,null,null,null,{"$f":"IF(OR(C28<>\"\",E28<>\"\",G28<>\"\",I28<>\"\",J28<>\"\"),XBRLMapTuple($Q$12,Q$3,Q$4,\"BMA\",CONFIGURATION!$B$1,\"bscr\",\"\",CONFIGURATION!$B$12,$Q$13,C28,$R$13,E28,$S$13,G28,$T$13,I28,$U$13,J28,$V$13,L28,$W$13,N28),\"emptyTuple\")","v":"Mapped"}]
[null,15,{"$f":"Import!I2313","v":0},null,{"$f":"Import!I2343","v":"Select"},null,{"$f":"Import!I2373","v":0},null,{"$f":"Import!I2404","v":0},{"$f":"Import!I2435","v":0},null,0,null,0,null,null,null,null,null,null,null,null,null,{"$f":"IF(OR(C29<>\"\",E29<>\"\",G29<>\"\",I29<>\"\",J29<>\"\"),XBRLMapTuple($Q$12,Q$3,Q$4,\"BMA\",CONFIGURATION!$B$1,\"bscr\",\"\",CONFIGURATION!$B$12,$Q$13,C29,$R$13,E29,$S$13,G29,$T$13,I29,$U$13,J29,$V$13,L29,$W$13,N29),\"emptyTuple\")","v":"Mapped"}]
[null,16,{"$f":"Import!I2314","v":0},null,{"$f":"Import!I2344","v":"Select"},null,{"$f":"Import!I2374","v":0},null,{"$f":"Import!I2405","v":0},{"$f":"Import!I2436","v":0},null,0,null,0,null,null,null,null,null,null,null,null,null,{"$f":"IF(OR(C30<>\"\",E30<>\"\",G30<>\"\",I30<>\"\",J30<>\"\"),XBRLMapTuple($Q$12,Q$3,Q$4,\"BMA\",CONFIGURATION!$B$1,\"bscr\",\"\",CONFIGURATION!$B$12,$Q$13,C30,$R$13,E30,$S$13,G30,$T$13,I30,$U$13,J30,$V$13,L30,$W$13,N30),\"emptyTuple\")","v":"Mapped"}]
[null,17,{"$f":"Import!I2315","v":0},null,{"$f":"Import!I2345","v":"Select"},null,{"$f":"Import!I2375","v":0},null,{"$f":"Import!I2406","v":0},{"$f":"Import!I2437","v":0},null,0,null,0,null,null,null,null,null,null,null,null,null,{"$f":"IF(OR(C31<>\"\",E31<>\"\",G31<>\"\",I31<>\"\",J31<>\"\"),XBRLMapTuple($Q$12,Q$3,Q$4,\"BMA\",CONFIGURATION!$B$1,\"bscr\",\"\",CONFIGURATION!$B$12,$Q$13,C31,$R$13,E31,$S$13,G31,$T$13,I31,$U$13,J31,$V$13,L31,$W$13,N31),\"emptyTuple\")","v":"Mapped"}]
[null,18,{"$f":"Import!I2316","v":0},null,{"$f":"Import!I2346","v":"Select"},null,{"$f":"Import!I2376","v":0},null,{"$f":"Import!I2407","v":0},{"$f":"Import!I2438","v":0},null,0,null,0,null,null,null,null,null,null,null,null,null,{"$f":"IF(OR(C32<>\"\",E32<>\"\",G32<>\"\",I32<>\"\",J32<>\"\"),XBRLMapTuple($Q$12,Q$3,Q$4,\"BMA\",CONFIGURATION!$B$1,\"bscr\",\"\",CONFIGURATION!$B$12,$Q$13,C32,$R$13,E32,$S$13,G32,$T$13,I32,$U$13,J32,$V$13,L32,$W$13,N32),\"emptyTuple\")","v":"Mapped"}]
[null,19,{"$f":"Import!I2317","v":0},null,{"$f":"Import!I2347","v":"Select"},null,{"$f":"Import!I2377","v":0},null,{"$f":"Import!I2408","v":0},{"$f":"Import!I2439","v":0},null,0,null,0,null,null,null,null,null,null,null,null,null,{"$f":"IF(OR(C33<>\"\",E33<>\"\",G33<>\"\",I33<>\"\",J33<>\"\"),XBRLMapTuple($Q$12,Q$3,Q$4,\"BMA\",CONFIGURATION!$B$1,\"bscr\",\"\",CONFIGURATION!$B$12,$Q$13,C33,$R$13,E33,$S$13,G33,$T$13,I33,$U$13,J33,$V$13,L33,$W$13,N33),\"emptyTuple\")","v":"Mapped"}]
[null,20,{"$f":"Import!I2318","v":0},null,{"$f":"Import!I2348","v":"Select"},null,{"$f":"Import!I2378","v":0},null,{"$f":"Import!I2409","v":0},{"$f":"Import!I2440","v":0},null,0,null,0,null,null,null,null,null,null,null,null,null,{"$f":"IF(OR(C34<>\"\",E34<>\"\",G34<>\"\",I34<>\"\",J34<>\"\"),XBRLMapTuple($Q$12,Q$3,Q$4,\"BMA\",CONFIGURATION!$B$1,\"bscr\",\"\",CONFIGURATION!$B$12,$Q$13,C34,$R$13,E34,$S$13,G34,$T$13,I34,$U$13,J34,$V$13,L34,$W$13,N34),\"emptyTuple\")","v":"Mapped"}]
[null,21,{"$f":"Import!I2319","v":0},null,{"$f":"Import!I2349","v":"Select"},null,{"$f":"Import!I2379","v":0},null,{"$f":"Import!I2410","v":0},{"$f":"Import!I2441","v":0},null,0,null,0,null,null,null,null,null,null,null,null,null,{"$f":"IF(OR(C35<>\"\",E35<>\"\",G35<>\"\",I35<>\"\",J35<>\"\"),XBRLMapTuple($Q$12,Q$3,Q$4,\"BMA\",CONFIGURATION!$B$1,\"bscr\",\"\",CONFIGURATION!$B$12,$Q$13,C35,$R$13,E35,$S$13,G35,$T$13,I35,$U$13,J35,$V$13,L35,$W$13,N35),\"emptyTuple\")","v":"Mapped"}]
[null,22,{"$f":"Import!I2320","v":0},null,{"$f":"Import!I2350","v":"Select"},null,{"$f":"Import!I2380","v":0},null,{"$f":"Import!I2411","v":0},{"$f":"Import!I2442","v":0},null,0,null,0,null,null,null,null,null,null,null,null,null,{"$f":"IF(OR(C36<>\"\",E36<>\"\",G36<>\"\",I36<>\"\",J36<>\"\"),XBRLMapTuple($Q$12,Q$3,Q$4,\"BMA\",CONFIGURATION!$B$1,\"bscr\",\"\",CONFIGURATION!$B$12,$Q$13,C36,$R$13,E36,$S$13,G36,$T$13,I36,$U$13,J36,$V$13,L36,$W$13,N36),\"emptyTuple\")","v":"Mapped"}]
[null,23,{"$f":"Import!I2321","v":0},null,{"$f":"Import!I2351","v":"Select"},null,{"$f":"Import!I2381","v":0},null,{"$f":"Import!I2412","v":0},{"$f":"Import!I2443","v":0},null,0,null,0,null,null,null,null,null,null,null,null,null,{"$f":"IF(OR(C37<>\"\",E37<>\"\",G37<>\"\",I37<>\"\",J37<>\"\"),XBRLMapTuple($Q$12,Q$3,Q$4,\"BMA\",CONFIGURATION!$B$1,\"bscr\",\"\",CONFIGURATION!$B$12,$Q$13,C37,$R$13,E37,$S$13,G37,$T$13,I37,$U$13,J37,$V$13,L37,$W$13,N37),\"emptyTuple\")","v":"Mapped"}]
[null,24,{"$f":"Import!I2322","v":0},null,{"$f":"Import!I2352","v":"Select"},null,{"$f":"Import!I2382","v":0},null,{"$f":"Import!I2413","v":0},{"$f":"Import!I2444","v":0},null,0,null,0,null,null,null,null,null,null,null,null,null,{"$f":"IF(OR(C38<>\"\",E38<>\"\",G38<>\"\",I38<>\"\",J38<>\"\"),XBRLMapTuple($Q$12,Q$3,Q$4,\"BMA\",CONFIGURATION!$B$1,\"bscr\",\"\",CONFIGURATION!$B$12,$Q$13,C38,$R$13,E38,$S$13,G38,$T$13,I38,$U$13,J38,$V$13,L38,$W$13,N38),\"emptyTuple\")","v":"Mapped"}]
[null,25,{"$f":"Import!I2323","v":0},null,{"$f":"Import!I2353","v":"Select"},null,{"$f":"Import!I2383","v":0},null,{"$f":"Import!I2414","v":0},{"$f":"Import!I2445","v":0},null,0,null,0,null,null,null,null,null,null,null,null,null,{"$f":"IF(OR(C39<>\"\",E39<>\"\",G39<>\"\",I39<>\"\",J39<>\"\"),XBRLMapTuple($Q$12,Q$3,Q$4,\"BMA\",CONFIGURATION!$B$1,\"bscr\",\"\",CONFIGURATION!$B$12,$Q$13,C39,$R$13,E39,$S$13,G39,$T$13,I39,$U$13,J39,$V$13,L39,$W$13,N39),\"emptyTuple\")","v":"Mapped"}]
[null,26,{"$f":"Import!I2324","v":0},null,{"$f":"Import!I2354","v":"Select"},null,{"$f":"Import!I2384","v":0},null,{"$f":"Import!I2415","v":0},{"$f":"Import!I2446","v":0},null,0,null,0,null,null,null,null,null,null,null,null,null,{"$f":"IF(OR(C40<>\"\",E40<>\"\",G40<>\"\",I40<>\"\",J40<>\"\"),XBRLMapTuple($Q$12,Q$3,Q$4,\"BMA\",CONFIGURATION!$B$1,\"bscr\",\"\",CONFIGURATION!$B$12,$Q$13,C40,$R$13,E40,$S$13,G40,$T$13,I40,$U$13,J40,$V$13,L40,$W$13,N40),\"emptyTuple\")","v":"Mapped"}]
[null,27,{"$f":"Import!I2325","v":0},null,{"$f":"Import!I2355","v":"Select"},null,{"$f":"Import!I2385","v":0},null,{"$f":"Import!I2416","v":0},{"$f":"Import!I2447","v":0},null,0,null,0,null,null,null,null,null,null,null,null,null,{"$f":"IF(OR(C41<>\"\",E41<>\"\",G41<>\"\",I41<>\"\",J41<>\"\"),XBRLMapTuple($Q$12,Q$3,Q$4,\"BMA\",CONFIGURATION!$B$1,\"bscr\",\"\",CONFIGURATION!$B$12,$Q$13,C41,$R$13,E41,$S$13,G41,$T$13,I41,$U$13,J41,$V$13,L41,$W$13,N41),\"emptyTuple\")","v":"Mapped"}]
[null,28,{"$f":"Import!I2326","v":0},null,{"$f":"Import!I2356","v":"Select"},null,{"$f":"Import!I2386","v":0},null,{"$f":"Import!I2417","v":0},{"$f":"Import!I2448","v":0},null,0,null,0,null,null,null,null,null,null,null,null,null,{"$f":"IF(OR(C42<>\"\",E42<>\"\",G42<>\"\",I42<>\"\",J42<>\"\"),XBRLMapTuple($Q$12,Q$3,Q$4,\"BMA\",CONFIGURATION!$B$1,\"bscr\",\"\",CONFIGURATION!$B$12,$Q$13,C42,$R$13,E42,$S$13,G42,$T$13,I42,$U$13,J42,$V$13,L42,$W$13,N42),\"emptyTuple\")","v":"Mapped"}]
[null,29,{"$f":"Import!I2327","v":0},null,{"$f":"Import!I2357","v":"Select"},null,{"$f":"Import!I2387","v":0},null,{"$f":"Import!I2418","v":0},{"$f":"Import!I2449","v":0},null,0,null,0,null,null,null,null,null,null,null,null,null,{"$f":"IF(OR(C43<>\"\",E43<>\"\",G43<>\"\",I43<>\"\",J43<>\"\"),XBRLMapTuple($Q$12,Q$3,Q$4,\"BMA\",CONFIGURATION!$B$1,\"bscr\",\"\",CONFIGURATION!$B$12,$Q$13,C43,$R$13,E43,$S$13,G43,$T$13,I43,$U$13,J43,$V$13,L43,$W$13,N43),\"emptyTuple\")","v":"Mapped"}]
[null,30,{"$f":"Import!I2328","v":0},null,{"$f":"Import!I2358","v":"Select"},null,{"$f":"Import!I2388","v":0},null,{"$f":"Import!I2419","v":0},{"$f":"Import!I2450","v":0},null,0,null,0,null,null,null,null,null,null,null,null,null,{"$f":"IF(OR(C44<>\"\",E44<>\"\",G44<>\"\",I44<>\"\",J44<>\"\"),XBRLMapTuple($Q$12,Q$3,Q$4,\"BMA\",CONFIGURATION!$B$1,\"bscr\",\"\",CONFIGURATION!$B$12,$Q$13,C44,$R$13,E44,$S$13,G44,$T$13,I44,$U$13,J44,$V$13,L44,$W$13,N44),\"emptyTuple\")","v":"Mapped"}]
[null,31,null,null,null,null,null,null,null,null,null,0,null,0,null,null,null,null,null,null,null,null,null,{"$f":"IF(OR(C45<>\"\",E45<>\"\",G45<>\"\",I45<>\"\",J45<>\"\"),XBRLMapTuple($Q$12,Q$3,Q$4,\"BMA\",CONFIGURATION!$B$1,\"bscr\",\"\",CONFIGURATION!$B$12,$Q$13,C45,$R$13,E45,$S$13,G45,$T$13,I45,$U$13,J45,$V$13,L45,$W$13,N45),\"emptyTuple\")","v":"emptyTuple"}]
[null,32,null,null,null,null,null,null,null,null,null,0,null,0,null,null,null,null,null,null,null,null,null,{"$f":"IF(OR(C46<>\"\",E46<>\"\",G46<>\"\",I46<>\"\",J46<>\"\"),XBRLMapTuple($Q$12,Q$3,Q$4,\"BMA\",CONFIGURATION!$B$1,\"bscr\",\"\",CONFIGURATION!$B$12,$Q$13,C46,$R$13,E46,$S$13,G46,$T$13,I46,$U$13,J46,$V$13,L46,$W$13,N46),\"emptyTuple\")","v":"emptyTuple"}]
[null,33,null,null,null,null,null,null,null,null,null,0,null,0,null,null,null,null,null,null,null,null,null,{"$f":"IF(OR(C47<>\"\",E47<>\"\",G47<>\"\",I47<>\"\",J47<>\"\"),XBRLMapTuple($Q$12,Q$3,Q$4,\"BMA\",CONFIGURATION!$B$1,\"bscr\",\"\",CONFIGURATION!$B$12,$Q$13,C47,$R$13,E47,$S$13,G47,$T$13,I47,$U$13,J47,$V$13,L47,$W$13,N47),\"emptyTuple\")","v":"emptyTuple"}]
[null,34,null,null,null,null,null,null,null,null,null,0,null,0,null,null,null,null,null,null,null,null,null,{"$f":"IF(OR(C48<>\"\",E48<>\"\",G48<>\"\",I48<>\"\",J48<>\"\"),XBRLMapTuple($Q$12,Q$3,Q$4,\"BMA\",CONFIGURATION!$B$1,\"bscr\",\"\",CONFIGURATION!$B$12,$Q$13,C48,$R$13,E48,$S$13,G48,$T$13,I48,$U$13,J48,$V$13,L48,$W$13,N48),\"emptyTuple\")","v":"emptyTuple"}]
[null,35,null,null,null,null,null,null,null,null,null,0,null,0,null,null,null,null,null,null,null,null,null,{"$f":"IF(OR(C49<>\"\",E49<>\"\",G49<>\"\",I49<>\"\",J49<>\"\"),XBRLMapTuple($Q$12,Q$3,Q$4,\"BMA\",CONFIGURATION!$B$1,\"bscr\",\"\",CONFIGURATION!$B$12,$Q$13,C49,$R$13,E49,$S$13,G49,$T$13,I49,$U$13,J49,$V$13,L49,$W$13,N49),\"emptyTuple\")","v":"emptyTuple"}]
[null,36,null,null,null,null,null,null,null,null,null,0,null,0,null,null,null,null,null,null,null,null,null,{"$f":"IF(OR(C50<>\"\",E50<>\"\",G50<>\"\",I50<>\"\",J50<>\"\"),XBRLMapTuple($Q$12,Q$3,Q$4,\"BMA\",CONFIGURATION!$B$1,\"bscr\",\"\",CONFIGURATION!$B$12,$Q$13,C50,$R$13,E50,$S$13,G50,$T$13,I50,$U$13,J50,$V$13,L50,$W$13,N50),\"emptyTuple\")","v":"emptyTuple"}]
[null,37,null,null,null,null,null,null,null,null,null,0,null,0,null,null,null,null,null,null,null,null,null,{"$f":"IF(OR(C51<>\"\",E51<>\"\",G51<>\"\",I51<>\"\",J51<>\"\"),XBRLMapTuple($Q$12,Q$3,Q$4,\"BMA\",CONFIGURATION!$B$1,\"bscr\",\"\",CONFIGURATION!$B$12,$Q$13,C51,$R$13,E51,$S$13,G51,$T$13,I51,$U$13,J51,$V$13,L51,$W$13,N51),\"emptyTuple\")","v":"emptyTuple"}]
[null,38,null,null,null,null,null,null,null,null,null,0,null,0,null,null,null,null,null,null,null,null,null,{"$f":"IF(OR(C52<>\"\",E52<>\"\",G52<>\"\",I52<>\"\",J52<>\"\"),XBRLMapTuple($Q$12,Q$3,Q$4,\"BMA\",CONFIGURATION!$B$1,\"bscr\",\"\",CONFIGURATION!$B$12,$Q$13,C52,$R$13,E52,$S$13,G52,$T$13,I52,$U$13,J52,$V$13,L52,$W$13,N52),\"emptyTuple\")","v":"emptyTuple"}]
[null,39,null,null,null,null,null,null,null,null,null,0,null,0,null,null,null,null,null,null,null,null,null,{"$f":"IF(OR(C53<>\"\",E53<>\"\",G53<>\"\",I53<>\"\",J53<>\"\"),XBRLMapTuple($Q$12,Q$3,Q$4,\"BMA\",CONFIGURATION!$B$1,\"bscr\",\"\",CONFIGURATION!$B$12,$Q$13,C53,$R$13,E53,$S$13,G53,$T$13,I53,$U$13,J53,$V$13,L53,$W$13,N53),\"emptyTuple\")","v":"emptyTuple"}]
[null,40,null,null,null,null,null,null,null,null,null,0,null,0,null,null,null,null,null,null,null,null,null,{"$f":"IF(OR(C54<>\"\",E54<>\"\",G54<>\"\",I54<>\"\",J54<>\"\"),XBRLMapTuple($Q$12,Q$3,Q$4,\"BMA\",CONFIGURATION!$B$1,\"bscr\",\"\",CONFIGURATION!$B$12,$Q$13,C54,$R$13,E54,$S$13,G54,$T$13,I54,$U$13,J54,$V$13,L54,$W$13,N54),\"emptyTuple\")","v":"emptyTuple"}]
[null,null,"Total Exposure By Reinsurer",null,null,null,{"$f":"SUM(G15:G54)","v":0},null,{"$f":"SUM(I15:I54)","v":0},{"$f":"SUM(J15:J54)","v":0},null,{"$f":"SUM(L15:L54)","v":0},null,{"$f":"SUM(N15:N54)","v":0},null,null,null,null,{"$f":"XBRLMap(G55,S13,$Q$3,$Q$4,CONFIGURATION!$B$10,\"BMA\",CONFIGURATION!$B$1,\"bscr\",CONFIGURATION!$B$12)","v":"Mapped"},{"$f":"XBRLMap(I55,T13,$Q$3,$Q$4,CONFIGURATION!$B$10,\"BMA\",CONFIGURATION!$B$1,\"bscr\",CONFIGURATION!$B$12)","v":"Mapped"},{"$f":"XBRLMap(J55,U13,$Q$3,$Q$4,CONFIGURATION!$B$10,\"BMA\",CONFIGURATION!$B$1,\"bscr\",CONFIGURATION!$B$12)","v":"Mapped"},{"$f":"XBRLMap(L55,V13,$Q$3,$Q$4,CONFIGURATION!$B$10,\"BMA\",CONFIGURATION!$B$1,\"bscr\",CONFIGURATION!$B$12)","v":"Mapped"},{"$f":"XBRLMap(N55,W13,$Q$3,$Q$4,CONFIGURATION!$B$10,\"BMA\",CONFIGURATION!$B$1,\"bscr\",CONFIGURATION!$B$12)","v":"Mapped"}]
[null,null,null,null,null,null,{"$f":"IF(G57<>0,\"FALSE\",\"TRUE\")","v":"TRUE"},{"$f":"IF(G56=\"FALSE\",\"ERR: Ourwards reinsurance cover differs from Form 1SFS Supplemental Info\",)","v":0}]
[null,null,null,null,null,null,{"$f":"ROUND(G55-('Form 1SFS GB'!I219+'Form 1SFS LT'!I219),0)","v":0}]
[null,null,null,"Exposure by BSCR Rating"]
[null,null,null,"Select"]
[null,null,null,"BSCR Rating 0 (Domestic Affiliates)",null,null,{"$f":"SUMIF($E$15:$E$54,$D60,G$15:G$54)","v":0},null,{"$f":"SUMIF($E$15:$E$54,$D60,I$15:I$54)","v":0},{"$f":"SUMIF($E$15:$E$54,$D60,J$15:J$54)","v":0},null,{"$f":"SUMIF($E$15:$E$54,$D60,L$15:L$54)","v":0},null,{"$f":"SUMIF($E$15:$E$54,$D60,N$15:N$54)","v":0},null,"brrt_RiskGradeAxis_brrt_BSCRRating0Member",null,null,{"$f":"XBRLMap(G60,$S$13&\".\"&P60,$Q$3,$Q$4,CONFIGURATION!$B$10,\"BMA\",CONFIGURATION!$B$1,\"bscr\",CONFIGURATION!$B$12)","v":"Mapped"},{"$f":"XBRLMap(I60,$T$13&\".\"&P60,$Q$3,$Q$4,CONFIGURATION!$B$10,\"BMA\",CONFIGURATION!$B$1,\"bscr\",CONFIGURATION!$B$12)","v":"Mapped"},{"$f":"XBRLMap(J60,$U$13&\".\"&P60,$Q$3,$Q$4,CONFIGURATION!$B$10,\"BMA\",CONFIGURATION!$B$1,\"bscr\",CONFIGURATION!$B$12)","v":"Mapped"},{"$f":"XBRLMap(L60,$V$13&\".\"&P60,$Q$3,$Q$4,CONFIGURATION!$B$10,\"BMA\",CONFIGURATION!$B$1,\"bscr\",CONFIGURATION!$B$12)","v":"Mapped"},{"$f":"XBRLMap(N60,$W$13&\".\"&P60,$Q$3,$Q$4,CONFIGURATION!$B$10,\"BMA\",CONFIGURATION!$B$1,\"bscr\",CONFIGURATION!$B$12)","v":"Mapped"}]
[null,null,null,"BSCR Rating 1",null,null,{"$f":"SUMIF($E$15:$E$54,$D61,G$15:G$54)","v":0},null,{"$f":"SUMIF($E$15:$E$54,$D61,I$15:I$54)","v":0},{"$f":"SUMIF($E$15:$E$54,$D61,J$15:J$54)","v":0},null,{"$f":"SUMIF($E$15:$E$54,$D61,L$15:L$54)","v":0},null,{"$f":"SUMIF($E$15:$E$54,$D61,N$15:N$54)","v":0},null,"brrt_RiskGradeAxis_brrt_BSCRRating1Member",null,null,{"$f":"XBRLMap(G61,$S$13&\".\"&P61,$Q$3,$Q$4,CONFIGURATION!$B$10,\"BMA\",CONFIGURATION!$B$1,\"bscr\",CONFIGURATION!$B$12)","v":"Mapped"},{"$f":"XBRLMap(I61,$T$13&\".\"&P61,$Q$3,$Q$4,CONFIGURATION!$B$10,\"BMA\",CONFIGURATION!$B$1,\"bscr\",CONFIGURATION!$B$12)","v":"Mapped"},{"$f":"XBRLMap(J61,$U$13&\".\"&P61,$Q$3,$Q$4,CONFIGURATION!$B$10,\"BMA\",CONFIGURATION!$B$1,\"bscr\",CONFIGURATION!$B$12)","v":"Mapped"},{"$f":"XBRLMap(L61,$V$13&\".\"&P61,$Q$3,$Q$4,CONFIGURATION!$B$10,\"BMA\",CONFIGURATION!$B$1,\"bscr\",CONFIGURATION!$B$12)","v":"Mapped"},{"$f":"XBRLMap(N61,$W$13&\".\"&P61,$Q$3,$Q$4,CONFIGURATION!$B$10,\"BMA\",CONFIGURATION!$B$1,\"bscr\",CONFIGURATION!$B$12)","v":"Mapped"}]
[null,null,null,"BSCR Rating 2",null,null,0,null,0,0,null,0,null,0,null,"brrt_RiskGradeAxis_brrt_BSCRRating2Member",null,null,{"$f":"XBRLMap(G62,$S$13&\".\"&P62,$Q$3,$Q$4,CONFIGURATION!$B$10,\"BMA\",CONFIGURATION!$B$1,\"bscr\",CONFIGURATION!$B$12)","v":"Mapped"},{"$f":"XBRLMap(I62,$T$13&\".\"&P62,$Q$3,$Q$4,CONFIGURATION!$B$10,\"BMA\",CONFIGURATION!$B$1,\"bscr\",CONFIGURATION!$B$12)","v":"Mapped"},{"$f":"XBRLMap(J62,$U$13&\".\"&P62,$Q$3,$Q$4,CONFIGURATION!$B$10,\"BMA\",CONFIGURATION!$B$1,\"bscr\",CONFIGURATION!$B$12)","v":"Mapped"},{"$f":"XBRLMap(L62,$V$13&\".\"&P62,$Q$3,$Q$4,CONFIGURATION!$B$10,\"BMA\",CONFIGURATION!$B$1,\"bscr\",CONFIGURATION!$B$12)","v":"Mapped"},{"$f":"XBRLMap(N62,$W$13&\".\"&P62,$Q$3,$Q$4,CONFIGURATION!$B$10,\"BMA\",CONFIGURATION!$B$1,\"bscr\",CONFIGURATION!$B$12)","v":"Mapped"}]
[null,null,null,"BSCR Rating 3",null,null,0,null,0,0,null,0,null,0,null,"brrt_RiskGradeAxis_brrt_BSCRRating3Member",null,null,{"$f":"XBRLMap(G63,$S$13&\".\"&P63,$Q$3,$Q$4,CONFIGURATION!$B$10,\"BMA\",CONFIGURATION!$B$1,\"bscr\",CONFIGURATION!$B$12)","v":"Mapped"},{"$f":"XBRLMap(I63,$T$13&\".\"&P63,$Q$3,$Q$4,CONFIGURATION!$B$10,\"BMA\",CONFIGURATION!$B$1,\"bscr\",CONFIGURATION!$B$12)","v":"Mapped"},{"$f":"XBRLMap(J63,$U$13&\".\"&P63,$Q$3,$Q$4,CONFIGURATION!$B$10,\"BMA\",CONFIGURATION!$B$1,\"bscr\",CONFIGURATION!$B$12)","v":"Mapped"},{"$f":"XBRLMap(L63,$V$13&\".\"&P63,$Q$3,$Q$4,CONFIGURATION!$B$10,\"BMA\",CONFIGURATION!$B$1,\"bscr\",CONFIGURATION!$B$12)","v":"Mapped"},{"$f":"XBRLMap(N63,$W$13&\".\"&P63,$Q$3,$Q$4,CONFIGURATION!$B$10,\"BMA\",CONFIGURATION!$B$1,\"bscr\",CONFIGURATION!$B$12)","v":"Mapped"}]
[null,null,null,"BSCR Rating 4",null,null,0,null,0,0,null,0,null,0,null,"brrt_RiskGradeAxis_brrt_BSCRRating4Member",null,null,{"$f":"XBRLMap(G64,$S$13&\".\"&P64,$Q$3,$Q$4,CONFIGURATION!$B$10,\"BMA\",CONFIGURATION!$B$1,\"bscr\",CONFIGURATION!$B$12)","v":"Mapped"},{"$f":"XBRLMap(I64,$T$13&\".\"&P64,$Q$3,$Q$4,CONFIGURATION!$B$10,\"BMA\",CONFIGURATION!$B$1,\"bscr\",CONFIGURATION!$B$12)","v":"Mapped"},{"$f":"XBRLMap(J64,$U$13&\".\"&P64,$Q$3,$Q$4,CONFIGURATION!$B$10,\"BMA\",CONFIGURATION!$B$1,\"bscr\",CONFIGURATION!$B$12)","v":"Mapped"},{"$f":"XBRLMap(L64,$V$13&\".\"&P64,$Q$3,$Q$4,CONFIGURATION!$B$10,\"BMA\",CONFIGURATION!$B$1,\"bscr\",CONFIGURATION!$B$12)","v":"Mapped"},{"$f":"XBRLMap(N64,$W$13&\".\"&P64,$Q$3,$Q$4,CONFIGURATION!$B$10,\"BMA\",CONFIGURATION!$B$1,\"bscr\",CONFIGURATION!$B$12)","v":"Mapped"}]
[null,null,null,"BSCR Rating 5",null,null,0,null,0,0,null,0,null,0,null,"brrt_RiskGradeAxis_brrt_BSCRRating5Member",null,null,{"$f":"XBRLMap(G65,$S$13&\".\"&P65,$Q$3,$Q$4,CONFIGURATION!$B$10,\"BMA\",CONFIGURATION!$B$1,\"bscr\",CONFIGURATION!$B$12)","v":"Mapped"},{"$f":"XBRLMap(I65,$T$13&\".\"&P65,$Q$3,$Q$4,CONFIGURATION!$B$10,\"BMA\",CONFIGURATION!$B$1,\"bscr\",CONFIGURATION!$B$12)","v":"Mapped"},{"$f":"XBRLMap(J65,$U$13&\".\"&P65,$Q$3,$Q$4,CONFIGURATION!$B$10,\"BMA\",CONFIGURATION!$B$1,\"bscr\",CONFIGURATION!$B$12)","v":"Mapped"},{"$f":"XBRLMap(L65,$V$13&\".\"&P65,$Q$3,$Q$4,CONFIGURATION!$B$10,\"BMA\",CONFIGURATION!$B$1,\"bscr\",CONFIGURATION!$B$12)","v":"Mapped"},{"$f":"XBRLMap(N65,$W$13&\".\"&P65,$Q$3,$Q$4,CONFIGURATION!$B$10,\"BMA\",CONFIGURATION!$B$1,\"bscr\",CONFIGURATION!$B$12)","v":"Mapped"}]
[null,null,null,"BSCR Rating 6",null,null,0,null,0,0,null,0,null,0,null,"brrt_RiskGradeAxis_brrt_BSCRRating6Member",null,null,{"$f":"XBRLMap(G66,$S$13&\".\"&P66,$Q$3,$Q$4,CONFIGURATION!$B$10,\"BMA\",CONFIGURATION!$B$1,\"bscr\",CONFIGURATION!$B$12)","v":"Mapped"},{"$f":"XBRLMap(I66,$T$13&\".\"&P66,$Q$3,$Q$4,CONFIGURATION!$B$10,\"BMA\",CONFIGURATION!$B$1,\"bscr\",CONFIGURATION!$B$12)","v":"Mapped"},{"$f":"XBRLMap(J66,$U$13&\".\"&P66,$Q$3,$Q$4,CONFIGURATION!$B$10,\"BMA\",CONFIGURATION!$B$1,\"bscr\",CONFIGURATION!$B$12)","v":"Mapped"},{"$f":"XBRLMap(L66,$V$13&\".\"&P66,$Q$3,$Q$4,CONFIGURATION!$B$10,\"BMA\",CONFIGURATION!$B$1,\"bscr\",CONFIGURATION!$B$12)","v":"Mapped"},{"$f":"XBRLMap(N66,$W$13&\".\"&P66,$Q$3,$Q$4,CONFIGURATION!$B$10,\"BMA\",CONFIGURATION!$B$1,\"bscr\",CONFIGURATION!$B$12)","v":"Mapped"}]
[null,null,null,"BSCR Rating 7",null,null,0,null,0,0,null,0,null,0,null,"brrt_RiskGradeAxis_brrt_BSCRRating7Member",null,null,{"$f":"XBRLMap(G67,$S$13&\".\"&P67,$Q$3,$Q$4,CONFIGURATION!$B$10,\"BMA\",CONFIGURATION!$B$1,\"bscr\",CONFIGURATION!$B$12)","v":"Mapped"},{"$f":"XBRLMap(I67,$T$13&\".\"&P67,$Q$3,$Q$4,CONFIGURATION!$B$10,\"BMA\",CONFIGURATION!$B$1,\"bscr\",CONFIGURATION!$B$12)","v":"Mapped"},{"$f":"XBRLMap(J67,$U$13&\".\"&P67,$Q$3,$Q$4,CONFIGURATION!$B$10,\"BMA\",CONFIGURATION!$B$1,\"bscr\",CONFIGURATION!$B$12)","v":"Mapped"},{"$f":"XBRLMap(L67,$V$13&\".\"&P67,$Q$3,$Q$4,CONFIGURATION!$B$10,\"BMA\",CONFIGURATION!$B$1,\"bscr\",CONFIGURATION!$B$12)","v":"Mapped"},{"$f":"XBRLMap(N67,$W$13&\".\"&P67,$Q$3,$Q$4,CONFIGURATION!$B$10,\"BMA\",CONFIGURATION!$B$1,\"bscr\",CONFIGURATION!$B$12)","v":"Mapped"}]
[null,null,null,"BSCR Rating 8",null,null,0,null,0,0,null,{"$f":"SUMIF($E$15:$E$54,$D68,L$15:L$54)","v":0},null,0,null,"brrt_RiskGradeAxis_brrt_BSCRRating8Member",null,null,{"$f":"XBRLMap(G68,$S$13&\".\"&P68,$Q$3,$Q$4,CONFIGURATION!$B$10,\"BMA\",CONFIGURATION!$B$1,\"bscr\",CONFIGURATION!$B$12)","v":"Mapped"},{"$f":"XBRLMap(I68,$T$13&\".\"&P68,$Q$3,$Q$4,CONFIGURATION!$B$10,\"BMA\",CONFIGURATION!$B$1,\"bscr\",CONFIGURATION!$B$12)","v":"Mapped"},{"$f":"XBRLMap(J68,$U$13&\".\"&P68,$Q$3,$Q$4,CONFIGURATION!$B$10,\"BMA\",CONFIGURATION!$B$1,\"bscr\",CONFIGURATION!$B$12)","v":"Mapped"},{"$f":"XBRLMap(L68,$V$13&\".\"&P68,$Q$3,$Q$4,CONFIGURATION!$B$10,\"BMA\",CONFIGURATION!$B$1,\"bscr\",CONFIGURATION!$B$12)","v":"Mapped"},{"$f":"XBRLMap(N68,$W$13&\".\"&P68,$Q$3,$Q$4,CONFIGURATION!$B$10,\"BMA\",CONFIGURATION!$B$1,\"bscr\",CONFIGURATION!$B$12)","v":"Mapped"}]
[null,null,null,"Total Exposure By BSCR Rating",null,null,{"$f":"SUM(G60:G68)","v":0},null,{"$f":"SUM(I60:I68)","v":0},{"$f":"SUM(J60:J68)","v":0},null,{"$f":"SUM(L60:L68)","v":0},null,{"$f":"SUM(N60:N68)","v":0},null,"brrt_RiskGradeAxis_brrt_TotalMember",null,null,{"$f":"XBRLMap(G69,$S$13&\".\"&P69,$Q$3,$Q$4,CONFIGURATION!$B$10,\"BMA\",CONFIGURATION!$B$1,\"bscr\",CONFIGURATION!$B$12)","v":"Mapped"},{"$f":"XBRLMap(I69,$T$13&\".\"&P69,$Q$3,$Q$4,CONFIGURATION!$B$10,\"BMA\",CONFIGURATION!$B$1,\"bscr\",CONFIGURATION!$B$12)","v":"Mapped"},{"$f":"XBRLMap(J69,$U$13&\".\"&P69,$Q$3,$Q$4,CONFIGURATION!$B$10,\"BMA\",CONFIGURATION!$B$1,\"bscr\",CONFIGURATION!$B$12)","v":"Mapped"},{"$f":"XBRLMap(L69,$V$13&\".\"&P69,$Q$3,$Q$4,CONFIGURATION!$B$10,\"BMA\",CONFIGURATION!$B$1,\"bscr\",CONFIGURATION!$B$12)","v":"Mapped"},{"$f":"XBRLMap(N69,$W$13&\".\"&P69,$Q$3,$Q$4,CONFIGURATION!$B$10,\"BMA\",CONFIGURATION!$B$1,\"bscr\",CONFIGURATION!$B$12)","v":"Mapped"}]
[null,null,null,null,null,null,null,null,null,null,null,null,null,null,null,null,null,null,"brrt_SingleConsolidatedExposureReinsuranceRecoverable","brrt_SingleConsolidatedExposureReinsurancePayable","brrt_SingleConsolidatedExposureReinsuranceCollateral","brrt_SingleConsolidatedExposureReinsuranceQualifyingCollateral","brrt_SingleConsolidatedExposureReinsuranceNetQualifyingExposure"]
[null,null,null,"Single Consolidated Exposure",null,null,{"$f":"'Form 1SFS GB'!E77+'Form 1SFS LT'!E77+'Form 1SFS GB'!E79+'Form 1SFS LT'!E79+'Form 1SFS GB'!E123+'Form 1SFS LT'!E153-#REF!-G55-G69","v":{"$error":"#REF!"}},null,null,null,null,{"$f":"IF(J71=0,0,MAX(0,MIN(J71,(G71-I71)/0.98)))","v":0},null,{"$f":"MAX(0,(G71-I71-L71*98%))","v":{"$error":"#REF!"}},null,null,null,null,{"$f":"XBRLMap(G71,S70,$Q$3,$Q$4,CONFIGURATION!$B$10,\"BMA\",CONFIGURATION!$B$1,\"bscr\",CONFIGURATION!$B$12)","v":{"$error":"#VALUE!"}},{"$f":"XBRLMap(I71,T70,$Q$3,$Q$4,CONFIGURATION!$B$10,\"BMA\",CONFIGURATION!$B$1,\"bscr\",CONFIGURATION!$B$12)","v":"Mapped"},{"$f":"XBRLMap(J71,U70,$Q$3,$Q$4,CONFIGURATION!$B$10,\"BMA\",CONFIGURATION!$B$1,\"bscr\",CONFIGURATION!$B$12)","v":"Mapped"},{"$f":"XBRLMap(L71,V70,$Q$3,$Q$4,CONFIGURATION!$B$10,\"BMA\",CONFIGURATION!$B$1,\"bscr\",CONFIGURATION!$B$12)","v":"Mapped"},{"$f":"XBRLMap(N71,W70,$Q$3,$Q$4,CONFIGURATION!$B$10,\"BMA\",CONFIGURATION!$B$1,\"bscr\",CONFIGURATION!$B$12)","v":{"$error":"#VALUE!"}}]
[]
[null,null,null,"Total Balance Sheet Adjusted for Schedule IIA, Line 28, Column (1)"]
[null,null,null,null,null,null,{"$f":"'Form 1SFS GB'!E77+'Form 1SFS LT'!E77+'Form 1SFS GB'!E79+'Form 1SFS LT'!E79+'Form 1SFS GB'!E123+'Form 1SFS LT'!E153-#REF!","v":{"$error":"#REF!"}},null,null,null,null,null,null,null,null,"brrt_AdjustedBalanceSheetReinsuranceAssets",null,null,{"$f":"XBRLMap(G74,P74,$Q$3,$Q$4,CONFIGURATION!$B$10,\"BMA\",CONFIGURATION!$B$1,\"bscr\",CONFIGURATION!$B$12)","v":{"$error":"#VALUE!"}}]
[null,null,null,"Totals",null,null,null,null,{"$f":"I69+J69","v":0},null,null,{"$f":"L69","v":0},null,{"$f":"N69","v":0},null,"brrt_ExposureCollateral",null,null,{"$f":"XBRLMap(I75,P75,$Q$3,$Q$4,CONFIGURATION!$B$10,\"BMA\",CONFIGURATION!$B$1,\"bscr\",CONFIGURATION!$B$12)","v":"Mapped"}]
[]
[null,null,null,"Diversification Adjustment Calculation On a Net Qualifying Exposure Basis"]
[]
[null,null,null,"Maximum Net Qualifying Exposure Balance On a Single Reinsurer Basis",null,null,null,null,null,null,null,null,null,{"$f":"MAX(N15:N54)","v":0}]
[null,null,null,"Total Net Qualifying Exposure",null,null,null,null,null,null,null,null,null,{"$f":"N75","v":0}]
[null,null,null,"Percentage",null,null,null,null,null,null,null,null,null,{"$f":"IF(N80=0,0,N79/N80)","v":0}]
[null,null,null,"Diversification Adjustment up to 40%",null,null,null,null,null,null,null,null,null,{"$f":"IF(N79=0,0,(1-N81)*40%)","v":0}]
[]
[]
[null,null,"SECTION B: ENTER OUTWARD REINSURANCE NOT SECURING AGGREGATE LIMIT(S) GROUPED ACCORDING TO BSCR RATINGS INSURED e.g. reinsurance purchased to manage the collateralised insurers' exposure to high-risk areas, peak perils etc. without applying the protection purchased towards the collateralised insurers' collateral requirements. "]
[]
[null,null,"Enter Number of Entities",null,{"$f":"Import!I2484","v":0}]
[null,null,"Exposure by Reinsurer",null,null,null,"(A)",null,"(B)","(C)"]
[null,null,null,null,null,null,null,null,"Collateral Held by Reinsurers for the benefit of the Company"]
[null,null,"Name of Reinsurer",null,"BSCR Rating",null,"Amount of Outward Reinsurance Cover",null,"Cash and Cash Equivalents","Other Collateral Assets","Additional Comments, if any "]
[null,1,{"$f":"Import!I2485","v":0},null,{"$f":"Import!I2515","v":"Select"},null,{"$f":"Import!I2545","v":0},null,{"$f":"Import!I2576","v":0},{"$f":"Import!I2607","v":0},{"$f":"Import!I2638","v":0}]
[null,{"$f":"B91+1","v":2},{"$f":"Import!I2486","v":0},null,{"$f":"Import!I2516","v":"Select"},null,{"$f":"Import!I2546","v":0},null,{"$f":"Import!I2577","v":0},{"$f":"Import!I2608","v":0},{"$f":"Import!I2639","v":0}]
[null,{"$f":"B92+1","v":3},{"$f":"Import!I2487","v":0},null,{"$f":"Import!I2517","v":"Select"},null,{"$f":"Import!I2547","v":0},null,{"$f":"Import!I2578","v":0},{"$f":"Import!I2609","v":0},{"$f":"Import!I2640","v":0}]
[null,4,{"$f":"Import!I2488","v":0},null,{"$f":"Import!I2518","v":"Select"},null,{"$f":"Import!I2548","v":0},null,{"$f":"Import!I2579","v":0},{"$f":"Import!I2610","v":0},{"$f":"Import!I2641","v":0}]
[null,5,{"$f":"Import!I2489","v":0},null,{"$f":"Import!I2519","v":"Select"},null,{"$f":"Import!I2549","v":0},null,{"$f":"Import!I2580","v":0},{"$f":"Import!I2611","v":0},{"$f":"Import!I2642","v":0}]
[null,6,{"$f":"Import!I2490","v":0},null,{"$f":"Import!I2520","v":"Select"},null,{"$f":"Import!I2550","v":0},null,{"$f":"Import!I2581","v":0},{"$f":"Import!I2612","v":0},{"$f":"Import!I2643","v":0}]
[null,7,{"$f":"Import!I2491","v":0},null,{"$f":"Import!I2521","v":"Select"},null,{"$f":"Import!I2551","v":0},null,{"$f":"Import!I2582","v":0},{"$f":"Import!I2613","v":0},{"$f":"Import!I2644","v":0}]
[null,8,{"$f":"Import!I2492","v":0},null,{"$f":"Import!I2522","v":"Select"},null,{"$f":"Import!I2552","v":0},null,{"$f":"Import!I2583","v":0},{"$f":"Import!I2614","v":0},{"$f":"Import!I2645","v":0}]
[null,9,{"$f":"Import!I2493","v":0},null,{"$f":"Import!I2523","v":"Select"},null,{"$f":"Import!I2553","v":0},null,{"$f":"Import!I2584","v":0},{"$f":"Import!I2615","v":0},{"$f":"Import!I2646","v":0}]
[null,10,{"$f":"Import!I2494","v":0},null,{"$f":"Import!I2524","v":"Select"},null,{"$f":"Import!I2554","v":0},null,{"$f":"Import!I2585","v":0},{"$f":"Import!I2616","v":0},{"$f":"Import!I2647","v":0}]
[null,11,{"$f":"Import!I2495","v":0},null,{"$f":"Import!I2525","v":"Select"},null,{"$f":"Import!I2555","v":0},null,{"$f":"Import!I2586","v":0},{"$f":"Import!I2617","v":0},{"$f":"Import!I2648","v":0}]
[null,12,{"$f":"Import!I2496","v":0},null,{"$f":"Import!I2526","v":"Select"},null,{"$f":"Import!I2556","v":0},null,{"$f":"Import!I2587","v":0},{"$f":"Import!I2618","v":0},{"$f":"Import!I2649","v":0}]
[null,13,{"$f":"Import!I2497","v":0},null,{"$f":"Import!I2527","v":"Select"},null,{"$f":"Import!I2557","v":0},null,{"$f":"Import!I2588","v":0},{"$f":"Import!I2619","v":0},{"$f":"Import!I2650","v":0}]
[null,14,{"$f":"Import!I2498","v":0},null,{"$f":"Import!I2528","v":"Select"},null,{"$f":"Import!I2558","v":0},null,{"$f":"Import!I2589","v":0},{"$f":"Import!I2620","v":0},{"$f":"Import!I2651","v":0}]
[null,15,{"$f":"Import!I2499","v":0},null,{"$f":"Import!I2529","v":"Select"},null,{"$f":"Import!I2559","v":0},null,{"$f":"Import!I2590","v":0},{"$f":"Import!I2621","v":0},{"$f":"Import!I2652","v":0}]
[null,16,{"$f":"Import!I2500","v":0},null,{"$f":"Import!I2530","v":"Select"},null,{"$f":"Import!I2560","v":0},null,{"$f":"Import!I2591","v":0},{"$f":"Import!I2622","v":0},{"$f":"Import!I2653","v":0}]
[null,17,{"$f":"Import!I2501","v":0},null,{"$f":"Import!I2531","v":"Select"},null,{"$f":"Import!I2561","v":0},null,{"$f":"Import!I2592","v":0},{"$f":"Import!I2623","v":0},{"$f":"Import!I2654","v":0}]
[null,18,{"$f":"Import!I2502","v":0},null,{"$f":"Import!I2532","v":"Select"},null,{"$f":"Import!I2562","v":0},null,{"$f":"Import!I2593","v":0},{"$f":"Import!I2624","v":0},{"$f":"Import!I2655","v":0}]
[null,19,{"$f":"Import!I2503","v":0},null,{"$f":"Import!I2533","v":"Select"},null,{"$f":"Import!I2563","v":0},null,{"$f":"Import!I2594","v":0},{"$f":"Import!I2625","v":0},{"$f":"Import!I2656","v":0}]
[null,20,{"$f":"Import!I2504","v":0},null,{"$f":"Import!I2534","v":"Select"},null,{"$f":"Import!I2564","v":0},null,{"$f":"Import!I2595","v":0},{"$f":"Import!I2626","v":0},{"$f":"Import!I2657","v":0}]
[null,21,{"$f":"Import!I2505","v":0},null,{"$f":"Import!I2535","v":"Select"},null,{"$f":"Import!I2565","v":0},null,{"$f":"Import!I2596","v":0},{"$f":"Import!I2627","v":0},{"$f":"Import!I2658","v":0}]
[null,22,{"$f":"Import!I2506","v":0},null,{"$f":"Import!I2536","v":"Select"},null,{"$f":"Import!I2566","v":0},null,{"$f":"Import!I2597","v":0},{"$f":"Import!I2628","v":0},{"$f":"Import!I2659","v":0}]
[null,23,{"$f":"Import!I2507","v":0},null,{"$f":"Import!I2537","v":"Select"},null,{"$f":"Import!I2567","v":0},null,{"$f":"Import!I2598","v":0},{"$f":"Import!I2629","v":0},{"$f":"Import!I2660","v":0}]
[null,24,{"$f":"Import!I2508","v":0},null,{"$f":"Import!I2538","v":"Select"},null,{"$f":"Import!I2568","v":0},null,{"$f":"Import!I2599","v":0},{"$f":"Import!I2630","v":0},{"$f":"Import!I2661","v":0}]
[null,25,{"$f":"Import!I2509","v":0},null,{"$f":"Import!I2539","v":"Select"},null,{"$f":"Import!I2569","v":0},null,{"$f":"Import!I2600","v":0},{"$f":"Import!I2631","v":0},{"$f":"Import!I2662","v":0}]
[null,26,{"$f":"Import!I2510","v":0},null,{"$f":"Import!I2540","v":"Select"},null,{"$f":"Import!I2570","v":0},null,{"$f":"Import!I2601","v":0},{"$f":"Import!I2632","v":0},{"$f":"Import!I2663","v":0}]
[null,27,{"$f":"Import!I2511","v":0},null,{"$f":"Import!I2541","v":"Select"},null,{"$f":"Import!I2571","v":0},null,{"$f":"Import!I2602","v":0},{"$f":"Import!I2633","v":0},{"$f":"Import!I2664","v":0}]
[null,28,{"$f":"Import!I2512","v":0},null,{"$f":"Import!I2542","v":"Select"},null,{"$f":"Import!I2572","v":0},null,{"$f":"Import!I2603","v":0},{"$f":"Import!I2634","v":0},{"$f":"Import!I2665","v":0}]
[null,29,{"$f":"Import!I2513","v":0},null,{"$f":"Import!I2543","v":"Select"},null,{"$f":"Import!I2573","v":0},null,{"$f":"Import!I2604","v":0},{"$f":"Import!I2635","v":0},{"$f":"Import!I2666","v":0}]
[null,30,{"$f":"Import!I2514","v":0},null,{"$f":"Import!I2544","v":"Select"},null,{"$f":"Import!I2574","v":0},null,{"$f":"Import!I2605","v":0},{"$f":"Import!I2636","v":0},{"$f":"Import!I2667","v":0}]
[null,31]
[null,32]
[null,33]
[null,34]
[null,35]
[null,36]
[null,37]
[null,38]
[null,39]
[null,40]
[null,null,"Total Exposure By Reinsurer",null,null,null,{"$f":"SUM(G91:G130)","v":0},null,{"$f":"SUM(I91:I130)","v":0},{"$f":"SUM(J91:J130)","v":0}]

{"sheet":"Operational Risk","index":26,"n_rows":116,"n_cols":11,"rows_kept":116,"cut":false,"hidden":false,"merged":[[70,0,72,0],[73,0,75,0],[76,0,78,0],[70,1,72,1],[73,1,75,1],[76,1,78,1],[70,2,72,2],[73,2,75,2],[76,2,78,2],[29,1,31,1],[32,1,34,1],[35,1,37,1],[57,1,59,1],[60,1,62,1],[54,1,56,1],[38,1,40,1],[41,1,43,1],[44,1,46,1],[47,1,49,1],[50,1,52,1],[50,2,52,2],[54,2,56,2],[4,2,4,9],[32,2,34,2],[35,2,37,2],[38,2,40,2],[41,2,43,2],[23,2,25,2],[26,2,28,2],[29,2,31,2],[7,1,7,2],[8,1,10,1],[11,1,13,1],[14,1,16,1],[17,1,19,1],[20,1,22,1],[23,1,25,1],[26,1,28,1],[57,2,59,2],[63,2,65,2],[67,2,69,2],[60,2,62,2],[53,1,53,5],[63,1,65,1],[67,1,69,1],[47,2,49,2],[8,2,10,2],[11,2,13,2],[14,2,16,2],[17,2,19,2],[20,2,22,2],[115,2,115,9],[87,2,87,4],[88,2,88,4],[89,2,89,4],[90,2,90,4],[91,2,91,4],[92,2,92,4],[109,2,109,4],[100,2,100,7],[105,3,105,4],[106,3,106,4],[94,2,94,7],[67,0,69,0],[38,0,40,0],[41,0,43,0],[44,0,46,0],[47,0,49,0],[50,0,52,0],[7,3,7,4],[54,0,56,0],[57,0,59,0],[60,0,62,0],[63,0,65,0],[23,0,25,0],[26,0,28,0],[29,0,31,0],[32,0,34,0],[35,0,37,0],[8,0,10,0],[11,0,13,0],[14,0,16,0],[17,0,19,0],[20,0,22,0],[44,2,46,2]]}
[null,null,"OPERATIONAL RISK",null,null,null,null,null,null,{"$f":"HYPERLINK(\"#'Index'!A1\",\"Return to Index\")","v":"Return to Index"}]
[null,null,{"$f":"'Company Information'!C7","v":"Enter Company Name"}]
[null,null,{"$f":"'Company Information'!C3","v":"2019-12-31"}]
[]
[null,null,"The insurer is to review the following statements. Each statement has three possible responses. Insurer shall select the most appropriate response to each statement. The worksheet will automatically aggregate all scores."]
[]
[null,null,null,null,null,null,300,200,100]
[null,"Transaction and Structure ",null,"Select one choice, either \"A\",\"B\" or \"C\". If more than one choice per statement is checked \"Yes\", the total score is based on the lowest sub-score.  ",null,"Select \"Yes\"","Factor","Factor Charge","Score","Score"]
[null,1,"Nature and structure of the product written by the Collateralized Insurer","A)","i. Cat bond,\nii. Industry loss warranty, \niii. Mortgage, and/or\niv. Property excess of loss reinsurance","Select Yes/No",5,{"$f":"G9*$G$7","v":1500},{"$f":"IF(F9=\"Yes\",H9,0)","v":0}]
[null,null,null,"B)","i. Quota-share (property), and/or\nii. Mixture of 1. A(i)-(iv) above and 1. C(i)-(ii) below","Select Yes/No",5,{"$f":"G10*$H$7","v":1000},0]
[null,null,null,"C)","i. Capped casualty, and/or\nii. Complex transactions e.g. swaps compliant with Section 19 of the Insurance Act of 1978","Select Yes/No",5,{"$f":"G11*$I$7","v":500},0,{"$f":"IF(F11=\"Yes\",I11,IF(F10=\"Yes\",I10,IF(F9=\"Yes\",I9,0)))","v":0}]
[null,2,"Nature of the product written by the Collateralized Insurer is","A)","Prospective i.e. coverage for future loss events",{"$f":"Import!I2672","v":"Select Yes/No"},5,{"$f":"G12*$G$7","v":1500},0]
[null,null,null,"B)","Both: Prospective and Retroactive (legacy) capped deals",{"$f":"Import!I2673","v":"Select Yes/No"},5,{"$f":"G13*$H$7","v":1000},0]
[null,null,null,"C)","Primarily retroactive (legacy) capped deals",{"$f":"Import!I2674","v":"Select Yes/No"},5,{"$f":"G14*$I$7","v":500},0,{"$f":"IF(F14=\"Yes\",I14,IF(F13=\"Yes\",I13,IF(F12=\"Yes\",I12,0)))","v":0}]
[null,3,"Insurance contracts' aggregate limits are","A)","Fixed amounts, expressly stated in the respective contracts",{"$f":"Import!I2675","v":"Select Yes/No"},3,{"$f":"G15*$G$7","v":900},0]
[null,null,null,"B)","A mixture of 3. A above and 3. C",{"$f":"Import!I2676","v":"Select Yes/No"},3,{"$f":"G16*$H$7","v":600},0]
[null,null,null,"C)","Aggregate limit is an amount calculated at any point in time by reference to a specific formula, adjustment(s), model or otherwise",{"$f":"Import!I2677","v":"Select Yes/No"},3,{"$f":"G17*$I$7","v":300},0,{"$f":"IF(F17=\"Yes\",I17,IF(F16=\"Yes\",I16,IF(F15=\"Yes\",I15,0)))","v":0}]
[null,4,"The Collateralized Insurer operates as a","A)","Reinsurer",{"$f":"Import!I2678","v":"Select Yes/No"},3,{"$f":"G18*$G$7","v":900},0]
[null,null,null,"B)","Both a primary insurer and a reinsurer",{"$f":"Import!I2679","v":"Select Yes/No"},3,{"$f":"G19*$H$7","v":600},0]
[null,null,null,"C)","Primary insurer",{"$f":"Import!I2680","v":"Select Yes/No"},3,{"$f":"G20*$I$7","v":300},0,{"$f":"IF(F20=\"Yes\",I20,IF(F19=\"Yes\",I19,IF(F18=\"Yes\",I18,0)))","v":0}]
[null,5,"If Collateralized Insurer writes reinsurance business (as opposed to primary), cedants are affiliated and/or rated A- or better by AM Best or similar rating agencies. ","A)","Yes – Cedants are (i) affiliated and/or (ii) rated A- or better ",{"$f":"Import!I2681","v":"Select Yes/No"},1,{"$f":"G21*$G$7","v":300},0]
[null,null,null,"B)","Cedants are mixed: (i) rated and unrated and/or (ii) affiliated and non-affiliated",{"$f":"Import!I2682","v":"Select Yes/No"},1,{"$f":"G22*$H$7","v":200},0]
[null,null,null,"C)","No – Cedants are NOT (i) affiliated and/or (ii) rated A- or better",{"$f":"Import!I2683","v":"Select Yes/No"},1,{"$f":"G23*$I$7","v":100},0,{"$f":"IF(F23=\"Yes\",I23,IF(F22=\"Yes\",I22,IF(F21=\"Yes\",I21,0)))","v":0}]
[null,6,"Weighted average number of years claims take to develop fully is","A)","Less than or equal to 3 years",{"$f":"Import!I2684","v":"Select Yes/No"},1,{"$f":"G24*$G$7","v":300},0]
[null,null,null,"B)","Greater than 3 but less than 7 years",{"$f":"Import!I2685","v":"Select Yes/No"},1,{"$f":"G25*$H$7","v":200},0]
[null,null,null,"C)","Greater than 7 years",{"$f":"Import!I2686","v":"Select Yes/No"},1,{"$f":"G26*$I$7","v":100},0,{"$f":"IF(F26=\"Yes\",I26,IF(F25=\"Yes\",I25,IF(F24=\"Yes\",I24,0)))","v":0}]
[null,7,"The (re)insurance contracts written by the Collateralized Insurer explicitly state that the Collateralized Insurer is not obliged to return the collateral (back to the policyholder or collateral account) once released by the policyholder. As a result, contractual provisions prohibit clawback of collateral and, effectively state that the risk of loss creep accrues to the policyholder once collateral is released. ","A)"," Yes",{"$f":"Import!I2687","v":"Select Yes/No"},5,{"$f":"G27*$G$7","v":1500},0]
[null,null,null,"B)","No – but Collateralized Insurer mitigates clawback risk through various arrangements e.g. swift commutation upon expiry",{"$f":"Import!I2688","v":"Select Yes/No"},5,{"$f":"G28*$H$7","v":1000},0]
[null,null,null,"C)","No – Collateralized Insurer offers clawback option to its policyholders (some or all).  ",{"$f":"Import!I2689","v":"Select Yes/No"},5,{"$f":"G29*$I$7","v":500},0,{"$f":"IF(F29=\"Yes\",I29,IF(F28=\"Yes\",I28,IF(F27=\"Yes\",I27,0)))","v":0}]
[null,8,"If there are no contractual provisions prohibiting clawback of collateral by the insureds against the Collateralized Insurer, confirm there are specific mechanisms and arrangements in place to satisfy the clawbacks if triggered.  Examples of specific mechanisms and arrangements include funding agreement and other hedging arrangements. ","A)","Not Applicable because the (re)insurance contracts written by the Collateralized Insurer explicitly prohibit clawback ",{"$f":"Import!I2690","v":"Select Yes/No"},3,{"$f":"G30*$G$7","v":900},0]
[null,null,null,"B)","Yes -  the Collateralized Insurer has established specific mechanisms and arrangements to satisfy the clawbacks if triggered",{"$f":"Import!I2691","v":"Select Yes/No"},3,{"$f":"G31*$H$7","v":600},0]
[null,null,null,"C)","No - the Collateralized Insurer has neither prohibited clawbacks nor established specific mechanisms and arrangements to satisfy the clawbacks if triggered",{"$f":"Import!I2692","v":"Select Yes/No"},3,{"$f":"G32*$I$7","v":300},0,{"$f":"IF(F32=\"Yes\",I32,IF(F31=\"Yes\",I31,IF(F30=\"Yes\",I30,0)))","v":0}]
[null,9,"Volume of insurance contracts written during the relevant financial year is","A)","Less than or equal to 5 transactions",{"$f":"Import!I2693","v":"Select Yes/No"},2,{"$f":"G33*$G$7","v":600},0]
[null,null,null,"B)","Greater than 5 but less than 10",{"$f":"Import!I2694","v":"Select Yes/No"},2,{"$f":"G34*$H$7","v":400},0]
[null,null,null,"C)","Greater than 10",{"$f":"Import!I2695","v":"Select Yes/No"},2,{"$f":"G35*$I$7","v":200},0,{"$f":"IF(F35=\"Yes\",I35,IF(F34=\"Yes\",I34,IF(F33=\"Yes\",I33,0)))","v":0}]
[null,10,"Reinsurance protection has been purchased for use as a form of contingent collateral","A)","No",{"$f":"Import!I2696","v":"Select Yes/No"},1,{"$f":"G36*$G$7","v":300},0]
[null,null,null,"B)","Yes – but reinsurance represents less than 10% of the paid-in collateral",{"$f":"Import!I2697","v":"Select Yes/No"},1,{"$f":"G37*$H$7","v":200},0]
[null,null,null,"C)","Yes –  reinsurance represents greater than 10% of the paid-in collateral",{"$f":"Import!I2698","v":"Select Yes/No"},1,{"$f":"G38*$I$7","v":100},0,{"$f":"IF(F38=\"Yes\",I38,IF(F37=\"Yes\",I37,IF(F36=\"Yes\",I36,0)))","v":0}]
[null,11,"The Collateralized Insurer submits audit of GAAP Financial Statements and the opinion of a loss reserve specialist (LRSO) or the certificate of an approved actuary (AAO)","A)","Yes - both audited GAAP Financial Statements and LRSO or AAO are submitted ",{"$f":"Import!I2699","v":"Select Yes/No"},1,{"$f":"G39*$G$7","v":300},0]
[null,null,null,"B)","Yes - either audited GAAP Financial Statements and LRSO or AAO are submitted ",{"$f":"Import!I2700","v":"Select Yes/No"},1,{"$f":"G40*$H$7","v":200},0]
[null,null,null,"C)","No - both the audited GAAP Financial Statements and LRSO or AAO are waived ",{"$f":"Import!I2701","v":"Select Yes/No"},1,{"$f":"G41*$I$7","v":100},0,{"$f":"IF(F41=\"Yes\",I41,IF(F40=\"Yes\",I40,IF(F39=\"Yes\",I39,0)))","v":0}]
[null,12,"Confirm whether, in the last 5 years, the Collateralized Insurer has been involved in any kind of litigation, arbitration, mediation or had a dispute resolution clause  triggered under any insurance contract entered into by the Collateralized Insurer","A)","No",{"$f":"Import!I2702","v":"Select Yes/No"},1,{"$f":"G42*$G$7","v":300},0]
[null,null,null,"B)","Yes – but none are active",{"$f":"Import!I2703","v":"Select Yes/No"},1,{"$f":"G43*$H$7","v":200},0]
[null,null,null,"C)","Yes – some are ongoing ",{"$f":"Import!I2704","v":"Select Yes/No"},1,{"$f":"G44*$I$7","v":100},0,{"$f":"IF(F44=\"Yes\",I44,IF(F43=\"Yes\",I43,IF(F42=\"Yes\",I42,0)))","v":0}]
[null,13,"Collateralized Insurer has legally binding, off-balance sheet commitment or support from the investor(s) to fund all legal defence costs (excluding gross negligence or willful misconduct) incurred by the insurer","A)"," Yes ",{"$f":"Import!I2705","v":"Select Yes/No"},1,{"$f":"G45*$G$7","v":300},0]
[null,null,null,"B)"," Yes – but not all legal defence costs ",{"$f":"Import!I2706","v":"Select Yes/No"},1,{"$f":"G46*$H$7","v":200},0]
[null,null,null,"C)"," No ",{"$f":"Import!I2707","v":"Select Yes/No"},1,{"$f":"G47*$I$7","v":100},0,{"$f":"IF(F47=\"Yes\",I47,IF(F46=\"Yes\",I46,IF(F45=\"Yes\",I45,0)))","v":0}]
[null,14,"A formalised process for legal commutation of expired agreements exists  ","A)"," Yes – all contracts are commuted within 4 years after expiry ",{"$f":"Import!I2708","v":"Select Yes/No"},3,{"$f":"G48*$G$7","v":900},0]
[null,null,null,"B)"," Yes – all contracts are commuted within 5 to 8 years after expiry",{"$f":"Import!I2709","v":"Select Yes/No"},3,{"$f":"G49*$H$7","v":600},0]
[null,null,null,"C)"," No or some/all contracts are commuted beyond 8 years of expiry",{"$f":"Import!I2710","v":"Select Yes/No"},3,{"$f":"G50*$I$7","v":300},0,{"$f":"IF(F50=\"Yes\",I50,IF(F49=\"Yes\",I49,IF(F48=\"Yes\",I48,0)))","v":0}]
[null,15,"The reinsurance agreement expressly states whether or not the Collateralized Insurer is required to top-up the collateral in the event of impairment or loss of assets backing the collateral","A)","(i) All insurance contracts written by the Collateralized Insurer explicitly state that the Collateralized Insurer is not liable to top-up the collateral in the event of impairment or loss of the underlying assets; or\n(ii) Yes - top-up is provided and the reinsurance contract(s) contains specific mechanisms demonstrating how the top- up provision will be satisfied in the event it is triggered",{"$f":"Import!I2711","v":"Select Yes/No"},2,{"$f":"G51*$G$7","v":600},0]
[null,null,null,"B)","Yes - top-up is expressly required but reinsurance contract(s) does not contains specific mechanisms demonstrating how the top- up provision will be satisfied in the event it is triggered",{"$f":"Import!I2712","v":"Select Yes/No"},2,{"$f":"G52*$H$7","v":400},0]
[null,null,null,"C)"," No- the reinsurance contract(s) is silent regarding top-up",{"$f":"Import!I2713","v":"Select Yes/No"},2,{"$f":"G53*$I$7","v":200},0,{"$f":"IF(F53=\"Yes\",I53,IF(F52=\"Yes\",I52,IF(F51=\"Yes\",I51,0)))","v":0}]
[null,"Corporate Governance "]
[null,16,"Board of directors include independent non-executive director(s) on the Board of the Collateralized Insurer or the investment fund providing capital and/or collateral","A)","Yes – at least a third of the board of directors (of the Collateralized Insurer or the relevant investment fund) are independent non-executive director(s)",{"$f":"Import!I2714","v":"Select Yes/No"},3,{"$f":"G55*$G$7","v":900},{"$f":"IF(F55=\"Yes\",H55,0)","v":0}]
[null,null,null,"B)","Yes – less than a third of the board of directors (of the Collateralized Insurer or the relevant investment fund) are independent non-executive director(s)",{"$f":"Import!I2715","v":"Select Yes/No"},3,{"$f":"G56*$H$7","v":600},{"$f":"IF(F56=\"Yes\",H56,0)","v":0}]
[null,null,null,"C)","No - there are no independent non-executive director(s) on the board of the Collateralized Insurer or the relevant investment fund",{"$f":"Import!I2716","v":"Select Yes/No"},3,{"$f":"G57*$I$7","v":300},{"$f":"IF(F57=\"Yes\",H57,0)","v":0},{"$f":"IF(F57=\"Yes\",I57,IF(F56=\"Yes\",I56,IF(F55=\"Yes\",I55,0)))","v":0}]
[null,17,"Board sets risk policies, practices and tolerance limits for all material foreseeable risks, including operational risks, at least annually and ensures they are communicated to relevant business units","A)","Yes -  policies, controls and tolerance limits for all material foreseeable risks are set and board monitors adherence, through independent reviews, more regularly than annually",{"$f":"Import!I2717","v":"Select Yes/No"},5,{"$f":"G58*$G$7","v":1500},{"$f":"IF(F58=\"Yes\",H58,0)","v":0}]
[null,null,null,"B)","Yes -  policies, controls and tolerance limits for all material foreseeable risks are set and board monitors adherence, through independent reviews, at least annually ",{"$f":"Import!I2718","v":"Select Yes/No"},2,{"$f":"G59*$H$7","v":400},0]
[null,null,null,"C)","No -  board has only set policies, controls and tolerance limits for some but not all material foreseeable risks and/or does not monitor adherence at least annually  ",{"$f":"Import!I2719","v":"Select Yes/No"},1,{"$f":"G60*$I$7","v":100},0,{"$f":"IF(F60=\"Yes\",I60,IF(F59=\"Yes\",I59,IF(F58=\"Yes\",I58,0)))","v":0}]
[null,18,"Board has set clear policies that address conflict of interests between (i) different investors, and (ii) the Collateralized Insurer’s manager and investors","A)","Yes -  board  has established policies that address conflict of interests and monitors adherence, through independent reviews, more regularly than annually",{"$f":"Import!I2720","v":"Select Yes/No"},5,{"$f":"G61*$G$7","v":1500},0]
[null,null,null,"B)","Yes -  board  has established policies that address conflict of interests and monitors adherence, through independent reviews, at least annually ",{"$f":"Import!I2721","v":"Select Yes/No"},2,{"$f":"G62*$H$7","v":400},0]
[null,null,null,"C)","No -  board  has not established policies that address conflict of interests and/or does not monitors adherence at least annually ",{"$f":"Import!I2722","v":"Select Yes/No"},1,{"$f":"G63*$I$7","v":100},0,{"$f":"IF(F63=\"Yes\",I63,IF(F62=\"Yes\",I62,IF(F61=\"Yes\",I61,0)))","v":0}]
[null,19,"Board receives, at least annually, reports on the effectiveness of material operational risk internal controls,  including effectiveness of controls around conflict of interest, as well as management’s plans to address related weaknesses","A)","Yes - more regularly than annually",{"$f":"Import!I2723","v":"Select Yes/No"},5,{"$f":"G64*$G$7","v":1500},0]
[null,null,null,"B)","Yes - annually ",{"$f":"Import!I2724","v":"Select Yes/No"},2,{"$f":"G65*$H$7","v":400},0]
[null,null,null,"C)","No - or less regularly than annually ",{"$f":"Import!I2725","v":"Select Yes/No"},1,{"$f":"G66*$I$7","v":100},0,{"$f":"IF(F66=\"Yes\",I66,IF(F65=\"Yes\",I65,IF(F64=\"Yes\",I64,0)))","v":0}]
[null,"Investment Strategy  "]
[null,20,"Portfolio composition/market risk: The sum total of Below-investment grade fixed income securities; unrated fixed income securities; equity investments; alternative investments (including but not limited to: commodities, private equity, hedge fund strategies, infrastructure) measured at fair values is","A)","Less than 10% of the total investment portfolio",{"$f":"Import!I2726","v":"Select Yes/No"},5,{"$f":"G68*$G$7","v":1500},{"$f":"IF(F68=\"Yes\",H68,0)","v":0}]
[null,null,null,"B)","Between 10% and 20% of the total investment portfolio",{"$f":"Import!I2727","v":"Select Yes/No"},5,{"$f":"G69*$H$7","v":1000},0]
[null,null,null,"C)","Greater than 20% of the total investment portfolio",{"$f":"Import!I2728","v":"Select Yes/No"},5,{"$f":"G70*$I$7","v":500},0,{"$f":"IF(F70=\"Yes\",I70,IF(F69=\"Yes\",I69,IF(F68=\"Yes\",I68,0)))","v":0}]
[null,21,"Liquidity:  The sum total of private or unquoted investments measured at fair values is","A)","Less than 10% of the total investment portfolio",{"$f":"Import!I2729","v":"Select Yes/No"},3,{"$f":"G71*$G$7","v":900},0]
[null,null,null,"B)","Between 10% and 20% of the total investment portfolio",{"$f":"Import!I2730","v":"Select Yes/No"},3,{"$f":"G72*$H$7","v":600},0]
[null,null,null,"C)","Greater than 20% of the total investment portfolio",{"$f":"Import!I2731","v":"Select Yes/No"},3,{"$f":"G73*$I$7","v":300},0,{"$f":"IF(F73=\"Yes\",I73,IF(F72=\"Yes\",I72,IF(F71=\"Yes\",I71,0)))","v":0}]
[null,22,"Asset-Liability / Duration mismatch: The duration gap between assets and liabilities is","A)","Less than 1 year",{"$f":"Import!I2732","v":"Select Yes/No"},3,{"$f":"G74*$G$7","v":900},0]
[null,null,null,"B)","Between 1 and 2 years",{"$f":"Import!I2733","v":"Select Yes/No"},3,{"$f":"G75*$H$7","v":600},0]
[null,null,null,"C)","Greater than 2 years",{"$f":"Import!I2734","v":"Select Yes/No"},3,{"$f":"G76*$I$7","v":300},0,{"$f":"IF(F76=\"Yes\",I76,IF(F75=\"Yes\",I75,IF(F74=\"Yes\",I74,0)))","v":0}]
[null,23,"Currency mismatch: The currency mismatch between assets and liabilities, measured at fair value is","A)","Less than 5% of the total investment portfolio","Select Yes/No",1,{"$f":"G77*$G$7","v":300},0]
[null,null,null,"B)","Between 5% and 10% of the total investment portfolio","Select Yes/No",1,{"$f":"G78*$H$7","v":200},0]
[null,null,null,"C)","Greater than 10% of the total investment portfolio",{"$f":"Import!I2737","v":"Select Yes/No"},1,{"$f":"G79*$I$7","v":100},0,{"$f":"IF(F79=\"Yes\",I79,IF(F78=\"Yes\",I78,IF(F77=\"Yes\",I77,0)))","v":0}]
[]
[null,null,null,null,"Summary of Operational Charge"]
[null,9,null,null,"Operational Risk",null,null,null,null,{"$f":"SUM(J11:J57)","v":0},{"$f":"J82/$J$86","v":{"$error":"#DIV/0!"}}]
[null,null,null,null,"Corporate Governance Indicators",null,null,null,null,{"$f":"SUM(J58:J66)","v":0},{"$f":"J83/$J$86","v":{"$error":"#DIV/0!"}}]
[null,null,null,null,"Investment Strategy",null,null,null,null,{"$f":"SUM(J69:J79)","v":0},{"$f":"J84/$J$86","v":{"$error":"#DIV/0!"}}]
[]
[null,null,null,null,"Total Score",null,null,null,null,{"$f":"SUM(J9:J79)","v":0}]
[]
[null,null,"Applicable Operational Risk Capital Charge as a percentage of the aggregate maximum limit insured. (Insurer may reduce the operational risk charge by up to 50% by taking credit for Errors and Omissions or Professional Indemnity (E&O or PI) insurance protection purchased.)",null,null,"Score (S)"]
[null,null,{"$f":"250000/1000000000","v":2.5000000000000001E-4},null,null,"S>18,000",18000]
[null,null,{"$f":"375000/(1000000000)","v":3.7500000000000001E-4},null,null,"14,000<S<=18,000",14000]
[null,null,{"$f":"500000/1000000000","v":5.0000000000000001E-4},null,null,"11,000<S<=14,000",11000]
[null,null,{"$f":"750000/1000000000","v":7.5000000000000002E-4},null,null,"  8,500<S<=11,000",8500]
[null,null,{"$f":"1000000/1000000000","v":1E-3},null,null,"S<=8,500",5200,null,null,{"$f":"IF(J86>G89,C89,IF(J86>G90,C90,IF(J86>G91,C91,IF(J86>G92,C92,C93))))","v":1E-3}]
[]
[null,null,"Aggregate limits"]
[null,null,"Net Aggregate Limit per Schedule V(m)",null,null,null,null,null,null,{"$f":"'Schedule V(m)'!H1512","v":0}]
[null,null,"Aggregate limits (net) the insurer expects to write in the course of the next 12 months",null,null,null,null,null,null,{"$f":"Import!I2738","v":0}]
[]
[null,null,null,null,"Capital charge on aggregate maximum limit insured (before potential insurance cover)",null,null,null,null,{"$f":"J93*MAX(J96,J97)","v":0}]
[]
[null,null,"Arrangements with respect to Errors and Omissions or Professional Indemnity (E&O or PI) insurance cover.\n\nResponses to these statements are only applicable if the Insurer opts to reduce its capital charge for operational risk, by claiming credit for E&O or PI insurance cover."]
[null,1,"Confirm if the insurer opts to partially reduce the operational risk charge by claiming credit for E&O or PI protection it has purchased",null,null,null,null,null,null,{"$f":"Import!I2739","v":"Select Yes/No"}]
[null,2,"Confirm if the insurer has E&O or PI insurance policy ",null,null,null,null,null,null,{"$f":"Import!I2740","v":"Select Yes/No"}]
[null,3,"Confirm if the insurer has purchased the E&O or PI cover from an insurer rated A- or higher by AM Best or a similar rating agency",null,null,null,null,null,null,{"$f":"Import!I2741","v":"Select Yes/No"}]
[null,4,"Disclose the maximum aggregate limit and deductible of the errors and omissions or professional indemnity insurance policy:"]
[null,4.0999999999999996,null,"Aggregate limit",null,null,null,null,null,{"$f":"Import!I2742","v":0}]
[null,4.2,null,"Deductible",null,null,null,null,null,{"$f":"Import!I2743","v":0}]
[null,5,"Provide a copy of the insurer’s E&O or PI insurance policy",null,null,{"$f":"HYPERLINK(\"#'Attachments'!G125\",\"Attach file\")","v":"Attach file"},null,null,null,{"$f":"Import!I2744","v":"Select Yes/No"}]
[null,6,"Confirm if the insurer has performed stress testing to assess if its E&O or PI policy shall respond to the material operational risk events the insurer is exposed to",null,null,null,null,null,null,{"$f":"Import!I2745","v":"Select Yes/No"}]
[null,7,"Provide the results of the insurer’s stress testing performed to demonstrate the E&O or PI policy’s response to operational risk",null,null,{"$f":"HYPERLINK(\"#'Attachments'!G125\",\"Attach file\")","v":"Attach file"},null,null,null,{"$f":"Import!I2746","v":"Select Yes/No"}]
[null,8,"The insurer estimates, based on expert judgement and/or stress tests, that its E&O or PI policy might respond to the following percentage of the material operational risks relative to all operational risks it is exposed to",null,null,null,null,null,{"$f":"IF(J111=\"0-24%\",((0+24)/2)/100,IF(J111=\"25%-49%\",((25+49)/2)/100,IF(J111=\"50%-74%\",((50+74)/2)/100,IF(J111=\"75%-99%\",((75+99)/2)/100,IF(J111=100%,1,0)))))","v":0},{"$f":"Import!I2747","v":"Select"}]
[]
[null,null,"OPERATIONAL RISK CHARGE",null,null,null,null,null,null,{"$f":"IF(NOT(AND(J102=\"Yes\",J103=\"Yes\",J104=\"Yes\",J108=\"Yes\",J109=\"Yes\",J110=\"Yes\")),J99,J99-MIN(50%*J99,MAX(0,MIN(J99-J107,J106-J107)*I111)))","v":0}]
[]
[null,null,"Comments (the insurer may provide explanatory comments in the box below to support its responses above):"]
[null,null,{"$f":"Import!I2748","v":0}]

{"sheet":"Summary","index":27,"n_rows":184,"n_cols":43,"rows_kept":184,"cut":false,"hidden":false,"merged":[[88,10,88,13],[96,10,96,13],[104,10,104,13],[48,5,48,6],[91,1,91,5],[113,10,113,13],[138,10,138,13],[145,10,145,13],[152,7,152,8],[147,12,147,13],[68,40,70,41],[1,0,1,4],[76,2,76,4],[68,38,68,39],[68,36,68,37],[68,34,68,35],[50,12,50,13],[50,10,50,11],[48,10,48,13],[6,1,6,17]]}
["SUMMARY",null,null,null,null,null,{"$f":"HYPERLINK(\"#'Index'!A1\",\"Return to Index\")","v":"Return to Index"},null,null,null,null,null,null,null,null,null,null,{"$f":"HYPERLINK(\"#'Index'!A1\",\"Return to Index\")","v":"Return to Index"}]
[{"$f":"'Company Information'!C7","v":"Enter Company Name"},null,null,null,null,null,null,null,null,null,null,null,null,null,null,null,null,null,null,null,null,null,null,null,null,null,null,null,null,null,null,null,null,null,"Utilize Automatic Label Adjustment:",null,null,null,"No"]
["Bermuda Solvency Capital Requirement (BSCR)"]
[{"$f":"\"For the Year Ending \"","v":"For the Year Ending "},null,null,{"$f":"TEXT('Company Information'!C3,\"mmmm dd, yyyy\")","v":"December 31, 2019"}]
[{"$f":"\"(\"&IF(CONFIGURATION!$B$12>1,MID(CONFIGURATION!$B$12,2,LEN(CONFIGURATION!$B$12)),\"\")&\")\"","v":"(000)"}]
[]
[null,"UNCONSOLIDATED BASIS"]
[]
[null,"Minimum Margin of Solvency:",null,null,null,null,null,null,null,null,"Liquidity Ratio"]
[]
[null,"Uncombined Capital & Surplus (Form 8SFS, Line 4)",null,null,null,null,{"$f":"IF('Form 1SFS GB'!$C$5=\"United States Dollars\",1,'Information Sheet'!$H$18)*'Form 8SFS'!G58","v":0},null,null,"a)","Cash (Form 1SFS, Line 1)",null,null,{"$f":"IF('Company Information'!$B$2=\"Unconsolidated BSCR Model\",'Form 1SFS GB'!$I$12,'Form 1SFS GB'!$E$12)","v":0}]
[null,null,null,null,null,null,null,null,null,"b)","Quoted Investments (Form 1SFS, Line 2(f))",null,null,{"$f":"IF('Company Information'!$B$2=\"Unconsolidated BSCR Model\",'Form 1SFS GB'!$I$25,'Form 1SFS GB'!$E$25)","v":0}]
[null,"Minimum Margin of Solvency Test:",null,null,null,null,null,null,null,"c)","Unquoted Bonds & Debentures (Form 1SFS, Line 3(b))",null,null,{"$f":"IF('Company Information'!$B$2=\"Unconsolidated BSCR Model\",'Form 1SFS GB'!$I$31,'Form 1SFS GB'!$E$31)","v":0}]
[null,"a)","Base MSM:",null,null,null,{"$f":"IF(CONFIGURATION!$B$12=1000,250*'Information Sheet'!H18,250000*'Information Sheet'!H18)","v":250},null,null,"d)","Real Estate 1st liens (Form 1, Line 5(a))",null,null,{"$f":"IF('Company Information'!$B$2=\"Unconsolidated BSCR Model\",'Form 1SFS GB'!$I$51,'Form 1SFS GB'!$E$51)","v":0}]
[null,null,null,null,null,null,null,null,null,"e)","Investment Income Due & Accrued (Form 1SFS, Line 9)",null,null,{"$f":"IF('Company Information'!$B$2=\"Unconsolidated BSCR Model\",'Form 1SFS GB'!$I$64,'Form 1SFS GB'!$E$64)","v":0}]
[null,"b)","Net Premium Written (Schedule I, Form 2SFS Column A, Line 3)",null,null,{"$f":"IF('Company Information'!$B$2=\"Unconsolidated BSCR Model\",'Form 2SFS GB'!I19,'Form 2SFS GB'!E19)*IF('Form 1SFS GB'!$C$5=\"United States Dollars\",1,'Information Sheet'!$H$18)","v":0},null,null,null,"f)","A/C & Premiums Receivable (Form 1SFS, Line 10(d))",null,null,{"$f":"IF('Company Information'!$B$2=\"Unconsolidated BSCR Model\",'Form 1SFS GB'!$I$70,'Form 1SFS GB'!$E$70)","v":0}]
[null,null,"Premiums Ceded",null,null,{"$f":"IF('Company Information'!$B$2=\"Unconsolidated BSCR Model\",'Form 2SFS GB'!I17,'Form 2SFS GB'!E17)*IF('Form 1SFS GB'!$C$5=\"United States Dollars\",1,'Information Sheet'!$H$18)","v":0},null,null,null,"g)","R/I Balances Receivable (Form 1SFS, Line 11(e))",null,null,{"$f":"IF('Company Information'!$B$2=\"Unconsolidated BSCR Model\",'Form 1SFS GB'!$I$77,'Form 1SFS GB'!$E$77)","v":0}]
[null,null,{"$f":"IF('Company Information'!F11=\"Class 4\",\"\",\"20% of 1st $6M NPW\")","v":"20% of 1st $6M NPW"},null,null,{"$f":"IF(CONFIGURATION!$B$12=1000,IF('Company Information'!$F$11=\"Class 4\",\"\",MIN(F16*20%,1200)),IF('Company Information'!$F$11=\"Class 4\",\"\",MIN(F16*20%,1200000)))","v":0},null,null,null,"h)","Funds Held (Form 1SFS, Line 12)",null,null,{"$f":"IF('Company Information'!$B$2=\"Unconsolidated BSCR Model\",'Form 1SFS GB'!$I$79,'Form 1SFS GB'!$E$79)","v":0}]
[null,{"$f":"IF('Company Information'!$F$11=\"Class 4\",50,15)","v":15},{"$f":"IF('Company Information'!F11=\"Class 4\",\"% of NPW\",\"% of any above NPW above $6M\")","v":"% of any above NPW above $6M"},null,null,{"$f":"IF(CONFIGURATION!$B$12=1000,(IF('Company Information'!$F$11=\"Class 4\",MAX(((F16+F17)*75%*50%),F16*B19/100),IF(+(F16-6000)*B19/100>0,+(F16-6000)*B19/100,0))),IF(B19=\"\",0,IF('Company Information'!$F$11=\"Class 4\",MAX(((F16+F17)*75%*50%),F16*B19/100),IF(+(F16-6000000)*B19/100>0,+(F16-6000000)*B19/100,0))))","v":0},null,null,null,null,"Approved Assets (If applicable)"]
[null,null,"Net Premium Written Requirement",null,null,null,{"$f":"SUM(F18:F19)","v":0},null,null,null,"Total Relevant Assets",null,null,null,{"$f":"SUM(N11:N19)","v":0}]
[]
[null,"c)","Net Loss Provision (Schedule I, Form 1SFS Column A, Line 17(d))",null,null,{"$f":"IF('Company Information'!$B$2=\"Unconsolidated BSCR Model\",'Form 1SFS GB'!I124,'Form 1SFS GB'!E124)*IF('Form 1SFS GB'!$C$5=\"United States Dollars\",1,'Information Sheet'!$H$18)","v":0},null,null,null,"Total Liabilities (Form 1SFS, Line 39)",null,null,null,{"$f":"IF('Company Information'!$B$2=\"Unconsolidated BSCR Model\",'Form 1SFS GB'!$I$194,'Form 1SFS GB'!$E$194)","v":0}]
[null,null,"Other Insurance Reserves (Schedule I, Form 1SFS Column A, Line 18)",null,null,{"$f":"IF('Company Information'!$B$2=\"Unconsolidated BSCR Model\",'Form 1SFS GB'!I126,'Form 1SFS GB'!E126)*IF('Form 1SFS GB'!$C$5=\"United States Dollars\",1,'Information Sheet'!$H$18)","v":0},null,null,null,"less:"]
[null,null,"Total Provisions",null,null,{"$f":"SUM(F22:F23)","v":0},null,null,null,"a)","Deferred Income Tax (Form 1SFS, Line 31(b))",null,null,{"$f":"-IF('Company Information'!$B$2=\"Unconsolidated BSCR Model\",'Form 1SFS GB'!$I$166,'Form 1SFS GB'!$E$166)","v":0}]
[null,0.15,"Net Loss Reserve Requirement",null,null,null,{"$f":"F24*B25","v":0},null,null,"b)","LOC, guarantees (Form 1SFS, Line 37(d))",null,null,{"$f":"-IF('Company Information'!$B$2=\"Unconsolidated BSCR Model\",'Form 1SFS GB'!$I$190,'Form 1SFS GB'!$E$190)","v":0}]
[null,null,null,null,null,null,null,null,null,null,"Relevant Liabilities",null,null,null,{"$f":"SUM(N22:N25)","v":0}]
[null,"b)","MSM Floor = 25% of ECR ",null,null,null,{"$f":"G109*25%","v":62.5}]
[null,null,null,null,null,null,null,null,null,null,"75% of Relevant liabilities",null,null,null,{"$f":"O26*75%","v":0}]
[null,"b)","Minimum Margin of Solvency Adjustment (if Applicable):"]
[]
[null,"Minimum Margin of Solvency Requirement",null,null,null,null,{"$f":"G14+G29","v":250}]
[]
[null,"Minimum Margin of Solvency Met",null,null,null,null,{"$f":"IF(G11>=G31,\"YES\",\"NO\")","v":"NO"},null,null,null,"Liquidity Test Met",null,null,null,{"$f":"IF(O20>=O28,\"YES\",\"NO\")","v":"YES"}]
[]
[null,"Statutory Capital & Surplus Reduction",null,null,null,null,null,null,null,"Statutory Capital Reduction"]
[]
[null,"31B Statutory Capital & Surplus Reduction (Dividend Payment Maximum 25%)",null,null,null,null,null,null,null,null,"31C Statutory Capital Reduction (Maximum Reduction of 15%)"]
[]
[null,{"$f":"\"Unconsolidated Statutory Capital & Surplus for \"&YEAR('Form 1SFS GB'!$G$9)","v":"Unconsolidated Statutory Capital & Surplus for 2018"},null,null,null,null,{"$f":"'Form 8SFS'!I58+'Form 8SFS'!M58","v":0},null,null,null,{"$f":"\"Unconsolidated Statutory Capital for \"&YEAR('Form 1SFS GB'!$E9)","v":"Unconsolidated Statutory Capital for 2019"},null,null,null,{"$f":"IF('Company Information'!$B$2=\"Unconsolidated BSCR Model\",'Form 8SFS'!$O$36,('Form 8SFS'!$G$36+'Form 8SFS'!$K$36))","v":0}]
[null,null,null,null,null,null,null,null,null,null,{"$f":"\"Unconsolidated Statutory Capital for \"&YEAR('Form 1SFS GB'!$G$9)","v":"Unconsolidated Statutory Capital for 2018"},null,null,null,{"$f":"IF('Company Information'!$B$2=\"Unconsolidated BSCR Model\",'Form 8SFS'!$Q$36,('Form 8SFS'!$I$36+'Form 8SFS'!$M$36))","v":0}]
[null,"Maximum Dividend",null,null,null,{"$f":"25%*G39","v":0}]
[null,{"$f":"\"Dividend Payment in \"&YEAR('Form 1SFS GB'!$E$9)","v":"Dividend Payment in 2019"},null,null,null,{"$f":"'Form 8SFS'!G46+'Form 8SFS'!K46","v":0},null,null,null,null,{"$f":"\"Statutory Capital Change from \"&YEAR('Form 1SFS GB'!$G9)&\" to \"&YEAR('Form 1SFS GB'!$E9)","v":"Statutory Capital Change from 2018 to 2019"},null,null,{"$f":"O39-O40","v":0}]
[null,null,null,null,null,null,null,null,null,null,"Maximum Reduction",null,null,{"$f":"O40*-15%","v":0}]
[]
[null,"Insurer met Dividend Payment Requirement",null,null,null,null,{"$f":"IF(F41>=F42,\"YES\",\"NO\")","v":"YES"},null,null,null,"Insurer met Capital Reduction Requirement",null,null,null,{"$f":"IF(N43<N42,\"YES\",\"NO\")","v":"NO"}]
[]
[]
[]
[null,"REQUIRED CAPITAL AND SURPLUS",null,null,null,null,null,null,null,null,"2019 Year-End Revised Methodology",null,null,null,null,null,null,null,null,null,null,null,"Data for Pie Chart",null,null,null,null,null,"Cum. %","Mid.","Risk","Left","Top",null,"4 Right",null,"3 Right - 1 Down",null,"3 Right",null,"Custom",null,"Risk"]
[]
[null,null,null,null,null,null,null,null,null,null,"Net Capital Charge",null,"Gross Capital Charge"]
[null,"Market Risk",null,null,null,null,null,null,null,null,null,{"$f":"SQRT(MMULT(TRANSPOSE(K53:K57),MMULT(#REF!,K53:K57)))","v":{"$error":"#REF!"}},null,{"$f":"SQRT(MMULT(TRANSPOSE(M53:M57),MMULT(#REF!,M53:M57)))","v":{"$error":"#REF!"}}]
[null,"Cfi","Fixed Income Investment Risk",null,null,{"$f":"ROUND('Fixed Income Investments'!F98,$N$173)","v":0},null,null,null,null,{"$f":"ROUND(#REF!,$N$173)","v":{"$error":"#REF!"}},null,{"$f":"ROUND(#REF!,$N$173)","v":{"$error":"#REF!"}},null,null,null,null,null,null,{"$f":"C53","v":"Fixed Income Investment Risk"},null,null,null,{"$f":"F53","v":0},{"$f":"IF($L$71=0,1/9,X53/$X$63)","v":{"$error":"#REF!"}},{"$f":"M53","v":{"$error":"#REF!"}},{"$f":"IF($N$71=0,1/9,Z53/$Z$63)","v":{"$error":"#REF!"}},null,{"$f":"(SUM(AA$53:AA53)/AA$63)","v":{"$error":"#REF!"}},null,"FI",{"$f":"IF(AO53=\"\",IF(Test_Statistic<$AJ$71,AI53,IF(Test_Statistic<$AL$71,AK53,AM53)),AO53)","v":{"$error":"#REF!"}},{"$f":"IF(AP53=\"\",IF(Test_Statistic<$AJ$71,AJ53,IF(Test_Statistic<$AL$71,AL53,AN53)),AP53)","v":{"$error":"#REF!"}},null,{"$f":"IF(AC58>1,300,IF(AC58>0.6,260,240))","v":{"$error":"#REF!"}},{"$f":"IF(AC60>1,50,IF(AC58>1,20,IF(AC58>0.6,25,15)))","v":{"$error":"#REF!"}},{"$f":"IF(Test_Statistic_2<1,300,300)","v":300},60,280,60,null,null,"FI"]
[null,"Ceq","Equity Investment Risk",null,null,{"$f":"ROUND('Equity Investments'!F57,$N$173)","v":0},null,null,null,null,{"$f":"ROUND(#REF!,$N$173)","v":{"$error":"#REF!"}},null,{"$f":"ROUND(#REF!,$N$173)","v":{"$error":"#REF!"}},null,null,null,null,null,null,{"$f":"C54","v":"Equity Investment Risk"},null,null,null,{"$f":"F54","v":0},{"$error":"#REF!"},{"$f":"M54","v":{"$error":"#REF!"}},{"$error":"#REF!"},null,{"$f":"(SUM(AA$53:AA54)/AA$63)","v":{"$error":"#REF!"}},null,"EI",{"$f":"IF(AO54=\"\",IF(Test_Statistic<$AJ$71,AI54,IF(Test_Statistic<$AL$71,AK54,AM54)),AO54)","v":{"$error":"#REF!"}},{"$f":"IF(AP54=\"\",IF(Test_Statistic<$AJ$71,AJ54,IF(Test_Statistic<$AL$71,AL54,AN54)),AP54)","v":{"$error":"#REF!"}},null,{"$f":"IF(AC58>0.6,300,300)","v":{"$error":"#REF!"}},{"$f":"IF(AC60>1,90,IF(AC58>1,60,IF(AC58>0.6,90,60)))","v":{"$error":"#REF!"}},300,120,280,140,null,null,"EI"]
[null,"Cint","Interest Rate / Liquidity Risk",null,"Duration-Based Approach",null,"Duration-Based Approach",null,null,null,null,null,null,null,null,null,null,null,null,{"$f":"C55","v":"Interest Rate / Liquidity Risk"},null,null,null,{"$f":"G55","v":"Duration-Based Approach"},{"$error":"#REF!"},{"$f":"M55","v":0},{"$error":"#REF!"},null,{"$f":"(SUM(AA$53:AA55)/AA$63)","v":{"$error":"#REF!"}},null,"IR",{"$f":"IF(AO55=\"\",IF(Test_Statistic<$AJ$71,AI55,IF(Test_Statistic<$AL$71,AK55,AM55)),AO55)","v":{"$error":"#REF!"}},250,null,{"$f":"IF(AC58>0.6,300,300)","v":{"$error":"#REF!"}},{"$f":"IF(AC60>1,140,IF(AC58>1,120,IF(AC58>0.6,150,100)))","v":{"$error":"#REF!"}},{"$f":"IF(Test_Statistic_2<0.95,280,260)","v":280},{"$f":"IF(Test_Statistic_2<0.95,170,200)","v":170},180,250,null,null,"IR"]
[null,"CCur","Currency Risk",null,null,null,null,null,null,null,{"$f":"#REF!","v":{"$error":"#REF!"}},null,{"$f":"#REF!","v":{"$error":"#REF!"}},null,null,null,null,null,null,"Currency Risk",null,null,null,{"$f":"G56","v":0},{"$error":"#REF!"},{"$f":"M56","v":{"$error":"#REF!"}},{"$error":"#REF!"},null,{"$f":"(SUM(AA$53:AA56)/AA$63)","v":{"$error":"#REF!"}}]
[null,"Cconc","Concentration Risk",null,null,null,null,null,null,null,{"$f":"#REF!","v":{"$error":"#REF!"}},null,{"$f":"#REF!","v":{"$error":"#REF!"}},null,null,null,null,null,null,"Concentration Risk",null,null,null,{"$f":"G57","v":0},{"$error":"#REF!"},{"$f":"M57","v":{"$error":"#REF!"}},{"$error":"#REF!"},null,{"$f":"(SUM(AA$53:AA57)/AA$63)","v":{"$error":"#REF!"}}]
[null,null,null,null,null,null,null,null,null,null,null,null,null,null,null,null,null,null,null,{"$f":"C60","v":"Credit Risk"},null,null,null,{"$f":"F60","v":0},{"$error":"#REF!"},{"$f":"M60","v":{"$error":"#REF!"}},{"$error":"#REF!"},null,{"$f":"(SUM(AA$53:AA60)/AA$63)","v":{"$error":"#REF!"}},{"$f":"IF(ISERROR(AVERAGE(AC60:AC60)),0,AVERAGE(AC60:AC60))","v":0},"C",{"$f":"IF(AO60=\"\",IF(Test_Statistic<$AJ$71,AI58,IF(Test_Statistic<$AL$71,AK58,AM58)),AO60)","v":{"$error":"#REF!"}},{"$f":"IF(AP60=\"\",IF(Test_Statistic<$AJ$71,AJ58,IF(Test_Statistic<$AL$71,AL58,AN58)),AP60)","v":{"$error":"#REF!"}},null,{"$f":"IF(AC60>1,200,IF(AC58>1,50,IF(AC58>0.6,50,180)))","v":{"$error":"#REF!"}},{"$f":"IF(AC60>1,5,IF(AC58>0.6,IF(AD60>0.5,60,120),IF(AC58>0.6,100,200)))","v":{"$error":"#REF!"}},{"$f":"IF(Test_Statistic_2<0.95,50,160)","v":50},{"$f":"IF(Test_Statistic_2<0.95,70,5)","v":70},{"$f":"IF(Test_Statistic_2<1,50,180)","v":50},{"$f":"IF(Test_Statistic_2<1,50,5)","v":50}]
[null,"Credit Risk",null,null,null,null,null,null,null,null,null,{"$f":"K60","v":{"$error":"#REF!"}},null,{"$f":"M60","v":{"$error":"#REF!"}},null,null,null,null,null,{"$f":"C63","v":"Premium Risk"},null,null,null,{"$f":"G63","v":{"$error":"#REF!"}},{"$error":"#REF!"},{"$f":"M63","v":{"$error":"#REF!"}},{"$error":"#REF!"},null,{"$f":"(SUM(AA$53:AA59)/AA$63)","v":{"$error":"#REF!"}},{"$f":"IF(ISERROR(AVERAGE(AC55:AC59)),0,AVERAGE(AC55:AC59))","v":0},"P",{"$f":"IF(AO63=\"\",IF(Test_Statistic<$AJ$71,AI59,IF(Test_Statistic<$AL$71,AK59,AM59)),AO63)","v":{"$error":"#REF!"}},250,null,{"$f":"IF(AC60>1,250,IF(AC58>1,300,IF(AC58>0.6,260,300)))","v":{"$error":"#REF!"}},{"$f":"IF(AC58>0.6,185,140)","v":{"$error":"#REF!"}},{"$f":"IF(Test_Statistic_2<0.95,180,120)","v":180},200,100,250]
[null,"Ccred","Credit Risk",null,null,{"$f":"ROUND('Credit Risk'!F41,$N$173)","v":0},null,null,null,null,{"$f":"ROUND(#REF!,$N$173)","v":{"$error":"#REF!"}},null,{"$f":"ROUND(#REF!,$N$173)","v":{"$error":"#REF!"}},null,null,null,null,null,null,{"$f":"C64","v":"Reserve Risk"},null,null,null,{"$f":"G64","v":{"$error":"#REF!"}},{"$error":"#REF!"},{"$f":"M64","v":{"$error":"#REF!"}},{"$error":"#REF!"},null,{"$f":"(SUM(AA$53:AA60)/AA$63)","v":{"$error":"#REF!"}},{"$f":"IF(ISERROR(AVERAGE(AC59:AC60)),0,AVERAGE(AC59:AC60))","v":0},"R",{"$f":"IF(AO64=\"\",IF(Test_Statistic<$AJ$71,AI60,IF(Test_Statistic<$AL$71,AK60,AM60)),AO64)","v":{"$error":"#REF!"}},160,null,{"$f":"IF(AC60>1,50,IF(AC58>0.6,120,260))","v":{"$error":"#REF!"}},{"$f":"IF(AC60>1,90,IF(AC58>0.6,200,185))","v":{"$error":"#REF!"}},50,{"$f":"IF(Test_Statistic_2<0.95,160,80)","v":160},{"$f":"IF(Test_Statistic_2<1,50,50)","v":50},150,null,null,"C"]
[null,null,null,null,null,null,null,null,null,null,null,null,null,null,null,null,null,null,null,{"$f":"C65","v":"Catastrophe Risk"},null,null,null,{"$f":"G65","v":{"$error":"#REF!"}},{"$error":"#REF!"},{"$f":"M65","v":{"$error":"#REF!"}},{"$error":"#REF!"},null,{"$f":"(SUM(AA$53:AA62)/AA$63)","v":{"$error":"#REF!"}},null,"CAT",{"$f":"IF(AO65=\"\",IF(Test_Statistic<$AJ$71,AI61,IF(Test_Statistic<$AL$71,AK61,AM61)),AO65)","v":{"$error":"#REF!"}},{"$f":"IF(AP65=\"\",IF(Test_Statistic<$AJ$71,AJ61,IF(Test_Statistic<$AL$71,AL61,AN61)),AP65)","v":{"$error":"#REF!"}},null,{"$f":"IF(AC60>1,260,IF(AC58>1,200,IF(AC58>0.6,180,40)))","v":{"$error":"#REF!"}},{"$f":"IF(AC60>1,15,IF(AC58>0.6,5,100))","v":{"$error":"#REF!"}},{"$f":"IF(Test_Statistic_2<0.95,180,240)","v":180},{"$f":"IF(Test_Statistic_2<0.95,5,20)","v":5},{"$f":"IF(Test_Statistic_2<1,180,240)","v":180},{"$f":"IF(Test_Statistic_2<1,5,20)","v":5}]
[null,"P&C Insurance Risk",null,null,null,null,null,null,null,null,null,{"$f":"SQRT(MMULT(TRANSPOSE(K63:K65),MMULT(#REF!,K63:K65)))","v":{"$error":"#REF!"}},null,{"$f":"SQRT(MMULT(TRANSPOSE(M63:M65),MMULT(#REF!,M63:M65)))","v":{"$error":"#REF!"}}]
[null,"Cprem","Premium Risk",null,null,null,{"$f":"ROUND(#REF!,$N$173)","v":{"$error":"#REF!"}},null,null,null,{"$f":"ROUND(#REF!,$N$173)","v":{"$error":"#REF!"}},null,{"$f":"ROUND(#REF!,$N$173)","v":{"$error":"#REF!"}},null,null,null,null,null,null,"Total",null,null,null,{"$f":"SUM(X53:X62)","v":{"$error":"#REF!"}},{"$f":"SUM(Y53:Y62)","v":{"$error":"#REF!"}},{"$f":"SUM(Z53:Z62)","v":{"$error":"#REF!"}},{"$f":"SUM(AA53:AA62)","v":{"$error":"#REF!"}},null,null,null,null,null,null,null,null,null,null,null,null,null,null,null,"P"]
[null,"Crsvs","Reserve Risk",null,null,null,{"$f":"ROUND(#REF!,$N$173)","v":{"$error":"#REF!"}},null,null,null,{"$f":"ROUND(#REF!,$N$173)","v":{"$error":"#REF!"}},null,{"$f":"ROUND(#REF!,$N$173)","v":{"$error":"#REF!"}},null,null,null,null,null,null,null,null,null,null,null,null,null,null,null,null,null,null,null,null,null,null,null,null,null,null,null,null,null,"R"]
[null,"Ccat","Catastrophe Risk",null,null,null,{"$f":"ROUND(#REF!,$N$173)","v":{"$error":"#REF!"}},null,null,null,{"$f":"ROUND(#REF!,$N$173)","v":{"$error":"#REF!"}},null,{"$f":"ROUND(#REF!,$N$173)","v":{"$error":"#REF!"}},null,null,null,null,null,null,null,null,null,null,null,null,null,null,null,null,null,null,null,null,null,null,null,null,null,null,null,null,null,"CAT"]
[null,"Market Risk",null,null,null,null,{"$f":"SQRT(MMULT(TRANSPOSE(F53:F54),MMULT(E163:F164,F53:F54)))","v":0}]
[null,"Credit Risk",null,null,null,null,{"$f":"F60","v":0}]
[]
[null,"BSCR (Prior to Correlation Adjustment)",null,null,null,null,{"$f":"G66+G67","v":0},null,null,null,null,{"$f":"SUM(K53:K65)","v":{"$error":"#REF!"}},null,{"$f":"SUM(M53:M65)","v":{"$error":"#REF!"}},null,null,null,null,null,null,null,null,null,null,null,null,null,null,null,null,null,null,null,null,{"$f":"AI71&\" - \"&AJ71","v":"0 - 0.425"},null,{"$f":"AJ71&\" - \"&AL71","v":"0.425 - 0.575"},null,{"$f":"AL71&\" - \"&AN71","v":"0.575 - 1"},null,"Use the above to manually change label positions."]
[]
[null,"BSCR (After Correlation Adjustment)",null,null,null,null,{"$f":"SQRT(MMULT(TRANSPOSE(G66:G67),MMULT(E167:F168,G66:G67)))","v":0},null,null,null,null,{"$f":"SQRT(MMULT(TRANSPOSE(#REF!),MMULT(#REF!,#REF!)))","v":{"$error":"#REF!"}},null,{"$f":"SQRT(MMULT(TRANSPOSE(#REF!),MMULT(#REF!,#REF!)))","v":{"$error":"#REF!"}},null,null,null,null,null,null,null,null,null,null,null,null,null,null,null,null,null,null,null,null,0,{"$f":"0.5-AI89","v":0.42499999999999999},{"$f":"AJ71","v":0.42499999999999999},{"$f":"0.5+AI89","v":0.57499999999999996},{"$f":"AL71","v":0.57499999999999996},1]
[]
[null,"Operational risk charge (%)",null,null,null,null,{"$f":"#REF!","v":{"$error":"#REF!"}},null,null,null,null,null,null,{"$f":"#REF!","v":{"$error":"#REF!"}}]
[]
[null,"Operational risk capital charge",null,null,null,null,{"$f":"'Operational Risk'!J113","v":0},null,null,null,null,null,null,{"$f":"($N$71+N143)*$N$73","v":{"$error":"#REF!"}},null,null,null,null,null,null,null,null,null,"Minimum Solvency Margin",null,{"$f":"MAX(Z83,Z85,Z89)","v":1000},"ECR",null,{"$f":"MAX($Z$75,$N$87)","v":{"$error":"#REF!"}}]
[]
[null,"Cadj","Capital Adjustment for (Regulatory) Capital Requirement for Regulated Non-Insurance Financial Operating Entities:",null,null,null,{"$f":"+#REF!","v":{"$error":"#REF!"}},null,null,null,null,null,null,{"$f":"+#REF!","v":{"$error":"#REF!"}}]
[]
[null,"CMgmtAction",null,null,null,null,null,null,null,null,null,null,null,{"$f":"N143","v":{"$error":"#REF!"}}]
[]
[null,"Other Capital Adjustment",null,null,null,null,0,null,null,null,null,null,null,{"$f":"M148","v":{"$error":"#REF!"}}]
[]
[null,"Capital add-on/reduction (BMA assessment)",null,null,null,null,{"$f":"'Company Specific Parameters'!I540-'Company Specific Parameters'!F540","v":0},null,null,null,null,null,null,null,null,null,null,null,null,"brrt_CapitalAddonReductionBMAAssessmentRequiredCapitalAndSurplus",{"$f":"XBRLMap(N83,T83,E$173,E$174,CONFIGURATION!$B$10,\"BMA\",CONFIGURATION!$B$1,\"bscr\",CONFIGURATION!$B$12)","v":"Mapped"},null,null,"LRSO",null,{"$f":"IF('Company Information'!B2=\"Unconsolidated BSCR Model\",'Form 1SFS GB'!I124*IF('Form 1SFS GB'!$C$5=\"United States Dollars\",1,'Information Sheet'!$H$18)*15%,'Form 1SFS GB'!E124*IF('Form 1SFS GB'!$C$5=\"United States Dollars\",1,'Information Sheet'!$H$18)*15%)","v":0}]
[]
[null,"Transition BSCR ",null,null,null,null,0,null,null,null,null,null,null,{"$f":"IF(YEAR('Company Information'!C3)<2020,(N87-G87)*33%+G87,IF(YEAR('Company Information'!C3)<2021,(N87-G87)*66%+G87,N87))","v":{"$error":"#REF!"}},null,null,null,null,null,"brrt_BSCR",{"$f":"XBRLMap(N87,T85,E$173,E$174,CONFIGURATION!$B$10,\"BMA\",CONFIGURATION!$B$1,\"bscr\",CONFIGURATION!$B$12)","v":{"$error":"#VALUE!"}},null,null,"Minimum Capital & Surplus",null,{"$f":"IF('Company Information'!F11=\"Class 4\",IF(CONFIGURATION!B12=1000,100000,100000000),IF(CONFIGURATION!B12=1000,1000,1000000))","v":1000}]
[]
[null,"BSCR ",null,null,null,null,{"$f":"G71+G75+G83","v":0},null,null,null,null,null,null,{"$f":"N71+N75+N83+N77-N81+N79","v":{"$error":"#REF!"}}]
[]
[null,"TOTAL STATUTORY CAPITAL AND SURPLUS",null,null,null,null,null,null,null,null,"2019 Year-End Revised Methodology",null,null,null,null,null,null,null,null,null,null,null,null,"Premiums",null,{"$f":"G20","v":0},null,null,null,null,null,null,null,null,7.4999999999999997E-2,"Swing"]
[]
[null,"Total statutory capital and surplus (excluding assets backing collateral)",null,null,null,null,{"$f":"'Form 8SFS'!O65","v":0},null,null,null,null,null,null,{"$f":"'Form 8SFS'!G58+'Form 8SFS'!K58","v":0},null,null,null,null,null,"brrt_StatutoryCapitalAndSurplus","Mapped in Form 8",null,"Data for Column Chart"]
[null,"Approved Capital add-on/(reduction) to Total Available Statutory Capital and Surplus (if applicable)",null,null,null,null,null,null,null,null,null,null,null,{"$f":"N91+#REF!","v":{"$error":"#REF!"}},null,null,null,null,null,"brrt_PreAdjustmentAvailableStatutoryCapitalSurplus",{"$f":"XBRLMap(N92,T92,E$173,E$174,CONFIGURATION!$B$10,\"BMA\",CONFIGURATION!$B$1,\"bscr\",CONFIGURATION!$B$12)","v":{"$error":"#VALUE!"}}]
[]
[]
[null,"Total statutory capital and surplus (excluding assets backing collateral)",null,null,null,null,{"$f":"G91+G92","v":0},null,null,null,null,null,null,{"$f":"N92-SUM(#REF!)","v":{"$error":"#REF!"}},null,null,null,null,null,"brrt_AvailableStatutoryCapitalSurplus",{"$f":"XBRLMap(N95,T95,E$173,E$174,CONFIGURATION!$B$10,\"BMA\",CONFIGURATION!$B$1,\"bscr\",CONFIGURATION!$B$12)","v":{"$error":"#VALUE!"}}]
[]
[null,"MINIMUM MARGIN OF SOLVENCY",null,null,null,null,null,null,null,null,"2019 Year-End Revised Methodology"]
[]
[null,"Minimum Margin of Solvency ",null,null,null,null,{"$f":"G14","v":250},null,null,null,null,null,null,{"$f":"IF(G29=0,MAX(G14,(25%*N87)),G29)","v":{"$error":"#REF!"}}]
[null,"Approved Adjustment to Minimum Margin of Solvency (if applicable)"]
[null,"Minimum Margin of Solvency post adjustment (if applicable)",null,null,null,null,{"$f":"SUM(G99:G100)","v":250},null,null,null,null,null,null,{"$f":"SUM(N99:N100)","v":{"$error":"#REF!"}},null,null,null,null,null,"brrt_MinimumSolvencyMargin","Mapped in Schedule XIII(a)",null,null,null,null,null,"Bottom",null,"Top","Level"]
[]
[null,"Minimum Margin of Solvency Met",null,null,null,null,{"$f":"IF(G95>=G101,\"YES\",\"NO\")","v":"NO"}]
[]
[null,"ENHANCED CAPITAL REQUIREMENT ",null,null,null,null,null,null,null,null,"2019 Year-End Revised Methodology",null,null,null,null,null,null,null,null,null,null,null,null,"Adjusted Surplus","Available Statutory Capital and Surplus",null,{"$f":"IF($N$95=0,15000000,$N$95)","v":{"$error":"#REF!"}},null,{"$f":"AC$118-AA105","v":{"$error":"#REF!"}},{"$f":"IF($N$95=0,25000000,$N$95)","v":{"$error":"#REF!"}}]
[]
[null,"Transition Enhanced Capital Requirement",null,null,null,null,null,null,null,null,null,null,null,{"$f":"MAX(N85,N101)","v":{"$error":"#REF!"}}]
[]
[null,"Enhanced Capital Requirement",null,null,null,null,{"$f":"MAX(G101,G87)","v":250},null,null,null,null,null,null,{"$f":"MAX(N101,N87)","v":{"$error":"#REF!"}},null,null,null,null,null,"brrt_EnhancedCapitalRequirement","Mapped in Schedule XIII(a)",null,null,"Mandatory Control Level (100% of ACL)","Regulatory Action Level 1",1,{"$f":"IF($AC$75=100000,15000000,$AC$75)","v":{"$error":"#REF!"}},null,{"$f":"AC$118-AA109","v":{"$error":"#REF!"}},{"$f":"Z109*AA$110","v":{"$error":"#REF!"}}]
[null,null,null,null,null,null,null,null,null,null,null,null,null,null,null,null,null,null,null,null,null,null,null,"Authorized Control Level (120% of ACL)","Regulatory Action Level 2",1.2,{"$f":"IF($AC$75=100000,15000000,$AC$75)","v":{"$error":"#REF!"}},null,{"$f":"AC$118-AA110","v":{"$error":"#REF!"}},{"$f":"Z110*AA$110","v":{"$error":"#REF!"}}]
[null,"Transition Target Capital Level",null,null,null,null,null,null,null,null,null,null,null,{"$f":"N107*1.2","v":{"$error":"#REF!"}}]
[]
[null,null,null,null,null,null,null,null,null,null,null,null,null,null,null,null,null,null,null,null,null,null,null,null,"AL4",null,{"$f":"IF(N71=0,15000000,N71)","v":{"$error":"#REF!"}},null,{"$f":"AC$118-AA113","v":{"$error":"#REF!"}},{"$f":"Z113*AA$110","v":{"$error":"#REF!"}}]
[null,"RATIOS",null,null,null,null,null,null,null,null,"2019 Year-End Revised Methodology"]
[]
[null,"Transition Bermuda Solvency Capital Requirement Ratio",null,null,null,null,null,null,null,null,null,null,null,{"$f":"IF(N85=0,\"n/a\",N95/N85)","v":{"$error":"#REF!"}}]
[]
[null,"Bermuda Solvency Capital Requirement Ratio",null,null,null,null,{"$f":"IF($G$87=0,\"n/a\",$G$95/$G$87)","v":"n/a"},null,null,null,null,null,null,{"$f":"IF($N$87=0,\"n/a\",$N$95/$N$87)","v":{"$error":"#REF!"}},null,null,null,null,null,"brrt_BSCRRatio",{"$f":"XBRLMap(N118,T118,E$173,E$174,CONFIGURATION!$B$10,\"BMA\",CONFIGURATION!$B$1,\"bscr\",CONFIGURATION!$B$12)","v":{"$error":"#VALUE!"}},null,null,null,null,null,"Max Column",null,{"$f":"MAX(AD105:AD113)","v":{"$error":"#REF!"}}]
[]
[null,"Transition Enhanced Capital Requirement Ratio",null,null,null,null,null,null,null,null,null,null,null,{"$f":"IF(N107=0,\"n/a\",N95/N107)","v":{"$error":"#REF!"}}]
[]
[null,"Enhanced Capital Requirement Ratio",null,null,null,null,{"$f":"IF($G$87=0,\"n/a\",$G$95/$G$109)","v":"n/a"},null,null,null,null,null,null,{"$f":"IF($N$87=0,\"n/a\",$N$95/$N$109)","v":{"$error":"#REF!"}},null,null,null,null,null,"brrt_EnhancedCapitalRequirementRatio",{"$f":"XBRLMap(N122,T122,E$173,E$174,CONFIGURATION!$B$10,\"BMA\",CONFIGURATION!$B$1,\"bscr\",CONFIGURATION!$B$12)","v":{"$error":"#VALUE!"}}]
[]
[null,"Enhancement Capital Requirement Met",null,null,null,null,{"$f":"IF(G122=\"n/a\",\"n/a\",IF(G122>100%,\"YES\",\"NO\"))","v":"n/a"},null,null,null,null,null,null,{"$f":"IF(N122=\"n/a\",\"n/a\",IF(N122>100%,\"YES\",\"NO\"))","v":{"$error":"#REF!"}}]
[]
[]
[null,"Eligible Capital",null,null,null,null,{"$f":"#REF!","v":{"$error":"#REF!"}}]
[]
[null,null,null,null,"Applied to MSM",null,"Applied to ECR"]
[]
[null,"Tier 1 Capital ",null,null,{"$f":"+#REF!","v":{"$error":"#REF!"}},null,{"$f":"+#REF!","v":{"$error":"#REF!"}}]
[null,"Tier 2 Capital ",null,null,{"$f":"+#REF!","v":{"$error":"#REF!"}},null,{"$f":"+#REF!","v":{"$error":"#REF!"}}]
[null,"Tier 3 Capital ",null,null,{"$f":"+#REF!","v":{"$error":"#REF!"}},null,{"$f":"+#REF!","v":{"$error":"#REF!"}}]
[null,"Total Capital",null,null,{"$f":"+#REF!","v":{"$error":"#REF!"}},null,{"$f":"+#REF!","v":{"$error":"#REF!"}}]
[]
[null,"Insurer met Eligible Capital Requirement",null,null,{"$f":"IF(E134>=$G$109,\"YES\",\"NO\")","v":{"$error":"#REF!"}},null,{"$f":"IF(G134>=$G$109,\"YES\",\"NO\")","v":{"$error":"#REF!"}}]
[]
[]
[null,"Capital Adjustment - Management Action ",null,null,null,null,null,null,null,null,"2019 Year-End Revised Methodology"]
[]
[null,"Implied Loss-absorbing capacity of Technical Provisions without cap",null,null,null,null,null,null,null,null,null,null,null,{"$f":"N71-L71","v":{"$error":"#REF!"}}]
[null,"Initial FDB / Bonus reserve on EBS basis",null,null,null,null,null,null,null,null,null,null,null,{"$f":"Import!#REF!","v":{"$error":"#REF!"}}]
[null,"Adj. for the Loss-absorbing capacity of Tech. Provisions",null,null,null,null,null,null,null,null,null,null,null,{"$f":"-MAX(MIN(N141,N142),0)","v":{"$error":"#REF!"}}]
[]
[]
[null,"Other Capital Adjustment",null,null,null,null,null,null,null,null,"2019 Year-End Revised Methodology"]
[]
[null,"Adjustment = min (BSCR x t, Limit, 20% x BSCR)",null,null,null,null,null,null,null,null,null,null,{"$f":"-MIN(D154,G157,N153)","v":{"$error":"#REF!"}}]
[]
[null,"Test 1",null,null,"Test 2",null,null,"Test 3"]
[]
[null,"BSCR",null,{"$f":"N71+N75+N77+N79+N83","v":{"$error":"#REF!"}},"Limit = Past LAC + Current LAC + Future LAC",null,null,"BSCR",null,null,null,null,null,{"$f":"N71+N75+N77+N83+N79","v":{"$error":"#REF!"}}]
[null,"T",null,{"$f":"Import!#REF!","v":{"$error":"#REF!"}},"Loss Carryback Provision",null,{"$f":"MAX(0,Import!#REF!)","v":{"$error":"#REF!"}},0.2,null,null,null,null,null,{"$f":"N152*H153","v":{"$error":"#REF!"}}]
[null,"Test Result",null,{"$f":"MAX(0,D152*D153)","v":{"$error":"#REF!"}},"PAST LAC",null,{"$f":"G153*D153","v":{"$error":"#REF!"}}]
[null,null,null,null,"Current LAC",null,{"$f":"#REF!-#REF!","v":{"$error":"#REF!"}}]
[null,null,null,null,"Future LAC",null,{"$f":"#REF!*D153","v":{"$error":"#REF!"}}]
[null,null,null,null,"Total Limit",null,{"$f":"MAX(0,SUM(G154:G156))","v":{"$error":"#REF!"}}]
[]
[null,null,null,null,null,null,null,null,null,null,null,null,null,null,null,null,null,null,null,null,null,null,null,null,"AL4",null,{"$f":"IF(N115=0,15000000,N115)","v":15000000},null,{"$f":"AC$118-AA159","v":{"$error":"#REF!"}},{"$f":"Z159*AA$110","v":{"$error":"#REF!"}}]
[null,null,null,null,null,null,null,null,null,null,null,null,null,null,null,null,null,null,null,null,null,null,null,null,"AL4",null,{"$error":"#REF!"},null,{"$error":"#REF!"},{"$error":"#REF!"}]
[null,null,"Correlation Matrix",null,null,null,null,null,null,null,null,null,null,null,null,null,null,null,null,null,null,null,null,null,"AL4",null,15000000,null,{"$error":"#REF!"},{"$error":"#REF!"}]
[null,null,null,"Market Risk","Cfi","Ceq",null,null,null,null,null,null,null,null,null,null,null,null,null,null,null,null,null,null,"AL4",null,{"$error":"#REF!"},null,{"$error":"#REF!"},{"$error":"#REF!"}]
[null,null,null,"Cfi",1,0.5,null,null,null,null,null,null,null,null,null,null,null,null,null,null,null,null,null,null,"AL4",null,15000000,null,{"$error":"#REF!"},{"$error":"#REF!"}]
[null,null,null,"Ceq",0.5,1,null,null,null,null,null,null,null,null,null,null,null,null,null,null,null,null,null,null,"AL4",null,{"$error":"#REF!"},null,{"$error":"#REF!"},{"$error":"#REF!"}]
[null,null,null,null,null,null,null,null,null,null,null,null,null,null,null,null,null,null,null,null,null,null,null,null,"AL4",null,15000000,null,{"$error":"#REF!"},{"$error":"#REF!"}]
[null,null,null,"Market Risk","Market","Credit",null,null,null,null,null,null,null,null,null,null,null,null,null,null,null,null,null,null,"AL4",null,{"$error":"#REF!"},null,{"$error":"#REF!"},{"$error":"#REF!"}]
[null,null,null,"Market",1,0.25,null,null,null,null,null,null,null,null,null,null,null,null,null,null,null,null,null,null,"AL4",null,15000000,null,{"$error":"#REF!"},{"$error":"#REF!"}]
[null,null,null,"Credit",0.25,1,null,null,null,null,null,null,null,null,null,null,null,null,null,null,null,null,null,null,"AL4",null,{"$error":"#REF!"},null,{"$error":"#REF!"},{"$error":"#REF!"}]
[null,null,null,null,null,null,null,null,null,null,null,null,null,null,null,null,null,null,null,null,null,null,null,null,"AL4",null,{"$f":"IF(N132=0,15000000,N132)","v":15000000},null,{"$error":"#REF!"},{"$error":"#REF!"}]
[]
[]
[]
[null,"Rounding (decimal places)",null,null,null,null,null,null,null,null,null,null,null,10]
[]
[]
[]
[]
[null,null,null,null,null,null,null,null,null,null,null,null,null,"bma_FixedIncomeInvestmentRisk"]
[null,null,null,null,null,null,null,null,null,null,null,null,null,"bma_EquityInvestmentRisk"]
[null,null,null,null,null,null,null,null,null,null,null,null,null,"bma_InterestRateAndLiquidityRisk"]
[null,null,null,null,null,null,null,null,null,null,null,null,null,"bma_PremiumRisk"]
[null,null,null,null,null,null,null,null,null,null,null,null,null,"bma_ReserveRisk"]
[null,null,null,null,null,null,null,null,null,null,null,null,null,"bma_CreditRisk"]
[null,null,null,null,null,null,null,null,null,null,null,null,null,"bma_CatastropheRisk"]

{"sheet":"Fixed Income Investments","index":28,"n_rows":98,"n_cols":6,"rows_kept":98,"cut":false,"hidden":false,"merged":[[101,0,101,1],[0,5,0,6]]}
["FIXED INCOME INVESTMENTS",null,null,null,null,{"$f":"HYPERLINK(\"#'Index'!A1\",\"Return to Index\")","v":"Return to Index"}]
[{"$f":"'Company Information'!C7","v":"Enter Company Name"}]
["Fixed Income Investment Risk",null,{"$f":"'Company Information'!C3","v":"2019-12-31"},-1,-2,-3]
[]
[]
[null,"TYPE OF ",null,"ASSET","CAPITAL","REQUIRED"]
[null,"FIXED INCOME INVESTMENTS","STATEMENT SOURCE","VALUE","FACTOR","CAPITAL"]
[]
[null,"(a)  Corporate & Sovereign Bonds",null,null,null,"(1) x (2)"]
[]
[null,"BSCR Rating"]
[null,0,"Schedule II, Section A, Line (1), Column 1",{"$f":"'Schedule II'!D13","v":0},0,{"$f":"IF(D12<0,0,D12*E12)","v":0}]
[null,1,"Schedule II, Section A, Line (2), Column 1",{"$f":"'Schedule II'!D14","v":0},4.0000000000000001E-3,0]
[null,2,"Schedule II, Section A, Line (3), Column 1",{"$f":"'Schedule II'!D15","v":0},8.0000000000000002E-3,0]
[null,3,"Schedule II, Section A, Line (4), Column 1",{"$f":"'Schedule II'!D16","v":0},1.4999999999999999E-2,0]
[null,4,"Schedule II, Section A, Line (5), Column 1",{"$f":"'Schedule II'!D17","v":0},0.03,0]
[null,5,"Schedule II, Section A, Line (6), Column 1",{"$f":"'Schedule II'!D18","v":0},0.08,0]
[null,6,"Schedule II, Section A, Line (7), Column 1",{"$f":"'Schedule II'!D19","v":0},0.15,{"$f":"IF(D18<0,0,D18*E18)","v":0}]
[null,7,"Schedule II, Section A, Line (8), Column 1",{"$f":"'Schedule II'!D20","v":0},0.26300000000000001,{"$f":"IF(D19<0,0,D19*E19)","v":0}]
[null,8,"Schedule II, Section A, Line (9), Column 1",{"$f":"'Schedule II'!D21","v":0},0.35,{"$f":"IF(D20<0,0,D20*E20)","v":0}]
[]
[null,"(a)  SUBTOTAL -  CORPORATE BONDS",null,{"$f":"SUM(D11:D20)","v":0},null,{"$f":"IF(SUM(F11:F20)>=0,SUM(F11:F20),0)","v":0}]
[]
[null,"(b) Residential Mortgage-Backed Securities"]
[]
[null,"BSCR Rating"]
[null,1,"Schedule II, Section A, Line (2), Column 3",{"$f":"'Schedule II'!H14","v":0},6.0000000000000001E-3,{"$f":"IF(D27<0,0,D27*E27)","v":0}]
[null,2,"Schedule II, Section A, Line (3), Column 3",{"$f":"'Schedule II'!H15","v":0},1.2E-2,0]
[null,3,"Schedule II, Section A, Line (4), Column 3",{"$f":"'Schedule II'!H16","v":0},0.02,0]
[null,4,"Schedule II, Section A, Line (5), Column 3",{"$f":"'Schedule II'!H17","v":0},0.04,0]
[null,5,"Schedule II, Section A, Line (6), Column 3",{"$f":"'Schedule II'!H18","v":0},0.11,0]
[null,6,"Schedule II, Section A, Line (7), Column 3",{"$f":"'Schedule II'!H19","v":0},0.25,0]
[null,7,"Schedule II, Section A, Line (8), Column 3",{"$f":"'Schedule II'!H20","v":0},0.35,0]
[null,8,"Schedule II, Section A, Line (9), Column 3",{"$f":"'Schedule II'!H21","v":0},0.35,0]
[]
[null,"(b)  SUBTOTAL - RESIDENTIAL MORTGAGE-BACKED SECURITIES",null,{"$f":"SUM(D27:D34)","v":0},null,{"$f":"IF(SUM(F27:F34)>=0,SUM(F27:F34),0)","v":0}]
[]
[null,"(c) Commercial Mortgage-Backed Securities / Asset-Backed Securities"]
[]
[null,"BSCR Rating"]
[null,1,"Schedule II, Section A, Line (2), Column 5",{"$f":"'Schedule II'!L14","v":0},5.0000000000000001E-3,{"$f":"IF(D41<0,0,D41*E41)","v":0}]
[null,2,"Schedule II, Section A, Line (3), Column 5",{"$f":"'Schedule II'!L15","v":0},0.01,0]
[null,3,"Schedule II, Section A, Line (4), Column 5",{"$f":"'Schedule II'!L16","v":0},1.7999999999999999E-2,0]
[null,4,"Schedule II, Section A, Line (5), Column 5",{"$f":"'Schedule II'!L17","v":0},3.5000000000000003E-2,0]
[null,5,"Schedule II, Section A, Line (6), Column 5",{"$f":"'Schedule II'!L18","v":0},0.1,0]
[null,6,"Schedule II, Section A, Line (7), Column 5",{"$f":"'Schedule II'!L19","v":0},0.2,0]
[null,7,"Schedule II, Section A, Line (8), Column 5",{"$f":"'Schedule II'!L20","v":0},0.3,0]
[null,8,"Schedule II, Section A, Line (9), Column 5",{"$f":"'Schedule II'!L21","v":0},0.35,0]
[]
[null,"(c)  SUBTOTAL - COMMERCIAL MORTGAGE-BACKED SECURITIES / ASSET-BACKED SECURITIES",null,{"$f":"SUM(D41:D48)","v":0},null,{"$f":"IF(SUM(F41:F48)>=0,SUM(F41:F48),0)","v":0}]
[]
[null,"(d) Bond Mutual Funds"]
[]
[null,"BSCR Rating"]
[null,0,"Schedule II, Section A, Line (1), Column 7",{"$f":"'Schedule II'!P13","v":0},0,{"$f":"IF(D55<0,0,D55*E55)","v":0}]
[null,1,"Schedule II, Section A, Line (2), Column 7",{"$f":"'Schedule II'!P14","v":0},4.0000000000000001E-3,0]
[null,2,"Schedule II, Section A, Line (3), Column 7",{"$f":"'Schedule II'!P15","v":0},8.0000000000000002E-3,0]
[null,3,"Schedule II, Section A, Line (4), Column 7",{"$f":"'Schedule II'!P16","v":0},1.4999999999999999E-2,0]
[null,4,"Schedule II, Section A, Line (5), Column 7",{"$f":"'Schedule II'!P17","v":0},0.03,0]
[null,5,"Schedule II, Section A, Line (6), Column 7",{"$f":"'Schedule II'!P18","v":0},0.08,0]
[null,6,"Schedule II, Section A, Line (7), Column 7",{"$f":"'Schedule II'!P19","v":0},0.15,0]
[null,7,"Schedule II, Section A, Line (8), Column 7",{"$f":"'Schedule II'!P20","v":0},0.26300000000000001,0]
[null,8,"Schedule II, Section A, Line (9), Column 7",{"$f":"'Schedule II'!P21","v":0},0.35,0]
[]
[null,"(d)  SUBTOTAL - BOND MUTUAL FUNDS",null,{"$f":"SUM(D55:D63)","v":0},null,{"$f":"IF(SUM(F55:F63)>=0,SUM(F55:F63),0)","v":0}]
[]
[null,"(e) Mortgage Loans"]
[]
[null,"Insured/Guaranteed Mortgages","Schedule II, Section A, Line (11), Column 9",{"$f":"'Schedule II'!T26","v":0},3.0000000000000001E-3,{"$f":"IF(D69<0,0,D69*E69)","v":0}]
[null,"Other Commercial and Farm Mortgages","Schedule II, Section A, Line (12), Column 9",{"$f":"'Schedule II'!T27","v":0},0.05,{"$f":"IF(D70<0,0,D70*E70)","v":0}]
[null,"Other Residential Mortgages","Schedule II, Section A, Line (13), Column 9",{"$f":"'Schedule II'!T28","v":0},1.4999999999999999E-2,{"$f":"IF(D71<0,0,D71*E71)","v":0}]
[null,"Mortgages Not In Good Standing","Schedule II, Section A, Line (14), Column 9",{"$f":"'Schedule II'!T29","v":0},0.25,{"$f":"IF(D72<0,0,D72*E72)","v":0}]
[]
[null,"(e)  SUBTOTAL - MORTGAGE LOANS",null,{"$f":"SUM(D69:D72)","v":0},null,{"$f":"IF(SUM(F69:F72)>=0,SUM(F69:F72),0)","v":0}]
[]
[null,"(f) Other Fixed Income Investments"]
[]
[null,"Other Loans","Schedule II, Section A, Line (15), Column 9",{"$f":"'Schedule II'!T30","v":0},0.05,{"$f":"IF($D$78<0,0,$D$78*$E$78)","v":0}]
[]
[null,"Cash and Cash Equivalent Counterparty Balances By BSCR Rating"]
[]
[null,"BSCR Rating 0 ","Schedule XIX, Column B",{"$f":"+#REF!","v":{"$error":"#REF!"}},0,{"$f":"IF($D$82<0,0,$D$82*$E$82)","v":{"$error":"#REF!"}}]
[null,"BSCR Rating 1","Schedule XIX, Column B",{"$f":"+#REF!","v":{"$error":"#REF!"}},1E-3,{"$f":"IF($D$83<0,0,$D$83*$E$83)","v":{"$error":"#REF!"}}]
[null,"BSCR Rating 2","Schedule XIX, Column B",{"$f":"+#REF!","v":{"$error":"#REF!"}},2E-3,{"$f":"IF($D$84<0,0,$D$84*$E$84)","v":{"$error":"#REF!"}}]
[null,"BSCR Rating 3","Schedule XIX, Column B",{"$f":"+#REF!","v":{"$error":"#REF!"}},3.0000000000000001E-3,{"$f":"IF($D$85<0,0,$D$85*$E$85)","v":{"$error":"#REF!"}}]
[null,"BSCR Rating 4","Schedule XIX, Column B",{"$f":"+#REF!","v":{"$error":"#REF!"}},5.0000000000000001E-3,{"$f":"IF($D$86<0,0,$D$86*$E$86)","v":{"$error":"#REF!"}}]
[null,"BSCR Rating 5","Schedule XIX, Column B",{"$f":"+#REF!","v":{"$error":"#REF!"}},1.4999999999999999E-2,{"$f":"IF($D$87<0,0,$D$87*$E$87)","v":{"$error":"#REF!"}}]
[null,"BSCR Rating 6","Schedule XIX, Column B",{"$f":"+#REF!","v":{"$error":"#REF!"}},0.04,{"$f":"IF($D$88<0,0,$D$88*$E$88)","v":{"$error":"#REF!"}}]
[null,"BSCR Rating 7","Schedule XIX, Column B",{"$f":"+#REF!","v":{"$error":"#REF!"}},0.06,{"$f":"IF($D$89<0,0,$D$89*$E$89)","v":{"$error":"#REF!"}}]
[null,"BSCR Rating 8","Schedule XIX, Column B",{"$f":"+#REF!","v":{"$error":"#REF!"}},0.09,{"$f":"IF($D$90<0,0,$D$90*$E$90)","v":{"$error":"#REF!"}}]
[]
[null,"Total",null,{"$f":"SUM(D82:D91)","v":{"$error":"#REF!"}},null,{"$f":"SUM(F82:F91)","v":{"$error":"#REF!"}}]
[]
[null,"Diversification Adjustment up to 40%",null,null,{"$f":"+#REF!","v":{"$error":"#REF!"}},{"$f":"SUM(F82:F90)*-(#REF!)","v":{"$error":"#REF!"}}]
[]
[null,"(f)  SUBTOTAL - OTHER FIXED INCOME SECURITIES",null,{"$f":"D78","v":0},null,{"$f":"IF(F78>=0,F78,0)","v":0}]
[]
[null,"(g)  TOTAL FIXED INCOME INVESTMENTS [ (a)+(b)+(c)+(d)+(e)+(f) ]",null,{"$f":"D22+D36+D50+D65+D74+D96","v":0},null,{"$f":"F22+F36+F50+F65+F74+F96","v":0}]

{"sheet":"Equity Investments","index":29,"n_rows":65,"n_cols":6,"rows_kept":65,"cut":false,"hidden":false,"merged":[[69,0,69,1],[0,5,0,6]]}
["EQUITY INVESTMENTS",null,null,null,null,{"$f":"HYPERLINK(\"#'Index'!A1\",\"Return to Index\")","v":"Return to Index"}]
[{"$f":"'Company Information'!C7","v":"Enter Company Name"}]
[{"$f":"\"Equity Investment Risk\" & \"($\"&IF(CONFIGURATION!$B$12>1,MID(CONFIGURATION!$B$12,2,LEN(CONFIGURATION!$B$12)),\"\")&\")\"","v":"Equity Investment Risk($000)"},null,{"$f":"'Company Information'!C3","v":"2019-12-31"},-1,-2,-3]
[]
[]
[null,"TYPE OF ",null,"ASSET","CAPITAL","REQUIRED"]
[null,"EQUITY INVESTMENTS","STATEMENT SOURCE","VALUE","FACTOR","CAPITAL"]
[]
[null,"Type 1 Equity Holdings",null,null,null,"(1) x (2)"]
[]
[null,"Strategic Holdings - Listed","Schedule II, Section A, Line (17), Column (9)",{"$f":"'Schedule II'!T35","v":0},0.2,{"$f":"IF($D$11<0,0,$D$11*$E$11)","v":0}]
[null,"Duration Based","Schedule II, Section A, Line (18), Column (9)",{"$f":"'Schedule II'!T36","v":0},0.2,{"$f":"IF($D$12<0,0,$D$12*$E$12)","v":0}]
[null,"Listed Equity Securities in Developed Markets","Schedule II, Section A, Line (19), Column (9)",{"$f":"'Schedule II'!T37","v":0},0.35,{"$f":"IF($D$13<0,0,$D$13*$E$13)","v":0}]
[null,"Preferred Stocks, BSCR Rating 1","Schedule II, Section A, Line (20), Column (9)",{"$f":"'Schedule II'!T38","v":0},6.0000000000000001E-3,{"$f":"IF($D$14<0,0,$D$14*$E$14)","v":0}]
[null,"Preferred Stocks, BSCR Rating 2","Schedule II, Section A, Line (21), Column (9)",{"$f":"'Schedule II'!T39","v":0},1.2E-2,{"$f":"IF($D$15<0,0,$D$15*$E$15)","v":0}]
[null,"Preferred Stocks, BSCR Rating 3","Schedule II, Section A, Line (22), Column (9)",{"$f":"'Schedule II'!T40","v":0},0.02,{"$f":"IF($D$16<0,0,$D$16*$E$16)","v":0}]
[null,"Preferred Stocks, BSCR Rating 4","Schedule II, Section A, Line (23), Column (9)",{"$f":"'Schedule II'!T41","v":0},0.04,{"$f":"IF($D$17<0,0,$D$17*$E$17)","v":0}]
[null,"Preferred Stocks, BSCR Rating 5","Schedule II, Section A, Line (24), Column (9)",{"$f":"'Schedule II'!T42","v":0},0.11,{"$f":"IF($D$18<0,0,$D$18*$E$18)","v":0}]
[null,"Preferred Stocks, BSCR Rating 6","Schedule II, Section A, Line (25), Column (9)",{"$f":"'Schedule II'!T43","v":0},0.25,{"$f":"IF($D$19<0,0,$D$19*$E$19)","v":0}]
[null,"Preferred Stocks, BSCR Rating 7","Schedule II, Section A, Line (26), Column (9)",{"$f":"'Schedule II'!T44","v":0},0.35,{"$f":"IF($D$20<0,0,$D$20*$E$20)","v":0}]
[null,"Preferred Stocks, BSCR Rating 8","Schedule II, Section A, Line (27), Column (9)",{"$f":"'Schedule II'!T45","v":0},0.35,{"$f":"IF($D$21<0,0,$D$21*$E$21)","v":0}]
[null,"Equity Derivatives on Type 1 Equities","Schedule II, Section A, Line (28), Column (9)",{"$f":"'Schedule II'!T46","v":0},0.35,{"$f":"IF($D$22<0,0,$D$22*$E$22)","v":0}]
[]
[null,"Subtotal - Type 1 Equity Holdings",null,{"$f":"SUM(D11:D22)","v":0},null,{"$f":"IF(SUM(F11:F22)>=0,SUM(F11:F22),0)","v":0}]
[]
[null,"Type 2 Equity Holdings"]
[]
[null,"Strategic Holdings – Unlisted","Schedule II, Section A, Line (29), Column (9)",{"$f":"'Schedule II'!T47","v":0},0.2,{"$f":"IF(D28<0,0,D28*E28)","v":0}]
[null,"Other Equities","Schedule II, Section A, Line (30), Column (9)",{"$f":"'Schedule II'!T48","v":0},0.45,{"$f":"IF(D29<0,0,D29*E29)","v":0}]
[null,"Letters of Credit","Schedule II, Section A, Line (31), Column (9)",{"$f":"'Schedule II'!T49","v":0},0.2,0]
[null,"Intangible assets","Schedule II, Section A, Line (32), Column (9)",{"$f":"'Schedule II'!T50","v":0},0.2,0]
[null,"Pension Benefit Surplus","Schedule II, Section A, Line (33), Column (9)",{"$f":"'Schedule II'!T51","v":0},0.2,0]
[null,"Equity Derivatives on Type 2 Equities","Schedule II, Section A, Line (34), Column (9)",{"$f":"'Schedule II'!T52","v":0},0.45,0]
[]
[null,"Subtotal - Type 2 Equity Holdings",null,{"$f":"SUM(D28:D33)","v":0},null,{"$f":"IF(SUM(F28:F33)>=0,SUM(F28:F33),0)","v":0}]
[]
[null,"Type 3 Equity Holdings"]
[]
[null,"Real Estate"]
[null,"Infrastructure","Schedule II, Section A, Line (35), Column (9)",{"$f":"'Schedule II'!T53","v":0},0.25,{"$f":"IF($D$40<0,0,$D$40*$E$40)","v":0}]
[null,"Derivatives on Infrastructure","Schedule II, Section A, Line (36), Column (9)",{"$f":"'Schedule II'!T54","v":0},0.25,{"$f":"IF($D$41<0,0,$D$41*$E$41)","v":0}]
[]
[null,"Subtotal - Type 3 Equity Holdings",null,{"$f":"SUM(D40:D41)","v":0},null,{"$f":"IF(SUM(F40:F41)>=0,SUM(F40:F41),0)","v":0}]
[]
[null,"Type 4 Equity Holdings"]
[]
[null,"Equity Real Estate 1","Schedule II, Section A, Line (37), Column (9)",{"$f":"'Schedule II'!T55","v":0},0.1,{"$f":"IF(D47<0,0,D47*E47)","v":0}]
[null,"Equity Real Estate 2","Schedule II, Section A, Line (38), Column (9)",{"$f":"'Schedule II'!T56","v":0},0.2,{"$f":"IF(D48<0,0,D48*E48)","v":0}]
[]
[null,"Subtotal - Type 4 Equity Holdings",null,{"$f":"SUM(D47:D48)","v":0},null,{"$f":"IF(SUM(F47:F48)>=0,SUM(F47:F48),0)","v":0}]
[]
[null,null,"Total Type 1",{"$f":"D24","v":0},null,{"$f":"F24","v":0}]
[null,null,"Total Type 2",{"$f":"D35","v":0},null,{"$f":"F35","v":0}]
[null,null,"Total Type 3",{"$f":"D43","v":0},null,{"$f":"F43","v":0}]
[null,null,"Total Type 4",{"$f":"D50","v":0},null,{"$f":"F50","v":0}]
[]
[null,"Total Equity Risk (Post Diversification) ",null,{"$f":"SUM(D52:D55)","v":0},null,{"$f":"SQRT(MMULT(TRANSPOSE(F52:F55),MMULT($C$62:$F$65,F52:F55)))","v":0}]
[]
[null,"Aggregation of Risks"]
[]
[null,"Correlation Matrix","Type 1","Type 2","Type 3","Type 4"]
[null,"Type 1",1,0.75,0.75,0.5]
[null,"Type 2",0.75,1,0.75,0.5]
[null,"Type 3",0.75,0.75,1,0.5]
[null,"Type 4",0.5,0.5,0.5,1]

{"sheet":"Credit Risk","index":30,"n_rows":41,"n_cols":6,"rows_kept":41,"cut":false,"hidden":false,"merged":[[43,0,43,1],[0,5,0,6]]}
["CREDIT RISK",null,null,null,null,{"$f":"HYPERLINK(\"#'Index'!A1\",\"Return to Index\")","v":"Return to Index"}]
[{"$f":"'Company Information'!C7","v":"Enter Company Name"}]
[{"$f":"\"Credit Risk\" & \"($\"&IF(CONFIGURATION!$B$12>1,MID(CONFIGURATION!$B$12,2,LEN(CONFIGURATION!$B$12)),\"\")&\")\"","v":"Credit Risk($000)"},null,{"$f":"'Company Information'!C3","v":"2019-12-31"},-1,-2,-3]
[]
[]
[null,"TYPE OF ",null,"RECEIVABLES/","CAPITAL","REQUIRED"]
[null,"DEBTOR","STATEMENT SOURCE","RECOVERABLES","FACTOR","CAPITAL"]
[]
[null,"(a)  Accounts and Premiums Receivable",null,null,null,"(1) x (2)"]
[]
[null,"In Course of Collection","Form 1EBS, Line (10a)",{"$f":"#REF!","v":{"$error":"#REF!"}},0.05,{"$f":"IF($D$11<0,0,$D$11*$E$11)","v":{"$error":"#REF!"}}]
[null,"Receivables from retrocessional contracts Less: Collateralized Balances","Form 1EBS, Line (10c), Notes to Form 1EBS, Line (10)",{"$f":"#REF!-#REF!","v":{"$error":"#REF!"}},0.1,{"$f":"$D$12*$E$12","v":{"$error":"#REF!"}}]
[]
[null,"(a)  SUBTOTAL - ACCOUNTS AND PREMIUMS RECEIVABLE",null,{"$f":"SUM(D11:D12)","v":{"$error":"#REF!"}},null,{"$f":"IF(SUM(F11:F12)>=0,SUM(F11:F12),0)","v":{"$error":"#REF!"}}]
[]
[null,"(b)  All Other Receivables"]
[]
[null,"Accrued Investment Income","Form 1EBS, Line (9)",{"$f":"#REF!","v":{"$error":"#REF!"}},2.5000000000000001E-2,{"$f":"IF($D$18<0,0,$D$18*$E$18)","v":{"$error":"#REF!"}}]
[null,"Advances to Affiliates","Form 1EBS, Line (4g)",{"$f":"#REF!","v":{"$error":"#REF!"}},0.05,{"$f":"IF($D$19<0,0,$D$19*$E$19)","v":{"$error":"#REF!"}}]
[]
[null,"(b)  SUBTOTAL - ALL OTHER RECEIVABLES",null,{"$f":"SUM(D18:D19)","v":{"$error":"#REF!"}},null,{"$f":"IF(SUM(F18:F19)>=0,SUM(F18:F19),0)","v":{"$error":"#REF!"}}]
[]
[null,"(a) Particulars of Ceded Reinsurance Cover By BSCR Rating",null,null,null,"Max(0, (Column (1) x Column (2) ))"]
[null,0]
[null,"BSCR Rating 0","Schedule XVIII, Column E",{"$f":"'Schedule XVIII'!N60","v":0},0,{"$f":"IF(D25<0,0,D25*E25)","v":0}]
[null,"BSCR Rating 1","Schedule XVIII, Column E",{"$f":"'Schedule XVIII'!N61","v":0},7.0000000000000001E-3,0]
[null,"BSCR Rating 2","Schedule XVIII, Column E",{"$f":"'Schedule XVIII'!N62","v":0},1.4999999999999999E-2,0]
[null,"BSCR Rating 3","Schedule XVIII, Column E",{"$f":"'Schedule XVIII'!N63","v":0},3.5000000000000003E-2,0]
[null,"BSCR Rating 4","Schedule XVIII, Column E",{"$f":"'Schedule XVIII'!N64","v":0},7.0000000000000007E-2,0]
[null,"BSCR Rating 5","Schedule XVIII, Column E",{"$f":"'Schedule XVIII'!N65","v":0},0.12,0]
[null,"BSCR Rating 6","Schedule XVIII, Column E",{"$f":"'Schedule XVIII'!N66","v":0},0.2,0]
[null,"BSCR Rating 7","Schedule XVIII, Column E",{"$f":"'Schedule XVIII'!N67","v":0},0.27,0]
[null,"BSCR Rating 8","Schedule XVIII, Column E",{"$f":"'Schedule XVIII'!N68","v":0},0.35,0]
[null,0]
[null,"Total",null,{"$f":"SUM(D25:D33)","v":0},null,{"$f":"SUM(F25:F33)","v":0}]
[null,0]
[null,"Diversification Adjustment up to 40%","Schedule XVIII, Column E",null,{"$f":"'Schedule XVIII'!N82","v":0},{"$f":"SUM(F25:F33)*-('Schedule XVIII'!N82)","v":0}]
[]
[null,"(c)  SUBTOTAL - PARTICULARS OF REINSURANCE BALANCES BY BSCR RATING",null,{"$f":"+D35","v":0},null,{"$f":"SUM(F25:F33)+F37","v":0}]
[]
[null,"TOTAL CREDIT RISK",null,{"$f":"D35","v":0},null,{"$f":"SUM(F25:F33)+F37","v":0}]

{"sheet":"Company Specific Parameters","index":31,"n_rows":547,"n_cols":21,"rows_kept":547,"cut":false,"hidden":false,"merged":[[2,5,3,8],[2,0,2,2],[5,1,5,8],[0,0,0,6]]}
["COMPANY SPECIFIC PARAMETERS",null,null,null,null,null,null,null,{"$f":"HYPERLINK(\"#'Index'!A1\",\"Return to Index\")","v":"Return to Index"},null,null,null,null,null,null,null,null,null,null,null,{"$f":"IF(C4=\"\",\"\",TEXT(DATE(YEAR(C4+1)-1,MONTH(C4+1),DAY(C4+1)),\"mm/dd/yyyy\"))","v":"01/01/2019"}]
[null,null,null,null,null,null,null,null,null,null,null,null,"",null,null,null,null,null,null,null,{"$f":"IF(C4=\"\",\"\",TEXT(C4,\"mm/dd/yyyy\"))","v":"12/31/2019"}]
[{"$f":"'Company Information'!C7","v":"Enter Company Name"},null,null,null,null,{"$f":"HYPERLINK(\"#'Attachments'!A205\",\"Details of User Capital Factor to be included in the attachments section 11.\")","v":"Details of User Capital Factor to be included in the attachments section 11."}]
["For the Year Ending ",null,{"$f":"'Company Information'!C3","v":"2019-12-31"},null,null,null,null,null,null,null,null,null,""]
[null,null,null,null,null,null,null,null,null,null,null,null,"",null,null,null,null,null,null,null,{"$f":"IF(C7=\"\",\"\",TEXT(C7,\"mm/dd/yyyy\"))","v":""}]
[null,"To be completed only with prior approval from the Bermuda Monetary Authority"]
[null,null,null,null,null,null,null,null,null,null,null,null,"",null,null,null,null,null,null,null,{"$f":"IF(C9=\"\",\"\",TEXT(C9,\"mm/dd/yyyy\"))","v":""}]
[null,null,null,null,"STANDARD","STANDARD",null,"USER","USER"]
[null,"TYPE OF ",null,"ASSET","CAPITAL","REQUIRED",null,"CAPITAL","REQUIRED"]
[null,"FIXED INCOME INVESTMENTS","STATEMENT SOURCE","VALUE","FACTOR","CAPITAL",null,"FACTOR","CAPITAL"]
[]
[null,"(a) Corporate & Sovereign Bonds",null,"(1) ","(2)","(1) x (2)",null,"(3)","(1) x (3)"]
[]
[null,"BSCR Rating"]
[null,0,{"$f":"'Fixed Income Investments'!C12","v":"Schedule II, Section A, Line (1), Column 1"},{"$f":"'Fixed Income Investments'!D12","v":0},{"$f":"'Fixed Income Investments'!E12","v":0},{"$f":"IF(D15<0,0,D15*E15)","v":0},null,null,{"$f":"MAX(0,IF(H15=\"\",E15*D15,D15*H15))","v":0}]
[null,1,{"$f":"'Fixed Income Investments'!C13","v":"Schedule II, Section A, Line (2), Column 1"},{"$f":"'Fixed Income Investments'!D13","v":0},{"$f":"'Fixed Income Investments'!E13","v":4.0000000000000001E-3},0,null,null,{"$f":"MAX(0,IF(H16=\"\",E16*D16,D16*H16))","v":0}]
[null,2,{"$f":"'Fixed Income Investments'!C14","v":"Schedule II, Section A, Line (3), Column 1"},{"$f":"'Fixed Income Investments'!D14","v":0},{"$f":"'Fixed Income Investments'!E14","v":8.0000000000000002E-3},0,null,null,0]
[null,3,{"$f":"'Fixed Income Investments'!C15","v":"Schedule II, Section A, Line (4), Column 1"},{"$f":"'Fixed Income Investments'!D15","v":0},{"$f":"'Fixed Income Investments'!E15","v":1.4999999999999999E-2},0,null,null,0]
[null,4,{"$f":"'Fixed Income Investments'!C16","v":"Schedule II, Section A, Line (5), Column 1"},{"$f":"'Fixed Income Investments'!D16","v":0},{"$f":"'Fixed Income Investments'!E16","v":0.03},0,null,null,0]
[null,5,{"$f":"'Fixed Income Investments'!C17","v":"Schedule II, Section A, Line (6), Column 1"},{"$f":"'Fixed Income Investments'!D17","v":0},{"$f":"'Fixed Income Investments'!E17","v":0.08},0,null,null,0]
[null,6,{"$f":"'Fixed Income Investments'!C18","v":"Schedule II, Section A, Line (7), Column 1"},{"$f":"'Fixed Income Investments'!D18","v":0},{"$f":"'Fixed Income Investments'!E18","v":0.15},0,null,null,0]
[null,7,{"$f":"'Fixed Income Investments'!C19","v":"Schedule II, Section A, Line (8), Column 1"},{"$f":"'Fixed Income Investments'!D19","v":0},{"$f":"'Fixed Income Investments'!E19","v":0.26300000000000001},0,null,null,0]
[null,8,{"$f":"'Fixed Income Investments'!C20","v":"Schedule II, Section A, Line (9), Column 1"},{"$f":"'Fixed Income Investments'!D20","v":0},{"$f":"'Fixed Income Investments'!E20","v":0.35},0,null,null,0]
[]
[null,"(a)  SUBTOTAL -  CORPORATE BONDS",null,{"$f":"SUM(D15:D24)","v":0},null,{"$f":"IF(SUM(F15:F23)>=0,SUM(F15:F23),0)","v":0},null,null,{"$f":"IF(SUM(I15:I23)>=0,SUM(I15:I23),0)","v":0}]
[]
[null,"(b) Residential Mortgage-Backed Securities"]
[]
[null,"BSCR Rating"]
[null,1,{"$f":"'Fixed Income Investments'!C27","v":"Schedule II, Section A, Line (2), Column 3"},{"$f":"'Fixed Income Investments'!D27","v":0},{"$f":"'Fixed Income Investments'!E27","v":6.0000000000000001E-3},{"$f":"IF(D30<0,0,D30*E30)","v":0},null,null,{"$f":"MAX(0,IF(H30=\"\",E30*D30,D30*H30))","v":0}]
[null,2,{"$f":"'Fixed Income Investments'!C28","v":"Schedule II, Section A, Line (3), Column 3"},{"$f":"'Fixed Income Investments'!D28","v":0},{"$f":"'Fixed Income Investments'!E28","v":1.2E-2},0,null,null,0]
[null,3,{"$f":"'Fixed Income Investments'!C29","v":"Schedule II, Section A, Line (4), Column 3"},{"$f":"'Fixed Income Investments'!D29","v":0},{"$f":"'Fixed Income Investments'!E29","v":0.02},0,null,null,0]
[null,4,{"$f":"'Fixed Income Investments'!C30","v":"Schedule II, Section A, Line (5), Column 3"},{"$f":"'Fixed Income Investments'!D30","v":0},{"$f":"'Fixed Income Investments'!E30","v":0.04},0,null,null,0]
[null,5,{"$f":"'Fixed Income Investments'!C31","v":"Schedule II, Section A, Line (6), Column 3"},{"$f":"'Fixed Income Investments'!D31","v":0},{"$f":"'Fixed Income Investments'!E31","v":0.11},0,null,null,0]
[null,6,{"$f":"'Fixed Income Investments'!C32","v":"Schedule II, Section A, Line (7), Column 3"},{"$f":"'Fixed Income Investments'!D32","v":0},{"$f":"'Fixed Income Investments'!E32","v":0.25},0,null,null,0]
[null,7,{"$f":"'Fixed Income Investments'!C33","v":"Schedule II, Section A, Line (8), Column 3"},{"$f":"'Fixed Income Investments'!D33","v":0},{"$f":"'Fixed Income Investments'!E33","v":0.35},0,null,null,0]
[null,8,{"$f":"'Fixed Income Investments'!C34","v":"Schedule II, Section A, Line (9), Column 3"},{"$f":"'Fixed Income Investments'!D34","v":0},{"$f":"'Fixed Income Investments'!E34","v":0.35},0,null,null,0]
[]
[null,"(b)  SUBTOTAL - RESIDENTIAL MORTGAGE-BACKED SECURITIES",null,{"$f":"SUM(D29:D38)","v":0},null,{"$f":"IF(SUM(F29:F37)>=0,SUM(F29:F37),0)","v":0},null,null,{"$f":"IF(SUM(I29:I37)>=0,SUM(I29:I37),0)","v":0}]
[]
[null,"(c) Commercial Mortgage-Backed Securities / Asset-Backed Securities"]
[]
[null,"BSCR Rating"]
[null,1,{"$f":"'Fixed Income Investments'!C41","v":"Schedule II, Section A, Line (2), Column 5"},{"$f":"'Fixed Income Investments'!D41","v":0},{"$f":"'Fixed Income Investments'!E41","v":5.0000000000000001E-3},{"$f":"IF(D44<0,0,D44*E44)","v":0},null,null,{"$f":"MAX(0,IF(H44=\"\",E44*D44,D44*H44))","v":0}]
[null,2,{"$f":"'Fixed Income Investments'!C42","v":"Schedule II, Section A, Line (3), Column 5"},{"$f":"'Fixed Income Investments'!D42","v":0},{"$f":"'Fixed Income Investments'!E42","v":0.01},0,null,null,0]
[null,3,{"$f":"'Fixed Income Investments'!C43","v":"Schedule II, Section A, Line (4), Column 5"},{"$f":"'Fixed Income Investments'!D43","v":0},{"$f":"'Fixed Income Investments'!E43","v":1.7999999999999999E-2},0,null,null,0]
[null,4,{"$f":"'Fixed Income Investments'!C44","v":"Schedule II, Section A, Line (5), Column 5"},{"$f":"'Fixed Income Investments'!D44","v":0},{"$f":"'Fixed Income Investments'!E44","v":3.5000000000000003E-2},0,null,null,0]
[null,5,{"$f":"'Fixed Income Investments'!C45","v":"Schedule II, Section A, Line (6), Column 5"},{"$f":"'Fixed Income Investments'!D45","v":0},{"$f":"'Fixed Income Investments'!E45","v":0.1},0,null,null,0]
[null,6,{"$f":"'Fixed Income Investments'!C46","v":"Schedule II, Section A, Line (7), Column 5"},{"$f":"'Fixed Income Investments'!D46","v":0},{"$f":"'Fixed Income Investments'!E46","v":0.2},0,null,null,0]
[null,7,{"$f":"'Fixed Income Investments'!C47","v":"Schedule II, Section A, Line (8), Column 5"},{"$f":"'Fixed Income Investments'!D47","v":0},{"$f":"'Fixed Income Investments'!E47","v":0.3},0,null,null,0]
[null,8,{"$f":"'Fixed Income Investments'!C48","v":"Schedule II, Section A, Line (9), Column 5"},{"$f":"'Fixed Income Investments'!D48","v":0},{"$f":"'Fixed Income Investments'!E48","v":0.35},0,null,null,0]
[]
[null,"(c)  SUBTOTAL - COMMERCIAL MORTGAGE-BACKED SECURITIES / ASSET-BACKED SECURITIES",null,{"$f":"SUM(D43:D52)","v":0},null,{"$f":"IF(SUM(F43:F51)>=0,SUM(F43:F51),0)","v":0},null,null,{"$f":"IF(SUM(I43:I51)>=0,SUM(I43:I51),0)","v":0}]
[]
[null,"(d) Bond Mutual Funds"]
[]
[null,"BSCR Rating"]
[null,0,{"$f":"'Fixed Income Investments'!C55","v":"Schedule II, Section A, Line (1), Column 7"},{"$f":"'Fixed Income Investments'!D55","v":0},{"$f":"'Fixed Income Investments'!E55","v":0},{"$f":"IF(D58<0,0,D58*E58)","v":0},null,null,{"$f":"MAX(0,IF(H58=\"\",E58*D58,D58*H58))","v":0}]
[null,1,{"$f":"'Fixed Income Investments'!C56","v":"Schedule II, Section A, Line (2), Column 7"},{"$f":"'Fixed Income Investments'!D56","v":0},{"$f":"'Fixed Income Investments'!E56","v":4.0000000000000001E-3},0,null,null,0]
[null,2,{"$f":"'Fixed Income Investments'!C57","v":"Schedule II, Section A, Line (3), Column 7"},{"$f":"'Fixed Income Investments'!D57","v":0},{"$f":"'Fixed Income Investments'!E57","v":8.0000000000000002E-3},0,null,null,0]
[null,3,{"$f":"'Fixed Income Investments'!C58","v":"Schedule II, Section A, Line (4), Column 7"},{"$f":"'Fixed Income Investments'!D58","v":0},{"$f":"'Fixed Income Investments'!E58","v":1.4999999999999999E-2},0,null,null,0]
[null,4,{"$f":"'Fixed Income Investments'!C59","v":"Schedule II, Section A, Line (5), Column 7"},{"$f":"'Fixed Income Investments'!D59","v":0},{"$f":"'Fixed Income Investments'!E59","v":0.03},0,null,null,0]
[null,5,{"$f":"'Fixed Income Investments'!C60","v":"Schedule II, Section A, Line (6), Column 7"},{"$f":"'Fixed Income Investments'!D60","v":0},{"$f":"'Fixed Income Investments'!E60","v":0.08},0,null,null,0]
[null,6,{"$f":"'Fixed Income Investments'!C61","v":"Schedule II, Section A, Line (7), Column 7"},{"$f":"'Fixed Income Investments'!D61","v":0},{"$f":"'Fixed Income Investments'!E61","v":0.15},0,null,null,0]
[null,7,{"$f":"'Fixed Income Investments'!C62","v":"Schedule II, Section A, Line (8), Column 7"},{"$f":"'Fixed Income Investments'!D62","v":0},{"$f":"'Fixed Income Investments'!E62","v":0.26300000000000001},0,null,null,0]
[null,8,{"$f":"'Fixed Income Investments'!C63","v":"Schedule II, Section A, Line (9), Column 7"},{"$f":"'Fixed Income Investments'!D63","v":0},{"$f":"'Fixed Income Investments'!E63","v":0.35},0,null,null,0]
[]
[null,"(d)  SUBTOTAL - BOND MUTUAL FUNDS",null,{"$f":"SUM(D58:D67)","v":0},null,{"$f":"IF(SUM(F58:F66)>=0,SUM(F58:F66),0)","v":0},null,null,{"$f":"IF(SUM(I58:I66)>=0,SUM(I58:I66),0)","v":0}]
[]
[null,"(e) Mortgage Loans"]
[]
[null,"Insured/Guaranteed Mortgages",{"$f":"'Fixed Income Investments'!C69","v":"Schedule II, Section A, Line (11), Column 9"},{"$f":"'Fixed Income Investments'!D69","v":0},{"$f":"'Fixed Income Investments'!E69","v":3.0000000000000001E-3},{"$f":"IF(D72<0,0,D72*E72)","v":0},null,null,{"$f":"MAX(0,IF(H72=\"\",E72*D72,D72*H72))","v":0}]
[null,"Other Commercial and Farm Mortgages",{"$f":"'Fixed Income Investments'!C70","v":"Schedule II, Section A, Line (12), Column 9"},{"$f":"'Fixed Income Investments'!D70","v":0},{"$f":"'Fixed Income Investments'!E70","v":0.05},{"$f":"IF(D73<0,0,D73*E73)","v":0},null,null,{"$f":"MAX(0,IF(H73=\"\",E73*D73,D73*H73))","v":0}]
[null,"Other Residential Mortgages",{"$f":"'Fixed Income Investments'!C71","v":"Schedule II, Section A, Line (13), Column 9"},{"$f":"'Fixed Income Investments'!D71","v":0},{"$f":"'Fixed Income Investments'!E71","v":1.4999999999999999E-2},{"$f":"IF(D74<0,0,D74*E74)","v":0},null,null,{"$f":"MAX(0,IF(H74=\"\",E74*D74,D74*H74))","v":0}]
[null,"Mortgages Not In Good Standing",{"$f":"'Fixed Income Investments'!C72","v":"Schedule II, Section A, Line (14), Column 9"},{"$f":"'Fixed Income Investments'!D72","v":0},{"$f":"'Fixed Income Investments'!E72","v":0.25},{"$f":"IF(D75<0,0,D75*E75)","v":0},null,null,{"$f":"MAX(0,IF(H75=\"\",E75*D75,D75*H75))","v":0}]
[]
[null,"(e)  SUBTOTAL - MORTGAGE LOANS",null,{"$f":"SUM(D72:D76)","v":0},null,{"$f":"IF(SUM(F72:F75)>=0,SUM(F72:F75),0)","v":0},null,null,{"$f":"IF(SUM(I72:I75)>=0,SUM(I72:I75),0)","v":0}]
[]
[null,"(f) Other Fixed Income Investments"]
[]
[null,"Other Loans",{"$f":"'Fixed Income Investments'!C78","v":"Schedule II, Section A, Line (15), Column 9"},{"$f":"'Fixed Income Investments'!D78","v":0},{"$f":"'Fixed Income Investments'!E78","v":0.05},{"$f":"IF(D81<0,0,D81*E81)","v":0},null,null,{"$f":"MAX(0,IF(H81=\"\",E81*D81,D81*H81))","v":0}]
[]
[null,"Cash and Cash Equivalent Counterparty Balances By BSCR Rating"]
[]
[null,"BSCR Rating 0 ","Schedule XIX, Column B",{"$f":"+#REF!","v":{"$error":"#REF!"}},{"$f":"+'Fixed Income Investments'!E82","v":0},{"$f":"IF(D85<0,0,D85*E85)","v":{"$error":"#REF!"}},null,null,{"$f":"MAX(0,IF(H85=\"\",E85*D85,D85*H85))","v":{"$error":"#REF!"}}]
[null,"BSCR Rating 1","Schedule XIX, Column B",{"$f":"+#REF!","v":{"$error":"#REF!"}},{"$f":"+'Fixed Income Investments'!E83","v":1E-3},{"$f":"IF(D86<0,0,D86*E86)","v":{"$error":"#REF!"}},null,null,{"$f":"MAX(0,IF(H86=\"\",E86*D86,D86*H86))","v":{"$error":"#REF!"}}]
[null,"BSCR Rating 2","Schedule XIX, Column B",{"$f":"+#REF!","v":{"$error":"#REF!"}},{"$f":"+'Fixed Income Investments'!E84","v":2E-3},{"$error":"#REF!"},null,null,{"$error":"#REF!"}]
[null,"BSCR Rating 3","Schedule XIX, Column B",{"$f":"+#REF!","v":{"$error":"#REF!"}},{"$f":"+'Fixed Income Investments'!E85","v":3.0000000000000001E-3},{"$error":"#REF!"},null,null,{"$error":"#REF!"}]
[null,"BSCR Rating 4","Schedule XIX, Column B",{"$f":"+#REF!","v":{"$error":"#REF!"}},{"$f":"+'Fixed Income Investments'!E86","v":5.0000000000000001E-3},{"$error":"#REF!"},null,null,{"$error":"#REF!"}]
[null,"BSCR Rating 5","Schedule XIX, Column B",{"$f":"+#REF!","v":{"$error":"#REF!"}},{"$f":"+'Fixed Income Investments'!E87","v":1.4999999999999999E-2},{"$error":"#REF!"},null,null,{"$error":"#REF!"}]
[null,"BSCR Rating 6","Schedule XIX, Column B",{"$f":"+#REF!","v":{"$error":"#REF!"}},{"$f":"+'Fixed Income Investments'!E88","v":0.04},{"$error":"#REF!"},null,null,{"$error":"#REF!"}]
[null,"BSCR Rating 7","Schedule XIX, Column B",{"$f":"+#REF!","v":{"$error":"#REF!"}},{"$f":"+'Fixed Income Investments'!E89","v":0.06},{"$error":"#REF!"},null,null,{"$error":"#REF!"}]
[null,"BSCR Rating 8","Schedule XIX, Column B",{"$f":"+#REF!","v":{"$error":"#REF!"}},{"$f":"+'Fixed Income Investments'!E90","v":0.09},{"$error":"#REF!"},null,null,{"$error":"#REF!"}]
[]
[null,"Total",null,{"$f":"SUM(D85:D94)","v":{"$error":"#REF!"}},null,{"$f":"SUM(F85:F94)","v":{"$error":"#REF!"}},null,null,{"$f":"SUM(I85:I94)","v":{"$error":"#REF!"}}]
[]
[null,"Diversification Adj at 40%","Schedule XIX, Column B",null,null,{"$f":"SUM(F85:F93)*-(+#REF!)","v":{"$error":"#REF!"}},null,null,{"$f":"SUM(I85:I93)*-(+#REF!)","v":{"$error":"#REF!"}}]
[]
[null,"(f)  SUBTOTAL - OTHER FIXED INCOME SECURITIES",null,{"$f":"D81","v":0},null,{"$f":"IF(F81>=0,F81,0)","v":0},null,null,{"$f":"IF(I81>=0,I81,0)","v":0}]
[]
[null,"(g)  TOTAL FIXED INCOME INVESTMENTS [ (a)+(b)+(c)+(d)+(e)+(f) ]",null,{"$f":"D25+D39+D53+D68+D77+D99","v":0},null,{"$f":"IF(SUM(F25+F39+F53+F68+F77+F99)>=0,SUM(F25+F39+F53+F68+F77+F99),0)","v":0},null,null,{"$f":"IF(SUM(I25+I39+I53+I68+I77+I99)>=0,SUM(I25+I39+I53+I68+I77+I99),0)","v":0}]
[]
[null,null,null,null,"STANDARD","STANDARD",null,"USER","USER"]
[null,"TYPE OF ",null,"ASSET","CAPITAL","REQUIRED",null,"CAPITAL","REQUIRED"]
[null,"EQUITY INVESTMENTS","STATEMENT SOURCE","VALUE","FACTOR","CAPITAL",null,"FACTOR","CAPITAL"]
[]
[null,"Type 1 Equity Holdings",null,"(1) ","(2)","(1) x (2)",null,"(3)","(1) x (3)"]
[]
[null,"Strategic Holdings - Listed",{"$f":"'Equity Investments'!C11","v":"Schedule II, Section A, Line (17), Column (9)"},{"$f":"'Equity Investments'!D11","v":0},{"$f":"'Equity Investments'!E11","v":0.2},{"$f":"IF(D109<0,0,D109*E109)","v":0},null,null,{"$f":"MAX(0,IF(H109=\"\",E109*D109,D109*H109))","v":0}]
[null,"Duration Based",{"$f":"'Equity Investments'!C12","v":"Schedule II, Section A, Line (18), Column (9)"},{"$f":"'Equity Investments'!D12","v":0},{"$f":"'Equity Investments'!E12","v":0.2},{"$f":"IF(D110<0,0,D110*E110)","v":0},null,null,{"$f":"MAX(0,IF(H110=\"\",E110*D110,D110*H110))","v":0}]
[null,"Listed Equity Securities in Developed Markets",{"$f":"'Equity Investments'!C13","v":"Schedule II, Section A, Line (19), Column (9)"},{"$f":"'Equity Investments'!D13","v":0},{"$f":"'Equity Investments'!E13","v":0.35},{"$f":"IF(D111<0,0,D111*E111)","v":0},null,null,{"$f":"MAX(0,IF(H111=\"\",E111*D111,D111*H111))","v":0}]
[null,"Preferred Stocks, Rating 1",{"$f":"'Equity Investments'!C14","v":"Schedule II, Section A, Line (20), Column (9)"},{"$f":"'Equity Investments'!D14","v":0},{"$f":"'Equity Investments'!E14","v":6.0000000000000001E-3},0,null,null,0]
[null,"Preferred Stocks, Rating 2",{"$f":"'Equity Investments'!C15","v":"Schedule II, Section A, Line (21), Column (9)"},{"$f":"'Equity Investments'!D15","v":0},{"$f":"'Equity Investments'!E15","v":1.2E-2},0,null,null,0]
[null,"Preferred Stocks, Rating 3",{"$f":"'Equity Investments'!C16","v":"Schedule II, Section A, Line (22), Column (9)"},{"$f":"'Equity Investments'!D16","v":0},{"$f":"'Equity Investments'!E16","v":0.02},0,null,null,0]
[null,"Preferred Stocks, BSCR 4",{"$f":"'Equity Investments'!C17","v":"Schedule II, Section A, Line (23), Column (9)"},{"$f":"'Equity Investments'!D17","v":0},{"$f":"'Equity Investments'!E17","v":0.04},0,null,null,0]
[null,"Preferred Stocks, BSCR 5",{"$f":"'Equity Investments'!C18","v":"Schedule II, Section A, Line (24), Column (9)"},{"$f":"'Equity Investments'!D18","v":0},{"$f":"'Equity Investments'!E18","v":0.11},0,null,null,0]
[null,"Preferred Stocks, BSCR 6",{"$f":"'Equity Investments'!C19","v":"Schedule II, Section A, Line (25), Column (9)"},{"$f":"'Equity Investments'!D19","v":0},{"$f":"'Equity Investments'!E19","v":0.25},0,null,null,0]
[null,"Preferred Stocks, BSCR  7",{"$f":"'Equity Investments'!C20","v":"Schedule II, Section A, Line (26), Column (9)"},{"$f":"'Equity Investments'!D20","v":0},{"$f":"'Equity Investments'!E20","v":0.35},0,null,null,0]
[null,"Preferred Stocks, BSCR 8",{"$f":"'Equity Investments'!C21","v":"Schedule II, Section A, Line (27), Column (9)"},{"$f":"'Equity Investments'!D21","v":0},{"$f":"'Equity Investments'!E21","v":0.35},0,null,null,0]
[null,"Equity Derivatives on Type 1 Equities",{"$f":"'Equity Investments'!C22","v":"Schedule II, Section A, Line (28), Column (9)"},{"$f":"'Equity Investments'!D22","v":0},{"$f":"'Equity Investments'!E22","v":0.35},0,null,null,0]
[]
[null,"Subtotal - Type 1 Equity Holdings",null,{"$f":"SUM(D109:D120)","v":0},null,{"$f":"IF(SUM(F109:F120)>=0,SUM(F109:F120),0)","v":0},null,null,{"$f":"IF(SUM(I109:I120)>=0,SUM(I109:I120),0)","v":0}]
[]
[null,"Type 2 Equity Holdings"]
[]
[null,"Strategic Holdings – Unlisted",{"$f":"'Equity Investments'!C28","v":"Schedule II, Section A, Line (29), Column (9)"},{"$f":"'Equity Investments'!D28","v":0},{"$f":"'Equity Investments'!E28","v":0.2},{"$f":"IF(D126<0,0,D126*E126)","v":0},null,null,{"$f":"MAX(0,IF(H126=\"\",E126*D126,D126*H126))","v":0}]
[null,"Other Equities",{"$f":"'Equity Investments'!C29","v":"Schedule II, Section A, Line (30), Column (9)"},{"$f":"'Equity Investments'!D29","v":0},{"$f":"'Equity Investments'!E29","v":0.45},{"$f":"IF(D127<0,0,D127*E127)","v":0},null,null,{"$f":"MAX(0,IF(H127=\"\",E127*D127,D127*H127))","v":0}]
[null,"Letters of Credit",{"$f":"'Equity Investments'!C30","v":"Schedule II, Section A, Line (31), Column (9)"},{"$f":"'Equity Investments'!D30","v":0},{"$f":"'Equity Investments'!E30","v":0.2},0,null,null,0]
[null,"Intangible assets",{"$f":"'Equity Investments'!C31","v":"Schedule II, Section A, Line (32), Column (9)"},{"$f":"'Equity Investments'!D31","v":0},{"$f":"'Equity Investments'!E31","v":0.2},0,null,null,0]
[null,"Pension Benefit Surplus",{"$f":"'Equity Investments'!C32","v":"Schedule II, Section A, Line (33), Column (9)"},{"$f":"'Equity Investments'!D32","v":0},{"$f":"'Equity Investments'!E32","v":0.2},0,null,null,0]
[null,"Equity Derivatives on Type 2 Equities",{"$f":"'Equity Investments'!C33","v":"Schedule II, Section A, Line (34), Column (9)"},{"$f":"'Equity Investments'!D33","v":0},{"$f":"'Equity Investments'!E33","v":0.45},0,null,null,0]
[]
[null,"Subtotal - Type 2 Equity Holdings",null,{"$f":"SUM(D126:D131)","v":0},null,{"$f":"IF(SUM(F126:F131)>=0,SUM(F126:F131),0)","v":0},null,null,{"$f":"IF(SUM(I126:I131)>=0,SUM(I126:I131),0)","v":0}]
[]
[null,"Type 3 Equity Holdings"]
[]
[null,"Real Estate"]
[null,"Infrastructure",{"$f":"'Equity Investments'!C40","v":"Schedule II, Section A, Line (35), Column (9)"},{"$f":"'Equity Investments'!D40","v":0},{"$f":"'Equity Investments'!E40","v":0.25},{"$f":"IF(D138<0,0,D138*E138)","v":0},null,null,{"$f":"MAX(0,IF(H138=\"\",E138*D138,D138*H138))","v":0}]
[null,"Derivatives on Infrastructure",{"$f":"'Equity Investments'!C41","v":"Schedule II, Section A, Line (36), Column (9)"},{"$f":"'Equity Investments'!D41","v":0},{"$f":"'Equity Investments'!E41","v":0.25},{"$f":"IF(D139<0,0,D139*E139)","v":0},null,null,{"$f":"MAX(0,IF(H139=\"\",E139*D139,D139*H139))","v":0}]
[]
[null,"Subtotal - Type 3 Equity Holdings",null,{"$f":"SUM(D138:D139)","v":0},null,{"$f":"IF(SUM(F138:F139)>=0,SUM(F138:F139),0)","v":0},null,null,{"$f":"IF(SUM(I138:I139)>=0,SUM(I138:I139),0)","v":0}]
[]
[null,"Type 4 Equity Holdings"]
[]
[null,"Equity Real Estate 1",{"$f":"'Equity Investments'!C47","v":"Schedule II, Section A, Line (37), Column (9)"},{"$f":"'Equity Investments'!D47","v":0},{"$f":"'Equity Investments'!E47","v":0.1},{"$f":"IF(D145<0,0,D145*E145)","v":0},null,null,{"$f":"MAX(0,IF(H145=\"\",E145*D145,D145*H145))","v":0}]
[null,"Equity Real Estate 2",{"$f":"'Equity Investments'!C48","v":"Schedule II, Section A, Line (38), Column (9)"},{"$f":"'Equity Investments'!D48","v":0},{"$f":"'Equity Investments'!E48","v":0.2},{"$f":"IF(D146<0,0,D146*E146)","v":0},null,null,{"$f":"MAX(0,IF(H146=\"\",E146*D146,D146*H146))","v":0}]
[]
[null,"Subtotal - Type 4 Equity Holdings",null,{"$f":"SUM(D145:D146)","v":0},null,{"$f":"IF(SUM(F145:F146)>=0,SUM(F145:F146),0)","v":0},null,null,{"$f":"IF(SUM(I145:I146)>=0,SUM(I145:I146),0)","v":0}]
[]
[null,null,null,null,"Total Type 1",{"$f":"F122","v":0},null,null,{"$f":"I122","v":0}]
[null,null,null,null,"Total Type 2",{"$f":"F133","v":0},null,null,{"$f":"I133","v":0}]
[null,null,null,null,"Total Type 3",{"$f":"F141","v":0},null,null,{"$f":"I141","v":0}]
[null,null,null,null,"Total Type 4",{"$f":"F148","v":0},null,null,{"$f":"I148","v":0}]
[]
[null,"TOTAL EQUITY INVESTMENTS (after correlation adjustment)",null,null,null,{"$f":"SQRT(MMULT(TRANSPOSE(F150:F153),MMULT('Equity Investments'!$C$62:$F$65,F150:F153)))","v":0},null,null,{"$f":"SQRT(MMULT(TRANSPOSE(I150:I153),MMULT('Equity Investments'!$C$62:$F$65,I150:I153)))","v":0}]
[]
[]
[null,null,null,null,"Fixed Income Investment Risk Charge",{"$f":"F101","v":0},null,null,{"$f":"I101","v":0}]
[null,null,null,null,"Equity Investment Risk Charge",{"$f":"F155","v":0},null,null,{"$f":"I155","v":0}]
[]
[null,null,null,null,null,"Market Risk","Cfi","Ceq"]
[null,null,null,null,null,"Cfi",1,0.5]
[null,null,null,null,null,"Ceq",0.5,1]
[]
[null,"TOTAL MARKET RISK CAPITAL CHARGE (after correlation adjustment)",null,null,null,{"$f":"SQRT(MMULT(TRANSPOSE(F158:F159),MMULT($G$162:$H$163,F158:F159)))","v":0},null,null,{"$f":"SQRT(MMULT(TRANSPOSE(I158:I159),MMULT($G$162:$H$163,I158:I159)))","v":0}]
[]
[null,null,null,null,"STANDARD","STANDARD",null,"USER","USER"]
[null,null,null,null,"CAPITAL","REQUIRED",null,"CAPITAL","REQUIRED"]
[null,"CURRENCY RISK","ASSETS","LIABILITIES","FACTOR","CAPITAL",null,"FACTOR","CAPITAL"]
[]
[null,"US Dollar",{"$f":"IF(#REF!=0,#REF!,#REF!)","v":{"$error":"#REF!"}},{"$f":"IF(#REF!=0,#REF!,#REF!)","v":{"$error":"#REF!"}},{"$f":"#REF!","v":{"$error":"#REF!"}},{"$f":"#REF!","v":{"$error":"#REF!"}},null,null,{"$f":"IF(H171=\"\",F171,H171*ABS(D171-C171))","v":{"$error":"#REF!"}}]
[null,"Euro",{"$f":"IF(#REF!=0,#REF!,#REF!)","v":{"$error":"#REF!"}},{"$f":"IF(#REF!=0,#REF!,#REF!)","v":{"$error":"#REF!"}},{"$f":"#REF!","v":{"$error":"#REF!"}},{"$f":"#REF!","v":{"$error":"#REF!"}},null,null,{"$f":"IF(H172=\"\",F172,H172*ABS(D172-C172))","v":{"$error":"#REF!"}}]
[null,"GBP",{"$f":"IF(#REF!=0,#REF!,#REF!)","v":{"$error":"#REF!"}},{"$f":"IF(#REF!=0,#REF!,#REF!)","v":{"$error":"#REF!"}},{"$f":"#REF!","v":{"$error":"#REF!"}},{"$f":"#REF!","v":{"$error":"#REF!"}},null,null,{"$error":"#REF!"}]
[null,"CAD$",{"$f":"IF(#REF!=0,#REF!,#REF!)","v":{"$error":"#REF!"}},{"$f":"IF(#REF!=0,#REF!,#REF!)","v":{"$error":"#REF!"}},{"$f":"#REF!","v":{"$error":"#REF!"}},{"$f":"#REF!","v":{"$error":"#REF!"}},null,null,{"$error":"#REF!"}]
[null,"YEN",{"$f":"IF(#REF!=0,#REF!,#REF!)","v":{"$error":"#REF!"}},{"$f":"IF(#REF!=0,#REF!,#REF!)","v":{"$error":"#REF!"}},{"$f":"#REF!","v":{"$error":"#REF!"}},{"$f":"#REF!","v":{"$error":"#REF!"}},null,null,{"$error":"#REF!"}]
[null,"Other currency 1",{"$f":"IF(#REF!=0,#REF!,#REF!)","v":{"$error":"#REF!"}},{"$f":"IF(#REF!=0,#REF!,#REF!)","v":{"$error":"#REF!"}},{"$f":"#REF!","v":{"$error":"#REF!"}},{"$f":"#REF!","v":{"$error":"#REF!"}},null,null,{"$error":"#REF!"}]
[null,"Other currency 2",{"$f":"IF(#REF!=0,#REF!,#REF!)","v":{"$error":"#REF!"}},{"$f":"IF(#REF!=0,#REF!,#REF!)","v":{"$error":"#REF!"}},{"$f":"#REF!","v":{"$error":"#REF!"}},{"$f":"#REF!","v":{"$error":"#REF!"}},null,null,{"$error":"#REF!"}]
[null,"Other currency 3",{"$f":"IF(#REF!=0,#REF!,#REF!)","v":{"$error":"#REF!"}},{"$f":"IF(#REF!=0,#REF!,#REF!)","v":{"$error":"#REF!"}},{"$f":"#REF!","v":{"$error":"#REF!"}},{"$f":"#REF!","v":{"$error":"#REF!"}},null,null,{"$error":"#REF!"}]
[null,"Other currency 4",{"$f":"IF(#REF!=0,#REF!,#REF!)","v":{"$error":"#REF!"}},{"$f":"IF(#REF!=0,#REF!,#REF!)","v":{"$error":"#REF!"}},{"$f":"#REF!","v":{"$error":"#REF!"}},{"$f":"#REF!","v":{"$error":"#REF!"}},null,null,{"$error":"#REF!"}]
[null,"Other currency 5",{"$f":"IF(#REF!=0,#REF!,#REF!)","v":{"$error":"#REF!"}},{"$f":"IF(#REF!=0,#REF!,#REF!)","v":{"$error":"#REF!"}},{"$f":"#REF!","v":{"$error":"#REF!"}},{"$f":"#REF!","v":{"$error":"#REF!"}},null,null,{"$error":"#REF!"}]
[null,"Other currency 6",{"$f":"IF(#REF!=0,#REF!,#REF!)","v":{"$error":"#REF!"}},{"$f":"IF(#REF!=0,#REF!,#REF!)","v":{"$error":"#REF!"}},{"$f":"#REF!","v":{"$error":"#REF!"}},{"$f":"#REF!","v":{"$error":"#REF!"}},null,null,{"$error":"#REF!"}]
[null,"Other currency 7",{"$f":"IF(#REF!=0,#REF!,#REF!)","v":{"$error":"#REF!"}},{"$f":"IF(#REF!=0,#REF!,#REF!)","v":{"$error":"#REF!"}},{"$f":"#REF!","v":{"$error":"#REF!"}},{"$f":"#REF!","v":{"$error":"#REF!"}},null,null,{"$error":"#REF!"}]
[null,"Other currency 8",{"$f":"IF(#REF!=0,#REF!,#REF!)","v":{"$error":"#REF!"}},{"$f":"IF(#REF!=0,#REF!,#REF!)","v":{"$error":"#REF!"}},{"$f":"#REF!","v":{"$error":"#REF!"}},{"$f":"#REF!","v":{"$error":"#REF!"}},null,null,{"$error":"#REF!"}]
[null,"Other currency 9",{"$f":"IF(#REF!=0,#REF!,#REF!)","v":{"$error":"#REF!"}},{"$f":"IF(#REF!=0,#REF!,#REF!)","v":{"$error":"#REF!"}},{"$f":"#REF!","v":{"$error":"#REF!"}},{"$f":"#REF!","v":{"$error":"#REF!"}},null,null,{"$error":"#REF!"}]
[null,"Other currency 10",{"$f":"IF(#REF!=0,#REF!,#REF!)","v":{"$error":"#REF!"}},{"$f":"IF(#REF!=0,#REF!,#REF!)","v":{"$error":"#REF!"}},{"$f":"#REF!","v":{"$error":"#REF!"}},{"$f":"#REF!","v":{"$error":"#REF!"}},null,null,{"$error":"#REF!"}]
[null,"Total Identified",{"$f":"SUM(C171:C185)","v":{"$error":"#REF!"}},{"$f":"SUM(D171:D185)","v":{"$error":"#REF!"}}]
[null,"Total",{"$f":"#REF!","v":{"$error":"#REF!"}},{"$f":"#REF!","v":{"$error":"#REF!"}}]
[null,"% Identified",{"$f":"IF(C186=0,0,C186/C187)","v":{"$error":"#REF!"}},{"$f":"IF(D186=0,0,D186/D187)","v":{"$error":"#REF!"}}]
[]
[null,"TOTAL CURRENCY RISK",{"$f":"SUM(C171:C185)","v":{"$error":"#REF!"}},{"$f":"SUM(D171:D185)","v":{"$error":"#REF!"}},null,{"$f":"IF(SUM(F171:F188)>=0,SUM(F171:F188),0)","v":{"$error":"#REF!"}},null,null,{"$f":"IF(SUM(I171:I188)>=0,SUM(I171:I188),0)","v":{"$error":"#REF!"}}]
[]
[null,"CONCENTRATION RISK",null,null,"STANDARD","STANDARD",null,"USER","USER"]
[null,null,null,"EXPOSURE","CAPITAL","REQUIRED",null,"CAPITAL","REQUIRED"]
[null,"ASSET TYPE","STATEMENT SOURCE","VALUE","FACTOR","CAPITAL",null,"FACTOR","CAPITAL"]
[]
[null,"(a) Cash and Cash Equivalents"]
[null,"BSCR Rating 0","Schedule XXI, Column H",{"$f":"+#REF!","v":{"$error":"#REF!"}},{"$f":"+'Fixed Income Investments'!E82","v":0},{"$f":"IF(D197<0,0,D197*E197)","v":{"$error":"#REF!"}},null,null,{"$f":"MAX(0,IF(H197=\"\",E197*D197,D197*H197))","v":{"$error":"#REF!"}}]
[null,"BSCR Rating 1","Schedule XXI, Column H",{"$f":"+#REF!","v":{"$error":"#REF!"}},{"$f":"+'Fixed Income Investments'!E83","v":1E-3},{"$f":"IF(D198<0,0,D198*E198)","v":{"$error":"#REF!"}},null,null,{"$f":"MAX(0,IF(H198=\"\",E198*D198,D198*H198))","v":{"$error":"#REF!"}}]
[null,"BSCR Rating 2","Schedule XXI, Column H",{"$f":"+#REF!","v":{"$error":"#REF!"}},{"$f":"+'Fixed Income Investments'!E84","v":2E-3},{"$f":"IF(D199<0,0,D199*E199)","v":{"$error":"#REF!"}},null,null,{"$f":"MAX(0,IF(H199=\"\",E199*D199,D199*H199))","v":{"$error":"#REF!"}}]
[null,"BSCR Rating 3","Schedule XXI, Column H",{"$f":"+#REF!","v":{"$error":"#REF!"}},{"$f":"+'Fixed Income Investments'!E85","v":3.0000000000000001E-3},{"$error":"#REF!"},null,null,{"$error":"#REF!"}]
[null,"BSCR Rating 4","Schedule XXI, Column H",{"$f":"+#REF!","v":{"$error":"#REF!"}},{"$f":"+'Fixed Income Investments'!E86","v":5.0000000000000001E-3},{"$error":"#REF!"},null,null,{"$error":"#REF!"}]
[null,"BSCR Rating 5","Schedule XXI, Column H",{"$f":"+#REF!","v":{"$error":"#REF!"}},{"$f":"+'Fixed Income Investments'!E87","v":1.4999999999999999E-2},{"$error":"#REF!"},null,null,{"$error":"#REF!"}]
[null,"BSCR Rating 6","Schedule XXI, Column H",{"$f":"+#REF!","v":{"$error":"#REF!"}},{"$f":"+'Fixed Income Investments'!E88","v":0.04},{"$error":"#REF!"},null,null,{"$error":"#REF!"}]
[null,"BSCR Rating 7","Schedule XXI, Column H",{"$f":"+#REF!","v":{"$error":"#REF!"}},{"$f":"+'Fixed Income Investments'!E89","v":0.06},{"$error":"#REF!"},null,null,{"$error":"#REF!"}]
[null,"BSCR Rating 8","Schedule XXI, Column H",{"$f":"+#REF!","v":{"$error":"#REF!"}},{"$f":"+'Fixed Income Investments'!E90","v":0.09},{"$error":"#REF!"},null,null,{"$error":"#REF!"}]
[]
[null,"(a)  SUBTOTAL - CASH AND CASH EQUIVALENTS",null,{"$f":"SUM(D197:D205)","v":{"$error":"#REF!"}},null,{"$f":"SUM(F197:F205)","v":{"$error":"#REF!"}},null,null,{"$f":"SUM(I197:I205)","v":{"$error":"#REF!"}}]
[]
[null,"(b) Corporate & Sovereign Bonds"]
[null,"BSCR Rating 0","Schedule XXI, Column H",{"$f":"+#REF!","v":{"$error":"#REF!"}},{"$f":"+E15","v":0},{"$f":"IF(D210<0,0,D210*E210)","v":{"$error":"#REF!"}},null,null,{"$f":"MAX(0,IF(H210=\"\",E210*D210,D210*H210))","v":{"$error":"#REF!"}}]
[null,"BSCR Rating 1","Schedule XXI, Column H",{"$f":"+#REF!","v":{"$error":"#REF!"}},4.0000000000000001E-3,{"$error":"#REF!"},null,null,{"$f":"MAX(0,IF(H211=\"\",E211*D211,D211*H211))","v":{"$error":"#REF!"}}]
[null,"BSCR Rating 2","Schedule XXI, Column H",{"$f":"+#REF!","v":{"$error":"#REF!"}},8.0000000000000002E-3,{"$error":"#REF!"},null,null,{"$f":"MAX(0,IF(H212=\"\",E212*D212,D212*H212))","v":{"$error":"#REF!"}}]
[null,"BSCR Rating 3","Schedule XXI, Column H",{"$f":"+#REF!","v":{"$error":"#REF!"}},1.4999999999999999E-2,{"$error":"#REF!"},null,null,{"$error":"#REF!"}]
[null,"BSCR Rating 4","Schedule XXI, Column H",{"$f":"+#REF!","v":{"$error":"#REF!"}},0.03,{"$error":"#REF!"},null,null,{"$error":"#REF!"}]
[null,"BSCR Rating 5","Schedule XXI, Column H",{"$f":"+#REF!","v":{"$error":"#REF!"}},0.08,{"$error":"#REF!"},null,null,{"$error":"#REF!"}]
[null,"BSCR Rating 6","Schedule XXI, Column H",{"$f":"+#REF!","v":{"$error":"#REF!"}},0.15,{"$error":"#REF!"},null,null,{"$error":"#REF!"}]
[null,"BSCR Rating 7","Schedule XXI, Column H",{"$f":"+#REF!","v":{"$error":"#REF!"}},0.26300000000000001,{"$error":"#REF!"},null,null,{"$error":"#REF!"}]
[null,"BSCR Rating 8","Schedule XXI, Column H",{"$f":"+#REF!","v":{"$error":"#REF!"}},0.35,{"$error":"#REF!"},null,null,{"$error":"#REF!"}]
[]
[null,"(b)  SUBTOTAL - CORPORATE & SOVEREIGN BONDS",null,{"$f":"SUM(D210:D218)","v":{"$error":"#REF!"}},null,{"$f":"SUM(F210:F218)","v":{"$error":"#REF!"}},null,null,{"$f":"SUM(I210:I218)","v":{"$error":"#REF!"}}]
[]
[null,"(c) Residential Mortage-Backed Securities"]
[null,"BSCR Rating 0","Schedule XXI, Column H",{"$f":"+#REF!","v":{"$error":"#REF!"}},0,{"$f":"IF(D223<0,0,D223*E223)","v":{"$error":"#REF!"}},null,null,{"$f":"MAX(0,IF(H223=\"\",E223*D223,D223*H223))","v":{"$error":"#REF!"}}]
[null,"BSCR Rating 1","Schedule XXI, Column H",{"$f":"+#REF!","v":{"$error":"#REF!"}},{"$f":"+E30","v":6.0000000000000001E-3},{"$error":"#REF!"},null,null,{"$f":"MAX(0,IF(H224=\"\",E224*D224,D224*H224))","v":{"$error":"#REF!"}}]
[null,"BSCR Rating 2","Schedule XXI, Column H",{"$f":"+#REF!","v":{"$error":"#REF!"}},1.2E-2,{"$error":"#REF!"},null,null,{"$f":"MAX(0,IF(H225=\"\",E225*D225,D225*H225))","v":{"$error":"#REF!"}}]
[null,"BSCR Rating 3","Schedule XXI, Column H",{"$f":"+#REF!","v":{"$error":"#REF!"}},0.02,{"$error":"#REF!"},null,null,{"$error":"#REF!"}]
[null,"BSCR Rating 4","Schedule XXI, Column H",{"$f":"+#REF!","v":{"$error":"#REF!"}},0.04,{"$error":"#REF!"},null,null,{"$error":"#REF!"}]
[null,"BSCR Rating 5","Schedule XXI, Column H",{"$f":"+#REF!","v":{"$error":"#REF!"}},0.11,{"$error":"#REF!"},null,null,{"$error":"#REF!"}]
[null,"BSCR Rating 6","Schedule XXI, Column H",{"$f":"+#REF!","v":{"$error":"#REF!"}},0.25,{"$error":"#REF!"},null,null,{"$error":"#REF!"}]
[null,"BSCR Rating 7","Schedule XXI, Column H",{"$f":"+#REF!","v":{"$error":"#REF!"}},0.35,{"$error":"#REF!"},null,null,{"$error":"#REF!"}]
[null,"BSCR Rating 8","Schedule XXI, Column H",{"$f":"+#REF!","v":{"$error":"#REF!"}},0.35,{"$error":"#REF!"},null,null,{"$error":"#REF!"}]
[]
[null,"(c)  SUBTOTAL - RESIDENTIAL MORTGAGE-BACKED SECURITIES",null,{"$f":"SUM(D223:D231)","v":{"$error":"#REF!"}},null,{"$f":"SUM(F223:F231)","v":{"$error":"#REF!"}},null,null,{"$f":"SUM(I223:I231)","v":{"$error":"#REF!"}}]
[]
[null,"(d) Commercial Mortgage-Backed Securities / Asset Backed Securities"]
[null,"BSCR Rating 0","Schedule XXI, Column H",{"$f":"+#REF!","v":{"$error":"#REF!"}},0,{"$f":"IF(D236<0,0,D236*E236)","v":{"$error":"#REF!"}},null,null,{"$f":"MAX(0,IF(H236=\"\",E236*D236,D236*H236))","v":{"$error":"#REF!"}}]
[null,"BSCR Rating 1","Schedule XXI, Column H",{"$f":"+#REF!","v":{"$error":"#REF!"}},{"$f":"+E44","v":5.0000000000000001E-3},{"$error":"#REF!"},null,null,{"$f":"MAX(0,IF(H237=\"\",E237*D237,D237*H237))","v":{"$error":"#REF!"}}]
[null,"BSCR Rating 2","Schedule XXI, Column H",{"$f":"+#REF!","v":{"$error":"#REF!"}},0.01,{"$error":"#REF!"},null,null,{"$f":"MAX(0,IF(H238=\"\",E238*D238,D238*H238))","v":{"$error":"#REF!"}}]
[null,"BSCR Rating 3","Schedule XXI, Column H",{"$f":"+#REF!","v":{"$error":"#REF!"}},1.7999999999999999E-2,{"$error":"#REF!"},null,null,{"$error":"#REF!"}]
[null,"BSCR Rating 4","Schedule XXI, Column H",{"$f":"+#REF!","v":{"$error":"#REF!"}},3.5000000000000003E-2,{"$error":"#REF!"},null,null,{"$error":"#REF!"}]
[null,"BSCR Rating 5","Schedule XXI, Column H",{"$f":"+#REF!","v":{"$error":"#REF!"}},0.1,{"$error":"#REF!"},null,null,{"$error":"#REF!"}]
[null,"BSCR Rating 6","Schedule XXI, Column H",{"$f":"+#REF!","v":{"$error":"#REF!"}},0.2,{"$error":"#REF!"},null,null,{"$error":"#REF!"}]
[null,"BSCR Rating 7","Schedule XXI, Column H",{"$f":"+#REF!","v":{"$error":"#REF!"}},0.3,{"$error":"#REF!"},null,null,{"$error":"#REF!"}]
[null,"BSCR Rating 8","Schedule XXI, Column H",{"$f":"+#REF!","v":{"$error":"#REF!"}},0.35,{"$error":"#REF!"},null,null,{"$error":"#REF!"}]
[]
[null,"(d)  SUBTOTAL - COMMERCIAL MORTGAGE-BACKED SECURITIES / ASSET-BACKED SECURITIES",null,{"$f":"SUM(D236:D244)","v":{"$error":"#REF!"}},null,{"$f":"SUM(F236:F244)","v":{"$error":"#REF!"}},null,null,{"$f":"SUM(I236:I244)","v":{"$error":"#REF!"}}]
[]
[null,"(e) Bond Mutual Funds"]
[null,"BSCR Rating 0","Schedule XXI, Column H",{"$f":"+#REF!","v":{"$error":"#REF!"}},{"$f":"+E58","v":0},{"$f":"IF(D249<0,0,D249*E249)","v":{"$error":"#REF!"}},null,null,{"$f":"MAX(0,IF(H249=\"\",E249*D249,D249*H249))","v":{"$error":"#REF!"}}]
[null,"BSCR Rating 1","Schedule XXI, Column H",{"$f":"+#REF!","v":{"$error":"#REF!"}},4.0000000000000001E-3,{"$error":"#REF!"},null,null,{"$f":"MAX(0,IF(H250=\"\",E250*D250,D250*H250))","v":{"$error":"#REF!"}}]
[null,"BSCR Rating 2","Schedule XXI, Column H",{"$f":"+#REF!","v":{"$error":"#REF!"}},8.0000000000000002E-3,{"$error":"#REF!"},null,null,{"$f":"MAX(0,IF(H251=\"\",E251*D251,D251*H251))","v":{"$error":"#REF!"}}]
[null,"BSCR Rating 3","Schedule XXI, Column H",{"$f":"+#REF!","v":{"$error":"#REF!"}},1.4999999999999999E-2,{"$error":"#REF!"},null,null,{"$error":"#REF!"}]
[null,"BSCR Rating 4","Schedule XXI, Column H",{"$f":"+#REF!","v":{"$error":"#REF!"}},0.03,{"$error":"#REF!"},null,null,{"$error":"#REF!"}]
[null,"BSCR Rating 5","Schedule XXI, Column H",{"$f":"+#REF!","v":{"$error":"#REF!"}},0.08,{"$error":"#REF!"},null,null,{"$error":"#REF!"}]
[null,"BSCR Rating 6","Schedule XXI, Column H",{"$f":"+#REF!","v":{"$error":"#REF!"}},0.15,{"$error":"#REF!"},null,null,{"$error":"#REF!"}]
[null,"BSCR Rating 7","Schedule XXI, Column H",{"$f":"+#REF!","v":{"$error":"#REF!"}},0.26300000000000001,{"$error":"#REF!"},null,null,{"$error":"#REF!"}]
[null,"BSCR Rating 8","Schedule XXI, Column H",{"$f":"+#REF!","v":{"$error":"#REF!"}},0.35,{"$error":"#REF!"},null,null,{"$error":"#REF!"}]
[]
[null,"(e)  SUBTOTAL - BOND MUTUAL FUNDS",null,{"$f":"SUM(D249:D257)","v":{"$error":"#REF!"}},null,{"$f":"SUM(F249:F257)","v":{"$error":"#REF!"}},null,null,{"$f":"SUM(I249:I257)","v":{"$error":"#REF!"}}]
[]
[null,"(f) Preferred Shares"]
[null,"BSCR Rating 0","Schedule XXI, Column H",{"$f":"+#REF!","v":{"$error":"#REF!"}},{"$f":"+#REF!","v":{"$error":"#REF!"}},{"$f":"IF(D262<0,0,D262*E262)","v":{"$error":"#REF!"}},null,null,{"$f":"MAX(0,IF(H262=\"\",E262*D262,D262*H262))","v":{"$error":"#REF!"}}]
[null,"BSCR Rating 1","Schedule XXI, Column H",{"$f":"+#REF!","v":{"$error":"#REF!"}},{"$f":"+#REF!","v":{"$error":"#REF!"}},{"$f":"IF(D263<0,0,D263*E263)","v":{"$error":"#REF!"}},null,null,{"$f":"MAX(0,IF(H263=\"\",E263*D263,D263*H263))","v":{"$error":"#REF!"}}]
[null,"BSCR Rating 2","Schedule XXI, Column H",{"$f":"+#REF!","v":{"$error":"#REF!"}},{"$f":"+#REF!","v":{"$error":"#REF!"}},{"$error":"#REF!"},null,null,{"$error":"#REF!"}]
[null,"BSCR Rating 3","Schedule XXI, Column H",{"$f":"+#REF!","v":{"$error":"#REF!"}},{"$f":"+#REF!","v":{"$error":"#REF!"}},{"$error":"#REF!"},null,null,{"$error":"#REF!"}]
[null,"BSCR Rating 4","Schedule XXI, Column H",{"$f":"+#REF!","v":{"$error":"#REF!"}},{"$f":"+#REF!","v":{"$error":"#REF!"}},{"$error":"#REF!"},null,null,{"$error":"#REF!"}]
[null,"BSCR Rating 5","Schedule XXI, Column H",{"$f":"+#REF!","v":{"$error":"#REF!"}},{"$f":"+#REF!","v":{"$error":"#REF!"}},{"$error":"#REF!"},null,null,{"$error":"#REF!"}]
[null,"BSCR Rating 6","Schedule XXI, Column H",{"$f":"+#REF!","v":{"$error":"#REF!"}},{"$f":"+#REF!","v":{"$error":"#REF!"}},{"$error":"#REF!"},null,null,{"$error":"#REF!"}]
[null,"BSCR Rating 7","Schedule XXI, Column H",{"$f":"+#REF!","v":{"$error":"#REF!"}},{"$f":"+#REF!","v":{"$error":"#REF!"}},{"$error":"#REF!"},null,null,{"$error":"#REF!"}]
[null,"BSCR Rating 8","Schedule XXI, Column H",{"$f":"+#REF!","v":{"$error":"#REF!"}},{"$f":"+#REF!","v":{"$error":"#REF!"}},{"$error":"#REF!"},null,null,{"$error":"#REF!"}]
[]
[null,"(f)  SUBTOTAL - PREFERRED SHARES",null,{"$f":"SUM(D262:D270)","v":{"$error":"#REF!"}},null,{"$f":"SUM(F262:F270)","v":{"$error":"#REF!"}},null,null,{"$f":"SUM(I262:I270)","v":{"$error":"#REF!"}}]
[]
[null,"(g) Mortgage Loans"]
[null,"Insured/Guaranteed Mortgages","Schedule XXI, Column H",{"$f":"+#REF!","v":{"$error":"#REF!"}},{"$f":"+#REF!","v":{"$error":"#REF!"}},{"$f":"IF(D275<0,0,D275*E275)","v":{"$error":"#REF!"}},null,null,{"$f":"MAX(0,IF(H275=\"\",E275*D275,D275*H275))","v":{"$error":"#REF!"}}]
[null,"Other Commercial and Farm Mortgages","Schedule XXI, Column H",{"$f":"+#REF!","v":{"$error":"#REF!"}},{"$f":"+#REF!","v":{"$error":"#REF!"}},{"$f":"IF(D276<0,0,D276*E276)","v":{"$error":"#REF!"}},null,null,{"$f":"MAX(0,IF(H276=\"\",E276*D276,D276*H276))","v":{"$error":"#REF!"}}]
[null,"Other Residential Mortgages","Schedule XXI, Column H",{"$f":"+#REF!","v":{"$error":"#REF!"}},{"$f":"+#REF!","v":{"$error":"#REF!"}},{"$f":"IF(D277<0,0,D277*E277)","v":{"$error":"#REF!"}},null,null,{"$f":"MAX(0,IF(H277=\"\",E277*D277,D277*H277))","v":{"$error":"#REF!"}}]
[null,"Mortgages Not In Good Standing","Schedule XXI, Column H",{"$f":"+#REF!","v":{"$error":"#REF!"}},{"$f":"+#REF!","v":{"$error":"#REF!"}},{"$f":"IF(D278<0,0,D278*E278)","v":{"$error":"#REF!"}},null,null,{"$f":"MAX(0,IF(H278=\"\",E278*D278,D278*H278))","v":{"$error":"#REF!"}}]
[]
[null,"(g)  SUBTOTAL - Mortgage Loans",null,{"$f":"SUM(D274:D278)","v":{"$error":"#REF!"}},null,{"$f":"SUM(F274:F278)","v":{"$error":"#REF!"}},null,null,{"$f":"SUM(I274:I278)","v":{"$error":"#REF!"}}]
[]
[null,"(h) Other Asset Classes"]
[null,"Common Stock and Mutual Funds","Schedule XXI, Column H",{"$f":"+#REF!","v":{"$error":"#REF!"}},{"$f":"+#REF!","v":{"$error":"#REF!"}},{"$f":"IF(D283<0,0,D283*E283)","v":{"$error":"#REF!"}},null,null,{"$f":"MAX(0,IF(H283=\"\",E283*D283,D283*H283))","v":{"$error":"#REF!"}}]
[null,"Other Investments","Schedule XXI, Column H",{"$f":"+#REF!","v":{"$error":"#REF!"}},{"$f":"+#REF!","v":{"$error":"#REF!"}},{"$error":"#REF!"},null,null,{"$error":"#REF!"}]
[null,"Investment in Affiliates – Unregulated entities that conduct ancillary services",null,{"$f":"+#REF!","v":{"$error":"#REF!"}},{"$f":"+#REF!","v":{"$error":"#REF!"}},{"$error":"#REF!"},null,null,{"$error":"#REF!"}]
[null,"Investment in Affiliates - Unregulated non-financial operating entities",null,{"$f":"+#REF!","v":{"$error":"#REF!"}},{"$f":"+#REF!","v":{"$error":"#REF!"}},{"$error":"#REF!"},null,null,{"$error":"#REF!"}]
[null,"Investment in Affiliates - Unregulated financial operating entities",null,{"$f":"+#REF!","v":{"$error":"#REF!"}},{"$f":"+#REF!","v":{"$error":"#REF!"}},{"$error":"#REF!"},null,null,{"$error":"#REF!"}]
[null,"Investment in Affiliates - Regulated non-insurance financial operating entities",null,{"$f":"+#REF!","v":{"$error":"#REF!"}},{"$f":"+#REF!","v":{"$error":"#REF!"}},{"$error":"#REF!"},null,null,{"$error":"#REF!"}]
[null,"Investment in Affiliates - Regulated insurance financial operating entities",null,{"$f":"+#REF!","v":{"$error":"#REF!"}},{"$f":"+#REF!","v":{"$error":"#REF!"}},{"$error":"#REF!"},null,null,{"$error":"#REF!"}]
[null,"Advances to Affiliates - ","Schedule XXI, Column H",{"$f":"+#REF!","v":{"$error":"#REF!"}},{"$f":"+#REF!","v":{"$error":"#REF!"}},{"$error":"#REF!"},null,null,{"$error":"#REF!"}]
[null,"Policy Loans","Schedule XXI, Column H",{"$f":"+#REF!","v":{"$error":"#REF!"}},{"$f":"+#REF!","v":{"$error":"#REF!"}},{"$error":"#REF!"},null,null,{"$error":"#REF!"}]
[null,"Real Estate: Occupied by company","Schedule XXI, Column H",{"$f":"+#REF!","v":{"$error":"#REF!"}},{"$f":"+#REF!","v":{"$error":"#REF!"}},{"$error":"#REF!"},null,null,{"$error":"#REF!"}]
[null,"Real Estate: Other properties","Schedule XXI, Column H",{"$f":"+#REF!","v":{"$error":"#REF!"}},{"$f":"+#REF!","v":{"$error":"#REF!"}},{"$error":"#REF!"},null,null,{"$error":"#REF!"}]
[null,"Collateral Loans","Schedule XXI, Column H",{"$f":"+#REF!","v":{"$error":"#REF!"}},{"$f":"+#REF!","v":{"$error":"#REF!"}},{"$error":"#REF!"},null,null,{"$error":"#REF!"}]
[]
[null,"(h)  SUBTOTAL - OTHER ASSET CLASSES",null,{"$f":"SUM(D283:D295)","v":{"$error":"#REF!"}},null,{"$f":"SUM(F283:F295)","v":{"$error":"#REF!"}},null,null,{"$f":"SUM(I283:I295)","v":{"$error":"#REF!"}}]
[]
[null,"TOTAL CONCENTRATION RISK",null,{"$f":"D207+D220+D233+D246+D259+D272+D280+D296","v":{"$error":"#REF!"}},null,{"$f":"F207+F220+F233+F246+F259+F272+F280+F296","v":{"$error":"#REF!"}},null,null,{"$f":"I207+I220+I233+I246+I259+I272+I280+I296","v":{"$error":"#REF!"}}]
[]
[null,null,null,null,"STANDARD","STANDARD",null,"USER","USER"]
[null,"TYPE OF ",null,"ASSET","CAPITAL","REQUIRED",null,"CAPITAL","REQUIRED"]
[null,"INTEREST RATE/LIQUIDITY RISK","STATEMENT SOURCE","VALUE","FACTOR","CAPITAL",null,"FACTOR","CAPITAL"]
[]
[null,"Bonds and Debentures ","Sch II EBS & IIA EBS Column (9), Line 10",{"$f":"+'Schedule II'!T23+#REF!","v":{"$error":"#REF!"}},{"$f":"IF('Company Information'!F11=\"Class 3A\",IF(('Schedule V'!H25-'Schedule V'!H23)>3.5,3.5,MAX(1,'Schedule V'!H23-'Schedule V'!H25,'Schedule V'!H25-'Schedule V'!H23)),IF('Schedule V'!$H$23-'Schedule V'!$H$25>=1,'Schedule V'!$H$23-'Schedule V'!$H$25,IF('Schedule V'!$H$25-'Schedule V'!$H$23>=1,'Schedule V'!$H$25-'Schedule V'!$H$23,1)))*2%","v":{"$error":"#REF!"}},{"$f":"IF(D304<0,0,D304*E304)","v":{"$error":"#REF!"}},null,null,{"$f":"MAX(0,IF(H304=\"\",E304*D304,D304*H304))","v":{"$error":"#REF!"}}]
[null,"Preferred Stocks ","Sch II EBS & IIA EBS Column (3), Line 21",{"$f":"+'Schedule II'!#REF!+#REF!","v":{"$error":"#REF!"}},{"$f":"IF('Company Information'!F11=\"Class 3A\",IF(('Schedule V'!H25-'Schedule V'!H23)>3.5,3.5,MAX(1,'Schedule V'!H23-'Schedule V'!H25,'Schedule V'!H25-'Schedule V'!H23)),IF('Schedule V'!$H$23-'Schedule V'!$H$25>=1,'Schedule V'!$H$23-'Schedule V'!$H$25,IF('Schedule V'!$H$25-'Schedule V'!$H$23>=1,'Schedule V'!$H$25-'Schedule V'!$H$23,1)))*2%","v":{"$error":"#REF!"}},{"$f":"IF(D305<0,0,D305*E305)","v":{"$error":"#REF!"}},null,null,{"$f":"MAX(0,IF(H305=\"\",E305*D305,D305*H305))","v":{"$error":"#REF!"}}]
[null,"Mortgage Loans","Sch II EBS & IIA EBS Column (1), Line 26",{"$f":"+'Schedule II'!#REF!+#REF!","v":{"$error":"#REF!"}},{"$f":"IF('Company Information'!F11=\"Class 3A\",IF(('Schedule V'!H25-'Schedule V'!H23)>3.5,3.5,MAX(1,'Schedule V'!H23-'Schedule V'!H25,'Schedule V'!H25-'Schedule V'!H23)),IF('Schedule V'!$H$23-'Schedule V'!$H$25>=1,'Schedule V'!$H$23-'Schedule V'!$H$25,IF('Schedule V'!$H$25-'Schedule V'!$H$23>=1,'Schedule V'!$H$25-'Schedule V'!$H$23,1)))*2%","v":{"$error":"#REF!"}},{"$f":"IF(D306<0,0,D306*E306)","v":{"$error":"#REF!"}},null,null,{"$f":"MAX(0,IF(H306=\"\",E306*D306,D306*H306))","v":{"$error":"#REF!"}}]
[]
[null,"TOTAL INTEREST RATE / LIQUIDITY RISK",null,{"$f":"SUM(D304:D306)","v":{"$error":"#REF!"}},null,{"$f":"IF(SUM(F304:F306)>=0,SUM(F304:F306),0)","v":{"$error":"#REF!"}},null,null,{"$f":"IF(SUM(I304:I306)>=0,SUM(I304:I306),0)","v":{"$error":"#REF!"}}]
[]
[null,null,null,"GEO","STANDARD","STANDARD",null,"USER","USER"]
[null,"TYPE OF ",null,"DIVERSIFIED","CAPITAL","REQUIRED",null,"CAPITAL","REQUIRED"]
[null,"PREMIUM RISK","STATEMENT SOURCE","PREMIUMS","FACTOR","CAPITAL",null,"FACTOR","CAPITAL"]
[]
[null,"Property Catastrophe","Schedule IVA, Line (1)",{"$f":"+#REF!","v":{"$error":"#REF!"}},{"$f":"+#REF!","v":{"$error":"#REF!"}},{"$f":"IF(D314<0,0,D314*E314)","v":{"$error":"#REF!"}},null,null,{"$f":"MAX(0,IF(H314=\"\",E314*D314,D314*H314))","v":{"$error":"#REF!"}}]
[null,"Property","Schedule IVA, Line (2)",{"$f":"+#REF!","v":{"$error":"#REF!"}},{"$f":"+#REF!","v":{"$error":"#REF!"}},{"$f":"IF(D315<0,0,D315*E315)","v":{"$error":"#REF!"}},null,null,{"$error":"#REF!"}]
[null,"Property Non-Proportional","Schedule IVA, Line (3)",{"$f":"+#REF!","v":{"$error":"#REF!"}},{"$f":"+#REF!","v":{"$error":"#REF!"}},{"$error":"#REF!"},null,null,{"$error":"#REF!"}]
[null,"Personal Accident","Schedule IVA, Line (4)",{"$f":"+#REF!","v":{"$error":"#REF!"}},{"$f":"+#REF!","v":{"$error":"#REF!"}},{"$error":"#REF!"},null,null,{"$error":"#REF!"}]
[null,"Personal Accident Non-Proportional","Schedule IVA, Line (5)",{"$f":"+#REF!","v":{"$error":"#REF!"}},{"$f":"+#REF!","v":{"$error":"#REF!"}},{"$error":"#REF!"},null,null,{"$error":"#REF!"}]
[null,"Aviation","Schedule IVA, Line (6)",{"$f":"+#REF!","v":{"$error":"#REF!"}},{"$f":"+#REF!","v":{"$error":"#REF!"}},{"$error":"#REF!"},null,null,{"$error":"#REF!"}]
[null,"Aviation Non-Proportional","Schedule IVA, Line (7)",{"$f":"+#REF!","v":{"$error":"#REF!"}},{"$f":"+#REF!","v":{"$error":"#REF!"}},{"$error":"#REF!"},null,null,{"$error":"#REF!"}]
[null,"Credit / Surety","Schedule IVA, Line (8)",{"$f":"+#REF!","v":{"$error":"#REF!"}},{"$f":"+#REF!","v":{"$error":"#REF!"}},{"$error":"#REF!"},null,null,{"$error":"#REF!"}]
[null,"Credit / Surety Non-Proportional","Schedule IVA, Line (9)",{"$f":"+#REF!","v":{"$error":"#REF!"}},{"$f":"+#REF!","v":{"$error":"#REF!"}},{"$error":"#REF!"},null,null,{"$error":"#REF!"}]
[null,"Energy Offshore / Marine","Schedule IVA, Line (10)",{"$f":"+#REF!","v":{"$error":"#REF!"}},{"$f":"+#REF!","v":{"$error":"#REF!"}},{"$error":"#REF!"},null,null,{"$error":"#REF!"}]
[null,"Energy Offshore / Marine Non-Proportional","Schedule IVA, Line (11)",{"$f":"+#REF!","v":{"$error":"#REF!"}},{"$f":"+#REF!","v":{"$error":"#REF!"}},{"$error":"#REF!"},null,null,{"$error":"#REF!"}]
[null,"US Casualty","Schedule IVA, Line (12)",{"$f":"+#REF!","v":{"$error":"#REF!"}},{"$f":"+#REF!","v":{"$error":"#REF!"}},{"$error":"#REF!"},null,null,{"$error":"#REF!"}]
[null,"US Casualty Non-Proportional","Schedule IVA, Line (13)",{"$f":"+#REF!","v":{"$error":"#REF!"}},{"$f":"+#REF!","v":{"$error":"#REF!"}},{"$error":"#REF!"},null,null,{"$error":"#REF!"}]
[null,"US Professional","Schedule IVA, Line (14)",{"$f":"+#REF!","v":{"$error":"#REF!"}},{"$f":"+#REF!","v":{"$error":"#REF!"}},{"$error":"#REF!"},null,null,{"$error":"#REF!"}]
[null,"US Professional Non-Proportional","Schedule IVA, Line (15)",{"$f":"+#REF!","v":{"$error":"#REF!"}},{"$f":"+#REF!","v":{"$error":"#REF!"}},{"$error":"#REF!"},null,null,{"$error":"#REF!"}]
[null,"US Specialty","Schedule IVA, Line (16)",{"$f":"+#REF!","v":{"$error":"#REF!"}},{"$f":"+#REF!","v":{"$error":"#REF!"}},{"$error":"#REF!"},null,null,{"$error":"#REF!"}]
[null,"US Specialty Non-Proportional","Schedule IVA, Line (17)",{"$f":"+#REF!","v":{"$error":"#REF!"}},{"$f":"+#REF!","v":{"$error":"#REF!"}},{"$error":"#REF!"},null,null,{"$error":"#REF!"}]
[null,"International Motor","Schedule IVA, Line (18)",{"$f":"+#REF!","v":{"$error":"#REF!"}},{"$f":"+#REF!","v":{"$error":"#REF!"}},{"$error":"#REF!"},null,null,{"$error":"#REF!"}]
[null,"International Motor Non-Proportional","Schedule IVA, Line (19)",{"$f":"+#REF!","v":{"$error":"#REF!"}},{"$f":"+#REF!","v":{"$error":"#REF!"}},{"$error":"#REF!"},null,null,{"$error":"#REF!"}]
[null,"International Casualty Non-Motor","Schedule IVA, Line (20)",{"$f":"+#REF!","v":{"$error":"#REF!"}},{"$f":"+#REF!","v":{"$error":"#REF!"}},{"$error":"#REF!"},null,null,{"$error":"#REF!"}]
[null,"International Casualty Non-Motor Non-Proportional","Schedule IVA, Line (21)",{"$f":"+#REF!","v":{"$error":"#REF!"}},{"$f":"+#REF!","v":{"$error":"#REF!"}},{"$error":"#REF!"},null,null,{"$error":"#REF!"}]
[null,"Retro Property","Schedule IVA, Line (22)",{"$f":"+#REF!","v":{"$error":"#REF!"}},{"$f":"+#REF!","v":{"$error":"#REF!"}},{"$error":"#REF!"},null,null,{"$error":"#REF!"}]
[null,"Structured / Finite Reinsurance","Schedule IVA, Line (23)",{"$f":"+#REF!","v":{"$error":"#REF!"}},{"$f":"+#REF!","v":{"$error":"#REF!"}},{"$error":"#REF!"},null,null,{"$error":"#REF!"}]
[null,"Health","Schedule IVA, Line (24)",{"$f":"+#REF!","v":{"$error":"#REF!"}},{"$f":"+#REF!","v":{"$error":"#REF!"}},{"$error":"#REF!"},null,null,{"$error":"#REF!"}]
[]
[null,"(a)  TOTAL",null,{"$f":"SUM(D314:D337)","v":{"$error":"#REF!"}},null,{"$f":"SUM(F314:F338)","v":{"$error":"#REF!"}},null,null,{"$f":"SUM(I314:I337)","v":{"$error":"#REF!"}}]
[]
[null,"(b)  CONCENTRATION ADJUSTMENT CALCULATION"]
[]
[null,"(i)","Maximum Premium [ Maximum (1a) excl Prop CAT ]",null,null,{"$f":"MAX(D315:D337)","v":{"$error":"#REF!"}},null,null,{"$f":"MAX(D315:D337)","v":{"$error":"#REF!"}}]
[null,"(ii)","Total Premium [ Total (1a) excl Prop CAT ]",null,null,{"$f":"D339-D314","v":{"$error":"#REF!"}},null,null,{"$f":"D339-D314","v":{"$error":"#REF!"}}]
[null,"(iii)","Maximum Premium / Total Premium [ (i) / (ii) ]",null,null,{"$f":"IF(F344=0,0,F343/F344)","v":{"$error":"#REF!"}},null,null,{"$f":"IF(I344=0,0,I343/I344)","v":{"$error":"#REF!"}}]
[null,"(iv)","Maximum Adjustment",null,null,{"$f":"+F425","v":0.4},null,null,{"$f":"+I425","v":0.4}]
[null,"(v)","[ (iii) x (iv) ]",null,null,{"$f":"F345*F346","v":{"$error":"#REF!"}},null,null,{"$f":"I345*I346","v":{"$error":"#REF!"}}]
[null,"(vi)","Minimum Adjustment Factor",null,null,{"$f":"1-F346","v":0.6},null,null,{"$f":"1-I346","v":0.6}]
[]
[null,"(b)  CONCENTRATION ADJUSTMENT FACTOR [ (v) + (vi) ]",null,null,null,{"$f":"F347+F348","v":{"$error":"#REF!"}},null,null,{"$f":"I347+I348","v":{"$error":"#REF!"}}]
[]
[null,"(c)  REQUIRED CAPITAL CHARGE  [ TOTAL (a) x (b) ]",null,null,null,{"$f":"IF(F339=0,0,F339*F350)","v":{"$error":"#REF!"}},null,null,{"$f":"IF(I339=0,0,I339*I350)","v":{"$error":"#REF!"}}]
[]
[null,"(c)  CATASTROPHE PREMIUM ADJUSTMENT CALCULATION"]
[]
[null,"(i)","Average Annual Loss (AAL) Excluding Property Catastrophe",null,null,{"$f":"+F501","v":0},null,null,{"$f":"+I501","v":0}]
[null,"(ii)","Industry Catastrophe Loss Ratio",null,null,{"$f":"+F503","v":{"$error":"#REF!"}},null,null,{"$f":"+F357","v":{"$error":"#REF!"}}]
[null,"(iii)","Avg Capital Factor  [ Total (3c) / (Total (1a) excl Prop CAT) ]",null,null,{"$f":"IF(F344=0,0,F352/F344)","v":{"$error":"#REF!"}},null,null,{"$f":"IF(I344=0,0,I352/I344)","v":{"$error":"#REF!"}}]
[]
[null,"(c)  CATASTROPHE PREMIUM ADJUSTMENT  [ (i) / (ii) x (iii) ]",null,null,null,{"$f":"F356/F357*F358","v":{"$error":"#REF!"}},null,null,{"$f":"IF(I357=0,0,I356/I357*I358)","v":{"$error":"#REF!"}}]
[]
[null,"(d)  TOTAL PREMIUM RISK (AFTER CAT PREMIUM ADJUSTMENT)   [ (b) - (c) ]",null,null,null,{"$f":"IF(F352-F360>=0,F352-F360,0)","v":{"$error":"#REF!"}},null,null,{"$f":"IF(I352-I360>=0,I352-I360,0)","v":{"$error":"#REF!"}}]
[]
[null,"(b)  CONCENTRATION ADJUSTMENT CALCULATION"]
[]
[null,"(i)","Total Premium [ Total (1a) excl Prop CAT ]",null,null,{"$f":"'Company Specific Parameters'!D339-'Company Specific Parameters'!D314","v":{"$error":"#REF!"}},null,null,{"$f":"'Company Specific Parameters'!D339-'Company Specific Parameters'!D314","v":{"$error":"#REF!"}}]
[null,"(ii)","Concentration Adjustment (HHI Calculation)",null,null,{"$f":"IF(F366=0,0,('Company Specific Parameters'!D315/F366)^2+('Company Specific Parameters'!D316/F366)^2+('Company Specific Parameters'!D317/F366)^2+('Company Specific Parameters'!D318/F366)^2+('Company Specific Parameters'!D319/F366)^2+('Company Specific Parameters'!D320/F366)^2+('Company Specific Parameters'!D321/F366)^2+('Company Specific Parameters'!D322/F366)^2+('Company Specific Parameters'!D323/F366)^2+('Company Specific Parameters'!D324/F366)^2+('Company Specific Parameters'!D325/F366)^2+('Company Specific Parameters'!D326/F366)^2+('Company Specific Parameters'!D327/F366)^2+('Company Specific Parameters'!D328/F366)^2+('Company Specific Parameters'!D329/F366)^2+('Company Specific Parameters'!D330/F366)^2+('Company Specific Parameters'!D331/F366)^2+('Company Specific Parameters'!D332/F366)^2+('Company Specific Parameters'!D333/F366)^2+('Company Specific Parameters'!D334/F366)^2+('Company Specific Parameters'!D335/F366)^2+('Company Specific Parameters'!D336/F366)^2+('Company Specific Parameters'!D337/F366)^2)","v":{"$error":"#REF!"}},null,null,{"$f":"IF(I366=0,0,('Company Specific Parameters'!D315/I366)^2+('Company Specific Parameters'!D316/I366)^2+('Company Specific Parameters'!D317/I366)^2+('Company Specific Parameters'!D318/I366)^2+('Company Specific Parameters'!D319/I366)^2+('Company Specific Parameters'!D320/I366)^2+('Company Specific Parameters'!D321/I366)^2+('Company Specific Parameters'!D322/I366)^2+('Company Specific Parameters'!D323/I366)^2+('Company Specific Parameters'!D324/I366)^2+('Company Specific Parameters'!D325/I366)^2+('Company Specific Parameters'!D326/I366)^2+('Company Specific Parameters'!D327/I366)^2+('Company Specific Parameters'!D328/I366)^2+('Company Specific Parameters'!D329/I366)^2+('Company Specific Parameters'!D330/I366)^2+('Company Specific Parameters'!D331/I366)^2+('Company Specific Parameters'!D332/I366)^2+('Company Specific Parameters'!D333/I366)^2+('Company Specific Parameters'!D334/I366)^2+('Company Specific Parameters'!D335/I366)^2+('Company Specific Parameters'!D336/I366)^2+('Company Specific Parameters'!D337/I366)^2)","v":{"$error":"#REF!"}}]
[null,"(iii)","Maximum Adjustment",null,null,0.4,null,null,{"$f":"+F368","v":0.4}]
[null,"(iv)"," [ (ii) x (iii) ]",null,null,{"$f":"F367*F368","v":{"$error":"#REF!"}},null,null,{"$f":"I367*I368","v":{"$error":"#REF!"}}]
[null,"(v)","Minimum Adjustment Factor",null,null,{"$f":"1-F368","v":0.6},null,null,{"$f":"1-I368","v":0.6}]
[]
[null,"(b)(i) CONCENTRATION ADJUSTMENT FACTOR (formula 1) [(iv) + (v)]",null,null,null,{"$f":"F369+F370","v":{"$error":"#REF!"}},null,null,{"$f":"I369+I370","v":{"$error":"#REF!"}}]
[]
[null,"(i)","Concentration Adjustment (up to 95%)",null,null,{"$f":"#REF!/900*95%","v":{"$error":"#REF!"}},null,null,{"$f":"#REF!/900*95%","v":{"$error":"#REF!"}}]
[null,"(ii)","Related Business % (up to 5%)",null,null,{"$f":"#REF!*5%","v":{"$error":"#REF!"}},null,null,{"$f":"#REF!*5%","v":{"$error":"#REF!"}}]
[null,"(iii)"," [ (i) + (ii) ]",null,null,{"$f":"SUM(F374:F375)","v":{"$error":"#REF!"}},null,null,{"$f":"SUM(I374:I375)","v":{"$error":"#REF!"}}]
[null,"(iv)","Maximum Adjustment",null,null,0.4,null,null,0.4]
[]
[null,"(b)(ii) CONCENTRATION ADJUSTMENT FACTOR (formula 2) [(iii) x (iv)]",null,null,null,{"$f":"F376*F377","v":{"$error":"#REF!"}},null,null,{"$f":"I376*I377","v":{"$error":"#REF!"}}]
[]
[null,"(c) CONCENTRATION ADJUSTMENT FACTOR [(b)(i)-(b)(ii)]",null,null,null,{"$f":"F372-F379","v":{"$error":"#REF!"}},null,null,{"$f":"I372-I379","v":{"$error":"#REF!"}}]
[]
[null,"(d) TOTAL PREMIUM RISK [(a) x (c)]",null,null,null,{"$f":"IF(F381*'Company Specific Parameters'!F339>=0,F381*'Company Specific Parameters'!F339,0)","v":{"$error":"#REF!"}},null,null,{"$f":"IF(I381*'Company Specific Parameters'!I339>=0,I381*'Company Specific Parameters'!I339,0)","v":{"$error":"#REF!"}}]
[]
[null,"(d)  TOTAL PREMIUM RISK (AFTER CAT PREMIUM ADJUSTMENT)   [ (b) - (c) ]",null,null,null,{"$f":"IF('Company Information'!$F$11=\"Class 3A\",F383,F362)","v":{"$error":"#REF!"}},null,null,{"$f":"IF('Company Information'!$F$11=\"Class 3A\",I383,I362)","v":{"$error":"#REF!"}}]
[]
[null,null,null,null,"STANDARD","STANDARD",null,"USER","USER"]
[null,"TYPE OF ",null,"LIABILITY","CAPITAL","REQUIRED",null,"CAPITAL","REQUIRED"]
[null,"RESERVE RISK","STATEMENT SOURCE","VALUE","FACTOR","CAPITAL",null,"FACTOR","CAPITAL"]
[]
[null,null,null,"(1) ","(2)","(1) x (2)",null,"(3)","(1) x (3)"]
[]
[null,"Property Catastrophe","Sch III EBS, Line (1)",{"$f":"+#REF!","v":{"$error":"#REF!"}},{"$f":"+#REF!","v":{"$error":"#REF!"}},{"$f":"IF(D393<0,0,D393*E393)","v":{"$error":"#REF!"}},null,null,{"$f":"MAX(0,IF(H393=\"\",E393*D393,D393*H393))","v":{"$error":"#REF!"}}]
[null,"Property","Sch III EBS, Line (2)",{"$f":"+#REF!","v":{"$error":"#REF!"}},{"$f":"+#REF!","v":{"$error":"#REF!"}},{"$f":"IF(D394<0,0,D394*E394)","v":{"$error":"#REF!"}},null,null,{"$error":"#REF!"}]
[null,"Property Non-Proportional","Sch III EBS, Line (3)",{"$f":"+#REF!","v":{"$error":"#REF!"}},{"$f":"+#REF!","v":{"$error":"#REF!"}},{"$error":"#REF!"},null,null,{"$error":"#REF!"}]
[null,"Personal Accident","Sch III EBS, Line (4)",{"$f":"+#REF!","v":{"$error":"#REF!"}},{"$f":"+#REF!","v":{"$error":"#REF!"}},{"$error":"#REF!"},null,null,{"$error":"#REF!"}]
[null,"Personal Accident Non-Proportional","Sch III EBS, Line (5)",{"$f":"+#REF!","v":{"$error":"#REF!"}},{"$f":"+#REF!","v":{"$error":"#REF!"}},{"$error":"#REF!"},null,null,{"$error":"#REF!"}]
[null,"Aviation","Sch III EBS, Line (6)",{"$f":"+#REF!","v":{"$error":"#REF!"}},{"$f":"+#REF!","v":{"$error":"#REF!"}},{"$error":"#REF!"},null,null,{"$error":"#REF!"}]
[null,"Aviation Non-Proportional","Sch III EBS, Line (7)",{"$f":"+#REF!","v":{"$error":"#REF!"}},{"$f":"+#REF!","v":{"$error":"#REF!"}},{"$error":"#REF!"},null,null,{"$error":"#REF!"}]
[null,"Credit / Surety","Sch III EBS, Line (8)",{"$f":"+#REF!","v":{"$error":"#REF!"}},{"$f":"+#REF!","v":{"$error":"#REF!"}},{"$error":"#REF!"},null,null,{"$error":"#REF!"}]
[null,"Credit / Surety Non-Proportional","Sch III EBS, Line (9)",{"$f":"+#REF!","v":{"$error":"#REF!"}},{"$f":"+#REF!","v":{"$error":"#REF!"}},{"$error":"#REF!"},null,null,{"$error":"#REF!"}]
[null,"Energy Offshore / Marine","Sch III EBS, Line (10)",{"$f":"+#REF!","v":{"$error":"#REF!"}},{"$f":"+#REF!","v":{"$error":"#REF!"}},{"$error":"#REF!"},null,null,{"$error":"#REF!"}]
[null,"Energy Offshore / Marine Non-Proportional","Sch III EBS, Line (11)",{"$f":"+#REF!","v":{"$error":"#REF!"}},{"$f":"+#REF!","v":{"$error":"#REF!"}},{"$error":"#REF!"},null,null,{"$error":"#REF!"}]
[null,"US Casualty","Sch III EBS, Line (12)",{"$f":"+#REF!","v":{"$error":"#REF!"}},{"$f":"+#REF!","v":{"$error":"#REF!"}},{"$error":"#REF!"},null,null,{"$error":"#REF!"}]
[null,"US Casualty Non-Proportional","Sch III EBS, Line (13)",{"$f":"+#REF!","v":{"$error":"#REF!"}},{"$f":"+#REF!","v":{"$error":"#REF!"}},{"$error":"#REF!"},null,null,{"$error":"#REF!"}]
[null,"US Professional","Sch III EBS, Line (14)",{"$f":"+#REF!","v":{"$error":"#REF!"}},{"$f":"+#REF!","v":{"$error":"#REF!"}},{"$error":"#REF!"},null,null,{"$error":"#REF!"}]
[null,"US Professional Non-Proportional","Sch III EBS, Line (15)",{"$f":"+#REF!","v":{"$error":"#REF!"}},{"$f":"+#REF!","v":{"$error":"#REF!"}},{"$error":"#REF!"},null,null,{"$error":"#REF!"}]
[null,"US Specialty","Sch III EBS, Line (16)",{"$f":"+#REF!","v":{"$error":"#REF!"}},{"$f":"+#REF!","v":{"$error":"#REF!"}},{"$error":"#REF!"},null,null,{"$error":"#REF!"}]
[null,"US Specialty Non-Proportional","Sch III EBS, Line (17)",{"$f":"+#REF!","v":{"$error":"#REF!"}},{"$f":"+#REF!","v":{"$error":"#REF!"}},{"$error":"#REF!"},null,null,{"$error":"#REF!"}]
[null,"International Motor","Sch III EBS, Line (18)",{"$f":"+#REF!","v":{"$error":"#REF!"}},{"$f":"+#REF!","v":{"$error":"#REF!"}},{"$error":"#REF!"},null,null,{"$error":"#REF!"}]
[null,"International Motor Non-Proportional","Sch III EBS, Line (19)",{"$f":"+#REF!","v":{"$error":"#REF!"}},{"$f":"+#REF!","v":{"$error":"#REF!"}},{"$error":"#REF!"},null,null,{"$error":"#REF!"}]
[null,"International Casualty Non-Motor","Sch III EBS, Line (20)",{"$f":"+#REF!","v":{"$error":"#REF!"}},{"$f":"+#REF!","v":{"$error":"#REF!"}},{"$error":"#REF!"},null,null,{"$error":"#REF!"}]
[null,"International Casualty Non-Motor Non-Proportional","Sch III EBS, Line (21)",{"$f":"+#REF!","v":{"$error":"#REF!"}},{"$f":"+#REF!","v":{"$error":"#REF!"}},{"$error":"#REF!"},null,null,{"$error":"#REF!"}]
[null,"Retro Property","Sch III EBS, Line (22)",{"$f":"+#REF!","v":{"$error":"#REF!"}},{"$f":"+#REF!","v":{"$error":"#REF!"}},{"$error":"#REF!"},null,null,{"$error":"#REF!"}]
[null,"Structured / Finite Reinsurance","Sch III EBS, Line (23)",{"$f":"+#REF!","v":{"$error":"#REF!"}},{"$f":"+#REF!","v":{"$error":"#REF!"}},{"$error":"#REF!"},null,null,{"$error":"#REF!"}]
[null,"Health","Sch III EBS, Line (24)",{"$f":"+#REF!","v":{"$error":"#REF!"}},{"$f":"+#REF!","v":{"$error":"#REF!"}},{"$error":"#REF!"},null,null,{"$error":"#REF!"}]
[]
[null,"(a)  TOTAL",null,{"$f":"SUM(D393:D416)","v":{"$error":"#REF!"}},null,{"$f":"SUM(F393:F417)","v":{"$error":"#REF!"}},null,null,{"$f":"SUM(I393:I417)","v":{"$error":"#REF!"}}]
[]
[null,"(b)  CONCENTRATION ADJUSTMENT CALCULATION"]
[]
[null,"(i)","Maximum Reserve [ Maximum (1a) ]",null,null,{"$f":"MAX(D393:D416)","v":{"$error":"#REF!"}},null,null,{"$f":"MAX(D393:D416)","v":{"$error":"#REF!"}}]
[null,"(ii)","Total Reserve [ Total (1a) ]",null,null,{"$f":"D418","v":{"$error":"#REF!"}},null,null,{"$f":"D418","v":{"$error":"#REF!"}}]
[null,"(iii)","Maximum Reserve / Total Reserve [ (i) / (ii) ]",null,null,{"$f":"IF(F423=0,0,F422/F423)","v":{"$error":"#REF!"}},null,null,{"$f":"IF(I423=0,0,I422/I423)","v":{"$error":"#REF!"}}]
[null,"(iv)","Maximum Adjustment",null,null,0.4,null,null,0.4]
[null,"(v)"," [ (iii) x (iv) ]",null,null,{"$f":"F424*F425","v":{"$error":"#REF!"}},null,null,{"$f":"I424*I425","v":{"$error":"#REF!"}}]
[null,"(vi)","Minimum Adjustment Factor",null,null,{"$f":"1-F425","v":0.6},null,null,{"$f":"1-I425","v":0.6}]
[]
[null,"(b)  CONCENTRATION ADJUSTMENT FACTOR [ (v) + (vi) ]",null,null,null,{"$f":"F427+F426","v":{"$error":"#REF!"}},null,null,{"$f":"I427+I426","v":{"$error":"#REF!"}}]
[]
[null,"(c)  TOTAL RESERVE RISK  [ Total (a) x (b) ]",null,null,null,{"$f":"IF(F418>=0,F418*F429,0)","v":{"$error":"#REF!"}},null,null,{"$f":"IF(I418>=0,I418*I429,0)","v":{"$error":"#REF!"}}]
[]
[null,"(b)  CONCENTRATION ADJUSTMENT CALCULATION"]
[]
[null,"(i)","Total Reserve [ Total (1a) ]",null,null,{"$f":"'Company Specific Parameters'!D418","v":{"$error":"#REF!"}},null,null,{"$f":"'Company Specific Parameters'!D418","v":{"$error":"#REF!"}}]
[null,"(ii)","Concentration Adjustment (HHI Calculation)",null,null,{"$f":"IF(F435=0,0,('Company Specific Parameters'!D393/F435)^2+('Company Specific Parameters'!D394/F435)^2+('Company Specific Parameters'!D395/F435)^2+('Company Specific Parameters'!D396/F435)^2+('Company Specific Parameters'!D397/F435)^2+('Company Specific Parameters'!D398/F435)^2+('Company Specific Parameters'!D399/F435)^2+('Company Specific Parameters'!D400/F435)^2+('Company Specific Parameters'!D401/F435)^2+('Company Specific Parameters'!D402/F435)^2+('Company Specific Parameters'!D403/F435)^2+('Company Specific Parameters'!D404/F435)^2+('Company Specific Parameters'!D405/F435)^2+('Company Specific Parameters'!D406/F435)^2+('Company Specific Parameters'!D407/F435)^2+('Company Specific Parameters'!D408/F435)^2+('Company Specific Parameters'!D409/F435)^2+('Company Specific Parameters'!D410/F435)^2+('Company Specific Parameters'!D411/F435)^2+('Company Specific Parameters'!D412/F435)^2+('Company Specific Parameters'!D413/F435)^2+('Company Specific Parameters'!D414/F435)^2+('Company Specific Parameters'!D415/F435)^2+('Company Specific Parameters'!D416/F435)^2)","v":{"$error":"#REF!"}},null,null,{"$f":"IF(I435=0,0,('Company Specific Parameters'!D393/I435)^2+('Company Specific Parameters'!D394/I435)^2+('Company Specific Parameters'!D395/I435)^2+('Company Specific Parameters'!D396/I435)^2+('Company Specific Parameters'!D397/I435)^2+('Company Specific Parameters'!D398/I435)^2+('Company Specific Parameters'!D399/I435)^2+('Company Specific Parameters'!D400/I435)^2+('Company Specific Parameters'!D401/I435)^2+('Company Specific Parameters'!D402/I435)^2+('Company Specific Parameters'!D403/I435)^2+('Company Specific Parameters'!D404/I435)^2+('Company Specific Parameters'!D405/I435)^2+('Company Specific Parameters'!D406/I435)^2+('Company Specific Parameters'!D407/I435)^2+('Company Specific Parameters'!D408/I435)^2+('Company Specific Parameters'!D409/I435)^2+('Company Specific Parameters'!D410/I435)^2+('Company Specific Parameters'!D411/I435)^2+('Company Specific Parameters'!D412/I435)^2+('Company Specific Parameters'!D413/I435)^2+('Company Specific Parameters'!D414/I435)^2+('Company Specific Parameters'!D415/I435)^2+('Company Specific Parameters'!D416/I435)^2)","v":{"$error":"#REF!"}}]
[null,"(iii)","Maximum Adjustment",null,null,0.4,null,null,0.4]
[null,"(iv)"," [ (iii) x (iv) ]",null,null,{"$f":"F436*F437","v":{"$error":"#REF!"}},null,null,{"$f":"I436*I437","v":{"$error":"#REF!"}}]
[null,"(v)","Minimum Adjustment Factor",null,null,{"$f":"1-F437","v":0.6},null,null,{"$f":"1-I437","v":0.6}]
[]
[null,"(b)(i) CONCENTRATION ADJUSTMENT FACTOR (formula 1) [(iv) + (v)]",null,null,null,{"$f":"F439+F438","v":{"$error":"#REF!"}},null,null,{"$f":"I439+I438","v":{"$error":"#REF!"}}]
[]
[null,"(i)","Concentration Adjustment (up to 95%)",null,null,{"$f":"#REF!/900*95%","v":{"$error":"#REF!"}},null,null,{"$f":"#REF!/900*95%","v":{"$error":"#REF!"}}]
[null,"(ii)","Related Business % (up to 5%)",null,null,{"$f":"#REF!*5%","v":{"$error":"#REF!"}},null,null,{"$f":"#REF!*5%","v":{"$error":"#REF!"}}]
[null,"(iii)"," [ (i) + (ii) ]",null,null,{"$f":"SUM(F443:F444)","v":{"$error":"#REF!"}},null,null,{"$f":"SUM(I443:I444)","v":{"$error":"#REF!"}}]
[null,"(iv)","Maximum Adjustment",null,null,0.4,null,null,0.4]
[]
[null,"(b)(ii) CONCENTRATION ADJUSTMENT FACTOR (formula 2) [(iii) x (iv)]",null,null,null,{"$f":"F445*F446","v":{"$error":"#REF!"}},null,null,{"$f":"I445*I446","v":{"$error":"#REF!"}}]
[]
[null,"(c) CONCENTRATION ADJUSTMENT FACTOR [(b)(i)-(b)(ii)]",null,null,null,{"$f":"F441-F448","v":{"$error":"#REF!"}},null,null,{"$f":"I441-I448","v":{"$error":"#REF!"}}]
[]
[null,"(d) TOTAL RESERVE RISK [(a) x (c)]",null,null,null,{"$f":"IF('Company Specific Parameters'!F418=0,0,'Company Specific Parameters'!F418*F450)","v":{"$error":"#REF!"}},null,null,{"$f":"IF('Company Specific Parameters'!I418=0,0,'Company Specific Parameters'!I418*I450)","v":{"$error":"#REF!"}}]
[]
[null,"(d) TOTAL RESERVE RISK [(a) x (c)]",null,null,null,{"$f":"IF('Company Information'!$F$11=\"Class 3A\",F452,F431)","v":{"$error":"#REF!"}},null,null,{"$f":"IF('Company Information'!$F$11=\"Class 3A\",I452,I431)","v":{"$error":"#REF!"}}]
[]
[null,null,null,null,"STANDARD","STANDARD",null,"USER","USER"]
[null,"TYPE OF ",null,"ASSET","CAPITAL","REQUIRED",null,"CAPITAL","REQUIRED"]
[null,"CREDIT RISK","STATEMENT SOURCE","VALUE","FACTOR","CAPITAL",null,"FACTOR","CAPITAL"]
[]
[null,"(a)  Accounts and Premiums Receivable",null,"(1) ","(2)","(1) x (2)",null,"(3)","(1) x (3)"]
[]
[null,"In Course of Collection","Form 1EBS, Line (10a)",{"$f":"#REF!","v":{"$error":"#REF!"}},{"$f":"+'Credit Risk'!E11","v":0.05},{"$f":"IF(D462<0,0,D462*E462)","v":{"$error":"#REF!"}},null,null,{"$f":"MAX(0,IF(H462=\"\",E462*D462,D462*H462))","v":{"$error":"#REF!"}}]
[null,"Receivables from retrocessional contracts                            Less: Collateralized Balances","Form 1EBS, Line (10c), Notes to Form 1EBS, \nLine (10)",{"$f":"#REF!-#REF!","v":{"$error":"#REF!"}},{"$f":"+'Credit Risk'!E12","v":0.1},{"$f":"(D463*E463)","v":{"$error":"#REF!"}},null,null,{"$f":"IF(H463=\"\",E463*D463,D463*H463)","v":{"$error":"#REF!"}}]
[]
[null,"(a)  SUBTOTAL - ACCOUNTS AND PREMIUMS RECEIVABLE",null,{"$f":"SUM(D462:D463)","v":{"$error":"#REF!"}},null,{"$f":"IF(SUM(F462:F463)>=0,SUM(F462:F463),0)","v":{"$error":"#REF!"}},null,null,{"$f":"IF(SUM(I462:I463)>=0,SUM(I462:I463),0)","v":{"$error":"#REF!"}}]
[]
[null,"(b)  All Other Receivables"]
[]
[null,"Accrued Investment Income","Form 1EBS, Line (9)",{"$f":"#REF!","v":{"$error":"#REF!"}},{"$f":"+'Credit Risk'!E18","v":2.5000000000000001E-2},{"$f":"IF(D469<0,0,D469*E469)","v":{"$error":"#REF!"}},null,null,{"$f":"MAX(0,IF(H469=\"\",E469*D469,D469*H469))","v":{"$error":"#REF!"}}]
[null,"Advances to Affiliates","Form 1EBS, Line (4g)",{"$f":"#REF!","v":{"$error":"#REF!"}},{"$f":"+'Credit Risk'!E19","v":0.05},{"$f":"IF(D470<0,0,D470*E470)","v":{"$error":"#REF!"}},null,null,{"$f":"MAX(0,IF(H470=\"\",E470*D470,D470*H470))","v":{"$error":"#REF!"}}]
[]
[null,"(b)  SUBTOTAL - ALL OTHER RECEIVABLES",null,{"$f":"SUM(D469:D470)","v":{"$error":"#REF!"}},null,{"$f":"IF(SUM(F469:F470)>=0,SUM(F469:F470),0)","v":{"$error":"#REF!"}},null,null,{"$f":"IF(SUM(I469:I470)>=0,SUM(I469:I470),0)","v":{"$error":"#REF!"}}]
[]
[null,"(a) Particulars of Ceded Reinsurance Cover By BSCR Rating"]
[]
[null,"BSCR Rating 0 (Domestic Affiliates)","Schedule XVIII, Column E",{"$f":"'Credit Risk'!D25","v":0},{"$f":"+'Credit Risk'!E25","v":0},{"$f":"IF(D476<0,0,D476*E476)","v":0},null,null,{"$f":"MAX(0,IF(H476=\"\",E476*D476,D476*H476))","v":0}]
[null,"BSCR Rating 1","Schedule XVIII, Column E",{"$f":"'Credit Risk'!D26","v":0},{"$f":"+'Credit Risk'!E26","v":7.0000000000000001E-3},{"$f":"IF(D477<0,0,D477*E477)","v":0},null,null,0]
[null,"BSCR Rating 2","Schedule XVIII, Column E",{"$f":"'Credit Risk'!D27","v":0},{"$f":"+'Credit Risk'!E27","v":1.4999999999999999E-2},0,null,null,0]
[null,"BSCR Rating 3","Schedule XVIII, Column E",{"$f":"'Credit Risk'!D28","v":0},{"$f":"+'Credit Risk'!E28","v":3.5000000000000003E-2},0,null,null,0]
[null,"BSCR Rating 4","Schedule XVIII, Column E",{"$f":"'Credit Risk'!D29","v":0},{"$f":"+'Credit Risk'!E29","v":7.0000000000000007E-2},0,null,null,0]
[null,"BSCR Rating 5","Schedule XVIII, Column E",{"$f":"'Credit Risk'!D30","v":0},{"$f":"+'Credit Risk'!E30","v":0.12},0,null,null,0]
[null,"BSCR Rating 6","Schedule XVIII, Column E",{"$f":"'Credit Risk'!D31","v":0},{"$f":"+'Credit Risk'!E31","v":0.2},0,null,null,0]
[null,"BSCR Rating 7","Schedule XVIII, Column E",{"$f":"'Credit Risk'!D32","v":0},{"$f":"+'Credit Risk'!E32","v":0.27},0,null,null,0]
[null,"BSCR Rating 8","Schedule XVIII, Column E",{"$f":"'Credit Risk'!D33","v":0},{"$f":"+'Credit Risk'!E33","v":0.35},0,null,null,0]
[]
[null,"Total",null,{"$f":"SUM(D476:D485)","v":0},null,{"$f":"SUM(F476:F485)","v":0},null,null,{"$f":"SUM(I476:I485)","v":0}]
[]
[null,"Diversification Adjustment at 40%",null,null,null,{"$f":"SUM(F476:F484)*-('Schedule XVIII'!N82)","v":0},null,null,{"$f":"SUM(I476:I484)*-('Schedule XVIII'!N82)","v":0}]
[]
[null,"(a)  SUBTOTAL - PARTICULARS OF REINSURANCE BALANCES",null,{"$f":"+D486","v":0},null,{"$f":"IF(SUM(F476:F484,F488)>=0,SUM(F476:F484,F488),0)","v":0},null,null,{"$f":"IF(SUM(I476:I484,I488)>=0,SUM(I476:I484,I488),0)","v":0}]
[]
[null,"(b)  TOTAL CREDIT RISK",null,{"$f":"D490","v":0},null,{"$f":"F490","v":0},null,null,{"$f":"I490","v":0}]
[]
[null,"TYPE OF "]
[null,"CATASTROPHE RISK","STATEMENT SOURCE"]
[]
[null,"(a)  Gross Probable Maximum Loss","Schedule V, Line (g)",null,null,{"$f":"'Schedule V'!H29","v":0},null,null,{"$f":"+F497","v":0}]
[]
[null,"(b)  Net Probable Maximum Loss","Schedule V, Line (h)",null,null,{"$f":"'Schedule V'!H31","v":0},null,null,{"$f":"+F499","v":0}]
[]
[null,"(c)  Average Annual Loss (AAL) Excluding Property Catastrophe","Schedule V, Line (i)",null,null,{"$f":"'Schedule V'!H33","v":0},null,null,{"$f":"+F501","v":0}]
[]
[null,"(d)  Industry Catastrophe Loss Ratio",null,null,null,{"$f":"+#REF!","v":{"$error":"#REF!"}},null,null,0.4]
[]
[null,"(e)  Property Catastrophe Premium","Schedule IV, Line (1)",null,null,{"$f":"#REF!","v":{"$error":"#REF!"}},null,null,{"$f":"+F505","v":{"$error":"#REF!"}}]
[]
[null,"(f)  Total Catastrophe Premium  [ (c) / (d) + (e) ]",null,null,null,{"$f":"F501/F503+IF(F505>0,F505,0)","v":{"$error":"#REF!"}},null,null,{"$f":"IF(I503=\"\",IF(F503=0,0,I501/F503+IF(I505>0,I505,0)),IF(I503=0,0,I501/I503+IF(I505>0,I505,0)))","v":{"$error":"#REF!"}}]
[]
[null,"(g)  Credit Risk Capital Factor",null,null,null,{"$f":"+#REF!","v":{"$error":"#REF!"}},null,null,0.1]
[]
[null,"(h) Arrangements with Respect to Property Catastrophe Recoverables",null,null,null,{"$f":"'Schedule V'!H42","v":0},null,null,{"$f":"F511","v":0}]
[]
[null,"(i)  Credit Risk Charge  [ ((a) - (b) - (h) x .98 (g) ]",null,null,null,{"$f":"MAX(0,((F497-F499)-(F511*98%))*F509)","v":{"$error":"#REF!"}},null,null,{"$f":"MAX(0,((I497-I499)-(I511*98%))*I509)","v":0}]
[]
[null,"(j)  REQUIRED CAPITAL FOR CATASTROPHE RISK  [ (b) - (f) + (i) ]",null,null,null,{"$f":"IF('Company Information'!$F$11=\"Class 3A\",(IF((F499-F505)>=0,F499-F505+F513,F513)),(IF((F499-F507)>=0,F499-F507+F513,F513)))","v":{"$error":"#REF!"}},null,null,{"$f":"IF('Company Information'!$F$11=\"Class 3A\",(IF((I499-I505)>=0,I499-I505+I513,I513)),(IF((I499-I507)>=0,I499-I507+I513,I513)))","v":{"$error":"#REF!"}}]
[]
[null,"REQUIRED CAPITAL AND SURPLUS"]
[]
[null,"Market Risk",null,null,null,{"$f":"F165","v":0},null,null,{"$f":"I165","v":0}]
[null,"Equity Investment Risk",null,null,null,{"$f":"+F165","v":0},null,null,{"$f":"+I165","v":0}]
[null,"Interest Rate / Liquidity Risk",null,null,null,{"$f":"+F308","v":{"$error":"#REF!"}},null,null,{"$f":"+I308","v":{"$error":"#REF!"}}]
[null,"Currency Risk",null,null,null,{"$f":"+F190","v":{"$error":"#REF!"}},null,null,{"$f":"+I190","v":{"$error":"#REF!"}}]
[null,"Concentration Risk",null,null,null,{"$f":"+F298","v":{"$error":"#REF!"}},null,null,{"$f":"+I298","v":{"$error":"#REF!"}}]
[null,"Premium Risk",null,null,null,{"$f":"F385","v":{"$error":"#REF!"}},null,null,{"$f":"I385","v":{"$error":"#REF!"}}]
[null,"Reserve Risk",null,null,null,{"$f":"+F454","v":{"$error":"#REF!"}},null,null,{"$f":"+I454","v":{"$error":"#REF!"}}]
[null,"Credit Risk",null,null,null,{"$f":"F492","v":0},null,null,{"$f":"I492","v":0}]
[null,"Catastrophe Risk",null,null,null,{"$f":"+F515","v":{"$error":"#REF!"}},null,null,{"$f":"+I515","v":{"$error":"#REF!"}}]
[]
[null,"BSCR (Prior to Covariance Adjustment)",null,null,null,{"$f":"F519+F526","v":0},null,null,{"$f":"I519+I526","v":0}]
[]
[null,"BSCR (After Covariance Adjustment)",null,null,null,{"$f":"SQRT(MMULT(TRANSPOSE(F544:F545),MMULT($D$544:$E$545,F544:F545)))","v":0},null,null,{"$f":"SQRT(MMULT(TRANSPOSE(I544:I545),MMULT($D$544:$E$545,I544:I545)))","v":0}]
[]
[null,"Operational risk charge (%)",null,null,null,{"$f":"+Summary!G73","v":{"$error":"#REF!"}}]
[]
[null,"Operational risk capital charge ($)",null,null,null,{"$f":"'Operational Risk'!J113","v":0},null,null,{"$f":"'Operational Risk'!J113","v":0}]
[]
[null,"Capital add-on / reduction (BMA assessment)"]
[]
[null,{"$f":"+Summary!C77","v":"Capital Adjustment for (Regulatory) Capital Requirement for Regulated Non-Insurance Financial Operating Entities:"},null,null,null,{"$f":"+Summary!N77","v":{"$error":"#REF!"}},null,null,{"$f":"+Summary!N77","v":{"$error":"#REF!"}}]
[null,"BSCR ",null,null,null,{"$f":"F531+F535+F537","v":0},null,null,{"$f":"I531+I535+I537","v":0}]
[]
[]
[null,null,null,"Market","Credit"]
[null,"Market",null,1,0.25,{"$f":"F519","v":0},null,null,{"$f":"I519","v":0}]
[null,"Credit",null,0.25,1,{"$f":"F520","v":0},null,null,{"$f":"I520","v":0}]
[null,null,null,null,null,null,null,null,null,null,null,null,""]
[null,null,null,null,null,null,null,null,null,null,null,null,""]

{"sheet":"Crosscheck - SFS","index":32,"n_rows":151,"n_cols":4,"rows_kept":151,"cut":false,"hidden":true,"merged":[[3,0,3,1]]}
[null,"SUMMARY OF SFS INPUTS"]
[{"$f":"'Company Information'!C7","v":"Enter Company Name"}]
["Summary of SFS Inputs - For BMA Use Only"]
[{"$f":"'Company Information'!C3","v":"2019-12-31"}]
[]
[]
[null,"INPUT","STATEMENT SOURCE","VALUE"]
[]
[null,"Cash and time deposits","Form 1A, Line 1",{"$f":"#REF!","v":{"$error":"#REF!"}}]
[null,"Quoted invesments, bonds and debentures - held to maturity","Form 1A, Line 2(a)(i)"]
[null,"Quoted invesments, bonds and debentures - others","Form 1A, Line 2(a)(ii)"]
[null,"Quoted investments, equities - common stocks","Form 1A, Line 2(c)(i)",{"$f":"#REF!","v":{"$error":"#REF!"}}]
[null,"Quoted investments, equities - preferred stocks","Form 1A, Line 2(c)(ii)",{"$f":"#REF!","v":{"$error":"#REF!"}}]
[null,"Quoted investments, equities - mutual funds","Form 1A, Line 2(c)(iii)",{"$f":"#REF!","v":{"$error":"#REF!"}}]
[null,"Other quoted investments","Form 1A, Line 2(e)",{"$f":"#REF!","v":{"$error":"#REF!"}}]
[null,"Unquoted investments, bonds and debentures - held to maturity","Form 1A, Line 3(a)(i)"]
[null,"Unquoted investments, bonds and debentures - others","Form 1A, Line 3(a)(ii)"]
[null,"Unquoted investments, equities - common stocks","Form 1A, Line 3(c)(i)",{"$f":"#REF!","v":{"$error":"#REF!"}}]
[null,"Unquoted investments, equities - preferred stocks","Form 1A, Line 3(c)(ii)",{"$f":"#REF!","v":{"$error":"#REF!"}}]
[null,"Unquoted investments, equities - mutual funds","Form 1A, Line 3(c)(iii)",{"$f":"#REF!","v":{"$error":"#REF!"}}]
[null,"Other unquoted investments","Form 1A, Line 3(e)",{"$f":"#REF!","v":{"$error":"#REF!"}}]
[null,"Investments in affiliates","Form 1A, Line 4(a)",{"$f":"#REF!","v":{"$error":"#REF!"}}]
[null,"Advances to affiliates","Form 1A, Line 4(b)",{"$f":"#REF!","v":{"$error":"#REF!"}}]
[null,"Investment in mortgage loans on real estate - first liens","Form 1A, Line 5(a)",{"$f":"#REF!","v":{"$error":"#REF!"}}]
[null,"Investment in mortgage loans on real estate - other than first liens","Form 1A, Line 5(b)",{"$f":"#REF!","v":{"$error":"#REF!"}}]
[null,"Real estate, occupied by the company (less encumbrances)","Form 1A, Line 7(a)",{"$f":"#REF!","v":{"$error":"#REF!"}}]
[null,"Real estate, other properties (less encumbrances)","Form 1A, Line 7(b)",{"$f":"#REF!","v":{"$error":"#REF!"}}]
[null,"Collateral loans","Form 1A, Line 8",{"$f":"#REF!","v":{"$error":"#REF!"}}]
[null,"Investment income due and accrued","Form 1A, Line 9",{"$f":"#REF!","v":{"$error":"#REF!"}}]
[null,"Accounts and premium receivable - in course of collection","Form 1A, Line 10(a)",{"$f":"#REF!","v":{"$error":"#REF!"}}]
[null,"Accounts and premium receivable - deferred - not yet due","Form 1A, Line 10(b)"]
[null,"Accounts and premium receivable - receivables from retrocessional contracts","Form 1A, Line 10(c)",{"$f":"#REF!","v":{"$error":"#REF!"}}]
[null,"Reinsurance balances receivable - foreign affiliates","Form 1A, Line 11(a)",{"$f":"#REF!","v":{"$error":"#REF!"}}]
[null,"Reinsurance balances receivable - domestic affiliates","Form 1A, Line 11(b)",{"$f":"#REF!","v":{"$error":"#REF!"}}]
[null,"Reinsurance balances receivable - pools & associations","Form 1A, Line 11(c)",{"$f":"#REF!","v":{"$error":"#REF!"}}]
[null,"Reinsurance balances receivable - all other insurers","Form 1A, Line 11(d)",{"$f":"#REF!","v":{"$error":"#REF!"}}]
[null,"Funds held by ceding reinsurers - affiliated","Form 1A, Line 12(a)",{"$f":"#REF!","v":{"$error":"#REF!"}}]
[null,"Funds held by ceding reinsurers - non-affiliated","Form 1A, Line 12(b)",{"$f":"#REF!","v":{"$error":"#REF!"}}]
[null,"Sundry assets - derivative instruments","Form 1A, Line 13(a)",{"$f":"#REF!","v":{"$error":"#REF!"}}]
[null,"Sundry assets - segregated accounts companies","Form 1A, Line 13(b)",{"$f":"#REF!","v":{"$error":"#REF!"}}]
[null,"Sundry assets - deposit assets","Form 1A, Line 13(c)",{"$f":"#REF!","v":{"$error":"#REF!"}}]
[null,"Sundry assets - others","Form 1A, Line 13(d)",{"$f":"#REF!","v":{"$error":"#REF!"}}]
[null,"Letters of credit, guarantees and other instruments - letters of credit","Form 1A, Line 14(a)",{"$f":"#REF!","v":{"$error":"#REF!"}}]
[null,"Letters of credit, guarantees and other instruments - guarantees","Form 1A, Line 14(b)",{"$f":"#REF!","v":{"$error":"#REF!"}}]
[null,"Letters of credit, guarantees and other instruments - other instruments","Form 1A, Line 14(c)",{"$f":"#REF!","v":{"$error":"#REF!"}}]
[null,"Unearned premium","Form 1A, Line 16",{"$f":"#REF!","v":{"$error":"#REF!"}}]
[null,"Loss and loss expense provisions - gross loss and loss expense provisions","Form 1A, Line 17(a)",{"$f":"#REF!","v":{"$error":"#REF!"}}]
[null,"Loss and loss expense provisions - reinsurance recoverable - foreign affiliates","Form 1A, Line 17(b)(i)",{"$f":"#REF!","v":{"$error":"#REF!"}}]
[null,"Loss and loss expense provisions - reinsurance recoverable - domestic affiliates","Form 1A, Line 17(b)(ii)",{"$f":"#REF!","v":{"$error":"#REF!"}}]
[null,"Loss and loss expense provisions - reinsurance recoverable - pools  associations","Form 1A, Line 17(b)(iii)",{"$f":"#REF!","v":{"$error":"#REF!"}}]
[null,"Loss and loss expense provisions - reinsurance recoverable - all other insurers","Form 1A, Line 17(b)(iv)",{"$f":"#REF!","v":{"$error":"#REF!"}}]
[null,"Other insurance reserves - general business","Form 1A, Line 18"]
[null,"Insurance and reinsurance balances payable","Form 1A, Line 28",{"$f":"#REF!","v":{"$error":"#REF!"}}]
[null,"Commissions, expenses, fees and taxes payable","Form 1A, Line 29",{"$f":"#REF!","v":{"$error":"#REF!"}}]
[null,"Loans and notes payable","Form 1A, Line 30",{"$f":"#REF!","v":{"$error":"#REF!"}}]
[null,"Income taxes payable","Form 1A, Line 31(a)",{"$f":"#REF!","v":{"$error":"#REF!"}}]
[null,"Deferred income taxes","Form 1A, Line 31(b)",{"$f":"#REF!","v":{"$error":"#REF!"}}]
[null,"Amounts due to affiliates","Form 1A, Line 32",{"$f":"#REF!","v":{"$error":"#REF!"}}]
[null,"Accounts payable and accrued liabilities","Form 1A, Line 33",{"$f":"#REF!","v":{"$error":"#REF!"}}]
[null,"Funds held under reinsurance contracts - affiliates","Form 1A, Line 34(a)",{"$f":"#REF!","v":{"$error":"#REF!"}}]
[null,"Funds held under reinsurance contracts - non-affiliates","Form 1A, Line 34(b)",{"$f":"#REF!","v":{"$error":"#REF!"}}]
[null,"Dividends payable","Form 1A, Line 35",{"$f":"#REF!","v":{"$error":"#REF!"}}]
[null,"Sundry liabilities - derivative instruments","Form 1A, Line 36(a)",{"$f":"#REF!","v":{"$error":"#REF!"}}]
[null,"Sundry liabilities - segregated accounts companies","Form 1A, Line 36(b)",{"$f":"#REF!","v":{"$error":"#REF!"}}]
[null,"Sundry liabilities - deposit liabilities","Form 1A, Line 36(c)",{"$f":"#REF!","v":{"$error":"#REF!"}}]
[null,"Sundry liabilities - others","Form 1A, Line 36(d)",{"$f":"#REF!","v":{"$error":"#REF!"}}]
[null,"Letters of credit, guarantees and other instruments - letters of credit","Form 1A, Line 37(a)",{"$f":"#REF!","v":{"$error":"#REF!"}}]
[null,"Letters of credit, guarantees and other instruments - guarantees","Form 1A, Line 37(b)",{"$f":"#REF!","v":{"$error":"#REF!"}}]
[null,"Letters of credit, guarantees and other instruments - other instruments","Form 1A, Line 37(c)",{"$f":"#REF!","v":{"$error":"#REF!"}}]
[null,"Gross premium written - direct GPW","Form 2A, Line 1(a)"]
[null,"Gross premium written - assumed GPW","Form 2A, Line 1(b)"]
[null,"Reinsurance premiums ceded","Form 2A, Line 2"]
[null,"Increase (decrease) in unearned premiums","Form 2A, Line 4"]
[null,"Other insurance income","Form 2A, Line 6"]
[null,"Net losses incurred and net loss expenses incurred","Form 2A, Line 8"]
[null,"Commissions and brokerage","Form 2A, Line 9"]
[null,"General and administrative","Form 2A, Line 10"]
[null,"Personel costs","Form 2A, Line 11"]
[null,"Others","Form 2A, Line 12"]
[null,"Transferred from (to) open year business revenue statement","Form 2A, Line 15"]
[null,"General business investment income-net","Form 2A, Line 17"]
[null,"Other income (deductions)","Form 2A, Line 37"]
[null,"Income taxes - current","Form 2A, Line 39(a)"]
[null,"Income taxes - deferred","Form 2A, Line 39(b)"]
[null,"Realized gains (losses)","Form 2A, Line 41"]
[null,"Statutory Capital - authorized shares","Form 8, Line 1(a)"]
[null,"Statutory Capital - par value","Form 8, Line 1(a)"]
[null,"Statutory Capital - fully paid shares","Form 8, Line 1(a)"]
[null,"Statutory Capital - capital stock","Form 8, Line 1(a)"]
[null,"Statutory Capital - contributed surplus","Form 8, Line 1(b)"]
[null,"Statutory Capital - any other fixed capital","Form 8, Line 1(c)"]
[null,"Statutory surplus - beginning of year","Form 8, Line 2(a)"]
[null,"Statutory surplus - dividends paid and payable","Form 8, Line 2(c)"]
[null,"Statutory surplus - change in unrealized appreciation (depreciation) of investments","Form 8, Line 2(d)"]
[null,"Statutory surplus - change in non-admitted assets","Form 8, Line 2(e)"]
[null,"Statutory surplus - change in appraisal of real estate","Form 8, Line 2(f)"]
[null,"Statutory surplus - change in any other statutory capital","Form 8, Line 2(g)"]
[null,"Government","Schedule II, Line (1)"]
[null,"High Investment Grade (AAA & AA)","Schedule II, Line (2)"]
[null,"Medium Investment Grade (A)","Schedule II, Line (3)"]
[null,"Low Investment Grade (BBB)","Schedule II, Line (4)"]
[null,"Non Investment Grade","Schedule II, Line (5)"]
[null,"Mortgage Backed","Schedule II, Line (6)"]
[null,"Mutual Funds","Schedule II, Line (7)"]
[null,"Non Rated","Schedule II, Line (8)"]
[null,{"$f":"\"Reserves - \"&#REF!","v":{"$error":"#REF!"}},"Schedule III, Line (1)",{"$f":"#REF!","v":{"$error":"#REF!"}}]
[null,{"$f":"\"Reserves - \"&#REF!","v":{"$error":"#REF!"}},"Schedule III, Line (2)",{"$f":"#REF!","v":{"$error":"#REF!"}}]
[null,{"$f":"\"Reserves - \"&#REF!","v":{"$error":"#REF!"}},"Schedule III, Line (3)",{"$f":"#REF!","v":{"$error":"#REF!"}}]
[null,{"$f":"\"Reserves - \"&#REF!","v":{"$error":"#REF!"}},"Schedule III, Line (4)",{"$f":"#REF!","v":{"$error":"#REF!"}}]
[null,{"$f":"\"Reserves - \"&#REF!","v":{"$error":"#REF!"}},"Schedule III, Line (5)",{"$f":"#REF!","v":{"$error":"#REF!"}}]
[null,{"$f":"\"Reserves - \"&#REF!","v":{"$error":"#REF!"}},"Schedule III, Line (6)",{"$f":"#REF!","v":{"$error":"#REF!"}}]
[null,{"$f":"\"Reserves - \"&#REF!","v":{"$error":"#REF!"}},"Schedule III, Line (7)",{"$f":"#REF!","v":{"$error":"#REF!"}}]
[null,{"$f":"\"Reserves - \"&#REF!","v":{"$error":"#REF!"}},"Schedule III, Line (8)",{"$f":"#REF!","v":{"$error":"#REF!"}}]
[null,{"$f":"\"Reserves - \"&#REF!","v":{"$error":"#REF!"}},"Schedule III, Line (9)",{"$f":"#REF!","v":{"$error":"#REF!"}}]
[null,{"$f":"\"Reserves - \"&#REF!","v":{"$error":"#REF!"}},"Schedule III, Line (10)",{"$f":"#REF!","v":{"$error":"#REF!"}}]
[null,{"$f":"\"Reserves - \"&#REF!","v":{"$error":"#REF!"}},"Schedule III, Line (11)",{"$f":"#REF!","v":{"$error":"#REF!"}}]
[null,{"$f":"\"Reserves - \"&#REF!","v":{"$error":"#REF!"}},"Schedule III, Line (12)",{"$f":"#REF!","v":{"$error":"#REF!"}}]
[null,{"$f":"\"Reserves - \"&#REF!","v":{"$error":"#REF!"}},"Schedule III, Line (13)",{"$f":"#REF!","v":{"$error":"#REF!"}}]
[null,{"$f":"\"Reserves - \"&#REF!","v":{"$error":"#REF!"}},"Schedule III, Line (14)",{"$f":"#REF!","v":{"$error":"#REF!"}}]
[null,{"$f":"\"Reserves - \"&#REF!","v":{"$error":"#REF!"}},"Schedule III, Line (15)",{"$f":"#REF!","v":{"$error":"#REF!"}}]
[null,{"$f":"\"Reserves - \"&#REF!","v":{"$error":"#REF!"}},"Schedule III, Line (16)",{"$f":"#REF!","v":{"$error":"#REF!"}}]
[null,{"$f":"\"Reserves - \"&#REF!","v":{"$error":"#REF!"}},"Schedule III, Line (17)",{"$f":"#REF!","v":{"$error":"#REF!"}}]
[null,{"$f":"\"Reserves - \"&#REF!","v":{"$error":"#REF!"}},"Schedule III, Line (18)",{"$f":"#REF!","v":{"$error":"#REF!"}}]
[null,{"$f":"\"Reserves - \"&#REF!","v":{"$error":"#REF!"}},"Schedule III, Line (19)",{"$f":"#REF!","v":{"$error":"#REF!"}}]
[null,{"$f":"\"Reserves - \"&#REF!","v":{"$error":"#REF!"}},"Schedule III, Line (20)",{"$f":"#REF!","v":{"$error":"#REF!"}}]
[null,{"$f":"\"Reserves - \"&#REF!","v":{"$error":"#REF!"}},"Schedule III, Line (21)",{"$f":"#REF!","v":{"$error":"#REF!"}}]
[null,{"$f":"\"Reserves - \"&#REF!","v":{"$error":"#REF!"}},"Schedule III, Line (22)",{"$f":"#REF!","v":{"$error":"#REF!"}}]
[null,{"$f":"\"Reserves - \"&#REF!","v":{"$error":"#REF!"}},"Schedule III, Line (23)",{"$f":"#REF!","v":{"$error":"#REF!"}}]
[null,"Premium - Property Catastrophe","Schedule IV, Line (1)",{"$f":"#REF!","v":{"$error":"#REF!"}}]
[null,"Premium - Property","Schedule IV, Line (2)",{"$f":"#REF!","v":{"$error":"#REF!"}}]
[null,"Premium - Property Non-Proportional","Schedule IV, Line (3)",{"$f":"#REF!","v":{"$error":"#REF!"}}]
[null,"Premium - Personal Accident","Schedule IV, Line (4)",{"$f":"#REF!","v":{"$error":"#REF!"}}]
[null,"Premium - Personal Accident Non-Proportional","Schedule IV, Line (5)",{"$f":"#REF!","v":{"$error":"#REF!"}}]
[null,"Premium - Aviation","Schedule IV, Line (6)",{"$f":"#REF!","v":{"$error":"#REF!"}}]
[null,"Premium - Aviation Non-Proportional","Schedule IV, Line (7)",{"$f":"#REF!","v":{"$error":"#REF!"}}]
[null,"Premium - Credit / Surety","Schedule IV, Line (8)",{"$f":"#REF!","v":{"$error":"#REF!"}}]
[null,"Premium - Credit / Surety Non-Proportional","Schedule IV, Line (9)",{"$f":"#REF!","v":{"$error":"#REF!"}}]
[null,"Premium - Energy Offshore / Marine","Schedule IV, Line (10)",{"$f":"#REF!","v":{"$error":"#REF!"}}]
[null,"Premium - Energy Offshore / Marine Non-Proportional","Schedule IV, Line (11)",{"$f":"#REF!","v":{"$error":"#REF!"}}]
[null,"Premium - US Casualty","Schedule IV, Line (12)",{"$f":"#REF!","v":{"$error":"#REF!"}}]
[null,"Premium - US Casualty Non-Proportional","Schedule IV, Line (13)",{"$f":"#REF!","v":{"$error":"#REF!"}}]
[null,"Premium - US Professional","Schedule IV, Line (14)",{"$f":"#REF!","v":{"$error":"#REF!"}}]
[null,"Premium - US Professional Non-Proportional","Schedule IV, Line (15)",{"$f":"#REF!","v":{"$error":"#REF!"}}]
[null,"Premium - US Specialty","Schedule IV, Line (16)",{"$f":"#REF!","v":{"$error":"#REF!"}}]
[null,"Premium - US Specialty Non-Proportional","Schedule IV, Line (17)",{"$f":"#REF!","v":{"$error":"#REF!"}}]
[null,"Premium - International Motor","Schedule IV, Line (18)",{"$f":"#REF!","v":{"$error":"#REF!"}}]
[null,"Premium - International Motor Non-Proportional","Schedule IV, Line (19)",{"$f":"#REF!","v":{"$error":"#REF!"}}]
[null,"Premium - International Casualty Non-Motor","Schedule IV, Line (20)",{"$f":"#REF!","v":{"$error":"#REF!"}}]
[null,"Premium - International Casualty Non-Motor Non-Proportional","Schedule IV, Line (21)",{"$f":"#REF!","v":{"$error":"#REF!"}}]
[null,"Premium - Retro Property","Schedule IV, Line (22)",{"$f":"#REF!","v":{"$error":"#REF!"}}]
[null,"Premium - Structured / Finite Reinsurance","Schedule IV, Line (23)",{"$f":"#REF!","v":{"$error":"#REF!"}}]

{"sheet":"Crosscheck-Model","index":33,"n_rows":95,"n_cols":4,"rows_kept":95,"cut":false,"hidden":true,"merged":[[3,0,3,1]]}
[null,"SUMMARY OF INPUTS"]
[{"$f":"'Company Information'!C7","v":"Enter Company Name"}]
["Summary of SFS Inputs - For BMA Use Only"]
[{"$f":"'Company Information'!C3","v":"2019-12-31"}]
[]
[]
[null,"INPUT","STATEMENT SOURCE","VALUE"]
[]
[null,"Reported Surplus","Form 1A, Line (40)",{"$f":"Summary!N91","v":0}]
[null,"Government","Schedule II, Line (1)",{"$f":"'Fixed Income Investments'!D11","v":0}]
[null,"High Investment Grade (AAA & AA)","Schedule II, Line (2)",{"$f":"'Fixed Income Investments'!D12","v":0}]
[null,"Medium Investment Grade (A)","Schedule II, Line (3)",{"$f":"'Fixed Income Investments'!D13","v":0}]
[null,"Low Investment Grade (BBB)","Schedule II, Line (4)",{"$f":"'Fixed Income Investments'!D14","v":0}]
[null,"Non Investment Grade","Schedule II, Line (5)",{"$f":"'Fixed Income Investments'!D15","v":0}]
[null,"Mortgage Backed","Schedule II, Line (6)",{"$f":"'Fixed Income Investments'!D16","v":0}]
[null,"Mutual Funds","Schedule II, Line (7)",{"$f":"'Fixed Income Investments'!D17","v":0}]
[null,"Non Rated","Schedule II, Line (8)",{"$f":"'Fixed Income Investments'!D20","v":0}]
[null,"Mortgage Loans","Form 1A, Line (5c)"]
[null,"Other Loans","Form 1A, Line (8)",{"$f":"'Fixed Income Investments'!D78","v":0}]
[null,"Cash","Form 1A, Line (1)"]
[null,"Non-Affiliated (Quoted)","Form 1A, Line (2c)-i",{"$f":"'Equity Investments'!D11","v":0}]
[null,"Non-Affiliated (Unquoted)","Form 1A, Line (3c)-i",{"$f":"'Equity Investments'!D12","v":0}]
[null,"Mutual Funds","Form 1A, Lines (2c)-iii, (3c)-iii",{"$f":"'Equity Investments'!#REF!","v":{"$error":"#REF!"}}]
[null,"Non-Affiliated (Quoted)","Form 1A, Line (2c)-ii",{"$f":"'Equity Investments'!D28","v":0}]
[null,"Non-Affiliated (Unquoted)","Form 1A, Line (3c)-ii",{"$f":"'Equity Investments'!#REF!","v":{"$error":"#REF!"}}]
[null,"Company-Occupied Less Encumbrances","Form 1A, Line (7a)",{"$f":"'Equity Investments'!D40","v":0}]
[null,"Investments Less Encumbrances","Form 1A, Line (7b)",{"$f":"'Equity Investments'!D41","v":0}]
[null,"Other Investments","Form 1A, Lines (2e), (3e)",{"$f":"'Equity Investments'!#REF!","v":{"$error":"#REF!"}}]
[null,"Other Tangible Assets","Form 1A, Lines (13e), (14d)",{"$f":"'Equity Investments'!#REF!","v":{"$error":"#REF!"}}]
[null,"Bonds (Quoted Only)","Form 1A, Lines (2a)-ii and (3a)-ii",{"$f":"#REF!","v":{"$error":"#REF!"}}]
[null,"In Course of Collection","Form 1A, Line (10a)",{"$f":"'Credit Risk'!D11","v":{"$error":"#REF!"}}]
[null,"Deferred - Not Yet Due","Form 1A, Line (10b)"]
[null,"Receivables from retrocessional contracts  less: Collateralized Balances","Form 1A, Line (10c)",{"$f":"'Credit Risk'!D12","v":{"$error":"#REF!"}}]
[null,"Foreign Affiliates","Form 1A, Line (11a)"]
[null,"Domestic Affiliates","Form 1A, Line (11b)"]
[null,"Pools & Associations","Form 1A, Line (11c)"]
[null,"All Other Insurers","Form 1A, Line (11d)"]
[null,"Letter of credits","Notes to Form 1A, Line 11"]
[null,"Funds held by Company","Form 1A, Line 34(c)"]
[null,"Funds Held by Ceding Reinsurers","Form 1A, Line (12c)",{"$f":"#REF!","v":{"$error":"#REF!"}}]
[null,"Accrued Investment Income","Form 1A, Line (9)",{"$f":"'Credit Risk'!D18","v":{"$error":"#REF!"}}]
[null,"Receivable from Affiliates","Form 1A, Line (4c)",{"$f":"'Credit Risk'!D19","v":{"$error":"#REF!"}}]
[null,"Foreign Affiliates","Form 1A, Line (17b)-i",{"$f":"'Credit Risk'!D25","v":0}]
[null,"Domestic Affiliates","Form 1A, Line (17b)-ii",{"$f":"'Credit Risk'!D26","v":0}]
[null,"Pools & Associations","Form 1A, Line (17b)-iii"]
[null,"All Other Insurers","Form 1A, Line (17b)-iv"]
[null,"Premium - Property Catastrophe","Schedule IV, Line (1)",{"$f":"#REF!","v":{"$error":"#REF!"}}]
[null,"Premium - Property","Schedule IV, Line (2)",{"$f":"#REF!","v":{"$error":"#REF!"}}]
[null,"Premium - Property Non-Proportional","Schedule IV, Line (3)",{"$f":"#REF!","v":{"$error":"#REF!"}}]
[null,"Premium - Personal Accident","Schedule IV, Line (4)",{"$f":"#REF!","v":{"$error":"#REF!"}}]
[null,"Premium - Personal Accident Non-Proportional","Schedule IV, Line (5)",{"$f":"#REF!","v":{"$error":"#REF!"}}]
[null,"Premium - Aviation","Schedule IV, Line (6)",{"$f":"#REF!","v":{"$error":"#REF!"}}]
[null,"Premium - Aviation Non-Proportional","Schedule IV, Line (7)",{"$f":"#REF!","v":{"$error":"#REF!"}}]
[null,"Premium - Credit / Surety","Schedule IV, Line (8)",{"$f":"#REF!","v":{"$error":"#REF!"}}]
[null,"Premium - Credit / Surety Non-Proportional","Schedule IV, Line (9)",{"$f":"#REF!","v":{"$error":"#REF!"}}]
[null,"Premium - Energy Offshore / Marine","Schedule IV, Line (10)",{"$f":"#REF!","v":{"$error":"#REF!"}}]
[null,"Premium - Energy Offshore / Marine Non-Proportional","Schedule IV, Line (11)",{"$f":"#REF!","v":{"$error":"#REF!"}}]
[null,"Premium - US Casualty","Schedule IV, Line (12)",{"$f":"#REF!","v":{"$error":"#REF!"}}]
[null,"Premium - US Casualty Non-Proportional","Schedule IV, Line (13)",{"$f":"#REF!","v":{"$error":"#REF!"}}]
[null,"Premium - US Professional","Schedule IV, Line (14)",{"$f":"#REF!","v":{"$error":"#REF!"}}]
[null,"Premium - US Professional Non-Proportional","Schedule IV, Line (15)",{"$f":"#REF!","v":{"$error":"#REF!"}}]
[null,"Premium - US Specialty","Schedule IV, Line (16)",{"$f":"#REF!","v":{"$error":"#REF!"}}]
[null,"Premium - US Specialty Non-Proportional","Schedule IV, Line (17)",{"$f":"#REF!","v":{"$error":"#REF!"}}]
[null,"Premium - International Motor","Schedule IV, Line (18)",{"$f":"#REF!","v":{"$error":"#REF!"}}]
[null,"Premium - International Motor Non-Proportional","Schedule IV, Line (19)",{"$f":"#REF!","v":{"$error":"#REF!"}}]
[null,"Premium - International Casualty Non-Motor","Schedule IV, Line (20)",{"$f":"#REF!","v":{"$error":"#REF!"}}]
[null,"Premium - International Casualty Non-Motor Non-Proportional","Schedule IV, Line (21)",{"$f":"#REF!","v":{"$error":"#REF!"}}]
[null,"Premium - Retro Property","Schedule IV, Line (22)",{"$f":"#REF!","v":{"$error":"#REF!"}}]
[null,"Premium - Structured / Finite Reinsurance","Schedule IV, Line (23)",{"$f":"#REF!","v":{"$error":"#REF!"}}]
[null,{"$f":"\"Reserves - \"&#REF!","v":{"$error":"#REF!"}},"Schedule III, Line (1)",{"$f":"#REF!","v":{"$error":"#REF!"}}]
[null,{"$f":"\"Reserves - \"&#REF!","v":{"$error":"#REF!"}},"Schedule III, Line (2)",{"$f":"#REF!","v":{"$error":"#REF!"}}]
[null,{"$f":"\"Reserves - \"&#REF!","v":{"$error":"#REF!"}},"Schedule III, Line (3)",{"$f":"#REF!","v":{"$error":"#REF!"}}]
[null,{"$f":"\"Reserves - \"&#REF!","v":{"$error":"#REF!"}},"Schedule III, Line (4)",{"$f":"#REF!","v":{"$error":"#REF!"}}]
[null,{"$f":"\"Reserves - \"&#REF!","v":{"$error":"#REF!"}},"Schedule III, Line (5)",{"$f":"#REF!","v":{"$error":"#REF!"}}]
[null,{"$f":"\"Reserves - \"&#REF!","v":{"$error":"#REF!"}},"Schedule III, Line (6)",{"$f":"#REF!","v":{"$error":"#REF!"}}]
[null,{"$f":"\"Reserves - \"&#REF!","v":{"$error":"#REF!"}},"Schedule III, Line (7)",{"$f":"#REF!","v":{"$error":"#REF!"}}]
[null,{"$f":"\"Reserves - \"&#REF!","v":{"$error":"#REF!"}},"Schedule III, Line (8)",{"$f":"#REF!","v":{"$error":"#REF!"}}]
[null,{"$f":"\"Reserves - \"&#REF!","v":{"$error":"#REF!"}},"Schedule III, Line (9)",{"$f":"#REF!","v":{"$error":"#REF!"}}]
[null,{"$f":"\"Reserves - \"&#REF!","v":{"$error":"#REF!"}},"Schedule III, Line (10)",{"$f":"#REF!","v":{"$error":"#REF!"}}]
[null,{"$f":"\"Reserves - \"&#REF!","v":{"$error":"#REF!"}},"Schedule III, Line (11)",{"$f":"#REF!","v":{"$error":"#REF!"}}]
[null,{"$f":"\"Reserves - \"&#REF!","v":{"$error":"#REF!"}},"Schedule III, Line (12)",{"$f":"#REF!","v":{"$error":"#REF!"}}]
[null,{"$f":"\"Reserves - \"&#REF!","v":{"$error":"#REF!"}},"Schedule III, Line (13)",{"$f":"#REF!","v":{"$error":"#REF!"}}]
[null,{"$f":"\"Reserves - \"&#REF!","v":{"$error":"#REF!"}},"Schedule III, Line (14)",{"$f":"#REF!","v":{"$error":"#REF!"}}]
[null,{"$f":"\"Reserves - \"&#REF!","v":{"$error":"#REF!"}},"Schedule III, Line (15)",{"$f":"#REF!","v":{"$error":"#REF!"}}]
[null,{"$f":"\"Reserves - \"&#REF!","v":{"$error":"#REF!"}},"Schedule III, Line (16)",{"$f":"#REF!","v":{"$error":"#REF!"}}]
[null,{"$f":"\"Reserves - \"&#REF!","v":{"$error":"#REF!"}},"Schedule III, Line (17)",{"$f":"#REF!","v":{"$error":"#REF!"}}]
[null,{"$f":"\"Reserves - \"&#REF!","v":{"$error":"#REF!"}},"Schedule III, Line (18)",{"$f":"#REF!","v":{"$error":"#REF!"}}]
[null,{"$f":"\"Reserves - \"&#REF!","v":{"$error":"#REF!"}},"Schedule III, Line (19)",{"$f":"#REF!","v":{"$error":"#REF!"}}]
[null,{"$f":"\"Reserves - \"&#REF!","v":{"$error":"#REF!"}},"Schedule III, Line (20)",{"$f":"#REF!","v":{"$error":"#REF!"}}]
[null,{"$f":"\"Reserves - \"&#REF!","v":{"$error":"#REF!"}},"Schedule III, Line (21)",{"$f":"#REF!","v":{"$error":"#REF!"}}]
[null,{"$f":"\"Reserves - \"&#REF!","v":{"$error":"#REF!"}},"Schedule III, Line (22)",{"$f":"#REF!","v":{"$error":"#REF!"}}]
[null,{"$f":"\"Reserves - \"&#REF!","v":{"$error":"#REF!"}},"Schedule III, Line (23)",{"$f":"#REF!","v":{"$error":"#REF!"}}]
[null,"Gross Probable Maximum Loss","Schedule V, Line (b)",{"$f":"#REF!","v":{"$error":"#REF!"}}]
[null,"Net Probable Maximum Loss","Schedule V, Line (c)",{"$f":"#REF!","v":{"$error":"#REF!"}}]
[null,"Average Annual Loss (AAL) Excluding Property Catastrophe","Schedule V, Line (d)",{"$f":"#REF!","v":{"$error":"#REF!"}}]

{"sheet":"Crosscheck - Op Risk","index":34,"n_rows":153,"n_cols":4,"rows_kept":153,"cut":false,"hidden":true,"merged":[[3,0,3,1]]}
[null,"SUMMARY OF OPERATIONAL RISK"]
["Sample Company"]
["Summary of SFS Inputs - For BMA Use Only"]
[{"$f":"'Company Information'!C3","v":"2019-12-31"}]
[]
[]
[null,"INPUT","STATEMENT SOURCE","SCORE"]
[]
[null,"Corporate Governance - 1","Corp Gov",{"$f":"#REF!","v":{"$error":"#REF!"}}]
[null,"Corporate Governance - 2","Corp Gov",{"$f":"#REF!","v":{"$error":"#REF!"}}]
[null,"Corporate Governance - 3","Corp Gov",{"$f":"#REF!","v":{"$error":"#REF!"}}]
[null,"Corporate Governance - 4","Corp Gov",{"$f":"#REF!","v":{"$error":"#REF!"}}]
[null,"Corporate Governance - 5","Corp Gov",{"$f":"#REF!","v":{"$error":"#REF!"}}]
[null,"Corporate Governance - 6","Corp Gov",{"$f":"#REF!","v":{"$error":"#REF!"}}]
[null,"Risk Management - 1","Risk Man"]
[null,"Risk Management - 2","Risk Man"]
[null,"Risk Management - 3","Risk Man"]
[null,"Risk Management - 4","Risk Man"]
[null,"Risk Management - 5","Risk Man"]
[null,"Risk Management - 6","Risk Man"]
[null,"Risk Management - 7","Risk Man"]
[null,"Risk Identification"]
[null,"Fraud - Stage 1","Identification",{"$f":"#REF!","v":{"$error":"#REF!"}}]
[null,"Fraud - Stage 2","Identification",{"$f":"#REF!","v":{"$error":"#REF!"}}]
[null,"Fraud - Stage 3","Identification",{"$f":"#REF!","v":{"$error":"#REF!"}}]
[null,"Fraud - Stage 4","Identification",{"$f":"#REF!","v":{"$error":"#REF!"}}]
[null,"Human Resources - Stage 1","Identification",{"$f":"#REF!","v":{"$error":"#REF!"}}]
[null,"Human Resources - Stage 2","Identification",{"$f":"#REF!","v":{"$error":"#REF!"}}]
[null,"Human Resources - Stage 3","Identification",{"$f":"#REF!","v":{"$error":"#REF!"}}]
[null,"Human Resources - Stage 4","Identification",{"$f":"#REF!","v":{"$error":"#REF!"}}]
[null,"Outsourcing - Stage 1","Identification",{"$f":"#REF!","v":{"$error":"#REF!"}}]
[null,"Outsourcing - Stage 2","Identification",{"$f":"#REF!","v":{"$error":"#REF!"}}]
[null,"Outsourcing - Stage 3","Identification",{"$f":"#REF!","v":{"$error":"#REF!"}}]
[null,"Outsourcing - Stage 4","Identification",{"$f":"#REF!","v":{"$error":"#REF!"}}]
[null,"Distribution Channels - Stage 1","Identification",{"$f":"#REF!","v":{"$error":"#REF!"}}]
[null,"Distribution Channels - Stage 2","Identification",{"$f":"#REF!","v":{"$error":"#REF!"}}]
[null,"Distribution Channels - Stage 3","Identification",{"$f":"#REF!","v":{"$error":"#REF!"}}]
[null,"Distribution Channels - Stage 4","Identification",{"$f":"#REF!","v":{"$error":"#REF!"}}]
[null,"Business Processes - Stage 1","Identification",{"$f":"#REF!","v":{"$error":"#REF!"}}]
[null,"Business Processes - Stage 2","Identification",{"$f":"#REF!","v":{"$error":"#REF!"}}]
[null,"Business Processes - Stage 3","Identification",{"$f":"#REF!","v":{"$error":"#REF!"}}]
[null,"Business Processes - Stage 4","Identification",{"$f":"#REF!","v":{"$error":"#REF!"}}]
[null,"Business Continuity - Stage 1","Identification",{"$f":"#REF!","v":{"$error":"#REF!"}}]
[null,"Business Continuity - Stage 2","Identification",{"$f":"#REF!","v":{"$error":"#REF!"}}]
[null,"Business Continuity - Stage 3","Identification",{"$f":"#REF!","v":{"$error":"#REF!"}}]
[null,"Business Continuity - Stage 4","Identification",{"$f":"#REF!","v":{"$error":"#REF!"}}]
[null,"Information Systems - Stage 1","Identification",{"$f":"#REF!","v":{"$error":"#REF!"}}]
[null,"Information Systems - Stage 2","Identification",{"$f":"#REF!","v":{"$error":"#REF!"}}]
[null,"Information Systems - Stage 3","Identification",{"$f":"#REF!","v":{"$error":"#REF!"}}]
[null,"Information Systems - Stage 4","Identification",{"$f":"#REF!","v":{"$error":"#REF!"}}]
[null,"Compliance - Stage 1","Identification",{"$f":"#REF!","v":{"$error":"#REF!"}}]
[null,"Compliance - Stage 2","Identification",{"$f":"#REF!","v":{"$error":"#REF!"}}]
[null,"Compliance - Stage 3","Identification",{"$f":"#REF!","v":{"$error":"#REF!"}}]
[null,"Compliance - Stage 4","Identification",{"$f":"#REF!","v":{"$error":"#REF!"}}]
[null,"Risk Measurement"]
[null,"Fraud - Stage 1","Measurement",{"$f":"#REF!","v":{"$error":"#REF!"}}]
[null,"Fraud - Stage 2","Measurement",{"$f":"#REF!","v":{"$error":"#REF!"}}]
[null,"Fraud - Stage 3","Measurement",{"$f":"#REF!","v":{"$error":"#REF!"}}]
[null,"Fraud - Stage 4","Measurement",{"$f":"#REF!","v":{"$error":"#REF!"}}]
[null,"Human Resources - Stage 1","Measurement",{"$f":"#REF!","v":{"$error":"#REF!"}}]
[null,"Human Resources - Stage 2","Measurement",{"$f":"#REF!","v":{"$error":"#REF!"}}]
[null,"Human Resources - Stage 3","Measurement",{"$f":"#REF!","v":{"$error":"#REF!"}}]
[null,"Human Resources - Stage 4","Measurement",{"$f":"#REF!","v":{"$error":"#REF!"}}]
[null,"Outsourcing - Stage 1","Measurement",{"$f":"#REF!","v":{"$error":"#REF!"}}]
[null,"Outsourcing - Stage 2","Measurement",{"$f":"#REF!","v":{"$error":"#REF!"}}]
[null,"Outsourcing - Stage 3","Measurement",{"$f":"#REF!","v":{"$error":"#REF!"}}]
[null,"Outsourcing - Stage 4","Measurement",{"$f":"#REF!","v":{"$error":"#REF!"}}]
[null,"Distribution Channels - Stage 1","Measurement",{"$f":"#REF!","v":{"$error":"#REF!"}}]
[null,"Distribution Channels - Stage 2","Measurement",{"$f":"#REF!","v":{"$error":"#REF!"}}]
[null,"Distribution Channels - Stage 3","Measurement",{"$f":"#REF!","v":{"$error":"#REF!"}}]
[null,"Distribution Channels - Stage 4","Measurement",{"$f":"#REF!","v":{"$error":"#REF!"}}]
[null,"Business Processes - Stage 1","Measurement",{"$f":"#REF!","v":{"$error":"#REF!"}}]
[null,"Business Processes - Stage 2","Measurement",{"$f":"#REF!","v":{"$error":"#REF!"}}]
[null,"Business Processes - Stage 3","Measurement",{"$f":"#REF!","v":{"$error":"#REF!"}}]
[null,"Business Processes - Stage 4","Measurement",{"$f":"#REF!","v":{"$error":"#REF!"}}]
[null,"Business Continuity - Stage 1","Measurement",{"$f":"#REF!","v":{"$error":"#REF!"}}]
[null,"Business Continuity - Stage 2","Measurement",{"$f":"#REF!","v":{"$error":"#REF!"}}]
[null,"Business Continuity - Stage 3","Measurement",{"$f":"#REF!","v":{"$error":"#REF!"}}]
[null,"Business Continuity - Stage 4","Measurement",{"$f":"#REF!","v":{"$error":"#REF!"}}]
[null,"Information Systems - Stage 1","Measurement",{"$f":"#REF!","v":{"$error":"#REF!"}}]
[null,"Information Systems - Stage 2","Measurement",{"$f":"#REF!","v":{"$error":"#REF!"}}]
[null,"Information Systems - Stage 3","Measurement",{"$f":"#REF!","v":{"$error":"#REF!"}}]
[null,"Information Systems - Stage 4","Measurement",{"$f":"#REF!","v":{"$error":"#REF!"}}]
[null,"Compliance - Stage 1","Measurement",{"$f":"#REF!","v":{"$error":"#REF!"}}]
[null,"Compliance - Stage 2","Measurement",{"$f":"#REF!","v":{"$error":"#REF!"}}]
[null,"Compliance - Stage 3","Measurement",{"$f":"#REF!","v":{"$error":"#REF!"}}]
[null,"Compliance - Stage 4","Measurement",{"$f":"#REF!","v":{"$error":"#REF!"}}]
[null,"Risk Response"]
[null,"Fraud - Stage 1","Response",{"$f":"#REF!","v":{"$error":"#REF!"}}]
[null,"Fraud - Stage 2","Response",{"$f":"#REF!","v":{"$error":"#REF!"}}]
[null,"Fraud - Stage 3","Response",{"$f":"#REF!","v":{"$error":"#REF!"}}]
[null,"Fraud - Stage 4","Response",{"$f":"#REF!","v":{"$error":"#REF!"}}]
[null,"Human Resources - Stage 1","Response",{"$f":"#REF!","v":{"$error":"#REF!"}}]
[null,"Human Resources - Stage 2","Response",{"$f":"#REF!","v":{"$error":"#REF!"}}]
[null,"Human Resources - Stage 3","Response",{"$f":"#REF!","v":{"$error":"#REF!"}}]
[null,"Human Resources - Stage 4","Response",{"$f":"#REF!","v":{"$error":"#REF!"}}]
[null,"Outsourcing - Stage 1","Response",{"$f":"#REF!","v":{"$error":"#REF!"}}]
[null,"Outsourcing - Stage 2","Response",{"$f":"#REF!","v":{"$error":"#REF!"}}]
[null,"Outsourcing - Stage 3","Response",{"$f":"#REF!","v":{"$error":"#REF!"}}]
[null,"Outsourcing - Stage 4","Response",{"$f":"#REF!","v":{"$error":"#REF!"}}]
[null,"Distribution Channels - Stage 1","Response",{"$f":"#REF!","v":{"$error":"#REF!"}}]
[null,"Distribution Channels - Stage 2","Response",{"$f":"#REF!","v":{"$error":"#REF!"}}]
[null,"Distribution Channels - Stage 3","Response",{"$f":"#REF!","v":{"$error":"#REF!"}}]
[null,"Distribution Channels - Stage 4","Response",{"$f":"#REF!","v":{"$error":"#REF!"}}]
[null,"Business Processes - Stage 1","Response",{"$f":"#REF!","v":{"$error":"#REF!"}}]
[null,"Business Processes - Stage 2","Response",{"$f":"#REF!","v":{"$error":"#REF!"}}]
[null,"Business Processes - Stage 3","Response",{"$f":"#REF!","v":{"$error":"#REF!"}}]
[null,"Business Processes - Stage 4","Response",{"$f":"#REF!","v":{"$error":"#REF!"}}]
[null,"Business Continuity - Stage 1","Response",{"$f":"#REF!","v":{"$error":"#REF!"}}]
[null,"Business Continuity - Stage 2","Response",{"$f":"#REF!","v":{"$error":"#REF!"}}]
[null,"Business Continuity - Stage 3","Response",{"$f":"#REF!","v":{"$error":"#REF!"}}]
[null,"Business Continuity - Stage 4","Response",{"$f":"#REF!","v":{"$error":"#REF!"}}]
[null,"Information Systems - Stage 1","Response",{"$f":"#REF!","v":{"$error":"#REF!"}}]
[null,"Information Systems - Stage 2","Response",{"$f":"#REF!","v":{"$error":"#REF!"}}]
[null,"Information Systems - Stage 3","Response",{"$f":"#REF!","v":{"$error":"#REF!"}}]
[null,"Information Systems - Stage 4","Response",{"$f":"#REF!","v":{"$error":"#REF!"}}]
[null,"Compliance - Stage 1","Response",{"$f":"#REF!","v":{"$error":"#REF!"}}]
[null,"Compliance - Stage 2","Response",{"$f":"#REF!","v":{"$error":"#REF!"}}]
[null,"Compliance - Stage 3","Response",{"$f":"#REF!","v":{"$error":"#REF!"}}]
[null,"Compliance - Stage 4","Response",{"$f":"#REF!","v":{"$error":"#REF!"}}]
[null,"Risk Monitoring & Reporting"]
[null,"Fraud - Stage 1","Monitoring & Reporting",{"$f":"#REF!","v":{"$error":"#REF!"}}]
[null,"Fraud - Stage 2","Monitoring & Reporting",{"$f":"#REF!","v":{"$error":"#REF!"}}]
[null,"Fraud - Stage 3","Monitoring & Reporting",{"$f":"#REF!","v":{"$error":"#REF!"}}]
[null,"Fraud - Stage 4","Monitoring & Reporting",{"$f":"#REF!","v":{"$error":"#REF!"}}]
[null,"Human Resources - Stage 1","Monitoring & Reporting",{"$f":"#REF!","v":{"$error":"#REF!"}}]
[null,"Human Resources - Stage 2","Monitoring & Reporting",{"$f":"#REF!","v":{"$error":"#REF!"}}]
[null,"Human Resources - Stage 3","Monitoring & Reporting",{"$f":"#REF!","v":{"$error":"#REF!"}}]
[null,"Human Resources - Stage 4","Monitoring & Reporting",{"$f":"#REF!","v":{"$error":"#REF!"}}]
[null,"Outsourcing - Stage 1","Monitoring & Reporting",{"$f":"#REF!","v":{"$error":"#REF!"}}]
[null,"Outsourcing - Stage 2","Monitoring & Reporting",{"$f":"#REF!","v":{"$error":"#REF!"}}]
[null,"Outsourcing - Stage 3","Monitoring & Reporting",{"$f":"#REF!","v":{"$error":"#REF!"}}]
[null,"Outsourcing - Stage 4","Monitoring & Reporting",{"$f":"#REF!","v":{"$error":"#REF!"}}]
[null,"Distribution Channels - Stage 1","Monitoring & Reporting",{"$f":"#REF!","v":{"$error":"#REF!"}}]
[null,"Distribution Channels - Stage 2","Monitoring & Reporting",{"$f":"#REF!","v":{"$error":"#REF!"}}]
[null,"Distribution Channels - Stage 3","Monitoring & Reporting",{"$f":"#REF!","v":{"$error":"#REF!"}}]
[null,"Distribution Channels - Stage 4","Monitoring & Reporting",{"$f":"#REF!","v":{"$error":"#REF!"}}]
[null,"Business Processes - Stage 1","Monitoring & Reporting",{"$f":"#REF!","v":{"$error":"#REF!"}}]
[null,"Business Processes - Stage 2","Monitoring & Reporting",{"$f":"#REF!","v":{"$error":"#REF!"}}]
[null,"Business Processes - Stage 3","Monitoring & Reporting",{"$f":"#REF!","v":{"$error":"#REF!"}}]
[null,"Business Processes - Stage 4","Monitoring & Reporting",{"$f":"#REF!","v":{"$error":"#REF!"}}]
[null,"Business Continuity - Stage 1","Monitoring & Reporting",{"$f":"#REF!","v":{"$error":"#REF!"}}]
[null,"Business Continuity - Stage 2","Monitoring & Reporting",{"$f":"#REF!","v":{"$error":"#REF!"}}]
[null,"Business Continuity - Stage 3","Monitoring & Reporting",{"$f":"#REF!","v":{"$error":"#REF!"}}]
[null,"Business Continuity - Stage 4","Monitoring & Reporting",{"$f":"#REF!","v":{"$error":"#REF!"}}]
[null,"Information Systems - Stage 1","Monitoring & Reporting",{"$f":"#REF!","v":{"$error":"#REF!"}}]
[null,"Information Systems - Stage 2","Monitoring & Reporting",{"$f":"#REF!","v":{"$error":"#REF!"}}]
[null,"Information Systems - Stage 3","Monitoring & Reporting",{"$f":"#REF!","v":{"$error":"#REF!"}}]
[null,"Information Systems - Stage 4","Monitoring & Reporting",{"$f":"#REF!","v":{"$error":"#REF!"}}]
[null,"Compliance - Stage 1","Monitoring & Reporting",{"$f":"#REF!","v":{"$error":"#REF!"}}]
[null,"Compliance - Stage 2","Monitoring & Reporting",{"$f":"#REF!","v":{"$error":"#REF!"}}]
[null,"Compliance - Stage 3","Monitoring & Reporting",{"$f":"#REF!","v":{"$error":"#REF!"}}]
[null,"Compliance - Stage 4","Monitoring & Reporting",{"$f":"#REF!","v":{"$error":"#REF!"}}]

{"sheet":"prt_res","index":35,"n_rows":54,"n_cols":4,"rows_kept":54,"cut":false,"hidden":true,"merged":[]}
[true,"Company_Information_Print",null,true]
[true,"Summary_Print",null,false]
[true,"Fixed_Income_Print"]
[true,"Equity_Print"]
[true,"Interest_Rate_Print"]
[true,"Credit_Print"]
[true,"Premium_Print"]
[true,"Reserve_Print"]
[true,"Cat_Print"]
[]
[]
[]
[]
[]
[]
[]
[]
[]
[]
[]
[]
[]
[]
[]
[]
[]
[]
[]
[]
[]
[]
[]
[]
[]
[]
[]
[]
[]
[]
[]
[]
[]
[]
[]
[]
[]
[]
[]
[]
[]
[]
[]
[]
[null,"a"]

{"sheet":"HiddenFormulas","index":36,"n_rows":314,"n_cols":9,"rows_kept":314,"cut":false,"hidden":true,"merged":[]}
["Summary",null,null,"Fixed Income Investments",null,null,"Equity Investments"]
[{"$f":"IFERROR(SUM(C2:I2),999)","v":0},null,{"$f":"IFERROR(SUM(C3:C314),999)","v":0},null,null,{"$f":"IFERROR(SUM(F3:F168),999)","v":0},null,null,{"$f":"IFERROR(SUM(I3:I107),999)","v":0}]
[{"$f":"IF(INDIRECT(G106)=H106,0,1)","v":0},null,314,null,null,168,null,null,107]
[{"$f":"ADDRESS(2,1,1,1,$A$1)","v":"Summary!$A$2"},"='Company Information'!C7",{"$f":"IF(_xlfn.FORMULATEXT(INDIRECT(A4))=B4,0,1)","v":0},{"$f":"ADDRESS(2,1,1,1,$D$1)","v":"'Fixed Income Investments'!$A$2"},"='Company Information'!C7",{"$f":"IF(_xlfn.FORMULATEXT(INDIRECT(D4))=E4,0,1)","v":0},{"$f":"ADDRESS(2,1,1,1,$G$1)","v":"'Equity Investments'!$A$2"},"='Company Information'!C7",{"$f":"IF(_xlfn.FORMULATEXT(INDIRECT(G4))=H4,0,1)","v":0}]
[{"$f":"ADDRESS(4,1,1,1,$A$1)","v":"Summary!$A$4"},"=\"For the Year Ending \"",0,{"$f":"ADDRESS(3,3,1,1,$D$1)","v":"'Fixed Income Investments'!$C$3"},"='Company Information'!C3",{"$f":"IF(_xlfn.FORMULATEXT(INDIRECT(D5))=E5,0,1)","v":0},{"$f":"ADDRESS(3,1,1,1,$G$1)","v":"'Equity Investments'!$A$3"},"=\"Equity Investment Risk\" & \"($\"&IF(CONFIGURATION!$B$12>1,MID(CONFIGURATION!$B$12,2,LEN(CONFIGURATION!$B$12)),\"\")&\")\"",{"$f":"IF(_xlfn.FORMULATEXT(INDIRECT(G5))=H5,0,1)","v":0}]
[{"$f":"ADDRESS(4,4,1,1,$A$1)","v":"Summary!$D$4"},"=TEXT('Company Information'!C3,\"mmmm dd, yyyy\")",0,{"$f":"ADDRESS(12,4,1,1,$D$1)","v":"'Fixed Income Investments'!$D$12"},"='Schedule II'!D13",{"$f":"IF(_xlfn.FORMULATEXT(INDIRECT(D6))=E6,0,1)","v":0},{"$f":"ADDRESS(3,3,1,1,$G$1)","v":"'Equity Investments'!$C$3"},"='Company Information'!C3",{"$f":"IF(_xlfn.FORMULATEXT(INDIRECT(G6))=H6,0,1)","v":0}]
[{"$f":"ADDRESS(5,1,1,1,$A$1)","v":"Summary!$A$5"},"=\"(\"&IF(CONFIGURATION!$B$12>1,MID(CONFIGURATION!$B$12,2,LEN(CONFIGURATION!$B$12)),\"\")&\")\"",0,{"$f":"ADDRESS(12,5,1,1,$D$1)","v":"'Fixed Income Investments'!$E$12"},0,{"$f":"IF(INDIRECT(D7)=E7,0,1)","v":0},{"$f":"ADDRESS(11,4,1,1,$G$1)","v":"'Equity Investments'!$D$11"},"='Schedule II'!T35",{"$f":"IF(_xlfn.FORMULATEXT(INDIRECT(G7))=H7,0,1)","v":0}]
[{"$f":"ADDRESS(11,7,1,1,$A$1)","v":"Summary!$G$11"},"=IF('Form 1SFS GB'!$C$5=\"United States Dollars\",1,'Information Sheet'!$H$18)*'Form 8SFS'!G58",0,{"$f":"ADDRESS(12,6,1,1,$D$1)","v":"'Fixed Income Investments'!$F$12"},"=IF(D12<0,0,D12*E12)",{"$f":"IF(_xlfn.FORMULATEXT(INDIRECT(D8))=E8,0,1)","v":0},{"$f":"ADDRESS(11,5,1,1,$G$1)","v":"'Equity Investments'!$E$11"},0.2,{"$f":"IF(INDIRECT(G8)=H8,0,1)","v":0}]
[{"$f":"ADDRESS(11,14,1,1,$A$1)","v":"Summary!$N$11"},"=IF('Company Information'!$B$2=\"Unconsolidated BSCR Model\",'Form 1SFS GB'!$I$12,'Form 1SFS GB'!$E$12)",0,{"$f":"ADDRESS(13,4,1,1,$D$1)","v":"'Fixed Income Investments'!$D$13"},"='Schedule II'!D14",{"$f":"IF(_xlfn.FORMULATEXT(INDIRECT(D9))=E9,0,1)","v":0},{"$f":"ADDRESS(11,6,1,1,$G$1)","v":"'Equity Investments'!$F$11"},"=IF($D$11<0,0,$D$11*$E$11)",{"$f":"IF(_xlfn.FORMULATEXT(INDIRECT(G9))=H9,0,1)","v":0}]
[{"$f":"ADDRESS(18,3,1,1,$A$1)","v":"Summary!$C$18"},"=IF('Company Information'!F11=\"Class 4\",\"\",\"20% of 1st $6M NPW\")",0,{"$f":"ADDRESS(13,5,1,1,$D$1)","v":"'Fixed Income Investments'!$E$13"},4.0000000000000001E-3,{"$f":"IF(INDIRECT(D10)=E10,0,1)","v":0},{"$f":"ADDRESS(12,4,1,1,$G$1)","v":"'Equity Investments'!$D$12"},"='Schedule II'!T36",{"$f":"IF(_xlfn.FORMULATEXT(INDIRECT(G10))=H10,0,1)","v":0}]
[{"$f":"ADDRESS(19,2,1,1,$A$1)","v":"Summary!$B$19"},"=IF('Company Information'!$F$11=\"Class 4\",50,15)",0,{"$f":"ADDRESS(13,6,1,1,$D$1)","v":"'Fixed Income Investments'!$F$13"},"=IF(D13<0,0,D13*E13)",{"$f":"IF(_xlfn.FORMULATEXT(INDIRECT(D11))=E11,0,1)","v":0},{"$f":"ADDRESS(12,5,1,1,$G$1)","v":"'Equity Investments'!$E$12"},0.2,{"$f":"IF(INDIRECT(G11)=H11,0,1)","v":0}]
[{"$f":"ADDRESS(19,3,1,1,$A$1)","v":"Summary!$C$19"},"=IF('Company Information'!F11=\"Class 4\",\"% of NPW\",\"% of any above NPW above $6M\")",0,{"$f":"ADDRESS(14,4,1,1,$D$1)","v":"'Fixed Income Investments'!$D$14"},"='Schedule II'!D15",{"$f":"IF(_xlfn.FORMULATEXT(INDIRECT(D12))=E12,0,1)","v":0},{"$f":"ADDRESS(12,6,1,1,$G$1)","v":"'Equity Investments'!$F$12"},"=IF($D$12<0,0,$D$12*$E$12)",{"$f":"IF(_xlfn.FORMULATEXT(INDIRECT(G12))=H12,0,1)","v":0}]
[{"$f":"ADDRESS(25,2,1,1,$A$1)","v":"Summary!$B$25"},0.15,{"$f":"IF(INDIRECT(A13)=B13,0,1)","v":0},{"$f":"ADDRESS(14,5,1,1,$D$1)","v":"'Fixed Income Investments'!$E$14"},8.0000000000000002E-3,{"$f":"IF(INDIRECT(D13)=E13,0,1)","v":0},{"$f":"ADDRESS(13,4,1,1,$G$1)","v":"'Equity Investments'!$D$13"},"='Schedule II'!T37",{"$f":"IF(_xlfn.FORMULATEXT(INDIRECT(G13))=H13,0,1)","v":0}]
[{"$f":"ADDRESS(33,7,1,1,$A$1)","v":"Summary!$G$33"},"=IF(G11>=G31,\"YES\",\"NO\")",{"$f":"IF(_xlfn.FORMULATEXT(INDIRECT(A14))=B14,0,1)","v":0},{"$f":"ADDRESS(14,6,1,1,$D$1)","v":"'Fixed Income Investments'!$F$14"},"=IF(D14<0,0,D14*E14)",{"$f":"IF(_xlfn.FORMULATEXT(INDIRECT(D14))=E14,0,1)","v":0},{"$f":"ADDRESS(13,5,1,1,$G$1)","v":"'Equity Investments'!$E$13"},0.35,{"$f":"IF(INDIRECT(G14)=H14,0,1)","v":0}]
[{"$f":"ADDRESS(33,15,1,1,$A$1)","v":"Summary!$O$33"},"=IF(O20>=O28,\"YES\",\"NO\")",0,{"$f":"ADDRESS(15,4,1,1,$D$1)","v":"'Fixed Income Investments'!$D$15"},"='Schedule II'!D16",{"$f":"IF(_xlfn.FORMULATEXT(INDIRECT(D15))=E15,0,1)","v":0},{"$f":"ADDRESS(13,6,1,1,$G$1)","v":"'Equity Investments'!$F$13"},"=IF($D$13<0,0,$D$13*$E$13)",{"$f":"IF(_xlfn.FORMULATEXT(INDIRECT(G15))=H15,0,1)","v":0}]
[{"$f":"ADDRESS(39,2,1,1,$A$1)","v":"Summary!$B$39"},"=\"Unconsolidated Statutory Capital & Surplus for \"&YEAR('Form 1SFS GB'!$G$9)",0,{"$f":"ADDRESS(15,5,1,1,$D$1)","v":"'Fixed Income Investments'!$E$15"},1.4999999999999999E-2,{"$f":"IF(INDIRECT(D16)=E16,0,1)","v":0},{"$f":"ADDRESS(14,4,1,1,$G$1)","v":"'Equity Investments'!$D$14"},"='Schedule II'!T38",{"$f":"IF(_xlfn.FORMULATEXT(INDIRECT(G16))=H16,0,1)","v":0}]
[{"$f":"ADDRESS(39,11,1,1,$A$1)","v":"Summary!$K$39"},"=\"Unconsolidated Statutory Capital for \"&YEAR('Form 1SFS GB'!$E9)",0,{"$f":"ADDRESS(15,6,1,1,$D$1)","v":"'Fixed Income Investments'!$F$15"},"=IF(D15<0,0,D15*E15)",{"$f":"IF(_xlfn.FORMULATEXT(INDIRECT(D17))=E17,0,1)","v":0},{"$f":"ADDRESS(14,5,1,1,$G$1)","v":"'Equity Investments'!$E$14"},6.0000000000000001E-3,{"$f":"IF(INDIRECT(G17)=H17,0,1)","v":0}]
[{"$f":"ADDRESS(40,11,1,1,$A$1)","v":"Summary!$K$40"},"=\"Unconsolidated Statutory Capital for \"&YEAR('Form 1SFS GB'!$G$9)",0,{"$f":"ADDRESS(16,4,1,1,$D$1)","v":"'Fixed Income Investments'!$D$16"},"='Schedule II'!D17",{"$f":"IF(_xlfn.FORMULATEXT(INDIRECT(D18))=E18,0,1)","v":0},{"$f":"ADDRESS(14,6,1,1,$G$1)","v":"'Equity Investments'!$F$14"},"=IF($D$14<0,0,$D$14*$E$14)",{"$f":"IF(_xlfn.FORMULATEXT(INDIRECT(G18))=H18,0,1)","v":0}]
[{"$f":"ADDRESS(42,2,1,1,$A$1)","v":"Summary!$B$42"},"=\"Dividend Payment in \"&YEAR('Form 1SFS GB'!$E$9)",0,{"$f":"ADDRESS(16,5,1,1,$D$1)","v":"'Fixed Income Investments'!$E$16"},0.03,{"$f":"IF(INDIRECT(D19)=E19,0,1)","v":0},{"$f":"ADDRESS(15,4,1,1,$G$1)","v":"'Equity Investments'!$D$15"},"='Schedule II'!T39",{"$f":"IF(_xlfn.FORMULATEXT(INDIRECT(G19))=H19,0,1)","v":0}]
[{"$f":"ADDRESS(42,11,1,1,$A$1)","v":"Summary!$K$42"},"=\"Statutory Capital Change from \"&YEAR('Form 1SFS GB'!$G9)&\" to \"&YEAR('Form 1SFS GB'!$E9)",0,{"$f":"ADDRESS(16,6,1,1,$D$1)","v":"'Fixed Income Investments'!$F$16"},"=IF(D16<0,0,D16*E16)",{"$f":"IF(_xlfn.FORMULATEXT(INDIRECT(D20))=E20,0,1)","v":0},{"$f":"ADDRESS(15,5,1,1,$G$1)","v":"'Equity Investments'!$E$15"},1.2E-2,{"$f":"IF(INDIRECT(G20)=H20,0,1)","v":0}]
[{"$f":"ADDRESS(45,7,1,1,$A$1)","v":"Summary!$G$45"},"=IF(F41>=F42,\"YES\",\"NO\")",0,{"$f":"ADDRESS(17,4,1,1,$D$1)","v":"'Fixed Income Investments'!$D$17"},"='Schedule II'!D18",{"$f":"IF(_xlfn.FORMULATEXT(INDIRECT(D21))=E21,0,1)","v":0},{"$f":"ADDRESS(15,6,1,1,$G$1)","v":"'Equity Investments'!$F$15"},"=IF($D$15<0,0,$D$15*$E$15)",{"$f":"IF(_xlfn.FORMULATEXT(INDIRECT(G21))=H21,0,1)","v":0}]
[{"$f":"ADDRESS(52,12,1,1,$A$1)","v":"Summary!$L$52"},"{=SQRT(MMULT(TRANSPOSE(K53:K57),MMULT(#REF!,K53:K57)))}",0,{"$f":"ADDRESS(17,5,1,1,$D$1)","v":"'Fixed Income Investments'!$E$17"},0.08,{"$f":"IF(INDIRECT(D22)=E22,0,1)","v":0},{"$f":"ADDRESS(16,4,1,1,$G$1)","v":"'Equity Investments'!$D$16"},"='Schedule II'!T40",{"$f":"IF(_xlfn.FORMULATEXT(INDIRECT(G22))=H22,0,1)","v":0}]
[{"$f":"ADDRESS(52,14,1,1,$A$1)","v":"Summary!$N$52"},"{=SQRT(MMULT(TRANSPOSE(M53:M57),MMULT(#REF!,M53:M57)))}",0,{"$f":"ADDRESS(17,6,1,1,$D$1)","v":"'Fixed Income Investments'!$F$17"},"=IF(D17<0,0,D17*E17)",{"$f":"IF(_xlfn.FORMULATEXT(INDIRECT(D23))=E23,0,1)","v":0},{"$f":"ADDRESS(16,5,1,1,$G$1)","v":"'Equity Investments'!$E$16"},0.02,{"$f":"IF(INDIRECT(G23)=H23,0,1)","v":0}]
[{"$f":"ADDRESS(53,3,1,1,$A$1)","v":"Summary!$C$53"},"Fixed Income Investment Risk",{"$f":"IF(INDIRECT(A24)=B24,0,1)","v":0},{"$f":"ADDRESS(18,4,1,1,$D$1)","v":"'Fixed Income Investments'!$D$18"},"='Schedule II'!D19",{"$f":"IF(_xlfn.FORMULATEXT(INDIRECT(D24))=E24,0,1)","v":0},{"$f":"ADDRESS(16,6,1,1,$G$1)","v":"'Equity Investments'!$F$16"},"=IF($D$16<0,0,$D$16*$E$16)",{"$f":"IF(_xlfn.FORMULATEXT(INDIRECT(G24))=H24,0,1)","v":0}]
[{"$f":"ADDRESS(53,6,1,1,$A$1)","v":"Summary!$F$53"},"=ROUND('Fixed Income Investments'!F98,$N$173)",{"$f":"IF(_xlfn.FORMULATEXT(INDIRECT(A25))=B25,0,1)","v":0},{"$f":"ADDRESS(18,5,1,1,$D$1)","v":"'Fixed Income Investments'!$E$18"},0.15,{"$f":"IF(INDIRECT(D25)=E25,0,1)","v":0},{"$f":"ADDRESS(17,4,1,1,$G$1)","v":"'Equity Investments'!$D$17"},"='Schedule II'!T41",{"$f":"IF(_xlfn.FORMULATEXT(INDIRECT(G25))=H25,0,1)","v":0}]
[{"$f":"ADDRESS(53,11,1,1,$A$1)","v":"Summary!$K$53"},"=ROUND(#REF!,$N$173)",0,{"$f":"ADDRESS(18,6,1,1,$D$1)","v":"'Fixed Income Investments'!$F$18"},"=IF(D18<0,0,D18*E18)",{"$f":"IF(_xlfn.FORMULATEXT(INDIRECT(D26))=E26,0,1)","v":0},{"$f":"ADDRESS(17,5,1,1,$G$1)","v":"'Equity Investments'!$E$17"},0.04,{"$f":"IF(INDIRECT(G26)=H26,0,1)","v":0}]
[{"$f":"ADDRESS(53,13,1,1,$A$1)","v":"Summary!$M$53"},"=ROUND(#REF!,$N$173)",0,{"$f":"ADDRESS(19,4,1,1,$D$1)","v":"'Fixed Income Investments'!$D$19"},"='Schedule II'!D20",{"$f":"IF(_xlfn.FORMULATEXT(INDIRECT(D27))=E27,0,1)","v":0},{"$f":"ADDRESS(17,6,1,1,$G$1)","v":"'Equity Investments'!$F$17"},"=IF($D$17<0,0,$D$17*$E$17)",{"$f":"IF(_xlfn.FORMULATEXT(INDIRECT(G27))=H27,0,1)","v":0}]
[{"$f":"ADDRESS(53,20,1,1,$A$1)","v":"Summary!$T$53"},"=C53",0,{"$f":"ADDRESS(19,5,1,1,$D$1)","v":"'Fixed Income Investments'!$E$19"},0.26300000000000001,{"$f":"IF(INDIRECT(D28)=E28,0,1)","v":0},{"$f":"ADDRESS(18,4,1,1,$G$1)","v":"'Equity Investments'!$D$18"},"='Schedule II'!T42",{"$f":"IF(_xlfn.FORMULATEXT(INDIRECT(G28))=H28,0,1)","v":0}]
[{"$f":"ADDRESS(53,24,1,1,$A$1)","v":"Summary!$X$53"},"=F53",0,{"$f":"ADDRESS(19,6,1,1,$D$1)","v":"'Fixed Income Investments'!$F$19"},"=IF(D19<0,0,D19*E19)",{"$f":"IF(_xlfn.FORMULATEXT(INDIRECT(D29))=E29,0,1)","v":0},{"$f":"ADDRESS(18,5,1,1,$G$1)","v":"'Equity Investments'!$E$18"},0.11,{"$f":"IF(INDIRECT(G29)=H29,0,1)","v":0}]
[{"$f":"ADDRESS(53,25,1,1,$A$1)","v":"Summary!$Y$53"},"=IF($L$71=0,1/9,X53/$X$63)",0,{"$f":"ADDRESS(20,4,1,1,$D$1)","v":"'Fixed Income Investments'!$D$20"},"='Schedule II'!D21",{"$f":"IF(_xlfn.FORMULATEXT(INDIRECT(D30))=E30,0,1)","v":0},{"$f":"ADDRESS(18,6,1,1,$G$1)","v":"'Equity Investments'!$F$18"},"=IF($D$18<0,0,$D$18*$E$18)",{"$f":"IF(_xlfn.FORMULATEXT(INDIRECT(G30))=H30,0,1)","v":0}]
[{"$f":"ADDRESS(53,26,1,1,$A$1)","v":"Summary!$Z$53"},"=M53",0,{"$f":"ADDRESS(20,5,1,1,$D$1)","v":"'Fixed Income Investments'!$E$20"},0.35,{"$f":"IF(INDIRECT(D31)=E31,0,1)","v":0},{"$f":"ADDRESS(19,4,1,1,$G$1)","v":"'Equity Investments'!$D$19"},"='Schedule II'!T43",{"$f":"IF(_xlfn.FORMULATEXT(INDIRECT(G31))=H31,0,1)","v":0}]
[{"$f":"ADDRESS(53,27,1,1,$A$1)","v":"Summary!$AA$53"},"=IF($N$71=0,1/9,Z53/$Z$63)",0,{"$f":"ADDRESS(20,6,1,1,$D$1)","v":"'Fixed Income Investments'!$F$20"},"=IF(D20<0,0,D20*E20)",{"$f":"IF(_xlfn.FORMULATEXT(INDIRECT(D32))=E32,0,1)","v":0},{"$f":"ADDRESS(19,5,1,1,$G$1)","v":"'Equity Investments'!$E$19"},0.25,{"$f":"IF(INDIRECT(G32)=H32,0,1)","v":0}]
[{"$f":"ADDRESS(53,29,1,1,$A$1)","v":"Summary!$AC$53"},"=(SUM(AA$53:AA53)/AA$63)",0,{"$f":"ADDRESS(22,4,1,1,$D$1)","v":"'Fixed Income Investments'!$D$22"},"=SUM(D11:D20)",{"$f":"IF(_xlfn.FORMULATEXT(INDIRECT(D33))=E33,0,1)","v":0},{"$f":"ADDRESS(19,6,1,1,$G$1)","v":"'Equity Investments'!$F$19"},"=IF($D$19<0,0,$D$19*$E$19)",{"$f":"IF(_xlfn.FORMULATEXT(INDIRECT(G33))=H33,0,1)","v":0}]
[{"$f":"ADDRESS(53,32,1,1,$A$1)","v":"Summary!$AF$53"},"=IF(AO53=\"\",IF(Test_Statistic<$AJ$71,AI53,IF(Test_Statistic<$AL$71,AK53,AM53)),AO53)",0,{"$f":"ADDRESS(22,6,1,1,$D$1)","v":"'Fixed Income Investments'!$F$22"},"=IF(SUM(F11:F20)>=0,SUM(F11:F20),0)",{"$f":"IF(_xlfn.FORMULATEXT(INDIRECT(D34))=E34,0,1)","v":0},{"$f":"ADDRESS(20,4,1,1,$G$1)","v":"'Equity Investments'!$D$20"},"='Schedule II'!T44",{"$f":"IF(_xlfn.FORMULATEXT(INDIRECT(G34))=H34,0,1)","v":0}]
[{"$f":"ADDRESS(53,33,1,1,$A$1)","v":"Summary!$AG$53"},"=IF(AP53=\"\",IF(Test_Statistic<$AJ$71,AJ53,IF(Test_Statistic<$AL$71,AL53,AN53)),AP53)",0,{"$f":"ADDRESS(27,4,1,1,$D$1)","v":"'Fixed Income Investments'!$D$27"},"='Schedule II'!H14",{"$f":"IF(_xlfn.FORMULATEXT(INDIRECT(D35))=E35,0,1)","v":0},{"$f":"ADDRESS(20,5,1,1,$G$1)","v":"'Equity Investments'!$E$20"},0.35,{"$f":"IF(INDIRECT(G35)=H35,0,1)","v":0}]
[{"$f":"ADDRESS(53,35,1,1,$A$1)","v":"Summary!$AI$53"},"=IF(AC58>1,300,IF(AC58>0.6,260,240))",0,{"$f":"ADDRESS(27,5,1,1,$D$1)","v":"'Fixed Income Investments'!$E$27"},6.0000000000000001E-3,{"$f":"IF(INDIRECT(D36)=E36,0,1)","v":0},{"$f":"ADDRESS(20,6,1,1,$G$1)","v":"'Equity Investments'!$F$20"},"=IF($D$20<0,0,$D$20*$E$20)",{"$f":"IF(_xlfn.FORMULATEXT(INDIRECT(G36))=H36,0,1)","v":0}]
[{"$f":"ADDRESS(53,36,1,1,$A$1)","v":"Summary!$AJ$53"},"=IF(AC60>1,50,IF(AC58>1,20,IF(AC58>0.6,25,15)))",0,{"$f":"ADDRESS(27,6,1,1,$D$1)","v":"'Fixed Income Investments'!$F$27"},"=IF(D27<0,0,D27*E27)",{"$f":"IF(_xlfn.FORMULATEXT(INDIRECT(D37))=E37,0,1)","v":0},{"$f":"ADDRESS(21,4,1,1,$G$1)","v":"'Equity Investments'!$D$21"},"='Schedule II'!T45",{"$f":"IF(_xlfn.FORMULATEXT(INDIRECT(G37))=H37,0,1)","v":0}]
[{"$f":"ADDRESS(53,37,1,1,$A$1)","v":"Summary!$AK$53"},"=IF(Test_Statistic_2<1,300,300)",0,{"$f":"ADDRESS(28,4,1,1,$D$1)","v":"'Fixed Income Investments'!$D$28"},"='Schedule II'!H15",{"$f":"IF(_xlfn.FORMULATEXT(INDIRECT(D38))=E38,0,1)","v":0},{"$f":"ADDRESS(21,5,1,1,$G$1)","v":"'Equity Investments'!$E$21"},0.35,{"$f":"IF(INDIRECT(G38)=H38,0,1)","v":0}]
[{"$f":"ADDRESS(53,38,1,1,$A$1)","v":"Summary!$AL$53"},60,{"$f":"IF(INDIRECT(A39)=B39,0,1)","v":0},{"$f":"ADDRESS(28,5,1,1,$D$1)","v":"'Fixed Income Investments'!$E$28"},1.2E-2,{"$f":"IF(INDIRECT(D39)=E39,0,1)","v":0},{"$f":"ADDRESS(21,6,1,1,$G$1)","v":"'Equity Investments'!$F$21"},"=IF($D$21<0,0,$D$21*$E$21)",{"$f":"IF(_xlfn.FORMULATEXT(INDIRECT(G39))=H39,0,1)","v":0}]
[{"$f":"ADDRESS(53,39,1,1,$A$1)","v":"Summary!$AM$53"},280,{"$f":"IF(INDIRECT(A40)=B40,0,1)","v":0},{"$f":"ADDRESS(28,6,1,1,$D$1)","v":"'Fixed Income Investments'!$F$28"},"=IF(D28<0,0,D28*E28)",{"$f":"IF(_xlfn.FORMULATEXT(INDIRECT(D40))=E40,0,1)","v":0},{"$f":"ADDRESS(22,4,1,1,$G$1)","v":"'Equity Investments'!$D$22"},"='Schedule II'!T46",{"$f":"IF(_xlfn.FORMULATEXT(INDIRECT(G40))=H40,0,1)","v":0}]
[{"$f":"ADDRESS(53,40,1,1,$A$1)","v":"Summary!$AN$53"},60,{"$f":"IF(INDIRECT(A41)=B41,0,1)","v":0},{"$f":"ADDRESS(29,4,1,1,$D$1)","v":"'Fixed Income Investments'!$D$29"},"='Schedule II'!H16",{"$f":"IF(_xlfn.FORMULATEXT(INDIRECT(D41))=E41,0,1)","v":0},{"$f":"ADDRESS(22,5,1,1,$G$1)","v":"'Equity Investments'!$E$22"},0.35,{"$f":"IF(INDIRECT(G41)=H41,0,1)","v":0}]
[{"$f":"ADDRESS(54,3,1,1,$A$1)","v":"Summary!$C$54"},"Equity Investment Risk",{"$f":"IF(INDIRECT(A42)=B42,0,1)","v":0},{"$f":"ADDRESS(29,5,1,1,$D$1)","v":"'Fixed Income Investments'!$E$29"},0.02,{"$f":"IF(INDIRECT(D42)=E42,0,1)","v":0},{"$f":"ADDRESS(22,6,1,1,$G$1)","v":"'Equity Investments'!$F$22"},"=IF($D$22<0,0,$D$22*$E$22)",{"$f":"IF(_xlfn.FORMULATEXT(INDIRECT(G42))=H42,0,1)","v":0}]
[{"$f":"ADDRESS(54,6,1,1,$A$1)","v":"Summary!$F$54"},"=ROUND('Equity Investments'!F57,$N$173)",{"$f":"IF(_xlfn.FORMULATEXT(INDIRECT(A43))=B43,0,1)","v":0},{"$f":"ADDRESS(29,6,1,1,$D$1)","v":"'Fixed Income Investments'!$F$29"},"=IF(D29<0,0,D29*E29)",{"$f":"IF(_xlfn.FORMULATEXT(INDIRECT(D43))=E43,0,1)","v":0},{"$f":"ADDRESS(24,4,1,1,$G$1)","v":"'Equity Investments'!$D$24"},"=SUM(D11:D22)",{"$f":"IF(_xlfn.FORMULATEXT(INDIRECT(G43))=H43,0,1)","v":0}]
[{"$f":"ADDRESS(54,11,1,1,$A$1)","v":"Summary!$K$54"},"=ROUND(#REF!,$N$173)",0,{"$f":"ADDRESS(30,4,1,1,$D$1)","v":"'Fixed Income Investments'!$D$30"},"='Schedule II'!H17",{"$f":"IF(_xlfn.FORMULATEXT(INDIRECT(D44))=E44,0,1)","v":0},{"$f":"ADDRESS(24,6,1,1,$G$1)","v":"'Equity Investments'!$F$24"},"=IF(SUM(F11:F22)>=0,SUM(F11:F22),0)",{"$f":"IF(_xlfn.FORMULATEXT(INDIRECT(G44))=H44,0,1)","v":0}]
[{"$f":"ADDRESS(54,13,1,1,$A$1)","v":"Summary!$M$54"},"=ROUND(#REF!,$N$173)",0,{"$f":"ADDRESS(30,5,1,1,$D$1)","v":"'Fixed Income Investments'!$E$30"},0.04,{"$f":"IF(INDIRECT(D45)=E45,0,1)","v":0},{"$f":"ADDRESS(28,4,1,1,$G$1)","v":"'Equity Investments'!$D$28"},"='Schedule II'!T47",{"$f":"IF(_xlfn.FORMULATEXT(INDIRECT(G45))=H45,0,1)","v":0}]
[{"$f":"ADDRESS(54,20,1,1,$A$1)","v":"Summary!$T$54"},"=C54",0,{"$f":"ADDRESS(30,6,1,1,$D$1)","v":"'Fixed Income Investments'!$F$30"},"=IF(D30<0,0,D30*E30)",{"$f":"IF(_xlfn.FORMULATEXT(INDIRECT(D46))=E46,0,1)","v":0},{"$f":"ADDRESS(28,5,1,1,$G$1)","v":"'Equity Investments'!$E$28"},0.2,{"$f":"IF(INDIRECT(G46)=H46,0,1)","v":0}]
[{"$f":"ADDRESS(54,24,1,1,$A$1)","v":"Summary!$X$54"},"=F54",0,{"$f":"ADDRESS(31,4,1,1,$D$1)","v":"'Fixed Income Investments'!$D$31"},"='Schedule II'!H18",{"$f":"IF(_xlfn.FORMULATEXT(INDIRECT(D47))=E47,0,1)","v":0},{"$f":"ADDRESS(28,6,1,1,$G$1)","v":"'Equity Investments'!$F$28"},"=IF(D28<0,0,D28*E28)",{"$f":"IF(_xlfn.FORMULATEXT(INDIRECT(G47))=H47,0,1)","v":0}]
[{"$f":"ADDRESS(54,25,1,1,$A$1)","v":"Summary!$Y$54"},"=IF($L$71=0,1/9,X54/$X$63)",0,{"$f":"ADDRESS(31,5,1,1,$D$1)","v":"'Fixed Income Investments'!$E$31"},0.11,{"$f":"IF(INDIRECT(D48)=E48,0,1)","v":0},{"$f":"ADDRESS(29,4,1,1,$G$1)","v":"'Equity Investments'!$D$29"},"='Schedule II'!T48",{"$f":"IF(_xlfn.FORMULATEXT(INDIRECT(G48))=H48,0,1)","v":0}]
[{"$f":"ADDRESS(54,26,1,1,$A$1)","v":"Summary!$Z$54"},"=M54",0,{"$f":"ADDRESS(31,6,1,1,$D$1)","v":"'Fixed Income Investments'!$F$31"},"=IF(D31<0,0,D31*E31)",{"$f":"IF(_xlfn.FORMULATEXT(INDIRECT(D49))=E49,0,1)","v":0},{"$f":"ADDRESS(29,5,1,1,$G$1)","v":"'Equity Investments'!$E$29"},0.45,{"$f":"IF(INDIRECT(G49)=H49,0,1)","v":0}]
[{"$f":"ADDRESS(54,27,1,1,$A$1)","v":"Summary!$AA$54"},"=IF($N$71=0,1/9,Z54/$Z$63)",0,{"$f":"ADDRESS(32,4,1,1,$D$1)","v":"'Fixed Income Investments'!$D$32"},"='Schedule II'!H19",{"$f":"IF(_xlfn.FORMULATEXT(INDIRECT(D50))=E50,0,1)","v":0},{"$f":"ADDRESS(29,6,1,1,$G$1)","v":"'Equity Investments'!$F$29"},"=IF(D29<0,0,D29*E29)",{"$f":"IF(_xlfn.FORMULATEXT(INDIRECT(G50))=H50,0,1)","v":0}]
[{"$f":"ADDRESS(54,29,1,1,$A$1)","v":"Summary!$AC$54"},"=(SUM(AA$53:AA54)/AA$63)",0,{"$f":"ADDRESS(32,5,1,1,$D$1)","v":"'Fixed Income Investments'!$E$32"},0.25,{"$f":"IF(INDIRECT(D51)=E51,0,1)","v":0},{"$f":"ADDRESS(30,4,1,1,$G$1)","v":"'Equity Investments'!$D$30"},"='Schedule II'!T49",{"$f":"IF(_xlfn.FORMULATEXT(INDIRECT(G51))=H51,0,1)","v":0}]
[{"$f":"ADDRESS(54,32,1,1,$A$1)","v":"Summary!$AF$54"},"=IF(AO54=\"\",IF(Test_Statistic<$AJ$71,AI54,IF(Test_Statistic<$AL$71,AK54,AM54)),AO54)",0,{"$f":"ADDRESS(32,6,1,1,$D$1)","v":"'Fixed Income Investments'!$F$32"},"=IF(D32<0,0,D32*E32)",{"$f":"IF(_xlfn.FORMULATEXT(INDIRECT(D52))=E52,0,1)","v":0},{"$f":"ADDRESS(30,5,1,1,$G$1)","v":"'Equity Investments'!$E$30"},0.2,{"$f":"IF(INDIRECT(G52)=H52,0,1)","v":0}]
[{"$f":"ADDRESS(54,33,1,1,$A$1)","v":"Summary!$AG$54"},"=IF(AP54=\"\",IF(Test_Statistic<$AJ$71,AJ54,IF(Test_Statistic<$AL$71,AL54,AN54)),AP54)",0,{"$f":"ADDRESS(33,4,1,1,$D$1)","v":"'Fixed Income Investments'!$D$33"},"='Schedule II'!H20",{"$f":"IF(_xlfn.FORMULATEXT(INDIRECT(D53))=E53,0,1)","v":0},{"$f":"ADDRESS(30,6,1,1,$G$1)","v":"'Equity Investments'!$F$30"},"=IF(D30<0,0,D30*E30)",{"$f":"IF(_xlfn.FORMULATEXT(INDIRECT(G53))=H53,0,1)","v":0}]
[{"$f":"ADDRESS(54,35,1,1,$A$1)","v":"Summary!$AI$54"},"=IF(AC58>0.6,300,300)",0,{"$f":"ADDRESS(33,5,1,1,$D$1)","v":"'Fixed Income Investments'!$E$33"},0.35,{"$f":"IF(INDIRECT(D54)=E54,0,1)","v":0},{"$f":"ADDRESS(31,4,1,1,$G$1)","v":"'Equity Investments'!$D$31"},"='Schedule II'!T50",{"$f":"IF(_xlfn.FORMULATEXT(INDIRECT(G54))=H54,0,1)","v":0}]
[{"$f":"ADDRESS(54,36,1,1,$A$1)","v":"Summary!$AJ$54"},"=IF(AC60>1,90,IF(AC58>1,60,IF(AC58>0.6,90,60)))",0,{"$f":"ADDRESS(33,6,1,1,$D$1)","v":"'Fixed Income Investments'!$F$33"},"=IF(D33<0,0,D33*E33)",{"$f":"IF(_xlfn.FORMULATEXT(INDIRECT(D55))=E55,0,1)","v":0},{"$f":"ADDRESS(31,5,1,1,$G$1)","v":"'Equity Investments'!$E$31"},0.2,{"$f":"IF(INDIRECT(G55)=H55,0,1)","v":0}]
[{"$f":"ADDRESS(54,37,1,1,$A$1)","v":"Summary!$AK$54"},300,{"$f":"IF(INDIRECT(A56)=B56,0,1)","v":0},{"$f":"ADDRESS(34,4,1,1,$D$1)","v":"'Fixed Income Investments'!$D$34"},"='Schedule II'!H21",{"$f":"IF(_xlfn.FORMULATEXT(INDIRECT(D56))=E56,0,1)","v":0},{"$f":"ADDRESS(31,6,1,1,$G$1)","v":"'Equity Investments'!$F$31"},"=IF(D31<0,0,D31*E31)",{"$f":"IF(_xlfn.FORMULATEXT(INDIRECT(G56))=H56,0,1)","v":0}]
[{"$f":"ADDRESS(54,38,1,1,$A$1)","v":"Summary!$AL$54"},120,{"$f":"IF(INDIRECT(A57)=B57,0,1)","v":0},{"$f":"ADDRESS(34,5,1,1,$D$1)","v":"'Fixed Income Investments'!$E$34"},0.35,{"$f":"IF(INDIRECT(D57)=E57,0,1)","v":0},{"$f":"ADDRESS(32,4,1,1,$G$1)","v":"'Equity Investments'!$D$32"},"='Schedule II'!T51",{"$f":"IF(_xlfn.FORMULATEXT(INDIRECT(G57))=H57,0,1)","v":0}]
[{"$f":"ADDRESS(54,39,1,1,$A$1)","v":"Summary!$AM$54"},280,{"$f":"IF(INDIRECT(A58)=B58,0,1)","v":0},{"$f":"ADDRESS(34,6,1,1,$D$1)","v":"'Fixed Income Investments'!$F$34"},"=IF(D34<0,0,D34*E34)",{"$f":"IF(_xlfn.FORMULATEXT(INDIRECT(D58))=E58,0,1)","v":0},{"$f":"ADDRESS(32,5,1,1,$G$1)","v":"'Equity Investments'!$E$32"},0.2,{"$f":"IF(INDIRECT(G58)=H58,0,1)","v":0}]
[{"$f":"ADDRESS(54,40,1,1,$A$1)","v":"Summary!$AN$54"},140,{"$f":"IF(INDIRECT(A59)=B59,0,1)","v":0},{"$f":"ADDRESS(36,4,1,1,$D$1)","v":"'Fixed Income Investments'!$D$36"},"=SUM(D27:D34)",{"$f":"IF(_xlfn.FORMULATEXT(INDIRECT(D59))=E59,0,1)","v":0},{"$f":"ADDRESS(32,6,1,1,$G$1)","v":"'Equity Investments'!$F$32"},"=IF(D32<0,0,D32*E32)",{"$f":"IF(_xlfn.FORMULATEXT(INDIRECT(G59))=H59,0,1)","v":0}]
[{"$f":"ADDRESS(55,3,1,1,$A$1)","v":"Summary!$C$55"},"Interest Rate / Liquidity Risk",{"$f":"IF(INDIRECT(A60)=B60,0,1)","v":0},{"$f":"ADDRESS(36,6,1,1,$D$1)","v":"'Fixed Income Investments'!$F$36"},"=IF(SUM(F27:F34)>=0,SUM(F27:F34),0)",{"$f":"IF(_xlfn.FORMULATEXT(INDIRECT(D60))=E60,0,1)","v":0},{"$f":"ADDRESS(33,4,1,1,$G$1)","v":"'Equity Investments'!$D$33"},"='Schedule II'!T52",{"$f":"IF(_xlfn.FORMULATEXT(INDIRECT(G60))=H60,0,1)","v":0}]
[{"$f":"ADDRESS(55,20,1,1,$A$1)","v":"Summary!$T$55"},"=C55",{"$f":"IF(_xlfn.FORMULATEXT(INDIRECT(A61))=B61,0,1)","v":0},{"$f":"ADDRESS(41,4,1,1,$D$1)","v":"'Fixed Income Investments'!$D$41"},"='Schedule II'!L14",{"$f":"IF(_xlfn.FORMULATEXT(INDIRECT(D61))=E61,0,1)","v":0},{"$f":"ADDRESS(33,5,1,1,$G$1)","v":"'Equity Investments'!$E$33"},0.45,{"$f":"IF(INDIRECT(G61)=H61,0,1)","v":0}]
[{"$f":"ADDRESS(55,24,1,1,$A$1)","v":"Summary!$X$55"},"=G55",0,{"$f":"ADDRESS(41,5,1,1,$D$1)","v":"'Fixed Income Investments'!$E$41"},5.0000000000000001E-3,{"$f":"IF(INDIRECT(D62)=E62,0,1)","v":0},{"$f":"ADDRESS(33,6,1,1,$G$1)","v":"'Equity Investments'!$F$33"},"=IF(D33<0,0,D33*E33)",{"$f":"IF(_xlfn.FORMULATEXT(INDIRECT(G62))=H62,0,1)","v":0}]
[{"$f":"ADDRESS(55,25,1,1,$A$1)","v":"Summary!$Y$55"},"=IF($L$71=0,1/9,X55/$X$63)",0,{"$f":"ADDRESS(41,6,1,1,$D$1)","v":"'Fixed Income Investments'!$F$41"},"=IF(D41<0,0,D41*E41)",{"$f":"IF(_xlfn.FORMULATEXT(INDIRECT(D63))=E63,0,1)","v":0},{"$f":"ADDRESS(35,4,1,1,$G$1)","v":"'Equity Investments'!$D$35"},"=SUM(D28:D33)",{"$f":"IF(_xlfn.FORMULATEXT(INDIRECT(G63))=H63,0,1)","v":0}]
[{"$f":"ADDRESS(55,26,1,1,$A$1)","v":"Summary!$Z$55"},"=M55",0,{"$f":"ADDRESS(42,4,1,1,$D$1)","v":"'Fixed Income Investments'!$D$42"},"='Schedule II'!L15",{"$f":"IF(_xlfn.FORMULATEXT(INDIRECT(D64))=E64,0,1)","v":0},{"$f":"ADDRESS(35,6,1,1,$G$1)","v":"'Equity Investments'!$F$35"},"=IF(SUM(F28:F33)>=0,SUM(F28:F33),0)",{"$f":"IF(_xlfn.FORMULATEXT(INDIRECT(G64))=H64,0,1)","v":0}]
[{"$f":"ADDRESS(55,27,1,1,$A$1)","v":"Summary!$AA$55"},"=IF($N$71=0,1/9,Z55/$Z$63)",0,{"$f":"ADDRESS(42,5,1,1,$D$1)","v":"'Fixed Income Investments'!$E$42"},0.01,{"$f":"IF(INDIRECT(D65)=E65,0,1)","v":0},{"$f":"ADDRESS(40,4,1,1,$G$1)","v":"'Equity Investments'!$D$40"},"='Schedule II'!T53",{"$f":"IF(_xlfn.FORMULATEXT(INDIRECT(G65))=H65,0,1)","v":0}]
[{"$f":"ADDRESS(55,29,1,1,$A$1)","v":"Summary!$AC$55"},"=(SUM(AA$53:AA55)/AA$63)",0,{"$f":"ADDRESS(42,6,1,1,$D$1)","v":"'Fixed Income Investments'!$F$42"},"=IF(D42<0,0,D42*E42)",{"$f":"IF(_xlfn.FORMULATEXT(INDIRECT(D66))=E66,0,1)","v":0},{"$f":"ADDRESS(40,5,1,1,$G$1)","v":"'Equity Investments'!$E$40"},0.25,{"$f":"IF(INDIRECT(G66)=H66,0,1)","v":0}]
[{"$f":"ADDRESS(55,32,1,1,$A$1)","v":"Summary!$AF$55"},"=IF(AO55=\"\",IF(Test_Statistic<$AJ$71,AI55,IF(Test_Statistic<$AL$71,AK55,AM55)),AO55)",0,{"$f":"ADDRESS(43,4,1,1,$D$1)","v":"'Fixed Income Investments'!$D$43"},"='Schedule II'!L16",{"$f":"IF(_xlfn.FORMULATEXT(INDIRECT(D67))=E67,0,1)","v":0},{"$f":"ADDRESS(40,6,1,1,$G$1)","v":"'Equity Investments'!$F$40"},"=IF($D$40<0,0,$D$40*$E$40)",{"$f":"IF(_xlfn.FORMULATEXT(INDIRECT(G67))=H67,0,1)","v":0}]
[{"$f":"ADDRESS(55,35,1,1,$A$1)","v":"Summary!$AI$55"},"=IF(AC58>0.6,300,300)",0,{"$f":"ADDRESS(43,5,1,1,$D$1)","v":"'Fixed Income Investments'!$E$43"},1.7999999999999999E-2,{"$f":"IF(INDIRECT(D68)=E68,0,1)","v":0},{"$f":"ADDRESS(41,4,1,1,$G$1)","v":"'Equity Investments'!$D$41"},"='Schedule II'!T54",{"$f":"IF(_xlfn.FORMULATEXT(INDIRECT(G68))=H68,0,1)","v":0}]
[{"$f":"ADDRESS(55,36,1,1,$A$1)","v":"Summary!$AJ$55"},"=IF(AC60>1,140,IF(AC58>1,120,IF(AC58>0.6,150,100)))",0,{"$f":"ADDRESS(43,6,1,1,$D$1)","v":"'Fixed Income Investments'!$F$43"},"=IF(D43<0,0,D43*E43)",{"$f":"IF(_xlfn.FORMULATEXT(INDIRECT(D69))=E69,0,1)","v":0},{"$f":"ADDRESS(41,5,1,1,$G$1)","v":"'Equity Investments'!$E$41"},0.25,{"$f":"IF(INDIRECT(G69)=H69,0,1)","v":0}]
[{"$f":"ADDRESS(55,37,1,1,$A$1)","v":"Summary!$AK$55"},"=IF(Test_Statistic_2<0.95,280,260)",0,{"$f":"ADDRESS(44,4,1,1,$D$1)","v":"'Fixed Income Investments'!$D$44"},"='Schedule II'!L17",{"$f":"IF(_xlfn.FORMULATEXT(INDIRECT(D70))=E70,0,1)","v":0},{"$f":"ADDRESS(41,6,1,1,$G$1)","v":"'Equity Investments'!$F$41"},"=IF($D$41<0,0,$D$41*$E$41)",{"$f":"IF(_xlfn.FORMULATEXT(INDIRECT(G70))=H70,0,1)","v":0}]
[{"$f":"ADDRESS(55,38,1,1,$A$1)","v":"Summary!$AL$55"},"=IF(Test_Statistic_2<0.95,170,200)",0,{"$f":"ADDRESS(44,5,1,1,$D$1)","v":"'Fixed Income Investments'!$E$44"},3.5000000000000003E-2,{"$f":"IF(INDIRECT(D71)=E71,0,1)","v":0},{"$f":"ADDRESS(43,4,1,1,$G$1)","v":"'Equity Investments'!$D$43"},"=SUM(D40:D41)",{"$f":"IF(_xlfn.FORMULATEXT(INDIRECT(G71))=H71,0,1)","v":0}]
[{"$f":"ADDRESS(55,39,1,1,$A$1)","v":"Summary!$AM$55"},180,{"$f":"IF(INDIRECT(A72)=B72,0,1)","v":0},{"$f":"ADDRESS(44,6,1,1,$D$1)","v":"'Fixed Income Investments'!$F$44"},"=IF(D44<0,0,D44*E44)",{"$f":"IF(_xlfn.FORMULATEXT(INDIRECT(D72))=E72,0,1)","v":0},{"$f":"ADDRESS(43,6,1,1,$G$1)","v":"'Equity Investments'!$F$43"},"=IF(SUM(F40:F41)>=0,SUM(F40:F41),0)",{"$f":"IF(_xlfn.FORMULATEXT(INDIRECT(G72))=H72,0,1)","v":0}]
[{"$f":"ADDRESS(56,11,1,1,$A$1)","v":"Summary!$K$56"},"=#REF!",{"$f":"IF(_xlfn.FORMULATEXT(INDIRECT(A73))=B73,0,1)","v":0},{"$f":"ADDRESS(45,4,1,1,$D$1)","v":"'Fixed Income Investments'!$D$45"},"='Schedule II'!L18",{"$f":"IF(_xlfn.FORMULATEXT(INDIRECT(D73))=E73,0,1)","v":0},{"$f":"ADDRESS(47,4,1,1,$G$1)","v":"'Equity Investments'!$D$47"},"='Schedule II'!T55",{"$f":"IF(_xlfn.FORMULATEXT(INDIRECT(G73))=H73,0,1)","v":0}]
[{"$f":"ADDRESS(56,13,1,1,$A$1)","v":"Summary!$M$56"},"=#REF!",0,{"$f":"ADDRESS(45,5,1,1,$D$1)","v":"'Fixed Income Investments'!$E$45"},0.1,{"$f":"IF(INDIRECT(D74)=E74,0,1)","v":0},{"$f":"ADDRESS(47,5,1,1,$G$1)","v":"'Equity Investments'!$E$47"},0.1,{"$f":"IF(INDIRECT(G74)=H74,0,1)","v":0}]
[{"$f":"ADDRESS(56,24,1,1,$A$1)","v":"Summary!$X$56"},"=G56",0,{"$f":"ADDRESS(45,6,1,1,$D$1)","v":"'Fixed Income Investments'!$F$45"},"=IF(D45<0,0,D45*E45)",{"$f":"IF(_xlfn.FORMULATEXT(INDIRECT(D75))=E75,0,1)","v":0},{"$f":"ADDRESS(47,6,1,1,$G$1)","v":"'Equity Investments'!$F$47"},"=IF(D47<0,0,D47*E47)",{"$f":"IF(_xlfn.FORMULATEXT(INDIRECT(G75))=H75,0,1)","v":0}]
[{"$f":"ADDRESS(56,25,1,1,$A$1)","v":"Summary!$Y$56"},"=IF($L$71=0,1/9,X56/$X$63)",0,{"$f":"ADDRESS(46,4,1,1,$D$1)","v":"'Fixed Income Investments'!$D$46"},"='Schedule II'!L19",{"$f":"IF(_xlfn.FORMULATEXT(INDIRECT(D76))=E76,0,1)","v":0},{"$f":"ADDRESS(48,4,1,1,$G$1)","v":"'Equity Investments'!$D$48"},"='Schedule II'!T56",{"$f":"IF(_xlfn.FORMULATEXT(INDIRECT(G76))=H76,0,1)","v":0}]
[{"$f":"ADDRESS(56,26,1,1,$A$1)","v":"Summary!$Z$56"},"=M56",0,{"$f":"ADDRESS(46,5,1,1,$D$1)","v":"'Fixed Income Investments'!$E$46"},0.2,{"$f":"IF(INDIRECT(D77)=E77,0,1)","v":0},{"$f":"ADDRESS(48,5,1,1,$G$1)","v":"'Equity Investments'!$E$48"},0.2,{"$f":"IF(INDIRECT(G77)=H77,0,1)","v":0}]
[{"$f":"ADDRESS(56,27,1,1,$A$1)","v":"Summary!$AA$56"},"=IF($N$71=0,1/9,Z56/$Z$63)",0,{"$f":"ADDRESS(46,6,1,1,$D$1)","v":"'Fixed Income Investments'!$F$46"},"=IF(D46<0,0,D46*E46)",{"$f":"IF(_xlfn.FORMULATEXT(INDIRECT(D78))=E78,0,1)","v":0},{"$f":"ADDRESS(48,6,1,1,$G$1)","v":"'Equity Investments'!$F$48"},"=IF(D48<0,0,D48*E48)",{"$f":"IF(_xlfn.FORMULATEXT(INDIRECT(G78))=H78,0,1)","v":0}]
[{"$f":"ADDRESS(56,29,1,1,$A$1)","v":"Summary!$AC$56"},"=(SUM(AA$53:AA56)/AA$63)",0,{"$f":"ADDRESS(47,4,1,1,$D$1)","v":"'Fixed Income Investments'!$D$47"},"='Schedule II'!L20",{"$f":"IF(_xlfn.FORMULATEXT(INDIRECT(D79))=E79,0,1)","v":0},{"$f":"ADDRESS(50,4,1,1,$G$1)","v":"'Equity Investments'!$D$50"},"=SUM(D47:D48)",0]
[{"$f":"ADDRESS(57,11,1,1,$A$1)","v":"Summary!$K$57"},"=#REF!",0,{"$f":"ADDRESS(47,5,1,1,$D$1)","v":"'Fixed Income Investments'!$E$47"},0.3,{"$f":"IF(INDIRECT(D80)=E80,0,1)","v":0},{"$f":"ADDRESS(50,6,1,1,$G$1)","v":"'Equity Investments'!$F$50"},"=IF(SUM(F47:F48)>=0,SUM(F47:F48),0)",0]
[{"$f":"ADDRESS(57,13,1,1,$A$1)","v":"Summary!$M$57"},"=#REF!",0,{"$f":"ADDRESS(47,6,1,1,$D$1)","v":"'Fixed Income Investments'!$F$47"},"=IF(D47<0,0,D47*E47)",{"$f":"IF(_xlfn.FORMULATEXT(INDIRECT(D81))=E81,0,1)","v":0},{"$f":"ADDRESS(52,4,1,1,$G$1)","v":"'Equity Investments'!$D$52"},"=D24",0]
[{"$f":"ADDRESS(57,24,1,1,$A$1)","v":"Summary!$X$57"},"=G57",0,{"$f":"ADDRESS(48,4,1,1,$D$1)","v":"'Fixed Income Investments'!$D$48"},"='Schedule II'!L21",{"$f":"IF(_xlfn.FORMULATEXT(INDIRECT(D82))=E82,0,1)","v":0},{"$f":"ADDRESS(52,6,1,1,$G$1)","v":"'Equity Investments'!$F$52"},"=F24",0]
[{"$f":"ADDRESS(57,25,1,1,$A$1)","v":"Summary!$Y$57"},"=IF($L$71=0,1/9,X57/$X$63)",0,{"$f":"ADDRESS(48,5,1,1,$D$1)","v":"'Fixed Income Investments'!$E$48"},0.35,{"$f":"IF(INDIRECT(D83)=E83,0,1)","v":0},{"$f":"ADDRESS(53,4,1,1,$G$1)","v":"'Equity Investments'!$D$53"},"=D35",0]
[{"$f":"ADDRESS(57,26,1,1,$A$1)","v":"Summary!$Z$57"},"=M57",0,{"$f":"ADDRESS(48,6,1,1,$D$1)","v":"'Fixed Income Investments'!$F$48"},"=IF(D48<0,0,D48*E48)",{"$f":"IF(_xlfn.FORMULATEXT(INDIRECT(D84))=E84,0,1)","v":0},{"$f":"ADDRESS(53,6,1,1,$G$1)","v":"'Equity Investments'!$F$53"},"=F35",0]
[{"$f":"ADDRESS(57,27,1,1,$A$1)","v":"Summary!$AA$57"},"=IF($N$71=0,1/9,Z57/$Z$63)",0,{"$f":"ADDRESS(50,4,1,1,$D$1)","v":"'Fixed Income Investments'!$D$50"},"=SUM(D41:D48)",{"$f":"IF(_xlfn.FORMULATEXT(INDIRECT(D85))=E85,0,1)","v":0},{"$f":"ADDRESS(54,4,1,1,$G$1)","v":"'Equity Investments'!$D$54"},"=D43",0]
[{"$f":"ADDRESS(57,29,1,1,$A$1)","v":"Summary!$AC$57"},"=(SUM(AA$53:AA57)/AA$63)",0,{"$f":"ADDRESS(50,6,1,1,$D$1)","v":"'Fixed Income Investments'!$F$50"},"=IF(SUM(F41:F48)>=0,SUM(F41:F48),0)",{"$f":"IF(_xlfn.FORMULATEXT(INDIRECT(D86))=E86,0,1)","v":0},{"$f":"ADDRESS(54,6,1,1,$G$1)","v":"'Equity Investments'!$F$54"},"=F43",0]
[{"$f":"ADDRESS(58,20,1,1,$A$1)","v":"Summary!$T$58"},"=C60",0,{"$f":"ADDRESS(55,4,1,1,$D$1)","v":"'Fixed Income Investments'!$D$55"},"='Schedule II'!P13",{"$f":"IF(_xlfn.FORMULATEXT(INDIRECT(D87))=E87,0,1)","v":0},{"$f":"ADDRESS(55,4,1,1,$G$1)","v":"'Equity Investments'!$D$55"},"=D50",0]
[{"$f":"ADDRESS(58,24,1,1,$A$1)","v":"Summary!$X$58"},"=F60",0,{"$f":"ADDRESS(55,5,1,1,$D$1)","v":"'Fixed Income Investments'!$E$55"},0,{"$f":"IF(INDIRECT(D88)=E88,0,1)","v":0},{"$f":"ADDRESS(55,6,1,1,$G$1)","v":"'Equity Investments'!$F$55"},"=F50",0]
[{"$f":"ADDRESS(58,25,1,1,$A$1)","v":"Summary!$Y$58"},"=IF($L$71=0,1/9,X58/$X$63)",0,{"$f":"ADDRESS(55,6,1,1,$D$1)","v":"'Fixed Income Investments'!$F$55"},"=IF(D55<0,0,D55*E55)",{"$f":"IF(_xlfn.FORMULATEXT(INDIRECT(D89))=E89,0,1)","v":0},{"$f":"ADDRESS(57,4,1,1,$G$1)","v":"'Equity Investments'!$D$57"},"=SUM(D52:D55)",0]
[{"$f":"ADDRESS(58,26,1,1,$A$1)","v":"Summary!$Z$58"},"=M60",0,{"$f":"ADDRESS(56,4,1,1,$D$1)","v":"'Fixed Income Investments'!$D$56"},"='Schedule II'!P14",{"$f":"IF(_xlfn.FORMULATEXT(INDIRECT(D90))=E90,0,1)","v":0},{"$f":"ADDRESS(57,6,1,1,$G$1)","v":"'Equity Investments'!$F$57"},"{=SQRT(MMULT(TRANSPOSE(F52:F55),MMULT($C$62:$F$65,F52:F55)))}",0]
[{"$f":"ADDRESS(58,27,1,1,$A$1)","v":"Summary!$AA$58"},"=IF($N$71=0,1/9,Z58/$Z$63)",0,{"$f":"ADDRESS(56,5,1,1,$D$1)","v":"'Fixed Income Investments'!$E$56"},4.0000000000000001E-3,{"$f":"IF(INDIRECT(D91)=E91,0,1)","v":0},{"$f":"ADDRESS(62,3,1,1,$G$1)","v":"'Equity Investments'!$C$62"},1,{"$f":"IF(INDIRECT(G91)=H91,0,1)","v":0}]
[{"$f":"ADDRESS(58,29,1,1,$A$1)","v":"Summary!$AC$58"},"=(SUM(AA$53:AA60)/AA$63)",0,{"$f":"ADDRESS(56,6,1,1,$D$1)","v":"'Fixed Income Investments'!$F$56"},"=IF(D56<0,0,D56*E56)",{"$f":"IF(_xlfn.FORMULATEXT(INDIRECT(D92))=E92,0,1)","v":0},{"$f":"ADDRESS(62,4,1,1,$G$1)","v":"'Equity Investments'!$D$62"},0.75,0]
[{"$f":"ADDRESS(58,30,1,1,$A$1)","v":"Summary!$AD$58"},"=IF(ISERROR(AVERAGE(AC60:AC60)),0,AVERAGE(AC60:AC60))",0,{"$f":"ADDRESS(57,4,1,1,$D$1)","v":"'Fixed Income Investments'!$D$57"},"='Schedule II'!P15",{"$f":"IF(_xlfn.FORMULATEXT(INDIRECT(D93))=E93,0,1)","v":0},{"$f":"ADDRESS(62,5,1,1,$G$1)","v":"'Equity Investments'!$E$62"},0.75,0]
[{"$f":"ADDRESS(58,32,1,1,$A$1)","v":"Summary!$AF$58"},"=IF(AO60=\"\",IF(Test_Statistic<$AJ$71,AI58,IF(Test_Statistic<$AL$71,AK58,AM58)),AO60)",0,{"$f":"ADDRESS(57,5,1,1,$D$1)","v":"'Fixed Income Investments'!$E$57"},8.0000000000000002E-3,{"$f":"IF(INDIRECT(D94)=E94,0,1)","v":0},{"$f":"ADDRESS(62,6,1,1,$G$1)","v":"'Equity Investments'!$F$62"},0.5,0]
[{"$f":"ADDRESS(58,33,1,1,$A$1)","v":"Summary!$AG$58"},"=IF(AP60=\"\",IF(Test_Statistic<$AJ$71,AJ58,IF(Test_Statistic<$AL$71,AL58,AN58)),AP60)",0,{"$f":"ADDRESS(57,6,1,1,$D$1)","v":"'Fixed Income Investments'!$F$57"},"=IF(D57<0,0,D57*E57)",{"$f":"IF(_xlfn.FORMULATEXT(INDIRECT(D95))=E95,0,1)","v":0},{"$f":"ADDRESS(63,3,1,1,$G$1)","v":"'Equity Investments'!$C$63"},0.75,0]
[{"$f":"ADDRESS(58,35,1,1,$A$1)","v":"Summary!$AI$58"},"=IF(AC60>1,200,IF(AC58>1,50,IF(AC58>0.6,50,180)))",0,{"$f":"ADDRESS(58,4,1,1,$D$1)","v":"'Fixed Income Investments'!$D$58"},"='Schedule II'!P16",{"$f":"IF(_xlfn.FORMULATEXT(INDIRECT(D96))=E96,0,1)","v":0},{"$f":"ADDRESS(63,4,1,1,$G$1)","v":"'Equity Investments'!$D$63"},1,0]
[{"$f":"ADDRESS(58,36,1,1,$A$1)","v":"Summary!$AJ$58"},"=IF(AC60>1,5,IF(AC58>0.6,IF(AD60>0.5,60,120),IF(AC58>0.6,100,200)))",0,{"$f":"ADDRESS(58,5,1,1,$D$1)","v":"'Fixed Income Investments'!$E$58"},1.4999999999999999E-2,{"$f":"IF(INDIRECT(D97)=E97,0,1)","v":0},{"$f":"ADDRESS(63,5,1,1,$G$1)","v":"'Equity Investments'!$E$63"},0.75,0]
[{"$f":"ADDRESS(58,37,1,1,$A$1)","v":"Summary!$AK$58"},"=IF(Test_Statistic_2<0.95,50,160)",0,{"$f":"ADDRESS(58,6,1,1,$D$1)","v":"'Fixed Income Investments'!$F$58"},"=IF(D58<0,0,D58*E58)",{"$f":"IF(_xlfn.FORMULATEXT(INDIRECT(D98))=E98,0,1)","v":0},{"$f":"ADDRESS(63,6,1,1,$G$1)","v":"'Equity Investments'!$F$63"},0.5,0]
[{"$f":"ADDRESS(58,38,1,1,$A$1)","v":"Summary!$AL$58"},"=IF(Test_Statistic_2<0.95,70,5)",0,{"$f":"ADDRESS(59,4,1,1,$D$1)","v":"'Fixed Income Investments'!$D$59"},"='Schedule II'!P17",{"$f":"IF(_xlfn.FORMULATEXT(INDIRECT(D99))=E99,0,1)","v":0},{"$f":"ADDRESS(64,3,1,1,$G$1)","v":"'Equity Investments'!$C$64"},0.75,0]
[{"$f":"ADDRESS(58,39,1,1,$A$1)","v":"Summary!$AM$58"},"=IF(Test_Statistic_2<1,50,180)",0,{"$f":"ADDRESS(59,5,1,1,$D$1)","v":"'Fixed Income Investments'!$E$59"},0.03,{"$f":"IF(INDIRECT(D100)=E100,0,1)","v":0},{"$f":"ADDRESS(64,4,1,1,$G$1)","v":"'Equity Investments'!$D$64"},0.75,0]
[{"$f":"ADDRESS(58,40,1,1,$A$1)","v":"Summary!$AN$58"},"=IF(Test_Statistic_2<1,50,5)",0,{"$f":"ADDRESS(59,6,1,1,$D$1)","v":"'Fixed Income Investments'!$F$59"},"=IF(D59<0,0,D59*E59)",{"$f":"IF(_xlfn.FORMULATEXT(INDIRECT(D101))=E101,0,1)","v":0},{"$f":"ADDRESS(64,5,1,1,$G$1)","v":"'Equity Investments'!$E$64"},1,0]
[{"$f":"ADDRESS(59,12,1,1,$A$1)","v":"Summary!$L$59"},"=K60",0,{"$f":"ADDRESS(60,4,1,1,$D$1)","v":"'Fixed Income Investments'!$D$60"},"='Schedule II'!P18",{"$f":"IF(_xlfn.FORMULATEXT(INDIRECT(D102))=E102,0,1)","v":0},{"$f":"ADDRESS(64,6,1,1,$G$1)","v":"'Equity Investments'!$F$64"},0.5,0]
[{"$f":"ADDRESS(59,14,1,1,$A$1)","v":"Summary!$N$59"},"=M60",0,{"$f":"ADDRESS(60,5,1,1,$D$1)","v":"'Fixed Income Investments'!$E$60"},0.08,{"$f":"IF(INDIRECT(D103)=E103,0,1)","v":0},{"$f":"ADDRESS(65,3,1,1,$G$1)","v":"'Equity Investments'!$C$65"},0.5,0]
[{"$f":"ADDRESS(59,20,1,1,$A$1)","v":"Summary!$T$59"},"=C63",0,{"$f":"ADDRESS(60,6,1,1,$D$1)","v":"'Fixed Income Investments'!$F$60"},"=IF(D60<0,0,D60*E60)",{"$f":"IF(_xlfn.FORMULATEXT(INDIRECT(D104))=E104,0,1)","v":0},{"$f":"ADDRESS(65,4,1,1,$G$1)","v":"'Equity Investments'!$D$65"},0.5,0]
[{"$f":"ADDRESS(59,24,1,1,$A$1)","v":"Summary!$X$59"},"=G63",0,{"$f":"ADDRESS(61,4,1,1,$D$1)","v":"'Fixed Income Investments'!$D$61"},"='Schedule II'!P19",{"$f":"IF(_xlfn.FORMULATEXT(INDIRECT(D105))=E105,0,1)","v":0},{"$f":"ADDRESS(65,5,1,1,$G$1)","v":"'Equity Investments'!$E$65"},0.5,0]
[{"$f":"ADDRESS(59,25,1,1,$A$1)","v":"Summary!$Y$59"},"=IF($L$71=0,1/9,X59/$X$63)",0,{"$f":"ADDRESS(61,5,1,1,$D$1)","v":"'Fixed Income Investments'!$E$61"},0.15,{"$f":"IF(INDIRECT(D106)=E106,0,1)","v":0},{"$f":"ADDRESS(65,6,1,1,$G$1)","v":"'Equity Investments'!$F$65"},1,0]
[{"$f":"ADDRESS(59,26,1,1,$A$1)","v":"Summary!$Z$59"},"=M63",0,{"$f":"ADDRESS(61,6,1,1,$D$1)","v":"'Fixed Income Investments'!$F$61"},"=IF(D61<0,0,D61*E61)",{"$f":"IF(_xlfn.FORMULATEXT(INDIRECT(D107))=E107,0,1)","v":0},null,null,-107]
[{"$f":"ADDRESS(59,27,1,1,$A$1)","v":"Summary!$AA$59"},"=IF($N$71=0,1/9,Z59/$Z$63)",0,{"$f":"ADDRESS(62,4,1,1,$D$1)","v":"'Fixed Income Investments'!$D$62"},"='Schedule II'!P20",{"$f":"IF(_xlfn.FORMULATEXT(INDIRECT(D108))=E108,0,1)","v":0}]
[{"$f":"ADDRESS(59,29,1,1,$A$1)","v":"Summary!$AC$59"},"=(SUM(AA$53:AA59)/AA$63)",0,{"$f":"ADDRESS(62,5,1,1,$D$1)","v":"'Fixed Income Investments'!$E$62"},0.26300000000000001,{"$f":"IF(INDIRECT(D109)=E109,0,1)","v":0}]
[{"$f":"ADDRESS(59,30,1,1,$A$1)","v":"Summary!$AD$59"},"=IF(ISERROR(AVERAGE(AC55:AC59)),0,AVERAGE(AC55:AC59))",0,{"$f":"ADDRESS(62,6,1,1,$D$1)","v":"'Fixed Income Investments'!$F$62"},"=IF(D62<0,0,D62*E62)",{"$f":"IF(_xlfn.FORMULATEXT(INDIRECT(D110))=E110,0,1)","v":0}]
[{"$f":"ADDRESS(59,32,1,1,$A$1)","v":"Summary!$AF$59"},"=IF(AO63=\"\",IF(Test_Statistic<$AJ$71,AI59,IF(Test_Statistic<$AL$71,AK59,AM59)),AO63)",0,{"$f":"ADDRESS(63,4,1,1,$D$1)","v":"'Fixed Income Investments'!$D$63"},"='Schedule II'!P21",{"$f":"IF(_xlfn.FORMULATEXT(INDIRECT(D111))=E111,0,1)","v":0}]
[{"$f":"ADDRESS(59,35,1,1,$A$1)","v":"Summary!$AI$59"},"=IF(AC60>1,250,IF(AC58>1,300,IF(AC58>0.6,260,300)))",0,{"$f":"ADDRESS(63,5,1,1,$D$1)","v":"'Fixed Income Investments'!$E$63"},0.35,{"$f":"IF(INDIRECT(D112)=E112,0,1)","v":0}]
[{"$f":"ADDRESS(59,36,1,1,$A$1)","v":"Summary!$AJ$59"},"=IF(AC58>0.6,185,140)",0,{"$f":"ADDRESS(63,6,1,1,$D$1)","v":"'Fixed Income Investments'!$F$63"},"=IF(D63<0,0,D63*E63)",{"$f":"IF(_xlfn.FORMULATEXT(INDIRECT(D113))=E113,0,1)","v":0}]
[{"$f":"ADDRESS(59,37,1,1,$A$1)","v":"Summary!$AK$59"},"=IF(Test_Statistic_2<0.95,180,120)",0,{"$f":"ADDRESS(65,4,1,1,$D$1)","v":"'Fixed Income Investments'!$D$65"},"=SUM(D55:D63)",{"$f":"IF(_xlfn.FORMULATEXT(INDIRECT(D114))=E114,0,1)","v":0}]
[{"$f":"ADDRESS(59,39,1,1,$A$1)","v":"Summary!$AM$59"},100,{"$f":"IF(INDIRECT(A115)=B115,0,1)","v":0},{"$f":"ADDRESS(65,6,1,1,$D$1)","v":"'Fixed Income Investments'!$F$65"},"=IF(SUM(F55:F63)>=0,SUM(F55:F63),0)",{"$f":"IF(_xlfn.FORMULATEXT(INDIRECT(D115))=E115,0,1)","v":0}]
[{"$f":"ADDRESS(60,3,1,1,$A$1)","v":"Summary!$C$60"},"Credit Risk",{"$f":"IF(INDIRECT(A116)=B116,0,1)","v":0},{"$f":"ADDRESS(69,4,1,1,$D$1)","v":"'Fixed Income Investments'!$D$69"},"='Schedule II'!T26",{"$f":"IF(_xlfn.FORMULATEXT(INDIRECT(D116))=E116,0,1)","v":0}]
[{"$f":"ADDRESS(60,6,1,1,$A$1)","v":"Summary!$F$60"},"=ROUND('Credit Risk'!F41,$N$173)",{"$f":"IF(_xlfn.FORMULATEXT(INDIRECT(A117))=B117,0,1)","v":0},{"$f":"ADDRESS(69,5,1,1,$D$1)","v":"'Fixed Income Investments'!$E$69"},3.0000000000000001E-3,{"$f":"IF(INDIRECT(D117)=E117,0,1)","v":0}]
[{"$f":"ADDRESS(60,11,1,1,$A$1)","v":"Summary!$K$60"},"=ROUND(#REF!,$N$173)",0,{"$f":"ADDRESS(69,6,1,1,$D$1)","v":"'Fixed Income Investments'!$F$69"},"=IF(D69<0,0,D69*E69)",{"$f":"IF(_xlfn.FORMULATEXT(INDIRECT(D118))=E118,0,1)","v":0}]
[{"$f":"ADDRESS(60,13,1,1,$A$1)","v":"Summary!$M$60"},"=ROUND(#REF!,$N$173)",0,{"$f":"ADDRESS(70,4,1,1,$D$1)","v":"'Fixed Income Investments'!$D$70"},"='Schedule II'!T27",{"$f":"IF(_xlfn.FORMULATEXT(INDIRECT(D119))=E119,0,1)","v":0}]
[{"$f":"ADDRESS(60,20,1,1,$A$1)","v":"Summary!$T$60"},"=C64",0,{"$f":"ADDRESS(70,5,1,1,$D$1)","v":"'Fixed Income Investments'!$E$70"},0.05,{"$f":"IF(INDIRECT(D120)=E120,0,1)","v":0}]
[{"$f":"ADDRESS(60,24,1,1,$A$1)","v":"Summary!$X$60"},"=G64",0,{"$f":"ADDRESS(70,6,1,1,$D$1)","v":"'Fixed Income Investments'!$F$70"},"=IF(D70<0,0,D70*E70)",{"$f":"IF(_xlfn.FORMULATEXT(INDIRECT(D121))=E121,0,1)","v":0}]
[{"$f":"ADDRESS(60,25,1,1,$A$1)","v":"Summary!$Y$60"},"=IF($L$71=0,1/9,X60/$X$63)",0,{"$f":"ADDRESS(71,4,1,1,$D$1)","v":"'Fixed Income Investments'!$D$71"},"='Schedule II'!T28",{"$f":"IF(_xlfn.FORMULATEXT(INDIRECT(D122))=E122,0,1)","v":0}]
[{"$f":"ADDRESS(60,26,1,1,$A$1)","v":"Summary!$Z$60"},"=M64",0,{"$f":"ADDRESS(71,5,1,1,$D$1)","v":"'Fixed Income Investments'!$E$71"},1.4999999999999999E-2,{"$f":"IF(INDIRECT(D123)=E123,0,1)","v":0}]
[{"$f":"ADDRESS(60,27,1,1,$A$1)","v":"Summary!$AA$60"},"=IF($N$71=0,1/9,Z60/$Z$63)",0,{"$f":"ADDRESS(71,6,1,1,$D$1)","v":"'Fixed Income Investments'!$F$71"},"=IF(D71<0,0,D71*E71)",{"$f":"IF(_xlfn.FORMULATEXT(INDIRECT(D124))=E124,0,1)","v":0}]
[{"$f":"ADDRESS(60,29,1,1,$A$1)","v":"Summary!$AC$60"},"=(SUM(AA$53:AA60)/AA$63)",0,{"$f":"ADDRESS(72,4,1,1,$D$1)","v":"'Fixed Income Investments'!$D$72"},"='Schedule II'!T29",{"$f":"IF(_xlfn.FORMULATEXT(INDIRECT(D125))=E125,0,1)","v":0}]
[{"$f":"ADDRESS(60,30,1,1,$A$1)","v":"Summary!$AD$60"},"=IF(ISERROR(AVERAGE(AC59:AC60)),0,AVERAGE(AC59:AC60))",0,{"$f":"ADDRESS(72,5,1,1,$D$1)","v":"'Fixed Income Investments'!$E$72"},0.25,{"$f":"IF(INDIRECT(D126)=E126,0,1)","v":0}]
[{"$f":"ADDRESS(60,32,1,1,$A$1)","v":"Summary!$AF$60"},"=IF(AO64=\"\",IF(Test_Statistic<$AJ$71,AI60,IF(Test_Statistic<$AL$71,AK60,AM60)),AO64)",0,{"$f":"ADDRESS(72,6,1,1,$D$1)","v":"'Fixed Income Investments'!$F$72"},"=IF(D72<0,0,D72*E72)",{"$f":"IF(_xlfn.FORMULATEXT(INDIRECT(D127))=E127,0,1)","v":0}]
[{"$f":"ADDRESS(60,35,1,1,$A$1)","v":"Summary!$AI$60"},"=IF(AC60>1,50,IF(AC58>0.6,120,260))",0,{"$f":"ADDRESS(74,4,1,1,$D$1)","v":"'Fixed Income Investments'!$D$74"},"=SUM(D69:D72)",{"$f":"IF(_xlfn.FORMULATEXT(INDIRECT(D128))=E128,0,1)","v":0}]
[{"$f":"ADDRESS(60,36,1,1,$A$1)","v":"Summary!$AJ$60"},"=IF(AC60>1,90,IF(AC58>0.6,200,185))",0,{"$f":"ADDRESS(74,6,1,1,$D$1)","v":"'Fixed Income Investments'!$F$74"},"=IF(SUM(F69:F72)>=0,SUM(F69:F72),0)",{"$f":"IF(_xlfn.FORMULATEXT(INDIRECT(D129))=E129,0,1)","v":0}]
[{"$f":"ADDRESS(60,37,1,1,$A$1)","v":"Summary!$AK$60"},50,{"$f":"IF(INDIRECT(A130)=B130,0,1)","v":0},{"$f":"ADDRESS(78,4,1,1,$D$1)","v":"'Fixed Income Investments'!$D$78"},"='Schedule II'!T30",{"$f":"IF(_xlfn.FORMULATEXT(INDIRECT(D130))=E130,0,1)","v":0}]
[{"$f":"ADDRESS(60,38,1,1,$A$1)","v":"Summary!$AL$60"},"=IF(Test_Statistic_2<0.95,160,80)",{"$f":"IF(_xlfn.FORMULATEXT(INDIRECT(A131))=B131,0,1)","v":0},{"$f":"ADDRESS(78,5,1,1,$D$1)","v":"'Fixed Income Investments'!$E$78"},0.05,{"$f":"IF(INDIRECT(D131)=E131,0,1)","v":0}]
[{"$f":"ADDRESS(60,39,1,1,$A$1)","v":"Summary!$AM$60"},"=IF(Test_Statistic_2<1,50,50)",0,{"$f":"ADDRESS(78,6,1,1,$D$1)","v":"'Fixed Income Investments'!$F$78"},"=IF($D$78<0,0,$D$78*$E$78)",{"$f":"IF(_xlfn.FORMULATEXT(INDIRECT(D132))=E132,0,1)","v":0}]
[{"$f":"ADDRESS(61,20,1,1,$A$1)","v":"Summary!$T$61"},"=C65",0,{"$f":"ADDRESS(82,4,1,1,$D$1)","v":"'Fixed Income Investments'!$D$82"},"=+#REF!",{"$f":"IF(_xlfn.FORMULATEXT(INDIRECT(D133))=E133,0,1)","v":0}]
[{"$f":"ADDRESS(61,24,1,1,$A$1)","v":"Summary!$X$61"},"=G65",0,{"$f":"ADDRESS(82,5,1,1,$D$1)","v":"'Fixed Income Investments'!$E$82"},0,{"$f":"IF(INDIRECT(D134)=E134,0,1)","v":0}]
[{"$f":"ADDRESS(61,25,1,1,$A$1)","v":"Summary!$Y$61"},"=IF($L$71=0,1/9,X61/$X$63)",0,{"$f":"ADDRESS(82,6,1,1,$D$1)","v":"'Fixed Income Investments'!$F$82"},"=IF($D$82<0,0,$D$82*$E$82)",{"$f":"IF(_xlfn.FORMULATEXT(INDIRECT(D135))=E135,0,1)","v":0}]
[{"$f":"ADDRESS(61,26,1,1,$A$1)","v":"Summary!$Z$61"},"=M65",0,{"$f":"ADDRESS(83,4,1,1,$D$1)","v":"'Fixed Income Investments'!$D$83"},"=+#REF!",{"$f":"IF(_xlfn.FORMULATEXT(INDIRECT(D136))=E136,0,1)","v":0}]
[{"$f":"ADDRESS(61,27,1,1,$A$1)","v":"Summary!$AA$61"},"=IF($N$71=0,1/9,Z61/$Z$63)",0,{"$f":"ADDRESS(83,5,1,1,$D$1)","v":"'Fixed Income Investments'!$E$83"},1E-3,{"$f":"IF(INDIRECT(D137)=E137,0,1)","v":0}]
[{"$f":"ADDRESS(61,29,1,1,$A$1)","v":"Summary!$AC$61"},"=(SUM(AA$53:AA62)/AA$63)",0,{"$f":"ADDRESS(83,6,1,1,$D$1)","v":"'Fixed Income Investments'!$F$83"},"=IF($D$83<0,0,$D$83*$E$83)",{"$f":"IF(_xlfn.FORMULATEXT(INDIRECT(D138))=E138,0,1)","v":0}]
[{"$f":"ADDRESS(61,32,1,1,$A$1)","v":"Summary!$AF$61"},"=IF(AO65=\"\",IF(Test_Statistic<$AJ$71,AI61,IF(Test_Statistic<$AL$71,AK61,AM61)),AO65)",0,{"$f":"ADDRESS(84,4,1,1,$D$1)","v":"'Fixed Income Investments'!$D$84"},"=+#REF!",{"$f":"IF(_xlfn.FORMULATEXT(INDIRECT(D139))=E139,0,1)","v":0}]
[{"$f":"ADDRESS(61,33,1,1,$A$1)","v":"Summary!$AG$61"},"=IF(AP65=\"\",IF(Test_Statistic<$AJ$71,AJ61,IF(Test_Statistic<$AL$71,AL61,AN61)),AP65)",0,{"$f":"ADDRESS(84,5,1,1,$D$1)","v":"'Fixed Income Investments'!$E$84"},2E-3,{"$f":"IF(INDIRECT(D140)=E140,0,1)","v":0}]
[{"$f":"ADDRESS(61,35,1,1,$A$1)","v":"Summary!$AI$61"},"=IF(AC60>1,260,IF(AC58>1,200,IF(AC58>0.6,180,40)))",0,{"$f":"ADDRESS(84,6,1,1,$D$1)","v":"'Fixed Income Investments'!$F$84"},"=IF($D$84<0,0,$D$84*$E$84)",{"$f":"IF(_xlfn.FORMULATEXT(INDIRECT(D141))=E141,0,1)","v":0}]
[{"$f":"ADDRESS(61,36,1,1,$A$1)","v":"Summary!$AJ$61"},"=IF(AC60>1,15,IF(AC58>0.6,5,100))",0,{"$f":"ADDRESS(85,4,1,1,$D$1)","v":"'Fixed Income Investments'!$D$85"},"=+#REF!",{"$f":"IF(_xlfn.FORMULATEXT(INDIRECT(D142))=E142,0,1)","v":0}]
[{"$f":"ADDRESS(61,37,1,1,$A$1)","v":"Summary!$AK$61"},"=IF(Test_Statistic_2<0.95,180,240)",0,{"$f":"ADDRESS(85,5,1,1,$D$1)","v":"'Fixed Income Investments'!$E$85"},3.0000000000000001E-3,{"$f":"IF(INDIRECT(D143)=E143,0,1)","v":0}]
[{"$f":"ADDRESS(61,38,1,1,$A$1)","v":"Summary!$AL$61"},"=IF(Test_Statistic_2<0.95,5,20)",0,{"$f":"ADDRESS(85,6,1,1,$D$1)","v":"'Fixed Income Investments'!$F$85"},"=IF($D$85<0,0,$D$85*$E$85)",{"$f":"IF(_xlfn.FORMULATEXT(INDIRECT(D144))=E144,0,1)","v":0}]
[{"$f":"ADDRESS(61,39,1,1,$A$1)","v":"Summary!$AM$61"},"=IF(Test_Statistic_2<1,180,240)",0,{"$f":"ADDRESS(86,4,1,1,$D$1)","v":"'Fixed Income Investments'!$D$86"},"=+#REF!",{"$f":"IF(_xlfn.FORMULATEXT(INDIRECT(D145))=E145,0,1)","v":0}]
[{"$f":"ADDRESS(61,40,1,1,$A$1)","v":"Summary!$AN$61"},"=IF(Test_Statistic_2<1,5,20)",0,{"$f":"ADDRESS(86,5,1,1,$D$1)","v":"'Fixed Income Investments'!$E$86"},5.0000000000000001E-3,{"$f":"IF(INDIRECT(D146)=E146,0,1)","v":0}]
[{"$f":"ADDRESS(62,12,1,1,$A$1)","v":"Summary!$L$62"},"{=SQRT(MMULT(TRANSPOSE(K63:K65),MMULT(#REF!,K63:K65)))}",0,{"$f":"ADDRESS(86,6,1,1,$D$1)","v":"'Fixed Income Investments'!$F$86"},"=IF($D$86<0,0,$D$86*$E$86)",{"$f":"IF(_xlfn.FORMULATEXT(INDIRECT(D147))=E147,0,1)","v":0}]
[{"$f":"ADDRESS(62,14,1,1,$A$1)","v":"Summary!$N$62"},"{=SQRT(MMULT(TRANSPOSE(M63:M65),MMULT(#REF!,M63:M65)))}",0,{"$f":"ADDRESS(87,4,1,1,$D$1)","v":"'Fixed Income Investments'!$D$87"},"=+#REF!",{"$f":"IF(_xlfn.FORMULATEXT(INDIRECT(D148))=E148,0,1)","v":0}]
[{"$f":"ADDRESS(63,3,1,1,$A$1)","v":"Summary!$C$63"},"Premium Risk",{"$f":"IF(INDIRECT(A149)=B149,0,1)","v":0},{"$f":"ADDRESS(87,5,1,1,$D$1)","v":"'Fixed Income Investments'!$E$87"},1.4999999999999999E-2,{"$f":"IF(INDIRECT(D149)=E149,0,1)","v":0}]
[{"$f":"ADDRESS(63,7,1,1,$A$1)","v":"Summary!$G$63"},"=ROUND(#REF!,$N$173)",{"$f":"IF(_xlfn.FORMULATEXT(INDIRECT(A150))=B150,0,1)","v":0},{"$f":"ADDRESS(87,6,1,1,$D$1)","v":"'Fixed Income Investments'!$F$87"},"=IF($D$87<0,0,$D$87*$E$87)",{"$f":"IF(_xlfn.FORMULATEXT(INDIRECT(D150))=E150,0,1)","v":0}]
[{"$f":"ADDRESS(63,11,1,1,$A$1)","v":"Summary!$K$63"},"=ROUND(#REF!,$N$173)",0,{"$f":"ADDRESS(88,4,1,1,$D$1)","v":"'Fixed Income Investments'!$D$88"},"=+#REF!",{"$f":"IF(_xlfn.FORMULATEXT(INDIRECT(D151))=E151,0,1)","v":0}]
[{"$f":"ADDRESS(63,13,1,1,$A$1)","v":"Summary!$M$63"},"=ROUND(#REF!,$N$173)",0,{"$f":"ADDRESS(88,5,1,1,$D$1)","v":"'Fixed Income Investments'!$E$88"},0.04,{"$f":"IF(INDIRECT(D152)=E152,0,1)","v":0}]
[{"$f":"ADDRESS(63,24,1,1,$A$1)","v":"Summary!$X$63"},"=SUM(X53:X62)",0,{"$f":"ADDRESS(88,6,1,1,$D$1)","v":"'Fixed Income Investments'!$F$88"},"=IF($D$88<0,0,$D$88*$E$88)",{"$f":"IF(_xlfn.FORMULATEXT(INDIRECT(D153))=E153,0,1)","v":0}]
[{"$f":"ADDRESS(63,25,1,1,$A$1)","v":"Summary!$Y$63"},"=SUM(Y53:Y62)",0,{"$f":"ADDRESS(89,4,1,1,$D$1)","v":"'Fixed Income Investments'!$D$89"},"=+#REF!",{"$f":"IF(_xlfn.FORMULATEXT(INDIRECT(D154))=E154,0,1)","v":0}]
[{"$f":"ADDRESS(63,26,1,1,$A$1)","v":"Summary!$Z$63"},"=SUM(Z53:Z62)",0,{"$f":"ADDRESS(89,5,1,1,$D$1)","v":"'Fixed Income Investments'!$E$89"},0.06,{"$f":"IF(INDIRECT(D155)=E155,0,1)","v":0}]
[{"$f":"ADDRESS(63,27,1,1,$A$1)","v":"Summary!$AA$63"},"=SUM(AA53:AA62)",0,{"$f":"ADDRESS(89,6,1,1,$D$1)","v":"'Fixed Income Investments'!$F$89"},"=IF($D$89<0,0,$D$89*$E$89)",{"$f":"IF(_xlfn.FORMULATEXT(INDIRECT(D156))=E156,0,1)","v":0}]
[{"$f":"ADDRESS(64,3,1,1,$A$1)","v":"Summary!$C$64"},"Reserve Risk",{"$f":"IF(INDIRECT(A157)=B157,0,1)","v":0},{"$f":"ADDRESS(90,4,1,1,$D$1)","v":"'Fixed Income Investments'!$D$90"},"=+#REF!",{"$f":"IF(_xlfn.FORMULATEXT(INDIRECT(D157))=E157,0,1)","v":0}]
[{"$f":"ADDRESS(64,7,1,1,$A$1)","v":"Summary!$G$64"},"=ROUND(#REF!,$N$173)",{"$f":"IF(_xlfn.FORMULATEXT(INDIRECT(A158))=B158,0,1)","v":0},{"$f":"ADDRESS(90,5,1,1,$D$1)","v":"'Fixed Income Investments'!$E$90"},0.09,{"$f":"IF(INDIRECT(D158)=E158,0,1)","v":0}]
[{"$f":"ADDRESS(64,11,1,1,$A$1)","v":"Summary!$K$64"},"=ROUND(#REF!,$N$173)",{"$f":"IF(_xlfn.FORMULATEXT(INDIRECT(A159))=B159,0,1)","v":0},{"$f":"ADDRESS(90,6,1,1,$D$1)","v":"'Fixed Income Investments'!$F$90"},"=IF($D$90<0,0,$D$90*$E$90)",{"$f":"IF(_xlfn.FORMULATEXT(INDIRECT(D159))=E159,0,1)","v":0}]
[{"$f":"ADDRESS(64,13,1,1,$A$1)","v":"Summary!$M$64"},"=ROUND(#REF!,$N$173)",{"$f":"IF(_xlfn.FORMULATEXT(INDIRECT(A160))=B160,0,1)","v":0},{"$f":"ADDRESS(92,4,1,1,$D$1)","v":"'Fixed Income Investments'!$D$92"},"=SUM(D82:D91)",0]
[{"$f":"ADDRESS(65,3,1,1,$A$1)","v":"Summary!$C$65"},"Catastrophe Risk",{"$f":"IF(INDIRECT(A161)=B161,0,1)","v":0},{"$f":"ADDRESS(92,6,1,1,$D$1)","v":"'Fixed Income Investments'!$F$92"},"=SUM(F82:F91)",0]
[{"$f":"ADDRESS(65,7,1,1,$A$1)","v":"Summary!$G$65"},"=ROUND(#REF!,$N$173)",{"$f":"IF(_xlfn.FORMULATEXT(INDIRECT(A162))=B162,0,1)","v":0},{"$f":"ADDRESS(94,5,1,1,$D$1)","v":"'Fixed Income Investments'!$E$94"},"=+#REF!",0]
[{"$f":"ADDRESS(65,11,1,1,$A$1)","v":"Summary!$K$65"},"=ROUND(#REF!,$N$173)",0,{"$f":"ADDRESS(94,6,1,1,$D$1)","v":"'Fixed Income Investments'!$F$94"},"=SUM(F82:F90)*-(#REF!)",0]
[{"$f":"ADDRESS(65,13,1,1,$A$1)","v":"Summary!$M$65"},"=ROUND(#REF!,$N$173)",0,{"$f":"ADDRESS(96,4,1,1,$D$1)","v":"'Fixed Income Investments'!$D$96"},"=D78",0]
[{"$f":"ADDRESS(66,7,1,1,$A$1)","v":"Summary!$G$66"},"{=SQRT(MMULT(TRANSPOSE(F53:F54),MMULT(E163:F164,F53:F54)))}",0,{"$f":"ADDRESS(96,6,1,1,$D$1)","v":"'Fixed Income Investments'!$F$96"},"=IF(F78>=0,F78,0)",0]
[{"$f":"ADDRESS(67,7,1,1,$A$1)","v":"Summary!$G$67"},"=F60",0,{"$f":"ADDRESS(98,4,1,1,$D$1)","v":"'Fixed Income Investments'!$D$98"},"=D22+D36+D50+D65+D74+D96",0]
[{"$f":"ADDRESS(69,7,1,1,$A$1)","v":"Summary!$G$69"},"=G66+G67",0,{"$f":"ADDRESS(98,6,1,1,$D$1)","v":"'Fixed Income Investments'!$F$98"},"=F22+F36+F50+F65+F74+F96",0]
[{"$f":"ADDRESS(69,12,1,1,$A$1)","v":"Summary!$L$69"},"=SUM(K53:K65)",0,null,null,-168]
[{"$f":"ADDRESS(69,14,1,1,$A$1)","v":"Summary!$N$69"},"=SUM(M53:M65)",0]
[{"$f":"ADDRESS(69,35,1,1,$A$1)","v":"Summary!$AI$69"},"=AI71&\" - \"&AJ71",0]
[{"$f":"ADDRESS(69,37,1,1,$A$1)","v":"Summary!$AK$69"},"=AJ71&\" - \"&AL71",0]
[{"$f":"ADDRESS(69,39,1,1,$A$1)","v":"Summary!$AM$69"},"=AL71&\" - \"&AN71",0]
[{"$f":"ADDRESS(71,7,1,1,$A$1)","v":"Summary!$G$71"},"{=SQRT(MMULT(TRANSPOSE(G66:G67),MMULT(E167:F168,G66:G67)))}",0]
[{"$f":"ADDRESS(71,12,1,1,$A$1)","v":"Summary!$L$71"},"{=SQRT(MMULT(TRANSPOSE(#REF!),MMULT(#REF!,#REF!)))}",0]
[{"$f":"ADDRESS(71,14,1,1,$A$1)","v":"Summary!$N$71"},"{=SQRT(MMULT(TRANSPOSE(#REF!),MMULT(#REF!,#REF!)))}",0]
[{"$f":"ADDRESS(71,35,1,1,$A$1)","v":"Summary!$AI$71"},0,{"$f":"IF(INDIRECT(A176)=B176,0,1)","v":0}]
[{"$f":"ADDRESS(71,36,1,1,$A$1)","v":"Summary!$AJ$71"},"=0.5-AI89",{"$f":"IF(_xlfn.FORMULATEXT(INDIRECT(A177))=B177,0,1)","v":0}]
[{"$f":"ADDRESS(71,37,1,1,$A$1)","v":"Summary!$AK$71"},"=AJ71",{"$f":"IF(_xlfn.FORMULATEXT(INDIRECT(A178))=B178,0,1)","v":0}]
[{"$f":"ADDRESS(71,38,1,1,$A$1)","v":"Summary!$AL$71"},"=0.5+AI89",{"$f":"IF(_xlfn.FORMULATEXT(INDIRECT(A179))=B179,0,1)","v":0}]
[{"$f":"ADDRESS(71,39,1,1,$A$1)","v":"Summary!$AM$71"},"=AL71",{"$f":"IF(_xlfn.FORMULATEXT(INDIRECT(A180))=B180,0,1)","v":0}]
[{"$f":"ADDRESS(71,40,1,1,$A$1)","v":"Summary!$AN$71"},1,{"$f":"IF(INDIRECT(A181)=B181,0,1)","v":0}]
[{"$f":"ADDRESS(73,7,1,1,$A$1)","v":"Summary!$G$73"},"=#REF!",{"$f":"IF(_xlfn.FORMULATEXT(INDIRECT(A182))=B182,0,1)","v":0}]
[{"$f":"ADDRESS(73,14,1,1,$A$1)","v":"Summary!$N$73"},"=#REF!",0]
[{"$f":"ADDRESS(75,7,1,1,$A$1)","v":"Summary!$G$75"},"='Operational Risk'!J113",0]
[{"$f":"ADDRESS(75,14,1,1,$A$1)","v":"Summary!$N$75"},"=($N$71+N143)*$N$73",0]
[{"$f":"ADDRESS(75,26,1,1,$A$1)","v":"Summary!$Z$75"},"=MAX(Z83,Z85,Z89)",0]
[{"$f":"ADDRESS(75,29,1,1,$A$1)","v":"Summary!$AC$75"},"=MAX($Z$75,$N$87)",0]
[{"$f":"ADDRESS(77,7,1,1,$A$1)","v":"Summary!$G$77"},"=+#REF!",0]
[{"$f":"ADDRESS(77,14,1,1,$A$1)","v":"Summary!$N$77"},"=+#REF!",0]
[{"$f":"ADDRESS(79,14,1,1,$A$1)","v":"Summary!$N$79"},"=N143",0]
[{"$f":"ADDRESS(81,14,1,1,$A$1)","v":"Summary!$N$81"},"=M148",0]
[{"$f":"ADDRESS(83,7,1,1,$A$1)","v":"Summary!$G$83"},"='Company Specific Parameters'!I540-'Company Specific Parameters'!F540",0]
[{"$f":"ADDRESS(83,20,1,1,$A$1)","v":"Summary!$T$83"},"brrt_CapitalAddonReductionBMAAssessmentRequiredCapitalAndSurplus",{"$f":"IF(INDIRECT(A193)=B193,0,1)","v":0}]
[{"$f":"ADDRESS(83,21,1,1,$A$1)","v":"Summary!$U$83"},"=XBRLMap(N83,T83,E$173,E$174,CONFIGURATION!$B$10,\"BMA\",CONFIGURATION!$B$1,\"bscr\",CONFIGURATION!$B$12)",{"$f":"IF(_xlfn.FORMULATEXT(INDIRECT(A194))=B194,0,1)","v":0}]
[{"$f":"ADDRESS(83,26,1,1,$A$1)","v":"Summary!$Z$83"},"=IF('Company Information'!B2=\"Unconsolidated BSCR Model\",'Form 1SFS GB'!I124*IF('Form 1SFS GB'!$C$5=\"United States Dollars\",1,'Information Sheet'!$H$18)*15%,'Form 1SFS GB'!E124*IF('Form 1SFS GB'!$C$5=\"United States Dollars\",1,'Information Sheet'!$H$18)*15%)",{"$f":"IF(_xlfn.FORMULATEXT(INDIRECT(A195))=B195,0,1)","v":0}]
[{"$f":"ADDRESS(85,14,1,1,$A$1)","v":"Summary!$N$85"},"=IF(YEAR('Company Information'!C3)<2020,(N87-G87)*33%+G87,IF(YEAR('Company Information'!C3)<2021,(N87-G87)*66%+G87,N87))",{"$f":"IF(_xlfn.FORMULATEXT(INDIRECT(A196))=B196,0,1)","v":0}]
[{"$f":"ADDRESS(85,20,1,1,$A$1)","v":"Summary!$T$85"},"brrt_BSCR",{"$f":"IF(INDIRECT(A197)=B197,0,1)","v":0}]
[{"$f":"ADDRESS(85,21,1,1,$A$1)","v":"Summary!$U$85"},"=XBRLMap(N87,T85,E$173,E$174,CONFIGURATION!$B$10,\"BMA\",CONFIGURATION!$B$1,\"bscr\",CONFIGURATION!$B$12)",{"$f":"IF(_xlfn.FORMULATEXT(INDIRECT(A198))=B198,0,1)","v":0}]
[{"$f":"ADDRESS(85,26,1,1,$A$1)","v":"Summary!$Z$85"},"=IF('Company Information'!F11=\"Class 4\",IF(CONFIGURATION!B12=1000,100000,100000000),IF(CONFIGURATION!B12=1000,1000,1000000))",{"$f":"IF(_xlfn.FORMULATEXT(INDIRECT(A199))=B199,0,1)","v":0}]
[{"$f":"ADDRESS(87,7,1,1,$A$1)","v":"Summary!$G$87"},"=G71+G75+G83",{"$f":"IF(_xlfn.FORMULATEXT(INDIRECT(A200))=B200,0,1)","v":0}]
[{"$f":"ADDRESS(87,14,1,1,$A$1)","v":"Summary!$N$87"},"=N71+N75+N83+N77-N81+N79",{"$f":"IF(_xlfn.FORMULATEXT(INDIRECT(A201))=B201,0,1)","v":0}]
[{"$f":"ADDRESS(89,26,1,1,$A$1)","v":"Summary!$Z$89"},"=G20",{"$f":"IF(_xlfn.FORMULATEXT(INDIRECT(A202))=B202,0,1)","v":0}]
[{"$f":"ADDRESS(89,35,1,1,$A$1)","v":"Summary!$AI$89"},7.4999999999999997E-2,{"$f":"IF(INDIRECT(A203)=B203,0,1)","v":0}]
[{"$f":"ADDRESS(91,7,1,1,$A$1)","v":"Summary!$G$91"},"='Form 8SFS'!O65",{"$f":"IF(_xlfn.FORMULATEXT(INDIRECT(A204))=B204,0,1)","v":0}]
[{"$f":"ADDRESS(91,14,1,1,$A$1)","v":"Summary!$N$91"},"='Form 8SFS'!G58+'Form 8SFS'!K58",{"$f":"IF(_xlfn.FORMULATEXT(INDIRECT(A205))=B205,0,1)","v":0}]
[{"$f":"ADDRESS(92,14,1,1,$A$1)","v":"Summary!$N$92"},"=N91+#REF!",{"$f":"IF(_xlfn.FORMULATEXT(INDIRECT(A206))=B206,0,1)","v":0}]
[{"$f":"ADDRESS(92,20,1,1,$A$1)","v":"Summary!$T$92"},"brrt_PreAdjustmentAvailableStatutoryCapitalSurplus",{"$f":"IF(INDIRECT(A207)=B207,0,1)","v":0}]
[{"$f":"ADDRESS(92,21,1,1,$A$1)","v":"Summary!$U$92"},"=XBRLMap(N92,T92,E$173,E$174,CONFIGURATION!$B$10,\"BMA\",CONFIGURATION!$B$1,\"bscr\",CONFIGURATION!$B$12)",{"$f":"IF(_xlfn.FORMULATEXT(INDIRECT(A208))=B208,0,1)","v":0}]
[{"$f":"ADDRESS(95,7,1,1,$A$1)","v":"Summary!$G$95"},"=G91+G92",{"$f":"IF(_xlfn.FORMULATEXT(INDIRECT(A209))=B209,0,1)","v":0}]
[{"$f":"ADDRESS(95,14,1,1,$A$1)","v":"Summary!$N$95"},"=N92-SUM(#REF!)",{"$f":"IF(_xlfn.FORMULATEXT(INDIRECT(A210))=B210,0,1)","v":0}]
[{"$f":"ADDRESS(95,20,1,1,$A$1)","v":"Summary!$T$95"},"brrt_AvailableStatutoryCapitalSurplus",{"$f":"IF(INDIRECT(A211)=B211,0,1)","v":0}]
[{"$f":"ADDRESS(95,21,1,1,$A$1)","v":"Summary!$U$95"},"=XBRLMap(N95,T95,E$173,E$174,CONFIGURATION!$B$10,\"BMA\",CONFIGURATION!$B$1,\"bscr\",CONFIGURATION!$B$12)",{"$f":"IF(_xlfn.FORMULATEXT(INDIRECT(A212))=B212,0,1)","v":0}]
[{"$f":"ADDRESS(99,7,1,1,$A$1)","v":"Summary!$G$99"},"=G14",0]
[{"$f":"ADDRESS(99,14,1,1,$A$1)","v":"Summary!$N$99"},"=IF(G29=0,MAX(G14,(25%*N87)),G29)",0]
[{"$f":"ADDRESS(101,7,1,1,$A$1)","v":"Summary!$G$101"},"=SUM(G99:G100)",0]
[{"$f":"ADDRESS(101,14,1,1,$A$1)","v":"Summary!$N$101"},"=SUM(N99:N100)",0]
[{"$f":"ADDRESS(103,7,1,1,$A$1)","v":"Summary!$G$103"},"=IF(G95>=G101,\"YES\",\"NO\")",0]
[{"$f":"ADDRESS(105,27,1,1,$A$1)","v":"Summary!$AA$105"},"=IF($N$95=0,15000000,$N$95)",0]
[{"$f":"ADDRESS(105,29,1,1,$A$1)","v":"Summary!$AC$105"},"=AC$118-AA105",0]
[{"$f":"ADDRESS(105,30,1,1,$A$1)","v":"Summary!$AD$105"},"=IF($N$95=0,25000000,$N$95)",0]
[{"$f":"ADDRESS(107,14,1,1,$A$1)","v":"Summary!$N$107"},"=MAX(N85,N101)",0]
[{"$f":"ADDRESS(109,7,1,1,$A$1)","v":"Summary!$G$109"},"=MAX(G101,G87)",0]
[{"$f":"ADDRESS(109,14,1,1,$A$1)","v":"Summary!$N$109"},"=MAX(N101,N87)",0]
[{"$f":"ADDRESS(109,26,1,1,$A$1)","v":"Summary!$Z$109"},1,{"$f":"IF(INDIRECT(A224)=B224,0,1)","v":0}]
[{"$f":"ADDRESS(109,27,1,1,$A$1)","v":"Summary!$AA$109"},"=IF($AC$75=100000,15000000,$AC$75)",{"$f":"IF(_xlfn.FORMULATEXT(INDIRECT(A225))=B225,0,1)","v":0}]
[{"$f":"ADDRESS(109,29,1,1,$A$1)","v":"Summary!$AC$109"},"=AC$118-AA109",{"$f":"IF(_xlfn.FORMULATEXT(INDIRECT(A226))=B226,0,1)","v":0}]
[{"$f":"ADDRESS(109,30,1,1,$A$1)","v":"Summary!$AD$109"},"=Z109*AA$110",{"$f":"IF(_xlfn.FORMULATEXT(INDIRECT(A227))=B227,0,1)","v":0}]
[{"$f":"ADDRESS(110,26,1,1,$A$1)","v":"Summary!$Z$110"},1.2,{"$f":"IF(INDIRECT(A228)=B228,0,1)","v":0}]
[{"$f":"ADDRESS(110,27,1,1,$A$1)","v":"Summary!$AA$110"},"=IF($AC$75=100000,15000000,$AC$75)",{"$f":"IF(_xlfn.FORMULATEXT(INDIRECT(A229))=B229,0,1)","v":0}]
[{"$f":"ADDRESS(110,29,1,1,$A$1)","v":"Summary!$AC$110"},"=AC$118-AA110",0]
[{"$f":"ADDRESS(110,30,1,1,$A$1)","v":"Summary!$AD$110"},"=Z110*AA$110",0]
[{"$f":"ADDRESS(111,14,1,1,$A$1)","v":"Summary!$N$111"},"=N107*1.2",0]
[{"$f":"ADDRESS(113,27,1,1,$A$1)","v":"Summary!$AA$113"},"=IF(N71=0,15000000,N71)",0]
[{"$f":"ADDRESS(113,29,1,1,$A$1)","v":"Summary!$AC$113"},"=AC$118-AA113",0]
[{"$f":"ADDRESS(113,30,1,1,$A$1)","v":"Summary!$AD$113"},"=Z113*AA$110",0]
[{"$f":"ADDRESS(116,14,1,1,$A$1)","v":"Summary!$N$116"},"=IF(N85=0,\"n/a\",N95/N85)",0]
[{"$f":"ADDRESS(118,7,1,1,$A$1)","v":"Summary!$G$118"},"=IF($G$87=0,\"n/a\",$G$95/$G$87)",0]
[{"$f":"ADDRESS(118,14,1,1,$A$1)","v":"Summary!$N$118"},"=IF($N$87=0,\"n/a\",$N$95/$N$87)",0]
[{"$f":"ADDRESS(118,20,1,1,$A$1)","v":"Summary!$T$118"},"brrt_BSCRRatio",{"$f":"IF(INDIRECT(A239)=B239,0,1)","v":0}]
[{"$f":"ADDRESS(118,21,1,1,$A$1)","v":"Summary!$U$118"},"=XBRLMap(N118,T118,E$173,E$174,CONFIGURATION!$B$10,\"BMA\",CONFIGURATION!$B$1,\"bscr\",CONFIGURATION!$B$12)",{"$f":"IF(_xlfn.FORMULATEXT(INDIRECT(A240))=B240,0,1)","v":0}]
[{"$f":"ADDRESS(118,29,1,1,$A$1)","v":"Summary!$AC$118"},"=MAX(AD105:AD113)",{"$f":"IF(_xlfn.FORMULATEXT(INDIRECT(A241))=B241,0,1)","v":0}]
[{"$f":"ADDRESS(120,14,1,1,$A$1)","v":"Summary!$N$120"},"=IF(N107=0,\"n/a\",N95/N107)",{"$f":"IF(_xlfn.FORMULATEXT(INDIRECT(A242))=B242,0,1)","v":0}]
[{"$f":"ADDRESS(122,7,1,1,$A$1)","v":"Summary!$G$122"},"=IF($G$87=0,\"n/a\",$G$95/$G$109)",{"$f":"IF(_xlfn.FORMULATEXT(INDIRECT(A243))=B243,0,1)","v":0}]
[{"$f":"ADDRESS(122,14,1,1,$A$1)","v":"Summary!$N$122"},"=IF($N$87=0,\"n/a\",$N$95/$N$109)",{"$f":"IF(_xlfn.FORMULATEXT(INDIRECT(A244))=B244,0,1)","v":0}]
[{"$f":"ADDRESS(122,20,1,1,$A$1)","v":"Summary!$T$122"},"brrt_EnhancedCapitalRequirementRatio",{"$f":"IF(INDIRECT(A245)=B245,0,1)","v":0}]
[{"$f":"ADDRESS(122,21,1,1,$A$1)","v":"Summary!$U$122"},"=XBRLMap(N122,T122,E$173,E$174,CONFIGURATION!$B$10,\"BMA\",CONFIGURATION!$B$1,\"bscr\",CONFIGURATION!$B$12)",{"$f":"IF(_xlfn.FORMULATEXT(INDIRECT(A246))=B246,0,1)","v":0}]
[{"$f":"ADDRESS(124,7,1,1,$A$1)","v":"Summary!$G$124"},"=IF(G122=\"n/a\",\"n/a\",IF(G122>100%,\"YES\",\"NO\"))",0]
[{"$f":"ADDRESS(124,14,1,1,$A$1)","v":"Summary!$N$124"},"=IF(N122=\"n/a\",\"n/a\",IF(N122>100%,\"YES\",\"NO\"))",0]
[{"$f":"ADDRESS(127,7,1,1,$A$1)","v":"Summary!$G$127"},"=#REF!",0]
[{"$f":"ADDRESS(131,5,1,1,$A$1)","v":"Summary!$E$131"},"=+#REF!",0]
[{"$f":"ADDRESS(131,7,1,1,$A$1)","v":"Summary!$G$131"},"=+#REF!",0]
[{"$f":"ADDRESS(132,5,1,1,$A$1)","v":"Summary!$E$132"},"=+#REF!",0]
[{"$f":"ADDRESS(132,7,1,1,$A$1)","v":"Summary!$G$132"},"=+#REF!",0]
[{"$f":"ADDRESS(133,5,1,1,$A$1)","v":"Summary!$E$133"},"=+#REF!",0]
[{"$f":"ADDRESS(133,7,1,1,$A$1)","v":"Summary!$G$133"},"=+#REF!",0]
[{"$f":"ADDRESS(134,5,1,1,$A$1)","v":"Summary!$E$134"},"=+#REF!",0]
[{"$f":"ADDRESS(134,7,1,1,$A$1)","v":"Summary!$G$134"},"=+#REF!",0]
[{"$f":"ADDRESS(136,5,1,1,$A$1)","v":"Summary!$E$136"},"=IF(E134>=$G$109,\"YES\",\"NO\")",0]
[{"$f":"ADDRESS(136,7,1,1,$A$1)","v":"Summary!$G$136"},"=IF(G134>=$G$109,\"YES\",\"NO\")",0]
[{"$f":"ADDRESS(141,14,1,1,$A$1)","v":"Summary!$N$141"},"=N71-L71",0]
[{"$f":"ADDRESS(143,14,1,1,$A$1)","v":"Summary!$N$143"},"=-MAX(MIN(N141,N142),0)",0]
[{"$f":"ADDRESS(148,13,1,1,$A$1)","v":"Summary!$M$148"},"=-MIN(D154,G157,N153)",0]
[{"$f":"ADDRESS(152,4,1,1,$A$1)","v":"Summary!$D$152"},"=N71+N75+N77+N79+N83",0]
[{"$f":"ADDRESS(152,14,1,1,$A$1)","v":"Summary!$N$152"},"=N71+N75+N77+N83+N79",0]
[{"$f":"ADDRESS(153,8,1,1,$A$1)","v":"Summary!$H$153"},0.2,{"$f":"IF(INDIRECT(A265)=B265,0,1)","v":0}]
[{"$f":"ADDRESS(153,14,1,1,$A$1)","v":"Summary!$N$153"},"=N152*H153",{"$f":"IF(_xlfn.FORMULATEXT(INDIRECT(A266))=B266,0,1)","v":0}]
[{"$f":"ADDRESS(154,4,1,1,$A$1)","v":"Summary!$D$154"},"=MAX(0,D152*D153)",0]
[{"$f":"ADDRESS(154,7,1,1,$A$1)","v":"Summary!$G$154"},"=G153*D153",0]
[{"$f":"ADDRESS(155,7,1,1,$A$1)","v":"Summary!$G$155"},"=#REF!-#REF!",0]
[{"$f":"ADDRESS(156,7,1,1,$A$1)","v":"Summary!$G$156"},"=#REF!*D153",0]
[{"$f":"ADDRESS(157,7,1,1,$A$1)","v":"Summary!$G$157"},"=MAX(0,SUM(G154:G156))",0]
[{"$f":"ADDRESS(159,27,1,1,$A$1)","v":"Summary!$AA$159"},"=IF(N115=0,15000000,N115)",0]
[{"$f":"ADDRESS(159,29,1,1,$A$1)","v":"Summary!$AC$159"},"=AC$118-AA159",0]
[{"$f":"ADDRESS(159,30,1,1,$A$1)","v":"Summary!$AD$159"},"=Z159*AA$110",0]
[{"$f":"ADDRESS(160,27,1,1,$A$1)","v":"Summary!$AA$160"},"=IF(N116=0,15000000,N116)",0]
[{"$f":"ADDRESS(160,29,1,1,$A$1)","v":"Summary!$AC$160"},"=AC$118-AA160",0]
[{"$f":"ADDRESS(160,30,1,1,$A$1)","v":"Summary!$AD$160"},"=Z160*AA$110",0]
[{"$f":"ADDRESS(161,27,1,1,$A$1)","v":"Summary!$AA$161"},"=IF(N117=0,15000000,N117)",0]
[{"$f":"ADDRESS(161,29,1,1,$A$1)","v":"Summary!$AC$161"},"=AC$118-AA161",0]
[{"$f":"ADDRESS(161,30,1,1,$A$1)","v":"Summary!$AD$161"},"=Z161*AA$110",0]
[{"$f":"ADDRESS(162,27,1,1,$A$1)","v":"Summary!$AA$162"},"=IF(N118=0,15000000,N118)",0]
[{"$f":"ADDRESS(162,29,1,1,$A$1)","v":"Summary!$AC$162"},"=AC$118-AA162",0]
[{"$f":"ADDRESS(162,30,1,1,$A$1)","v":"Summary!$AD$162"},"=Z162*AA$110",0]
[{"$f":"ADDRESS(163,5,1,1,$A$1)","v":"Summary!$E$163"},1,{"$f":"IF(INDIRECT(A284)=B284,0,1)","v":0}]
[{"$f":"ADDRESS(163,6,1,1,$A$1)","v":"Summary!$F$163"},0.5,{"$f":"IF(INDIRECT(A285)=B285,0,1)","v":0}]
[{"$f":"ADDRESS(163,27,1,1,$A$1)","v":"Summary!$AA$163"},"=IF(N119=0,15000000,N119)",{"$f":"IF(_xlfn.FORMULATEXT(INDIRECT(A286))=B286,0,1)","v":0}]
[{"$f":"ADDRESS(163,29,1,1,$A$1)","v":"Summary!$AC$163"},"=AC$118-AA163",{"$f":"IF(_xlfn.FORMULATEXT(INDIRECT(A287))=B287,0,1)","v":0}]
[{"$f":"ADDRESS(163,30,1,1,$A$1)","v":"Summary!$AD$163"},"=Z163*AA$110",{"$f":"IF(_xlfn.FORMULATEXT(INDIRECT(A288))=B288,0,1)","v":0}]
[{"$f":"ADDRESS(164,5,1,1,$A$1)","v":"Summary!$E$164"},0.5,{"$f":"IF(INDIRECT(A289)=B289,0,1)","v":0}]
[{"$f":"ADDRESS(164,6,1,1,$A$1)","v":"Summary!$F$164"},1,{"$f":"IF(INDIRECT(A290)=B290,0,1)","v":0}]
[{"$f":"ADDRESS(164,27,1,1,$A$1)","v":"Summary!$AA$164"},"=IF(N120=0,15000000,N120)",{"$f":"IF(_xlfn.FORMULATEXT(INDIRECT(A291))=B291,0,1)","v":0}]
[{"$f":"ADDRESS(164,29,1,1,$A$1)","v":"Summary!$AC$164"},"=AC$118-AA164",0]
[{"$f":"ADDRESS(164,30,1,1,$A$1)","v":"Summary!$AD$164"},"=Z164*AA$110",0]
[{"$f":"ADDRESS(165,27,1,1,$A$1)","v":"Summary!$AA$165"},"=IF(N121=0,15000000,N121)",0]
[{"$f":"ADDRESS(165,29,1,1,$A$1)","v":"Summary!$AC$165"},"=AC$118-AA165",0]
[{"$f":"ADDRESS(165,30,1,1,$A$1)","v":"Summary!$AD$165"},"=Z165*AA$110",0]
[{"$f":"ADDRESS(166,27,1,1,$A$1)","v":"Summary!$AA$166"},"=IF(N122=0,15000000,N122)",0]
[{"$f":"ADDRESS(166,29,1,1,$A$1)","v":"Summary!$AC$166"},"=AC$118-AA166",0]
[{"$f":"ADDRESS(166,30,1,1,$A$1)","v":"Summary!$AD$166"},"=Z166*AA$110",0]
[{"$f":"ADDRESS(167,5,1,1,$A$1)","v":"Summary!$E$167"},1,{"$f":"IF(INDIRECT(A300)=B300,0,1)","v":0}]
[{"$f":"ADDRESS(167,6,1,1,$A$1)","v":"Summary!$F$167"},0.25,{"$f":"IF(INDIRECT(A301)=B301,0,1)","v":0}]
[{"$f":"ADDRESS(167,27,1,1,$A$1)","v":"Summary!$AA$167"},"=IF(N123=0,15000000,N123)",{"$f":"IF(_xlfn.FORMULATEXT(INDIRECT(A302))=B302,0,1)","v":0}]
[{"$f":"ADDRESS(167,29,1,1,$A$1)","v":"Summary!$AC$167"},"=AC$118-AA167",{"$f":"IF(_xlfn.FORMULATEXT(INDIRECT(A303))=B303,0,1)","v":0}]
[{"$f":"ADDRESS(167,30,1,1,$A$1)","v":"Summary!$AD$167"},"=Z167*AA$110",{"$f":"IF(_xlfn.FORMULATEXT(INDIRECT(A304))=B304,0,1)","v":0}]
[{"$f":"ADDRESS(168,5,1,1,$A$1)","v":"Summary!$E$168"},0.25,{"$f":"IF(INDIRECT(A305)=B305,0,1)","v":0}]
[{"$f":"ADDRESS(168,6,1,1,$A$1)","v":"Summary!$F$168"},1,{"$f":"IF(INDIRECT(A306)=B306,0,1)","v":0}]
[{"$f":"ADDRESS(168,27,1,1,$A$1)","v":"Summary!$AA$168"},"=IF(N124=0,15000000,N124)",{"$f":"IF(_xlfn.FORMULATEXT(INDIRECT(A307))=B307,0,1)","v":0}]
[{"$f":"ADDRESS(168,29,1,1,$A$1)","v":"Summary!$AC$168"},"=AC$118-AA168",0]
[{"$f":"ADDRESS(168,30,1,1,$A$1)","v":"Summary!$AD$168"},"=Z168*AA$110",0]
[{"$f":"ADDRESS(169,27,1,1,$A$1)","v":"Summary!$AA$169"},"=IF(N132=0,15000000,N132)",0]
[{"$f":"ADDRESS(169,29,1,1,$A$1)","v":"Summary!$AC$169"},"=AC$118-AA169",0]
[{"$f":"ADDRESS(169,30,1,1,$A$1)","v":"Summary!$AD$169"},"=Z169*AA$110",0]
[{"$f":"ADDRESS(173,14,1,1,$A$1)","v":"Summary!$N$173"},10,{"$f":"IF(INDIRECT(A313)=B313,0,1)","v":0}]
[null,null,-314]