Workbook
Name Affiliated_connected_issuer_or_sponsor: #REF!:INDEX(#REF!, COUNTA(#REF!))
Name Affiliated_connected_issuer_or_sponsor2: [1]NameList_New!$AX$2:INDEX([1]NameList_New!$AX:$AX,COUNTA([1]NameList_New!$AX:$AX))
Name Affiliated_connected_issuer_or_sponsor2: [2]NameList_New!#REF!:INDEX([2]NameList_New!$AX:$AX,COUNTA([2]NameList_New!$AX:$AX))
Name Affiliated_connected_issuer_or_sponsor2: [3]NameList_New!$AX$2:INDEX([3]NameList_New!$AX:$AX,COUNTA([3]NameList_New!$AX:$AX))
Name Affiliated_connected_issuer_or_sponsor2: [3]NameList_New!$AX$2:INDEX([3]NameList_New!$AX:$AX,COUNTA([3]NameList_New!$AX:$AX))
Name Affiliated_connected_issuer_or_sponsor2: [4]NameList_New!$AX$2:INDEX([4]NameList_New!$AX:$AX,COUNTA([4]NameList_New!$AX:$AX))
Name Affiliated_connected_issuer_or_sponsor2: NameList_New!$AS$2:INDEX(NameList_New!$AS:$AS,COUNTA(NameList_New!$AS:$AS))
Name Affiliated_Investment: [1]NameList!#REF!
Name Affiliated_Investment: [2]NameList!#REF!
Name Affiliated_Investment: [3]NameList!#REF!
Name Affiliated_Investment: [3]NameList!#REF!
Name Affiliated_Investment: [4]NameList!#REF!
Name Affiliated_Investment: #REF!
Name Amortisation_Frequency: #REF!:INDEX(#REF!,COUNTA(#REF!))
Name Amortisation_Frequency2: [1]NameList_New!$AB$2:INDEX([1]NameList_New!$AB:$AB,COUNTA([1]NameList_New!$AB:$AB))
Name Amortisation_Frequency2: [2]NameList_New!#REF!:INDEX([2]NameList_New!$AB:$AB,COUNTA([2]NameList_New!$AB:$AB))
Name Amortisation_Frequency2: [3]NameList_New!$AB$2:INDEX([3]NameList_New!$AB:$AB,COUNTA([3]NameList_New!$AB:$AB))
Name Amortisation_Frequency2: [3]NameList_New!$AB$2:INDEX([3]NameList_New!$AB:$AB,COUNTA([3]NameList_New!$AB:$AB))
Name Amortisation_Frequency2: [4]NameList_New!$AB$2:INDEX([4]NameList_New!$AB:$AB,COUNTA([4]NameList_New!$AB:$AB))
Name Amortisation_Frequency2: NameList_New!$AC$2:INDEX(NameList_New!$AC:$AC,COUNTA(NameList_New!$AC:$AC))
Name Asset_Type: #REF!:INDEX(#REF!,COUNTA(#REF!))
Name Asset_type2: [1]NameList_New!$G$2:INDEX([1]NameList_New!$G:$G,COUNTA([1]NameList_New!$G:$G))
Name Asset_type2: [2]NameList_New!#REF!:INDEX([2]NameList_New!$G:$G,COUNTA([2]NameList_New!$G:$G))
Name Asset_type2: [3]NameList_New!$G$2:INDEX([3]NameList_New!$G:$G,COUNTA([3]NameList_New!$G:$G))
Name Asset_type2: [3]NameList_New!$G$2:INDEX([3]NameList_New!$G:$G,COUNTA([3]NameList_New!$G:$G))
Name Asset_type2: NameList_New!$H$2:INDEX(NameList_New!$H:$H,COUNTA(NameList_New!$H:$H))
Name AssetType_All: NameList_New!$G$2:$G$107
Name AssetType_Other: NameList_New!$BG$2:INDEX(NameList_New!$BG:$BG,COUNTA(NameList_New!$BG:$BG))
Name AssetType_Structured: [4]NameList_New!$BK$2:INDEX([4]NameList_New!$BK:$BK,COUNTA([4]NameList_New!$BK:$BK))
Name AssetType_Structured: NameList_New!$BF$2:INDEX(NameList_New!$BF:$BF,COUNTA(NameList_New!$BF:$BF))
Name BMA_Asset_Classification2: [1]NameList_New!$B$2:INDEX([1]NameList_New!$B:$B,COUNTA([1]NameList_New!$B:$B))
Name BMA_Asset_Classification2: [2]NameList_New!#REF!:INDEX([2]NameList_New!$B:$B,COUNTA([2]NameList_New!$B:$B))
Name BMA_Asset_Classification2: [3]NameList_New!$B$2:INDEX([3]NameList_New!$B:$B,COUNTA([3]NameList_New!$B:$B))
Name BMA_Asset_Classification2: [3]NameList_New!$B$2:INDEX([3]NameList_New!$B:$B,COUNTA([3]NameList_New!$B:$B))
Name BMA_Asset_Classification2: NameList_New!$B$2:INDEX(NameList_New!$B:$B,COUNTA(NameList_New!$B:$B))
Name BSCR_Rating_Mapping: #REF!:INDEX(#REF!,COUNTA(#REF!))
Name BSCR_Rating_Mapping2: [1]NameList_New!$P$2:INDEX([1]NameList_New!$P:$P,COUNTA([1]NameList_New!$P:$P))
Name BSCR_Rating_Mapping2: [2]NameList_New!#REF!:INDEX([2]NameList_New!$P:$P,COUNTA([2]NameList_New!$P:$P))
Name BSCR_Rating_Mapping2: [3]NameList_New!$P$2:INDEX([3]NameList_New!$P:$P,COUNTA([3]NameList_New!$P:$P))
Name BSCR_Rating_Mapping2: [3]NameList_New!$P$2:INDEX([3]NameList_New!$P:$P,COUNTA([3]NameList_New!$P:$P))
Name BSCR_Rating_Mapping2: NameList_New!$R$2:INDEX(NameList_New!$R:$R,COUNTA(NameList_New!$R:$R))
Name Commercial_Property_Type: #REF!:INDEX(#REF!,COUNTA(#REF!))
Name Commercial_Property_Type2: [1]NameList_New!$AE$2:INDEX([1]NameList_New!$AE:$AE,COUNTA([1]NameList_New!$AE:$AE))
Name Commercial_Property_Type2: [2]NameList_New!#REF!:INDEX([2]NameList_New!$AE:$AE,COUNTA([2]NameList_New!$AE:$AE))
Name Commercial_Property_Type2: [3]NameList_New!$AE$2:INDEX([3]NameList_New!$AE:$AE,COUNTA([3]NameList_New!$AE:$AE))
Name Commercial_Property_Type2: [3]NameList_New!$AE$2:INDEX([3]NameList_New!$AE:$AE,COUNTA([3]NameList_New!$AE:$AE))
Name Commercial_Property_Type2: [4]NameList_New!$AE$2:INDEX([4]NameList_New!$AE:$AE,COUNTA([4]NameList_New!$AE:$AE))
Name Commercial_Property_Type2: NameList_New!$AF$2:INDEX(NameList_New!$AF:$AF,COUNTA(NameList_New!$AF:$AF))
Name Connected_to_other_loans: #REF!:INDEX(#REF!, COUNTA(#REF!))
Name Connected_to_other_loans2: [1]NameList_New!$BF$2:INDEX([1]NameList_New!$BF:$BF,COUNTA([1]NameList_New!$BF:$BF))
Name Connected_to_other_loans2: [2]NameList_New!#REF!:INDEX([2]NameList_New!$BF:$BF,COUNTA([2]NameList_New!$BF:$BF))
Name Connected_to_other_loans2: [3]NameList_New!$BF$2:INDEX([3]NameList_New!$BF:$BF,COUNTA([3]NameList_New!$BF:$BF))
Name Connected_to_other_loans2: [3]NameList_New!$BF$2:INDEX([3]NameList_New!$BF:$BF,COUNTA([3]NameList_New!$BF:$BF))
Name Connected_to_other_loans2: [4]NameList_New!$BF$2:INDEX([4]NameList_New!$BF:$BF,COUNTA([4]NameList_New!$BF:$BF))
Name Connected_to_other_loans2: NameList_New!$BA$2:INDEX(NameList_New!$BA:$BA,COUNTA(NameList_New!$BA:$BA))
Name Construction_loan: #REF!:INDEX(#REF!, COUNTA(#REF!))
Name Construction_loan2: [1]NameList_New!$BD$2:INDEX([1]NameList_New!$BD:$BD,COUNTA([1]NameList_New!$BD:$BD))
Name Construction_loan2: [2]NameList_New!#REF!:INDEX([2]NameList_New!$BD:$BD,COUNTA([2]NameList_New!$BD:$BD))
Name Construction_loan2: [3]NameList_New!$BD$2:INDEX([3]NameList_New!$BD:$BD,COUNTA([3]NameList_New!$BD:$BD))
Name Construction_loan2: [3]NameList_New!$BD$2:INDEX([3]NameList_New!$BD:$BD,COUNTA([3]NameList_New!$BD:$BD))

Sheet GEN_Instructions
B2: General instructions | D2: Abbreviation list
B3: - Please refer to the relevant BMA Rules and Guidance Notes to look up the definitions of terms used in the reporting template. | D3: ABS | E3: Asset Backed Security
D4: ALM | E4: Asset Liability Matching
B5: - The amounts included in the reporting template should be in thousands unless stated otherwise. | D5: AoC | E5: Analysis of Change
B6: - All figures should be denominated in the reporting currency except where indicated in the BMA Rules and Guidance Notes. | D6: BEL | E6: Best Estimate Liability
D7: BSCR | E7: Bermuda Solvency Capital Requirement
B8: - In some cases when data is requested some assumptions are made to facilitate efficient data gathering. These assumptions can be adapted based on the specific asset and liability profile and products of the firm (e.g., for the projection of cashflows a period of 100 years is included but if the firm has products with cashflows that go beyond this maturity, the projection period in the template should be manually adjusted so all cashflows can be included). | D8: CLO | E8: Collateralized Loan Obligation
D9: CMBS | E9: Commercial Mortgage Backed Security
D10: CML | E10: Commercial Mortgage Loan
D11: CRE | E11: Commercial Real Estate
B12: - Firms with no lapse risk do NOT have to complete the Lapse tab | D12: DV01 | E12: Change in the price/value of an asset or liability for a one-basis-point (0.01%) change in its yield or interest rate
B14: - Firms not using the SBA should not complete SBA tabs | D14: EBS | E14: Economic Balance Sheet
B15: - Firms approved for modified filing should reach out to the supervisor before completing the template. | D15: ECR | E15: Enhanced Capital Requirement
B16: - Please see further specific instructions in the different tabs. | D16: ETF | E16: Exchange Traded Fund
D17: FDB | E17: Future Discretionary Benefits
D18: FuM | E18: Funds Under Management
D19: FX | E19: Foreign Exchange
D20: MVA | E20: Market Value Adjustment
D21: P&L | E21: Profit&Loss
D22: RMBS | E22: Residential Mortgage Backed Security
D23: RML | E23: Residential Mortgage Loan
D24: SBA | E24: Scenario Based Approach
D25: TP | E25: Technical Provisions
D26: UFR | E26: Ultimate Forward Rate
D27: DSCR | E27: Debt Service Coverage Ratio
D28: FICO | E28: Fair Isaac Corporation
... D30: CLTV | E30: Combined Loan-to-Value

Sheet GEN_Company
B3: Accounting Basis | C3: GAAP
B5: For the Year Ending | C5: 46022
B7: Company Name
B9: Date Incorporated/Organised | E9: Class of Business
B11: Date Commenced Business | E11: Class of Business
B13: Contact Person Name
B15: Contact Person Number
B17: Contact Person Email
B19: Submission Date
B21: Submission Number
B23: Reporting Currency | C23: Select

Sheet Assets>>
AS4: *
CB6: Pay
AD7: Direct sales | CB7: Receive | CD7: In advance

Sheet AS_Bonds_Loans
A1: Y means mandatory field (Row to be removed in the public version) | B1: Y | C1: Y | D1: Y | E1: Y | F1: Y | G1: Y | H1: Y | I1: Y | J1: Y | K1: Y | M1: Y | N1: Y | O1: Y | P1: Y | AB1: C - to 'Privately Issued Ratings - Worst of All Approved Rating Agencies' | AD1: Y | AG1: Y | AH1: Y | AI1: Y | AK1: Y | AM1: Y | AW1: Y | AY1: Y | BA1: Y | BB1: Y | BC1: C - to 'Optionality (including PIK)' marked Yes | BF1: C - to 'Optionality (including PIK)' marked Yes and any of 'Optionality Type 1, 2 or 3' marked PIK | BG1: Y | BH1: C - to 'Asset is Encumbered' marked Yes
B3: Note: Applies to all companies
B5: SBA Sub-portfolio Number | C5: Asset ID: CUSIP/ISIN/Internal ID | D5: Asset ID in Asset Projections | E5: Asset Name | F5: BMA Asset Classification | G5: Currency | H5: Country of Risk | I5: Issuance Type (Public or Private) | J5: Ownership Vehicle | K5: Asset Type | L5: Industry Group (BICS) | M5: Issuer/Counterparty | N5: Security Delinquency Status | O5: Affiliated, Connected or Related Issuer | P5: Investment expenses, FX Hedging Costs and Other Fees (%) | Q5: Publicly Issued Rating - S&P | R5: Publicly Issued Rating - Moody's | S5: Publicly Issued Rating - Fitch | T5: Publicly Issued Rating - AM Best | U5: Publicly Issued Rating - DBRS | V5: Publicly Issued Rating - KBRA | W5: Publicly Issued Rating - Egan Jones | X5: Publicly Issued Rating - Other Approved Rating Agency [Worst Rating] | Y5: Publicly Issued Rating - Name of the Other Approved Rating Agency | Z5: BMA Approved Internal Rating | AA5: Privately Issued Ratings - Worst of All Approved Rating Agencies | AB5: Privately Issued Rating - Name of the Approved Rating Agency | AC5: NAIC Rating | AD5: BSCR Rating Mapping | AE5: US GAAP/IFRS Valuation Hierarchy Level | AF5: Issue Date | AG5: Total Issue - Nominal Outstanding | AH5: Purchase Date | AI5: Maturity Date | AJ5: First Call Date | AK5: Nominal Amount | AL5: Book Value | AM5: Market Value | AN5: Coupon Type | AO5: Number of Coupon Payments Per Year | AP5: Next Coupon Payment Date | AQ5: Fixed Coupon (%) | AR5: Floating Margin (%) | AS5: Floating Reference Index | AT5: Risk-free Curve Used for Spread Determination | AU5: Effective Duration | AV5: Weighted Average Life | AW5: Gross Market Yield (%) | AX5: Gross Book Spread (%) | AY5: Option Adjusted Gross Market Spread (%) | AZ5: Redemption Type | BA5: Default & Downgrade Table Used | BB5: Optionality (including PIK) | BC5: Optionality Type 1 | BD5: Optionality Type 2 | BE5: Optionality Type 3 | BF5: PIK option exercised | BG5: Asset is Encumbered | BH5: Type of Encumbrance
B6: Select | C6: Text | D6: Text | E6: Text | F6: Select | G6: Select | H6: Select | I6: Select | J6: Select | K6: Select | L6: Select | M6: Text | N6: Select | O6: Select | P6: Number | Q6: Select | R6: Select | S6: Select | T6: Select | U6: Select | V6: Select | W6: Select | X6: Text | Y6: Text | Z6: Text | AA6: Text | AB6: Select | AC6: Text | AD6: Select | AE6: Select | AF6: Date | AG6: Number | AH6: Date | AI6: Date | AJ6: Date | AK6: Number | AL6: Number | AM6: Number | AN6: Select | AO6: Select | AP6: Date | AQ6: Number | AR6: Number | AS6: Select | AT6: Select | AU6: Number | AV6: Number | AW6: Number | AX6: Number | AY6: Number | AZ6: Select | BA6: Text | BB6: Select | BC6: Select | BD6: Select | BE6: Select | BF6: Select | BG6: Select | BH6: Select

Sheet AS_Structured
A1: Y means mandatory field (Row to be removed in the public version) | B1: Y | C1: Y | D1: Y | E1: Y | F1: Y | G1: Y | H1: Y | I1: Y | J1: Y | K1: Y | L1: Y | N1: Y | O1: Y | P1: Y | Q1: Y | AB1: C - to 'Privately Issued Ratings - Worst of All Approved Rating Agencies' | AD1: Y | AG1: Y | AH1: Y | AI1: Y | AK1: Y | AM1: Y | AW1: Y | AY1: Y | BB1: Y | BC1: Y | BD1: C - to 'Optionality (including PIK)' marked Yes | BG1: C - to 'Optionality (including PIK)' marked Yes and any of 'Optionality Type 1, 2 or 3' marked PIK | BH1: Y | BI1: Y | BV1: Y | BW1: C - to 'Asset is Encumbered' marked Yes
B3: Note: Applies to all companies
B5: SBA Sub-portfolio Number | C5: Asset ID: CUSIP/ISIN/Internal ID | D5: Asset ID in Asset Projections | E5: Asset Name | F5: BMA Asset Classification | G5: Currency | H5: Country of Risk | I5: Issuance Type (Public or Private) | J5: Ownership Vehicle | K5: Asset Type | L5: Issuer/Counterparty | M5: Collateral Manager/Sponsor | N5: Security Delinquency Status | O5: Affiliated, Connected or Related Issuer | P5: Internal Securitisatoin | Q5: Investment expenses, FX Hedging Costs and Other Fees (%) | R5: Publicly Issued Rating - S&P | S5: Publicly Issued Rating - Moody's | T5: Publicly Issued Rating - Fitch | U5: Publicly Issued Rating - AM Best | V5: Publicly Issued Rating - DBRS | W5: Publicly Issued Rating - KBRA | X5: Publicly Issued Rating - Other Approved Rating Agency [Worst Rating] | Y5: Publicly Issued Rating - Name of the Other Approved Rating Agency | Z5: BMA Approved Internal Rating | AA5: Privately Issued Ratings - Worst of All Approved Rating Agencies | AB5: Privately Issued Rating - Name of the Approved Rating Agency | AC5: NAIC Rating | AD5: BSCR Rating Mapping | AE5: US GAAP/IFRS Valuation Hierarchy Level | AF5: Issue Date | AG5: Total Issue - Nominal Outstanding | AH5: Purchase Date | AI5: Maturity Date | AJ5: First Call Date | AK5: Nominal Amount | AL5: Book Value | AM5: Market Value | AN5: Coupon Type | AO5: Number of Coupon Payments Per Year | AP5: Next Coupon Payment Date | AQ5: Fixed Coupon (%) | AR5: Floating Margin (%) | AS5: Floating Reference Index | AT5: Risk-free Curve Used for Spread Determination | AU5: Effective Duration | AV5: Weighted Average Life | AW5: Gross Market Yield (%) | AX5: Gross Book Spread (%) | AY5: Option Adjusted Gross Market Spread (%) | AZ5: Redemption Type | BA5: Prepayment Assumption (%) | BB5: Default & Downgrade Table Used | BC5: Optionality (including PIK) | BD5: Optionality Type 1 | BE5: Optionality Type 2 | BF5: Optionality Type 3 | BG5: PIK option exercised | BH5: More than one tranche of the same issue held | BI5: Vertical slice retention | BJ5: Interest Coverage Ratio (%) | BK5: Cashflow Diversion Threshold (%) | BL5: Overcollateralisation (%) | BM5: Tranche Thickness (%) | BN5: Annual Constant Default Rate (CDR) Threshold (%) | BO5: Stage | BP5: Discount Margin (%) | BQ5: Subordination (%) | BR5: Start of Reinvestment Period | BS5: End of Reinvestment Period | BT5: Modelled Collateral 12-Month Recovery Assumption (%) | BU5: Modelled Collateral Default Assumption (%) | BV5: Asset is Encumbered | BW5: Type of Encumbrance
B6: Select | C6: Text | D6: Text | E6: Text | F6: Select | G6: Select | H6: Select | I6: Select | J6: Select | K6: Select | L6: Text | M6: Text | N6: Select | O6: Select | P6: Select | Q6: Number | R6: Select | S6: Select | T6: Select | U6: Select | V6: Select | W6: Select | X6: Text | Y6: Text | Z6: Text | AA6: Text | AB6: Select | AC6: Text | AD6: Select | AE6: Select | AF6: Date | AG6: Number | AH6: Date | AI6: Date | AJ6: Date | AK6: Number | AL6: Number | AM6: Number | AN6: Select | AO6: Select | AP6: Date | AQ6: Number | AR6: Number | AS6: Select | AT6: Select | AU6: Number | AV6: Number | AW6: Number | AX6: Number | AY6: Number | AZ6: Select | BA6: Number | BB6: Text | BC6: Select | BD6: Select | BE6: Select | BF6: Select | BG6: Select | BH6: Select | BI6: Select | BJ6: Number | BK6: Number | BL6: Number | BM6: Number | BN6: Number | BO6: Select | BP6: Number | BQ6: Number | BR6: Date | BS6: Date | BT6: Number | BU6: Number | BV6: Select | BW6: Select

Sheet AS_CML
A1: Y means mandatory field (Row to be removed in the public version) | B1: Y | C1: Y | D1: Y | E1: Y | F1: Y | G1: Y | H1: Y | I1: Y | J1: Y | K1: Y | L1: Y | M1: Y | P1: Y | R1: Y | S1: Y | T1: Y | Z1: Y | AC1: Y | AD1: C - to 'Optionality (including PIK)' marked Yes | AG1: C - to 'Optionality (including PIK)' marked Yes and any of 'Optionality Type 1, 2 or 3' marked PIK | AH1: Y | AI1: Y | AM1: Y | AP1: Y | AQ1: Y | AR1: Y | AT1: Y | AV1: Y | AX1: Y | AY1: Y | BF1: Y | BG1: Y | BH1: Y | BI1: C - to 'Asset is Encumbered' marked Yes
B3: Note: Applies to all companies
B5: SBA Sub-portfolio Number | C5: Asset ID: CUSIP/ISIN/Internal ID | D5: Asset ID in Asset Projections | E5: Asset Name | F5: BMA Asset Classification | G5: Currency | H5: Country of Risk | I5: Ownership Vehicle | J5: Asset Type | K5: Issuer/Counterparty | L5: Affiliated, Connected or Related Issuer | M5: Investment expenses, FX Hedging Costs and Other Fees (%) | N5: NAIC Rating | O5: External Rating Agency, if applicable | P5: BSCR Rating Mapping | Q5: Issue Date | R5: Purchase Date | S5: Maturity Date | T5: Market Value | U5: Coupon Type | V5: Floating Margin (%) | W5: Floating Reference Index | X5: Risk-free Curve Used for Spread Determination | Y5: Effective Duration | Z5: Option Adjusted Gross Market Spread (%) | AA5: Redemption Type | AB5: Prepayment Assumption (%) | AC5: Optionality (including PIK) | AD5: Optionality Type 1 | AE5: Optionality Type 2 | AF5: Optionality Type 3 | AG5: PIK option exercised | AH5: Option to capitalise or defer interest | AI5: Construction loan | AJ5: Next Amortisation Date | AK5: Amortisation Frequency (payments per annum) | AL5: Balloon Payment at Maturity | AM5: State, if Country is USA | AN5: Last Valuation Date for the Property | AO5: Is Valuer Internal/Affiliated or Third-Party? | AP5: Commercial Property Type | AQ5: Lien - First or Second | AR5: Type of Borrowing | AS5: Prepayment Option | AT5: Delinquency Status | AU5: Original Loan Balance | AV5: Current Loan Balance | AW5: Original Loan to Value (CLTV) | AX5: Current CLTV | AY5: Modified DSCR ratio with 25 year amortization schedule | AZ5: Debt Service Coverage Ratio = net operating income (NOI) / total debt service | BA5: Interest Due and Unpaid | BB5: Capitalised Deferred interest / Payment in Kind (cumulative) | BC5: Number of Coupons Per Year | BD5: Next Interest Payment Date | BE5: Fixed Coupon (%) | BF5: Default & Downgrade Table Used | BG5: Connected to other loans | BH5: Asset is Encumbered | BI5: Type of Encumbrance
B6: Select | C6: Text | D6: Text | E6: Text | F6: Select | G6: Select | H6: Select | I6: Select | J6: Select | K6: Text | L6: Select | M6: Number | N6: Select | O6: Text | P6: Select | Q6: Date | R6: Date | S6: Date | T6: Number | U6: Select | V6: Number | W6: Select | X6: Select | Y6: Number | Z6: Number | AA6: Select | AB6: Number | AC6: Select | AD6: Select | AE6: Select | AF6: Select | AG6: Select | AH6: Select | AI6: Select | AJ6: Date | AK6: Select | AL6: Number | AM6: Select | AN6: Date | AO6: Select | AP6: Select | AQ6: Select | AR6: Select | AS6: Select | AT6: Select | AU6: Number | AV6: Number | AW6: Number | AX6: Number | AY6: Number | AZ6: Number | BA6: Number | BB6: Number | BC6: Select | BD6: Date | BE6: Number | BF6: Text | BG6: Select | BH6: Select | BI6: Select

Sheet AS_RML
A1: Y means mandatory field (Row to be removed in the public version) | B1: Y | C1: Y | D1: Y | E1: Y | F1: Y | G1: Y | H1: Y | I1: Y | J1: Y | K1: Y | L1: Y | M1: Y | O1: Y | Q1: Y | R1: Y | S1: Y | Y1: Y | AB1: Y | AC1: C - to 'Optionality (including PIK)' marked Yes | AF1: C - to 'Optionality (including PIK)' marked Yes and any of 'Optionality Type 1, 2 or 3' marked PIK | AG1: Y | AH1: Y | AL1: Y | AO1: Y | AP1: Y | AQ1: Y | AS1: Y | AU1: Y | AW1: Y | AY1: Y | AZ1: Y | BF1: Y | BG1: Y | BH1: Y | BI1: Y | BJ1: C - to 'Asset is Encumbered' marked Yes
B3: Note: Applies to all companies
B5: SBA Sub-portfolio Number | C5: Asset ID: CUSIP/ISIN/Internal ID | D5: Asset ID in Asset Projections | E5: Asset Name | F5: BMA Asset Classification | G5: Currency | H5: Country of Risk | I5: Ownership Vehicle | J5: Asset Type | K5: Issuer/Counterparty | L5: Affiliated, Connected or Related Issuer | M5: Investment expenses, FX Hedging Costs and Other Fees (%) | N5: External Rating Agency, if applicable | O5: BSCR Rating Mapping | P5: Issue Date | Q5: Purchase Date | R5: Maturity Date | S5: Market Value | T5: Coupon Type | U5: Floating Margin (%) | V5: Floating Reference Index | W5: Risk-free Curve Used for Spread Determination | X5: Effective Duration | Y5: Option Adjusted Gross Market Spread (%) | Z5: Redemption Type | AA5: Prepayment Assumption (%) | AB5: Optionality (including PIK) | AC5: Optionality Type 1 | AD5: Optionality Type 2 | AE5: Optionality Type 3 | AF5: PIK option exercised | AG5: Option to capitalise or defer interest | AH5: Construction loan | AI5: Next Amortisation Date | AJ5: Amortisation Frequency (payments per annum) | AK5: Balloon Payment at Maturity | AL5: State, if Country is USA | AM5: Last Valuation Date for the Property | AN5: Is Valuer Internal/Affiliated or Third-Party? | AO5: Residential Property Type | AP5: Lien - First or Second | AQ5: Type of Borrowing | AR5: Prepayment Option | AS5: Delinquency Status | AT5: Original Loan Balance | AU5: Current Loan Balance | AV5: Original Loan to Value (CLTV) | AW5: Current CLTV | AX5: Debt Service Coverage Ratio = net operating income (NOI) / total debt service | AY5: Debt-to-Income | AZ5: FICO Score | BA5: Interest Due and Unpaid | BB5: Capitalised Deferred interest / Payment in Kind (cumulative) | BC5: Number of Coupons Per Year | BD5: Next Interest Payment Date | BE5: Fixed Coupon (%) | BF5: Default & Downgrade Table Used | BG5: Connected to other loans | BH5: Documentation | BI5: Asset is Encumbered | BJ5: Type of Encumbrance
B6: Select | C6: Text | D6: Text | E6: Text | F6: Select | G6: Select | H6: Select | I6: Select | J6: Select | K6: Text | L6: Select | M6: Number | N6: Text | O6: Select | P6: Date | Q6: Date | R6: Date | S6: Number | T6: Select | U6: Number | V6: Select | W6: Select | X6: Number | Y6: Number | Z6: Select | AA6: Number | AB6: Select | AC6: Select | AD6: Select | AE6: Select | AF6: Select | AG6: Select | AH6: Select | AI6: Date | AJ6: Select | AK6: Number | AL6: Select | AM6: Date | AN6: Select | AO6: Select | AP6: Select | AQ6: Select | AR6: Select | AS6: Select | AT6: Number | AU6: Number | AV6: Number | AW6: Number | AX6: Number | AY6: Number | AZ6: Number | BA6: Number | BB6: Number | BC6: Select | BD6: Date | BE6: Number | BF6: Text | BG6: Select | BH6: Select | BI6: Select | BJ6: Select

Sheet AS_Other
A1: Y means mandatory field (Row to be removed in the public version) | B1: Y | C1: Y | D1: Y | E1: Y | F1: Y | G1: Y | H1: Y | I1: Y | J1: Y | K1: Y | L1: Y | M1: Y | N1: Y | O1: Y | AA1: C - to 'Privately Issued Ratings - Worst of All Approved Rating Agencies' | AC1: Y | AF1: Y | AG1: Y | AH1: Y | AL1: Y | AR1: Y | AT1: Y | AW1: Y | AX1: Y | AY1: C - to 'Optionality (including PIK)' marked Yes | BB1: C - to 'Optionality (including PIK)' marked Yes and any of 'Optionality Type 1, 2 or 3' marked PIK | BC1: Y | BH1: C - to 'Real Assets - Debt associated with the asset' marked Yes | BJ1: C - to 'Real Assets - Generates Contractual Income' marked Yes | BV1: Y | BW1: C - to 'Asset is Encumbered' marked Yes
B3: Note: Applies to all companies
B5: SBA Sub-portfolio Number | C5: Asset ID: CUSIP/ISIN/Internal ID | D5: Asset ID in Asset Projections | E5: Asset Name | F5: BMA Asset Classification | G5: Currency | H5: Country of Risk | I5: Issuance Type (Public or Private) | J5: Ownership Vehicle | K5: Asset Type | L5: Issuer/Counterparty | M5: Security Delinquency Status | N5: Affiliated, Connected or Related Issuer | O5: Investment expenses, FX Hedging Costs and Other Fees (%) | P5: Publicly Issued Rating - S&P | Q5: Publicly Issued Rating - Moody's | R5: Publicly Issued Rating - Fitch | S5: Publicly Issued Rating - AM Best | T5: Publicly Issued Rating - DBRS | U5: Publicly Issued Rating - KBRA | V5: Publicly Issued Rating - Egan Jones | W5: Publicly Issued Rating - Other Approved Rating Agency [Worst Rating] | X5: Publicly Issued Rating - Name of the Other Approved Rating Agency | Y5: BMA Approved Internal Rating | Z5: Privately Issued Ratings - Worst of All Approved Rating Agencies | AA5: Privately Issued Rating - Name of the Approved Rating Agency | AB5: NAIC Rating | AC5: BSCR Rating Mapping | AD5: US GAAP/IFRS Valuation Hierarchy Level | AE5: Issue Date | AF5: Total Issue - Nominal Outstanding | AG5: Purchase Date | AH5: Maturity Date | AI5: First Call Date | AJ5: Nominal Amount | AK5: Book Value | AL5: Market Value | AM5: Fixed Coupon (%) | AN5: Floating Margin (%) | AO5: Floating Reference Index | AP5: Risk-free Curve Used for Spread Determination | AQ5: Weighted Average Life | AR5: Gross Market Yield (%) | AS5: Gross Book Spread (%) | AT5: Option Adjusted Gross Market Spread (%) | AU5: Redemption Type | AV5: Prepayment Assumption (%) | AW5: Default & Downgrade Table Used | AX5: Optionality (including PIK) | AY5: Optionality Type 1 | AZ5: Optionality Type 2 | BA5: Optionality Type 3 | BB5: PIK option exercised | BC5: State, if Country is USA | BD5: Last Valuation / Appraisal Date | BE5: Is Valuer Internal/Affiliated or Third-Party? | BF5: Real Assets - Sector | BG5: Real Assets - Debt associated with the asset | BH5: Real Assets - Amount of Debt Outstanding Associated with the Asset | BI5: Real Assets - Generates Contractual income | BJ5: Real Assets - Gross Annual Income Generated by the Asset | BK5: Real Assets - Expected Gross Annual Income Assuming Full Utilisation | BL5: Real Assets - Current Year's Depreciation | BM5: Real Assets - Taxes, Maintenance, Borrowing and Other Property Expenses | BN5: Real Assets - Amount of Income Over 30 Days Due | BO5: Real Assets - Income Frequency Per Year | BP5: Real Assets - Outstanding Lease Term in Months | BQ5: Funds and other assets - Number of Income Payments Per Year | BR5: Funds and other assets - Income Type | BS5: Funds and other assets - Amount of Contributions Outstanding | BT5: Funds and other assets - Next Income Payment Date | BU5: Funds and other assets - Effective Duration | BV5: Asset is Encumbered | BW5: Type of Encumbrance
B6: Select | C6: Text | D6: Text | E6: Text | F6: Select | G6: Select | H6: Select | I6: Select | J6: Select | K6: Select | L6: Text | M6: Select | N6: Select | O6: Number | P6: Select | Q6: Select | R6: Select | S6: Select | T6: Select | U6: Select | V6: Select | W6: Text | X6: Text | Y6: Text | Z6: Text | AA6: Select | AB6: Text | AC6: Select | AD6: Select | AE6: Date | AF6: Number | AG6: Date | AH6: Date | AI6: Date | AJ6: Number | AK6: Number | AL6: Number | AM6: Number | AN6: Number | AO6: Select | AP6: Select | AQ6: Number | AR6: Number | AS6: Number | AT6: Number | AU6: Select | AV6: Number | AW6: Text | AX6: Select | AY6: Select | AZ6: Select | BA6: Select | BB6: Select | BC6: Select | BD6: Date | BE6: Select | BF6: Select | BG6: Select | BH6: Number | BI6: Select | BJ6: Number | BK6: Number | BL6: Number | BM6: Number | BN6: Number | BO6: Select | BP6: Number | BQ6: Select | BR6: Text | BS6: Number | BT6: Date | BU6: Number | BV6: Select | BW6: Select

Sheet AS_Deriv_Agg
E1: X
E2: X
B3: All | E3: X
A4: Derivatives: Gross Notional Amounts (GNA), in mil. | B4: 2023 | C4: 2024 | D4: 2025 | E4: X
A5: Interest rate risk related derivatives | E5: X
A6: Currency risk related derivatives | E6: X
A7: Equity risk related derivatives | E7: X
A8: Credit risk related derivatives | E8: X
A9: Longevity risk related derivatives (e.g., total liabilities hedged) | E9: X
A10: Mortality risk related derivatives (e.g., total liabilities hedged) | E10: X
A11: Other types of derivatives | E11: X
A12: Derivatives: Market/fair value (MV/FV), in mil. | E12: X
A13: Interest rate risk related derivatives | E13: X
A14: Currency risk related derivatives | E14: X
A15: Equity risk related derivatives | E15: X
A16: Credit risk related derivatives | E16: X
... A19: Other types of derivatives | E19: X
E20: X
A21: Monthly values in mil. | B21: GNA values in thousands. | E21: X | F21: MV/FV values in thousands. | I21: X
A22: Values at the end of each period (e.g. January-end) | B22: GNA: All | C22: GNA: Derivatives with positive fair/market values | D22: GNA: Derivatives with negative fair/market values | E22: X | F22: MV/FV: All | G22: MV/FV: Derivatives with positive fair/market values | H22: MV/FV: Derivatives with negative fair/market values | I22: X
A23: 45292 | E23: X | I23: X
A24: 45323 | E24: X | I24: X
A25: 45352 | E25: X | I25: X
A26: 45383 | E26: X | I26: X
A27: 45413 | E27: X | I27: X
A28: 45444 | E28: X | I28: X
A29: 45474 | E29: X | I29: X
A30: 45505 | E30: X | I30: X
A31: 45536 | E31: X | I31: X
A32: 45566 | E32: X | I32: X
A33: 45597 | E33: X | I33: X
A34: 45627 | E34: X | I34: X
... A46: 45992 | E46: X | I46: X
E47: X
A48: Daily values in mil. | B48: =IFERROR(AVERAGE(B50:B53), "") | C48: Quarterly values in thousands. | D48: =IFERROR(AVERAGE(D50:D53), "") | E48: X
A49: Derivatives: Margin or collateral calls | B49: 2024 | C49: Margin or collateral calls | D49: 2025 | E49: X
A50: Q1 | C50: Q1 | E50: X
A51: Q2 | C51: Q2 | E51: X
A52: Q3 | C52: Q3 | E52: X
A53: Q4 | C53: Q4 | E53: X

Sheet AS_Deriv_Open
B2: Note: Applies to all companies with derivative exposure unless modified by the Authority
B4: General | X4: Market Deltas
B5: Sub-portfolio Number | C5: CUSIP/ISIN | D5: Asset ID in Asset Projections | E5: Derivative Type | F5: Derivative Asset Class | G5: Option / Swap Pay Receive | H5: Underlying to Pay (fixed or underlying) | I5: Underlying to Receive (fixed or underlying) | J5: Purpose of Derivative | K5: If Derivative Used for Hedging, Description of Item Being Hedged | L5: Exchange, Counterparty or Central Clearinghouse | M5: Name of CCP / Counterparty / Exchange | N5: ISDAs in Place? | O5: CSA Type | P5: Trade Date | Q5: Valuation Date | R5: Date of Maturity or Expiration | S5: Number of Contracts | T5: (Base) Currency | U5: Notional Amount | V5: EBS Fair Value on Insurer's Balance Sheet | W5: Premium Paid or Received at Inception | X5: Effective Duration | Y5: Credit Spread Duration | Z5: Derivative Sensitivity to 1% Change in Underlying | AA5: Derivative Sensitivity to 1Bps Change in Underlying
E6: Select | F6: Select | G6: Select | J6: Select | L6: Select | N6: Select | O6: Select | T6: Select | AB6: *
E7: Select | F7: Select | G7: Select | J7: Select | L7: Select | N7: Select | O7: Select | T7: Select | AB7: *
E8: Select | F8: Select | G8: Select | J8: Select | L8: Select | N8: Select | O8: Select | T8: Select | AB8: *
E9: Select | F9: Select | G9: Select | J9: Select | L9: Select | N9: Select | O9: Select | T9: Select | AB9: *
E10: Select | F10: Select | G10: Select | J10: Select | L10: Select | N10: Select | O10: Select | T10: Select | AB10: *
E11: Select | F11: Select | G11: Select | J11: Select | L11: Select | N11: Select | O11: Select | T11: Select | AB11: *
E12: Select | F12: Select | G12: Select | J12: Select | L12: Select | N12: Select | O12: Select | T12: Select | AB12: *
E13: Select | F13: Select | G13: Select | J13: Select | L13: Select | N13: Select | O13: Select | T13: Select | AB13: *
E14: Select | F14: Select | G14: Select | J14: Select | L14: Select | N14: Select | O14: Select | T14: Select | AB14: *
E15: Select | F15: Select | G15: Select | J15: Select | L15: Select | N15: Select | O15: Select | T15: Select | AB15: *
E16: Select | F16: Select | G16: Select | J16: Select | L16: Select | N16: Select | O16: Select | T16: Select | AB16: *
E17: Select | F17: Select | G17: Select | J17: Select | L17: Select | N17: Select | O17: Select | T17: Select | AB17: *
... E2000: Select | F2000: Select | G2000: Select | J2000: Select | L2000: Select | N2000: Select | O2000: Select | T2000: Select | AB2000: *
AB2001: *
AB2002: *

Sheet AS_Costs
B2: Note: Applies to all companies
B3: Provide the aggregate investment management expenses and hedging costs
B5: Asset | C5: Investment and Hedging Costs (%)
B6: Cash
B7: Short-Term Treasury Bills
B8: Certificates of Deposit
B9: Short-Term Commercial Paper
B10: Money Market Funds
B11: Other Cash Equivalents
B12: Sovereign Bonds
B13: Federal / Central Government Agencies
B14: Local Governments and Regional Authorities
B15: Supranationals
B16: Corporate Bonds - Non Financial
B17: Corporate Bonds - Financial
... B109: Other Residential Loans

Sheet AS_Disposed
B2: Note: Applies to all companies (Include also closed derivatives during the year)
B4: Asset ID: CUSIP/ISIN/Internal ID | C4: Asset name | D4: Asset Type | E4: Purchase Date | F4: Disposal Date | G4: Book Value at Disposal | H4: Expected Disposal Value | I4: Actual Disposal Value | J4: *
J5: *
J6: *
J7: *
J8: *
J9: *
J10: *
J11: *
J12: *
J13: *
J14: *
J15: *
J16: *
... J2002: *

Sheet AS_Mgmt
B2: Note: Applies to all companies. Record all investment-related cashflows at the type of service offered aggregate level.
B4: Service Provider | C4: Recipient of Service | D4: Relationship | E4: Type of Service Offered | F4: Total Amount Paid Current Year | G4: Total Amount Paid Prior Year
H5: *
H6: *
H7: *
H8: *
H9: *
H10: *
H11: *
H12: *
H13: *
H14: *
H15: *
H16: *
... H4998: *

Sheet ALM>>
AS4: *
CB6: Pay
AD7: Direct sales | CB7: Receive

Sheet ALM_KRD
B3: SBA or SA Sub-portfolio Number | C3: Tenor | D3: Assets KRD (In Years) - including derivatives | E3: Assets KRD (In Years) - excluding derivatives | F3: Liability KRD (In Years)
B4: 1 | C4: 2
C5: 5
C6: 10
C7: 20
C8: 30
B9: 2 | C9: 2
C10: 5
C11: 10
C12: 20
C13: 30
B14: 3 | C14: 2
C15: 5
C16: 10
C17: 20
C18: 30

Sheet SBA>>
AS4: *
CB6: Pay
AD7: Direct sales | CB7: Receive

Sheet SBA_S&R
B2: Include a summary of assumed strategic asset allocation/mix of assets and reinvestment assumptions for all asset types that are used in the SBA, including any minimum cash balances maintained
B3: Reinvestment split should sum to 100% for each SBA subportfolio
B4: Enter the short term spread assumption, long term spread assumption and the transition period between them as used in your SBA model
B5: Enter the time in months for the transition between the Current Asset Allocation and the Ultimate Asset Allocation. If the Current Allocation is the same as Ultimate, please enter Zero (0) for the Transition Period
B6: Please include the spread assumptions for all asset buckets currently held even if there is no intention to reinvest into them
B8: Reinvestment portfolio
B10: SBA Sub-portfolio Number | C10: BMA Asset Classification | D10: Asset Type | E10: Sellable or Unsellable | F10: Currency | G10: Redemption Type | H10: Coupon Type | I10: Number of Coupon Payments Per Year | J10: Floating Margin (in %) | K10: Floating Reference Index | L10: Risk-free Curve Used for Spread Determination | M10: Assumed Ultimate/ Strategic Allocation (SAA) (% of SBA Portfolio) | N10: Assumed Transition Period From CAA to SAA in Months | O10: Reinvestment Split % Assumption (If reinvesting into the asset) (This should sum to 100% per SBA portfolio/ block of business) | P10: BSCR Rating | Q10: Asset Duration (in Years) | R10: Short Term Gross Spread (%) | S10: Long Term Gross Spread (%) | T10: Short term spread to long term spread transition period (In months) | U10: Investment Management Fees (%) | V10: Disinvestment rule | W10: Applied Haircuts (%) | X10: Transaction costs (%) | Y10: Default & Downgrade Table Applicable for the Asset
B11: Select | C11: Select | D11: Select | E11: Select | F11: Select | G11: Select | H11: Select | I11: Select | K11: Select | L11: Select | P11: Select | V11: Select
B12: Select | C12: Select | D12: Select | E12: Select | F12: Select | G12: Select | H12: Select | I12: Select | K12: Select | L12: Select | P12: Select | V12: Select
B13: Select | C13: Select | D13: Select | E13: Select | F13: Select | G13: Select | H13: Select | I13: Select | K13: Select | L13: Select | P13: Select | V13: Select
B14: Select | C14: Select | D14: Select | E14: Select | F14: Select | G14: Select | H14: Select | I14: Select | K14: Select | L14: Select | P14: Select | V14: Select
B15: Select | C15: Select | D15: Select | E15: Select | F15: Select | G15: Select | H15: Select | I15: Select | K15: Select | L15: Select | P15: Select | V15: Select
B16: Select | C16: Select | D16: Select | E16: Select | F16: Select | G16: Select | H16: Select | I16: Select | K16: Select | L16: Select | P16: Select | V16: Select
B17: Select | C17: Select | D17: Select | E17: Select | F17: Select | G17: Select | H17: Select | I17: Select | K17: Select | L17: Select | P17: Select | V17: Select
B18: Select | C18: Select | D18: Select | E18: Select | F18: Select | G18: Select | H18: Select | I18: Select | K18: Select | L18: Select | P18: Select | V18: Select
B19: Select | C19: Select | D19: Select | E19: Select | F19: Select | G19: Select | H19: Select | I19: Select | K19: Select | L19: Select | P19: Select | V19: Select
B20: Select | C20: Select | D20: Select | E20: Select | F20: Select | G20: Select | H20: Select | I20: Select | K20: Select | L20: Select | P20: Select | V20: Select
B21: Select | C21: Select | D21: Select | E21: Select | F21: Select | G21: Select | H21: Select | I21: Select | K21: Select | L21: Select | P21: Select | V21: Select
B22: Select | C22: Select | D22: Select | E22: Select | F22: Select | G22: Select | H22: Select | I22: Select | K22: Select | L22: Select | P22: Select | V22: Select
... B304: Select | C304: Select | D304: Select | E304: Select | F304: Select | G304: Select | H304: Select | I304: Select | K304: Select | L304: Select | P304: Select | V304: Select

Sheet SBA_Curves
B2: Please enter the time 0 (t0) discount factors implied by the risk free rate, the UFR (Ultimate forward rate) for extending the discounting curve and the max number of years that the curve will be extended to cover for assets in perpetuity
B3: Please enter the discount factors implied by all the other reference curves that will be used for the valuation of assets with floating margins. So, if two floating curves are used then only two reference rate columns need to be entered
B5: Interest Curves
B7: Discounting Curve Forward Realization
B8: UFR
B11: Year | C11: Discount Factors Implied by Risk Free Rate | D11: Reference Curves (Update these names to those used by the insurer/group)
D12: Discount Factors Implied by Reference Rate Curves for Other Instruments 1 | E12: Discount Factors Implied by Reference Rate Curves for Other Instruments 2 | F12: Discount Factors Implied by Reference Rate Curves for Other Instruments 3 | G12: Discount Factors Implied by Reference Rate Curves for Other Instruments 4 | H12: Discount Factors Implied by Reference Rate Curves for Other Instruments 5 | I12: Discount Factors Implied by Reference Rate Curves for Other Instruments 6 | J12: Discount Factors Implied by Reference Rate Curves for Other Instruments 7 | K12: Discount Factors Implied by Reference Rate Curves for Other Instruments 8 | L12: Discount Factors Implied by Reference Rate Curves for Other Instruments 9 | M12: Discount Factors Implied by Reference Rate Curves for Other Instruments 10
B13: 1
B14: 2
B15: 3
B16: 4
B17: 5
B18: 6
B19: 7
B20: 8
B21: 9
B22: 10
B23: 11
B24: 12
... B212: 200

Sheet SBA_Liab_CF
B2: Input the liability inflows (e.g. premiums) and outflows (e.g. claims)
B3: SBA subportfolios (blocks of business) should be provided vertically - see cells A13 and A867 for an example. Fungible blocks can be provided as one subportfolio.
B4: All monetary values in thousands | AS4: *
B5: Liability Cashflows
B7: Cashflow | C7: Descriptions
B8: Cashflow Inflow | C8: premiums (first year & renewal)
B9: Cashflow Outflow | C9: Expenses (first year, renewal, chargeback, and overhead exp), benefits (partial withdrawal, annuitization, death, maturity, surrender, annuity payout, others), commissions (first year and renewal), premium tax
B11: Scenario: | C11: Base | G11: Scenario: | H11: Scenario 1 | L11: Scenario: | M11: Scenario 2 | Q11: Scenario: | R11: Scenario 3 | V11: Scenario: | W11: Scenario 4 | AA11: Scenario: | AB11: Scenario 5 | AF11: Scenario: | AG11: Scenario 6 | AK11: Scenario: | AL11: Scenario 7 | AP11: Scenario: | AQ11: Scenario 8
A12: Subportfolio 1 | B12: Monthly | C12: Cashflow Inflow Amount | D12: Cashflow Outflow Amount | E12: Base | G12: Monthly | H12: Cashflow Inflow Amount | I12: Cashflow Outflow Amount | J12: Scenario 1 | L12: Monthly | M12: Cashflow Inflow Amount | N12: Cashflow Outflow Amount | O12: Scenario 2 | Q12: Monthly | R12: Cashflow Inflow Amount | S12: Cashflow Outflow Amount | T12: Scenario 3 | V12: Monthly | W12: Cashflow Inflow Amount | X12: Cashflow Outflow Amount | Y12: Scenario 4 | AA12: Monthly | AB12: Cashflow Inflow Amount | AC12: Cashflow Outflow Amount | AD12: Scenario 5 | AF12: Monthly | AG12: Cashflow Inflow Amount | AH12: Cashflow Outflow Amount | AI12: Scenario 6 | AK12: Monthly | AL12: Cashflow Inflow Amount | AM12: Cashflow Outflow Amount | AN12: Scenario 7 | AP12: Monthly | AQ12: Cashflow Inflow Amount | AR12: Cashflow Outflow Amount | AS12: Scenario 8
B13: 1 | G13: 1 | L13: 1 | Q13: 1 | V13: 1 | AA13: 1 | AF13: 1 | AK13: 1 | AP13: 1
B14: 2 | G14: 2 | L14: 2 | Q14: 2 | V14: 2 | AA14: 2 | AF14: 2 | AK14: 2 | AP14: 2
B15: 3 | G15: 3 | L15: 3 | Q15: 3 | V15: 3 | AA15: 3 | AF15: 3 | AK15: 3 | AP15: 3
B16: 4 | G16: 4 | L16: 4 | Q16: 4 | V16: 4 | AA16: 4 | AF16: 4 | AK16: 4 | AP16: 4
B17: 5 | G17: 5 | L17: 5 | Q17: 5 | V17: 5 | AA17: 5 | AF17: 5 | AK17: 5 | AP17: 5
B18: 6 | G18: 6 | L18: 6 | Q18: 6 | V18: 6 | AA18: 6 | AF18: 6 | AK18: 6 | AP18: 6
B19: 7 | G19: 7 | L19: 7 | Q19: 7 | V19: 7 | AA19: 7 | AF19: 7 | AK19: 7 | AP19: 7
B20: 8 | G20: 8 | L20: 8 | Q20: 8 | V20: 8 | AA20: 8 | AF20: 8 | AK20: 8 | AP20: 8
B21: 9 | G21: 9 | L21: 9 | Q21: 9 | V21: 9 | AA21: 9 | AF21: 9 | AK21: 9 | AP21: 9
B22: 10 | G22: 10 | L22: 10 | Q22: 10 | V22: 10 | AA22: 10 | AF22: 10 | AK22: 10 | AP22: 10
B23: 11 | G23: 11 | L23: 11 | Q23: 11 | V23: 11 | AA23: 11 | AF23: 11 | AK23: 11 | AP23: 11
B24: 12 | G24: 12 | L24: 12 | Q24: 12 | V24: 12 | AA24: 12 | AF24: 12 | AK24: 12 | AP24: 12
... B864: 852 | G864: 852 | L864: 852 | Q864: 852 | V864: 852 | AA864: 852 | AF864: 852 | AK864: 852 | AP864: 852
B865: … | G865: … | L865: … | Q865: … | V865: … | AA865: … | AF865: … | AK865: … | AP865: …
A867: Subportfolio 2
B868: 1 | G868: 1 | L868: 1 | Q868: 1 | V868: 1 | AA868: 1 | AF868: 1 | AK868: 1 | AP868: 1
B869: 2 | G869: 2 | L869: 2 | Q869: 2 | V869: 2 | AA869: 2 | AF869: 2 | AK869: 2 | AP869: 2
B870: 3 | G870: 3 | L870: 3 | Q870: 3 | V870: 3 | AA870: 3 | AF870: 3 | AK870: 3 | AP870: 3
B871: 4 | G871: 4 | L871: 4 | Q871: 4 | V871: 4 | AA871: 4 | AF871: 4 | AK871: 4 | AP871: 4
B872: 5 | G872: 5 | L872: 5 | Q872: 5 | V872: 5 | AA872: 5 | AF872: 5 | AK872: 5 | AP872: 5
B873: 6 | G873: 6 | L873: 6 | Q873: 6 | V873: 6 | AA873: 6 | AF873: 6 | AK873: 6 | AP873: 6
B874: 7 | G874: 7 | L874: 7 | Q874: 7 | V874: 7 | AA874: 7 | AF874: 7 | AK874: 7 | AP874: 7
B875: 8 | G875: 8 | L875: 8 | Q875: 8 | V875: 8 | AA875: 8 | AF875: 8 | AK875: 8 | AP875: 8
B876: 9 | G876: 9 | L876: 9 | Q876: 9 | V876: 9 | AA876: 9 | AF876: 9 | AK876: 9 | AP876: 9
B877: 10 | G877: 10 | L877: 10 | Q877: 10 | V877: 10 | AA877: 10 | AF877: 10 | AK877: 10 | AP877: 10
B878: 11 | G878: 11 | L878: 11 | Q878: 11 | V878: 11 | AA878: 11 | AF878: 11 | AK878: 11 | AP878: 11
B879: 12 | G879: 12 | L879: 12 | Q879: 12 | V879: 12 | AA879: 12 | AF879: 12 | AK879: 12 | AP879: 12
... B1719: 852 | G1719: 852 | L1719: 852 | Q1719: 852 | V1719: 852 | AA1719: 852 | AF1719: 852 | AK1719: 852 | AP1719: 852
B1720: … | G1720: … | L1720: … | Q1720: … | V1720: … | AA1720: … | AF1720: … | AK1720: … | AP1720: …

Sheet SBA_D&D
B2: The default and downgrade costs provided by the Authority have already been provided in the tables below no further action needed on those
B3: For other categories where the Authority has not provided the Default & Downgrade costs, please provide details below
B4: If additional sub-categories are required, please insert new tables at the bottom of the last table following the same format
B6: Annual Downgrade & Default Cost Assumptions
B8: Assets and Default & Downgrade Mapping
B9: SBA Asset Type (pick assets used in SBA only) | C9: Default & Downgrade Asset Sub-Category Mapping (use names in tables below)
B10: Asset 1 | C10: =B10 -> Asset 1
B11: Asset 2 | C11: =B11 -> Asset 2
B12: Asset 3 | C12: =B12 -> Asset 3
B13: Asset 4 | C13: =B13 -> Asset 4
B14: Asset 5 | C14: =B14 -> Asset 5
B15: Asset 6 | C15: =B15 -> Asset 6
B16: Asset 7 | C16: =B16 -> Asset 7
B17: Asset 8 | C17: =B17 -> Asset 8
B18: Asset 9 | C18: =B18 -> Asset 9
B19: Asset 10 | C19: =B19 -> Asset 10
B20: Asset 11 | C20: =B20 -> Asset 11
B21: Asset 12 | C21: =B21 -> Asset 12
... B46: Asset 37 | C46: =B46 -> Asset 37
B50: Standard Asset Sub-categories
B52: Asset Sub-Category | C52: 1st Lien Bank Loans
B53: Table Type | C53: Expected Loss from Defaults | D53: Expected Loss from Defaults | E53: Expected Loss from Defaults | F53: Expected Loss from Defaults | G53: Expected Loss from Defaults | H53: Expected Loss from Defaults | I53: Expected Loss from Defaults | J53: Expected Loss from Defaults
B54: Asset Rating | C54: 1 | D54: 2 | E54: 3 | F54: 4 | G54: 5 | H54: 6 | I54: 7 | J54: 8
B55: 1 | C55: 0 | D55: 0.01 | E55: 0.02 | F55: 0.06 | G55: 0.27 | H55: 1.14 | I55: 3.54 | J55: 12.41
B56: 2 | C56: 0 | D56: 0.01 | E56: 0.02 | F56: 0.07 | G56: 0.39 | H56: 1.4 | I56: 3.15 | J56: 8.41
B57: 3 | C57: 0.01 | D57: 0.01 | E57: 0.03 | F57: 0.09 | G57: 0.47 | H57: 1.5 | I57: 2.9 | J57: 6.54
B58: 4 | C58: 0.01 | D58: 0.02 | E58: 0.04 | F58: 0.1 | G58: 0.51 | H58: 1.51 | I58: 2.58 | J58: 5.09
B59: 5 | C59: 0.01 | D59: 0.02 | E59: 0.04 | F59: 0.12 | G59: 0.55 | H59: 1.48 | I59: 2.34 | J59: 4.09
B60: 6 | C60: 0.02 | D60: 0.02 | E60: 0.05 | F60: 0.13 | G60: 0.57 | H60: 1.43 | I60: 2.16 | J60: 3.42
B61: 7 | C61: 0.02 | D61: 0.02 | E61: 0.05 | F61: 0.13 | G61: 0.58 | H61: 1.38 | I61: 2 | J61: 2.94
B62: 8 | C62: 0.02 | D62: 0.02 | E62: 0.06 | F62: 0.14 | G62: 0.59 | H62: 1.32 | I62: 1.87 | J62: 2.58
B63: 9 | C63: 0.02 | D63: 0.02 | E63: 0.06 | F63: 0.15 | G63: 0.59 | H63: 1.27 | I63: 1.77 | J63: 2.3
B64: 10 | C64: 0.02 | D64: 0.03 | E64: 0.07 | F64: 0.15 | G64: 0.59 | H64: 1.23 | I64: 1.68 | J64: 2.07
B65: 11 | C65: 0.02 | D65: 0.03 | E65: 0.07 | F65: 0.15 | G65: 0.59 | H65: 1.23 | I65: 1.68 | J65: 2.07
B66: 12 | C66: 0.02 | D66: 0.03 | E66: 0.07 | F66: 0.15 | G66: 0.59 | H66: 1.23 | I66: 1.68 | J66: 2.07
... B74: 20 | C74: 0.02 | D74: 0.03 | E74: 0.07 | F74: 0.15 | G74: 0.59 | H74: 1.23 | I74: 1.68 | J74: 2.07
B76: Asset Sub-Category | C76: 1st Lien Bank Loans
B77: Table Type | C77: Cost of Downgrade | D77: Cost of Downgrade | E77: Cost of Downgrade | F77: Cost of Downgrade | G77: Cost of Downgrade | H77: Cost of Downgrade | I77: Cost of Downgrade | J77: Cost of Downgrade
B78: Asset Rating | C78: 1 | D78: 2 | E78: 3 | F78: 4 | G78: 5 | H78: 6 | I78: 7 | J78: 8
B79: 1 | C79: 0.02 | D79: 0.02 | E79: 0.04 | F79: 0.11 | G79: 0.45 | H79: 1.59 | I79: 4.04 | J79: 10.04
...

Sheet SBA_Stress
B2: All Dollar Amounts in 000s
B4: SBA sub-portfolio | C4: Scenario | D4: Assets MV | E4: BEL | F4: LapC | G4: Risk Margin | H4: Other TP | I4: BSCR | J4: Surplus | K4: Cover Ratio
B5: 1 | C5: Standard Approach
C6: SBA - Before Stress Scenario
C7: SBA - Without any spread caps
C8: SBA - Combined credit spread and mass lapse
C9: SBA - One-notch credit downgrade
C10: SBA - No reinvestment into assets acceptable on a limited basis
B11: 2 | C11: Standard Approach
C12: SBA - Before Stress Scenario
C13: SBA - Without any spread caps
C14: SBA - Combined credit spread and mass lapse
C15: SBA - One-notch credit downgrade
C16: SBA - No reinvestment into assets acceptable on a limited basis
B17: 3 | C17: Standard Approach
C18: SBA - Before Stress Scenario
C19: SBA - Without any spread caps
C20: SBA - Combined credit spread and mass lapse
C21: SBA - One-notch credit downgrade
C22: SBA - No reinvestment into assets acceptable on a limited basis
B23: 4 | C23: Standard Approach
C24: SBA - Before Stress Scenario
C25: SBA - Without any spread caps
C26: SBA - Combined credit spread and mass lapse
C27: SBA - One-notch credit downgrade
C28: SBA - No reinvestment into assets acceptable on a limited basis
B29: 5 | C29: Standard Approach
C30: SBA - Before Stress Scenario
C31: SBA - Without any spread caps
C32: SBA - Combined credit spread and mass lapse
C33: SBA - One-notch credit downgrade
C34: SBA - No reinvestment into assets acceptable on a limited basis
B35: 6 | C35: Standard Approach
C36: SBA - Before Stress Scenario
C37: SBA - Without any spread caps
C38: SBA - Combined credit spread and mass lapse
C39: SBA - One-notch credit downgrade
C40: SBA - No reinvestment into assets acceptable on a limited basis
B41: 7 | C41: Standard Approach
C42: SBA - Before Stress Scenario
...

Sheet SBA_AoC
B2: SBA sub-portfolio number (10 largest) | C2: Description of Products | D2: BEL - Base Scenario | E2: BEL - Scenario 1 | F2: BEL - Scenario 2 | G2: BEL - Scenario 3 | H2: BEL - Scenario 4 | I2: BEL - Scenario 5 | J2: BEL - Scenario 6 | K2: BEL - Scenario 7 | L2: BEL - Scenario 8 | M2: BEL - Standard Approach
C3: Description | D3: BEL | E3: BEL | F3: BEL | G3: BEL | H3: BEL | I3: BEL | J3: BEL | K3: BEL | L3: BEL | M3: BEL
B4: 1
B5: 2
B6: 3
B7: 4
B8: 5
B9: 6
B10: 7
B11: 8
B12: 9
B13: 10
B14: aggregate of all other small portfolios
C17: All Dollar Amounts in 000s
B19: Sub-Portfolio | D19: 1
B21: Biting Scenario
B22: Prior Period | C22: Drop and Raise | D22: iii.
B23: Current Period | C23: Parallel Increase | D23: iii.
C25: SBA BEL - Movement Analysis
C26: Step | D26: BEL (after AoC step) | E26: Change | F26: Percentage | G26: Implied SBA Spread (implicit SBA spread based on BEL that follows the AoC step) | H26: Comment
B27: 0 | C27: Prior period (start)
B28: 1 | C28: Model Changes
B29: 2 | C29: Unwind
B30: 3 | C30: Variation of Liabilities Cashflows for In-force
B31: 4 | C31: Updated Risk Free Rate
B32: 5 | C32: Update Starting Portfolio Asset Spreads
B33: 6 | C33: Update to Assumed Target Asset Allocation
B34: 7 | C34: Update to Assumed Reinvestment Spreads
B35: 8 | C35: New Business
B36: 9 | C36: Change in Biting Scenario from Prior Period
B37: 10 | C37: Other (a)/(MVA,Credit Rate,Reinsurance Inforce Updates)
B38: 11 | C38: Update Asset Portfolio
... B43: 17 | C43: Closing BEL
B46: Sub-Portfolio | D46: 2
B48: Biting Scenario
B49: Prior Period | C49: Drop and Raise | D49: iii.
B50: Current Period | C50: Parallel Increase | D50: iii.
C52: SBA BEL - Movement Analysis
C53: Step | D53: BEL (after AoC step) | E53: Change | F53: Percentage | G53: Implied SBA Spread (implicit SBA spread based on BEL that follows the AoC step) | H53: Comment
B54: 0 | C54: Prior period (start)
...

Sheet Asset Projections>>
AS4: *
AD7: Direct sales

Sheet AP_All_Scenarios
H1: Yes
B2: Please enter the projected asset cashflows and market values for existing assets for all scenarios. If there are more asset cashflow rows than can be accomodated in this sheet, please report some blocks under AP_All_Scenarios_Others
B3: Please note the Asset ID and Sub-Portfolio Number need to be consitent with those used in the asset sheets. i.e., it should be easy to map each Asset ID in this sheet to the respective asset, and vice versa.
B4: Please only enter Accrued Interest where it is not already included in the Market Value
B5: Amounts in thousands
B6: Time0 refers to the valuation date, Time1 is the first month for monthly projections and first quarter for quarterly projections.
